{"text_format":"1","workbook":"xlsx","n_sheets":16,"sheets":["Main Menu","Trade Log","This Year's Log","Overall Performance","Wins|Losses|BE's","Drawdown|Run-up","Money Management","Efficiency & MAE|MFE","Fund Report","Settings","Buffer","Treasury Bill Data","SP500 Data","Gold Data","GBPUSD Data","VIX Data"],"not_rendered":{"charts":23,"images":16,"macros":1,"external_links":0,"defined_names":32,"comments":0,"pivot_tables":0},"unopened":[],"bounds":{"document_bytes":16777216,"sheet_cells":100000,"rows_first":2000,"rows_last":500,"rows_between":2000,"halvings":0,"cell_chars":16384,"cell_head_chars":4096},"cells_cut":0,"cells_raw":0,"read":"whole","date_system":"1900"}

{"sheet":"Main Menu","index":0,"n_rows":35,"n_cols":30,"rows_kept":35,"cut":false,"hidden":false,"merged":[[0,29,0,32],[1,29,36,32],[37,29,37,32],[34,1,36,28],[6,1,33,28],[1,1,5,28]]}
[]
[null,"   ",null,null,null,null,null,null,null,null,null,null,null,null,null,null,null,null,null,null,null,null,null,null,null,null,null,null,null," "]
[]
[]
[]
[]
[]
[]
[]
[]
[]
[]
[]
[]
[]
[]
[]
[]
[]
[]
[]
[]
[]
[]
[]
[]
[]
[]
[]
[]
[]
[]
[]
[]
[null,"                                                                                                                                                                                                                                                                                                                                                                                                                                                             "]

{"sheet":"Trade Log","index":1,"n_rows":30,"n_cols":170,"rows_kept":30,"cut":false,"hidden":false,"merged":[[0,163,0,164],[1,1,1,162],[4,2,4,3],[4,4,4,5],[3,1,3,162],[1,163,1048575,164]]}
[]
[]
[]
[]
[null,"Entry #","Date & Time Opened",null,"Date & Time Closed",null,"Holding Time"," Win/Loss/BE","Date Entry Value","Date Exit Value","Holding Time Decimal","Difference","Flat Period","Trim LS","Long Win","Short Win","Long Loss","Short Loss","Long BE","Short BE","Daynum","# of Trades (Day)","P/L $","P/L %",null,"% Daily Whole #","% Daily Multiplier","Weeknum","# of Trades (Week)","P/L $","P/L %","EOW Balance","% Weekly Whole #","% Weekly Multiplier","Monthnum","# of Trades (Month)","P/L $","P/L %","EOM Balance","% Monthly Whole #","% Monthly Multiplier","Year","# of Trades (Year)",0,"P/L %","EOY Balance","% Yearly Whole #","# Yearly Multiplier","Run-up $","Run-up %",0,0,null,null,null,"Trough","Drawdown $","Drawdown %",0,0,null,null,null,"Peak","Streak","##",0,"# of Series","Win Streaks","Losing Streaks","BE Streaks","Net P/L $",{"$f":" 'Overall Performance'!L7","v":0},0,{"$f":" IF(BU5 = \"\", \"\", $FN$13*BV5 + $FM$13)","v":{"$error":"#DIV/0!"}},"% Per Trade","Average","% Multiplier","Multiplier Gains","Multiplier Losses",null,null,"Negative Daily Excess %","Negative Daily $","Daily Excess Multiplier","Daily Excess","Negative Monthly Excess %","Negative Monthly $","Monthly Excess Multiplier","Monthly Excess","RRR Value","R-Multiple Value","R-Multiple Gains","R-Multiple Losses","Outliers","Sum for TTL $","Sum for TTL Pips","EOD Balance for TTL","Sum for TTL Trades","MAE Pips","MAE $","MFE Pips","MFE $","P/L $","\"+1 or -1\"","Total Fees $","LOOKUP Day","LOOKUP Week","LOOKUP Month","Expected Entry","Expected Exit","Weighted Plus","Weighted Minus",0,{"$f":" DJ5","v":0},0,null,null,null,null,null,"RRR ","RRR Gains","RRR Losses",0,"% Per Trade W/","Day of Week","Month","Year","MRi","PEi","Ei","MEi","LOOKUP YEAR","Time Frame order","Confidence Order","Efficiency Bar","RRR ( # : 1 )","Total Efficiency","Entry Efficiency","Exit Efficiency","P/L $","Deposit/Withdrawal $"," Buy/Sell","Symbol","Lot Size","Entry","S/L","T/P","Exit","MAE","MFE","Slippage","Pips","Risk %","Commisions $","Fees $","Images","Strategy","Market State","Time-Frame","Confidence","Emotional State",null,null,null,null,null,{"$f":" SUM(K:K)","v":0}]
[null,1,null,null,null,null,{"$f":" IF(EN6 = \"\", \"\", INT(K6)&\" d,\"&\" \"&HOUR(K6)&\" h,\"&\" \"&MINUTE(K6)&\" m,\"&\" \"&SECOND(K6)&\" s\")","v":""},{"$f":" IF(EN6 = \"\",\"\",IF(CZ6 +DB6 = 0, \"BE\", IF(CZ6 > 0, \"Win\",\"Loss\")))","v":""},{"$f":" IF(EN6=\"\", \"\",VALUE(C6 + D6))","v":""},{"$f":" IF(EN6 = \"\", \"\", VALUE(E6 + F6))","v":""},{"$f":"IF(EN6=\"\",\"\",IF(C6=\"\",0,IF(D6=\"\",0,(E6+F6-D6-C6))))","v":""},{"$f":" IFERROR(IF(VALUE(E6&F6) > VALUE(C7&D7), IF(VALUE(C7+D7) < VALUE(C8 + D8), E6 + F6 - C7 - D7 - (C6 + D6 - C7 - D7),E6 + F6 - C7 - D7), \"\"), \"\")","v":""},{"$f":"IFERROR(IF(EN6=\"\",\"\",IF(VALUE(E5+F5)<VALUE(C6+D6),C6+D6-E5-F5,\"\")),\"\")","v":""},{"$f":" TRIM(EN6)","v":""},{"$f":" IF(AND(N6 = \"Buy\", H6 = \"Win\"), 1, 0)","v":0},{"$f":" IF(AND(N6 = \"Sell\", H6 = \"Win\"), 1, 0)","v":0},{"$f":" IF(AND(N6 = \"Buy\", H6 = \"Loss\"), 1, 0)","v":0},{"$f":" IF(AND(N6 = \"Sell\", H6 = \"Loss\"), 1, 0)","v":0},{"$f":" IF(AND(N6 = \"Buy\", H6 = \"BE\"), 1, 0)","v":0},{"$f":" IF(AND(N6 = \"Sell\", H6 = \"BE\"), 1, 0)","v":0},{"$f":" IF(EN6 = \"\", 0, (E6 - DATE(YEAR(E6),1,0)) & YEAR(E6)&\"\")","v":0},{"$f":"IFERROR( IF(SUM(INDIRECT(\"O\"&(MATCH(U6,U:U,0))&\":T\"&DC6)) = 0, \"\", IF(ROW(U6) = FLOOR((MATCH(U6, U:U, 0) +DC6)/2,1),SUM(INDIRECT(\"O\"&(MATCH(U6,U:U,0))&\":T\"&DC6)),\"\")),\"\")","v":""},{"$f":" IFERROR(IF(EN6 = \"\", \"\", IF(ROW(U6) = FLOOR((MATCH(U6, U:U, 0) + DC6)/2,1),SUM(INDIRECT(\"BT\"&(MATCH(U6,U:U,0))&\":BT\"&DC6)),\"\")),\"\")","v":""},{"$f":"  IFERROR(IF(W6 = \"\",\"\",W6/(Y6-W6)),\"\")","v":""},{"$f":" IFERROR(IF(ROW(U6) = FLOOR((MATCH(U6, U:U, 0) + DC6)/2,1),INDIRECT(\"BU\"&DC6),\"\"),\"\")","v":""},{"$f":"  IF(V6= 0,\"\",X6)","v":""},{"$f":"IF(Z6=\"\",\"\",Z6+1)","v":""},{"$f":" IF(EN6 = \"\", 0, WEEKNUM(E6) & YEAR(E6) & \"\")","v":0},{"$f":" IFERROR(IF(SUM(INDIRECT(\"O\"&(MATCH(AB6,AB:AB,0))&\":T\"&DD6)) = 0, \"\", IF(ROW(AB6) = FLOOR((MATCH(AB6, AB:AB, 0) + DD6)/2,1),SUM(INDIRECT(\"O\"&(MATCH(AB6,AB:AB,0))&\":T\"&DD6)),\"\")),\"\")","v":""},{"$f":" IFERROR(IF(EN6 = \"\", \"\", IF(ROW(AB6) = FLOOR((MATCH(AB6, AB:AB, 0) +DD6)/2,1),SUM(INDIRECT(\"BT\"&(MATCH(AB6,AB:AB,0))&\":BT\"&DD6)),\"\")),\"\")","v":""},{"$f":" IFERROR( IF(AD6 = \"\",\"\",AD6/(AF6-AD6)),\"\")","v":""},{"$f":" IFERROR(IF(ROW(AB6) = FLOOR((MATCH(AB6, AB:AB, 0) + DD6)/2,1),INDIRECT(\"BU\"&DD6),\"\"),\"\")","v":""},{"$f":"  IF(AC6= 0,\"\",AE6)","v":""},{"$f":"IF(AG6=\"\",\"\",AG6+1)","v":""},{"$f":" IF(EN6 = \"\", 0, MONTH(E6)&YEAR(E6)&\"\")","v":0},{"$f":"IFERROR( IF(SUM(INDIRECT(\"O\"&(MATCH(AI6,AI:AI,0))&\":T\"&DE6)) = 0, \"\", IF(ROW(AI6) = FLOOR((MATCH(AI6, AI:AI, 0) + DE6)/2,1),SUM(INDIRECT(\"O\"&(MATCH(AI6,AI:AI,0))&\":T\"&DE6)),\"\")),\"\")","v":""},{"$f":" IFERROR(IF(EN6 = \"\", \"\", IF(ROW(AI6) = FLOOR((MATCH(AI6, AI:AI, 0) + DE6)/2,1),SUM(INDIRECT(\"BT\"&(MATCH(AI6,AI:AI,0))&\":BT\"&DE6)),\"\")),\"\")","v":""},{"$f":" IFERROR( IF(AK6 = \"\",\"\",AK6/(AM6-AK6)),\"\")","v":""},{"$f":" IFERROR(IF(ROW(AI6) = FLOOR((MATCH(AI6, AI:AI, 0) + DE6)/2,1),INDIRECT(\"BU\"&DE6),\"\"),\"\")","v":""},{"$f":"  IF(AJ6= 0,\"\",AL6)","v":""},{"$f":"IF(AN6=\"\",\"\",AN6+1)","v":""},{"$f":" IF(EN6 = \"\", 0, YEAR(E6)&\"\")","v":0},{"$f":" IFERROR(IF(SUM(INDIRECT(\"O\"&(MATCH(AP6,AP:AP,0))&\":T\"&ED6)) = 0, \"\", IF(ROW(AP6) = FLOOR((MATCH(AP6, AP:AP, 0) + ED6)/2,1),SUM(INDIRECT(\"O\"&(MATCH(AP6,AP:AP,0))&\":T\"&ED6)),\"\")), \"\")","v":""},{"$f":" IF(EN6 = \"\", \"\", IF(ROW(AP6) = FLOOR((MATCH(AP6, AP:AP, 0) + ED6)/2,1),SUM(INDIRECT(\"BT\"&(MATCH(AP6,AP:AP,0))&\":BT\"&ED6)),\"\"))","v":""},{"$f":" IFERROR( IF(AR6 = \"\",\"\",AR6/(AT6-AR6)),\"\")","v":""},{"$f":" IFERROR(IF(ROW(AP6) = FLOOR((MATCH(AP6, AP:AP, 0) + ED6)/2,1),INDIRECT(\"BU\"&ED6),\"\"), \"\")","v":""},{"$f":"  IF(AQ6= 0,\"\",AS6)","v":""},{"$f":"IF(AU6=\"\",\"\",AU6+1)","v":""},{"$f":" IF(BX6=\"\",0,IF(IF(BU6 = \"\",0,-1*((MIN(BU$5:$BU6)-BU6)))=0,0,IF(BU6 = \"\",0,-1*((MIN(BU$5:$BU6)-BU6)))))","v":0},{"$f":"  IF(BX6=\"\",0,IF(IF(BU6 = \"\",0,-1*((MIN(BU$5:$BU6)-BU6)))/MIN((BU$5:BU6))=0,0,IF(BU6 = \"\",0,-1*((MIN(BU$5:$BU6)-BU6)))/MIN((BU$5:BU6))))","v":0},{"$f":" IF(EN6 = \"\", \"\", IF(BD5 = BD6, AY5, AY5 + 1))","v":""},{"$f":" IF(EN6 = \"\", \"\", IF(BD5 = BD6, AZ5 + 1,1))","v":""},{"$f":" IF(AX6 = 0, \"\", IF( IF(ROW(AY6) = FLOOR((MATCH(AY6, AY:AY, 0) + MATCH(AY6, AY:AY))/2,1), INDIRECT(\"E\"&(MATCH(AY6,AY:AY))) + INDIRECT(\"F\"&(MATCH(AY6,AY:AY)))  - INDIRECT(\"E\"&(MATCH(AY6,AY:AY,0))) - INDIRECT(\"F\"&(MATCH(AY6,AY:AY,0))),\"\") = 0, \"\", IF(ROW(AY6) = FLOOR((MATCH(AY6, AY:AY, 0) + MATCH(AY6, AY:AY))/2,1), INDIRECT(\"E\"&(MATCH(AY6,AY:AY))) + INDIRECT(\"F\"&(MATCH(AY6,AY:AY)))  - INDIRECT(\"E\"&(MATCH(AY6,AY:AY,0))) - INDIRECT(\"F\"&(MATCH(AY6,AY:AY,0))),\"\")))","v":""},{"$f":" IF(EN5 = \"\", \"\", IF(IF(ROW(AY6) = FLOOR((MATCH(AY6, AY:AY, 0) + MATCH(AY6, AY:AY))/2,1), MAX(INDIRECT(\"AW\"&(MATCH(AY6,AY:AY,0))&\":AW\"&MATCH(AY6,AY:AY))),\"\") = 0, \"\",  IF(ROW(AY6) = FLOOR((MATCH(AY6, AY:AY, 0) + MATCH(AY6, AY:AY))/2,1), MAX(INDIRECT(\"AW\"&(MATCH(AY6,AY:AY,0))&\":AW\"&MATCH(AY6,AY:AY))),\"\")))","v":""},{"$f":" IF(EN5 = \"\", \"\", IF(IF(ROW(AY6) = FLOOR((MATCH(AY6, AY:AY, 0) + MATCH(AY6, AY:AY))/2,1), MAX(INDIRECT(\"AX\"&(MATCH(AY6,AY:AY,0))&\":AX\"&MATCH(AY6,AY:AY))),\"\") = 0, \"\",  IF(ROW(AY6) = FLOOR((MATCH(AY6, AY:AY, 0) + MATCH(AY6, AY:AY))/2,1), MAX(INDIRECT(\"AX\"&(MATCH(AY6,AY:AY,0))&\":AX\"&MATCH(AY6,AY:AY))),\"\")))","v":""},{"$f":" MIN(BU5, BD5)","v":0},{"$f":" IF(BX6=\"\",0,IF(IF(BU6 = \"\",0,(-1*(MAX(BU$5:$BU6)-BU6)))=0,0,IF(BU6 = \"\",0,(-1*(MAX(BU$5:$BU6)-BU6)))))","v":0},{"$f":" IF(BX6=\"\",0,IF(IF(BU6=\"\",0,(-1*(MAX(BU$5:$BU6)-BU6)))/MAX($BU$5:BU6) = 0,0,IF(BU6=\"\",0,(-1*(MAX(BU$5:$BU6)-BU6)))/MAX($BU$5:BU6)))","v":0},{"$f":" IF(EN6 = \"\", \"\", IF(BL5 = BL6, BG5, BG5 + 1))","v":""},{"$f":" IF(EN6 = \"\", \"\", IF(BL5 = BL6, BH5 + 1,1))","v":""},{"$f":" IF(BF6 = 0, \"\", IF( IF(ROW(BG6) = FLOOR((MATCH(BG6, BG:BG, 0) + MATCH(BG6, BG:BG))/2,1), INDIRECT(\"E\"&(MATCH(BG6,BG:BG))) + INDIRECT(\"F\"&(MATCH(BG6,BG:BG)))  - INDIRECT(\"E\"&(MATCH(BG6,BG:BG,0))) - INDIRECT(\"F\"&(MATCH(BG6,BG:BG,0))),\"\") = 0, \"\", IF(ROW(BG6) = FLOOR((MATCH(BG6,BG:BG,0) + MATCH(BG6, BG:BG))/2,1), INDIRECT(\"E\"&(MATCH(BG6,BG:BG))) + INDIRECT(\"F\"&(MATCH(BG6,BG:BG)))  - INDIRECT(\"E\"&(MATCH(BG6,BG:BG,0))) - INDIRECT(\"F\"&(MATCH(BG6,BG:BG,0))),\"\")))","v":""},{"$f":" IF(EN5 = \"\", \"\",  IF(IF(ROW(BG6) = FLOOR((MATCH(BG6, BG:BG, 0) + MATCH(BG6, BG:BG))/2,1), MIN(INDIRECT(\"BE\"&(MATCH(BG6,BG:BG,0))&\":BE\"&MATCH(BG6,BG:BG))),\"\") = 0, \"\", IF(ROW(BG6) = FLOOR((MATCH(BG6, BG:BG, 0) + MATCH(BG6, BG:BG))/2,1), MIN(INDIRECT(\"BE\"&(MATCH(BG6,BG:BG,0))&\":BE\"&MATCH(BG6,BG:BG))),\"\")))","v":""},{"$f":" IF(EN5 = \"\", \"\",  IF(IF(ROW(BG6) = FLOOR((MATCH(BG6, BG:BG, 0) + MATCH(BG6, BG:BG))/2,1), MIN(INDIRECT(\"BF\"&(MATCH(BG6,BG:BG,0))&\":BF\"&MATCH(BG6,BG:BG))),\"\") = 0, \"\", IF(ROW(BG6) = FLOOR((MATCH(BG6, BG:BG, 0) + MATCH(BG6, BG:BG))/2,1), MIN(INDIRECT(\"BF\"&(MATCH(BG6,BG:BG,0))&\":BF\"&MATCH(BG6,BG:BG))),\"\")))","v":""},{"$f":" MAX(BU5, BL5)","v":0},{"$f":"IF(H6=\"\",\"\",IF(H6=\"Win\",IF(BN6=1,BN6 & \" \" & \"Win\",BN6 & \" \" & \"Wins\"),IF(H6=\"Loss\",IF(BN6=1,BN6 & \" \" & \"Loss\",BN6 & \" \" & \"Losses\"), IF(H6 = \"BE\",IF(BN6=1,BN6 & \" \" & \"BE\",BN6 & \" \" & \"BE's\")))))","v":""},{"$f":" IF(H5=\"\",\"\",IF(H5=H6, BN5+1,1))","v":1},{"$f":" IF(H6 = \"\", \"\", IF(H5 <> H6, (LOOKUP(9E+307,$BO$5:$BO5) + 1), \"\"))","v":""},{"$f":" IF(EN5 = \"\", \"\", IF(BN6 = 1, \"\",IF(BN6<BN7, \"\", \"S\")))","v":""},{"$f":" IF(BP6 = \"\", \"\", IF(H6 = \"Win\",BN6,\"\"))","v":""},{"$f":" IF(BP6 = \"\", \"\", IF(H6 = \"Loss\",BN6,\"\"))","v":""},{"$f":" IF(BP6 = \"\", \"\", IF(H6 = \"BE\",BN6,\"\"))","v":""},{"$f":" IF(EN6 = \"\", \"\", DB6 +CZ6)","v":""},{"$f":" IF(EN6 = \"\", \"\", BU5 + BT6)","v":""},{"$f":" IF(BU6 = \"\",\"\", BV5 + 1)","v":""},{"$f":" IF(BU6 = \"\", \"\", $FN$13*BV6 + $FM$13)","v":""},{"$f":" IF(EN6 = \"\", \"\", (BT6)/BU5)","v":""},{"$f":" IF(EN6 = \"\", \"\",'Overall Performance'!$C$22)","v":""},{"$f":" IF(EN6 = \"\", \"\", IF(BX6=0,\"\",BX6 + 1))","v":""},{"$f":" IF(H6 = \"Win\", BZ6, \"\")","v":""},{"$f":" IF(H6 = \"Loss\", BZ6, \"\")","v":""},{"$f":"IFERROR(INDEX($Y:$Y,SMALL(IF($Y:$Y<>\"\",ROW($Y:$Y)),ROW(1:1))),\"\")","v":""},null,{"$f":" IF(Z6 = \"\", \"\", IF(Z6>0, 0, CH6))","v":""},{"$f":" IF(Z6 = \"\", \"\", IF(Z6>0, 0, W6))","v":""},{"$f":" IF(Z6 = \"\", \"\", Z6 - $FJ$10 + 1)","v":""},{"$f":" IF(Z6 = \"\", \"\", Z6 - $FJ$10)","v":""},{"$f":" IF(AN6 = \"\", \"\", IF(AN6 > 0, 0, CL6))","v":""},{"$f":" IF(AN6 = \"\", \"\", IF(AN6 > 0, 0, AK6))","v":""},{"$f":"IF(AN6=\"\", \"\",AN6-$FJ$14 + 1)","v":""},{"$f":"IF(AN6=\"\", \"\",AN6-$FJ$14)","v":""},{"$f":" IF(EN6 = \"\",\"\",(ES6 - EQ6)/(EQ6 - ER6))","v":""},{"$f":" IF(EN6=\"\",\"\", DA6*ABS((ET6-EQ6)/(EQ6-ER6)))","v":""},{"$f":" IF(CN6 > 0, CN6, \"\")","v":""},{"$f":" IF(CN6 < 0, CN6, \"\")","v":""},{"$f":" IF(EN6 = \"\", \"\", IF(OR(BX6 > AVERAGE(BX:BX) + 3*_xlfn.STDEV.P(BX:BX), BX6 < AVERAGE(BX:BX) - 3*_xlfn.STDEV.P(BX:BX)), BX6, 0))","v":""},{"$f":" IF(EN6= \"\", \"\", SUM(INDIRECT(\"BT\"&(MATCH(U6,U:U,0))&\":BT\"&DC6)))","v":""},{"$f":" IF(EN6= \"\", \"\", SUM(INDIRECT(\"ET\"&(MATCH(U6,U:U,0))&\":ET\"&DC6)))","v":""},{"$f":" IF(EN6= \"\", \"\", (INDIRECT(\"BU\"&DC6)))","v":""},{"$f":" IF(EN6= \"\", \"\", SUM(INDIRECT(\"O\"&(MATCH(U6,U:U,0))&\":T\"&DC6)))","v":""},{"$f":"IF(EN6=\"\",\"\",IF(LEN(RIGHT(EQ6,LEN(EQ6)-FIND(\".\",EQ6)))=2,((-1*ABS(EU6-EQ6))*100),IF(LEN(RIGHT(EQ6,LEN(EQ6)-FIND(\".\",EQ6)))=4,((-1*ABS(EU6-EQ6))*10000),IF(LEN(RIGHT(EQ6,LEN(EQ6)-FIND(\".\",EQ6)))=3,((-1*ABS(EU6-EQ6))*100),IF(LEN(RIGHT(EQ6,LEN(EQ6)-FIND(\".\",EQ6)))=5,((-1*ABS(EU6-EQ6))*10000))))))","v":""},{"$f":" IF(EN6 = \"\", \"\", (((EU6-EQ6)/(ET6-EQ6))*CZ6) + DB6)","v":""},{"$f":"IF(EN6=\"\",\"\",IF(LEN(RIGHT(EQ6,LEN(EQ6)-FIND(\".\",EQ6)))=2,((ABS(EV6-EQ6))*100),IF(LEN(RIGHT(EQ6,LEN(EQ6)-FIND(\".\",EQ6)))=4,((ABS(EV6-EQ6))*10000),IF(LEN(RIGHT(EQ6,LEN(EQ6)-FIND(\".\",EQ6)))=3,((ABS(EV6-EQ6))*100),IF(LEN(RIGHT(EQ6,LEN(EQ6)-FIND(\".\",EQ6)))=5,((ABS(EV6-EQ6))*10000))))))","v":""},{"$f":" IF(EN6 = \"\", \"\", (((EV6-EQ6)/(ET6-EQ6))*CZ6) + DB6)","v":""},{"$f":" IF(EN6 = \"\", \"\", EL6)","v":""},{"$f":" IF(EN6 = \"\", \"\", IF(EN6 = \"Buy\", IF(EQ6 > ET6, -1, 1), IF(EQ6 > ET6, 1, -1)))","v":""},{"$f":"IF(EN6=\"\", \"\",EZ6+FA6)","v":""},{"$f":" IF(EN6 = \"\", \"\", LOOKUP(2,1/(U:U = U6), ROW(U:U)))","v":""},{"$f":" IF(EN6 = \"\", \"\", LOOKUP(2,1/(AB:AB = AB6), ROW(AB:AB)))","v":""},{"$f":" IF(EN6 = \"\", \"\", LOOKUP(2,1/(AI:AI = AI6), ROW(AI:AI)))","v":""},null,null,{"$f":" IF(CO6 = \"\", \"\", CO6*EY6)","v":""},{"$f":" IF(CP6 = \"\", \"\", CP6*EY6)","v":""},{"$f":" IF(EN6 = \"\", \"\",BF6)","v":""},{"$f":" DJ6","v":""},{"$f":" IF(EL7 = \"\", \"\", DL5 + 1)","v":""},{"$f":" IF(EN6 <> \"\", K6*24,#N/A)","v":{"$error":"#N/A"}},{"$f":" IF(EN6 <> \"\", CW6,#N/A)","v":{"$error":"#N/A"}},{"$f":" IF(EN6 <> \"\", CY6,#N/A)","v":{"$error":"#N/A"}},{"$f":" IF(EN6 <> \"\", CM6,#N/A)","v":{"$error":"#N/A"}},{"$f":" IF(EN6 <> \"\", CN6,#N/A)","v":{"$error":"#N/A"}},{"$f":" IF(CN6 > 0, CM6, -1)","v":""},{"$f":" IF(CN6 > 0, CM6, \"\")","v":""},{"$f":" IF(CN6 < 0, CM6, \"\")","v":""},{"$f":" IF(AQ6 = \"\",\"\",LOOKUP(9E+307,$DU$5:$DU5) + 1)","v":""},{"$f":" IF(EN6 = \"\", \"\", (CZ6)/BU5)","v":""},{"$f":" IF(EN6 = \"\", \"\", WEEKDAY(C6,1))","v":""},{"$f":" IF(EN6=\"\", \"\", MONTH(C6))","v":""},{"$f":" IF(EN6 = \"\", \"\", YEAR(E6))","v":""},{"$f":" IF(EB6 = \"\", \"\", MAX(((EA6-EB6)/EA6), ((EB6-EC6)/EB6)))","v":""},{"$f":" IF(EB6=\"\", \"\", MAX($EB$6:EB6))","v":""},{"$f":" AM6","v":""},{"$f":" IF(EB6=\"\",\"\", MIN(EB6:$EB$1048576))","v":""},{"$f":" IF(EN6 = \"\", \"\", LOOKUP(2,1/(AP:AP = AP6), ROW(AP:AP)))","v":""},{"$f":" IFERROR(_xlfn.IFS(FE6 = \"1-Minute\", 1, FE6 = \"5-Minute\", 2, FE6 = \"15-Minute\", 3, FE6 = \"30-Minute\", 4, FE6 = \"1-Hour\", 5, FE6 = \"4-Hour\", 6, FE6 = \"Daily\", 7, FE6 = \"Weekly\", 8, FE6 = \"Monthly\", 9), \"\")","v":""},{"$f":" IFERROR(_xlfn.IFS(FF6 = \"Very Low\", 1, FF6 = \"Low\", 2, FF6 = \"Medium\", 3, FF6 = \"High\", 4, FF6 = \"Very High\", 5),\"\")","v":""},null,{"$f":" TEXT(CM6, \"#,###0.000\") & \" : 1\"","v":" : 1"},{"$f":" IF(EN6 = \"\", \"\", IF(N6 = \"Buy\", (ET6-EQ6)/(EV6-EU6), (EQ6-ET6)/(EU6-EV6)))","v":""},{"$f":"IF(EN6=\"\",\"\",IF(N6 = \"Buy\", (EV6 - EQ6)/(EV6-EU6), (EQ6-EV6)/(EU6-EV6)))","v":""},{"$f":"IF(EN6=\"\",\"\",IF(N6 = \"Buy\", (ET6-EU6)/(EV6-EU6), (EU6-ET6)/(EU6-EV6)))","v":""},null,null,null,null,null,null,null,null,null,null,null,{"$f":" IF(EQ6=\"\",\"\",IF(LEN(RIGHT(EQ6,LEN(EQ6)-FIND(\".\",EQ6)))=2,((IF(EN6 = \"Buy\", IF(DF6 = EQ6, IF(DG6 = ET6, 0, ET6 - DG6),IF(DG6 = ET6, DF6-EQ6, (DF6 - EQ6) + (ET6 - DG6))), IF(DF6 = EQ6, IF(DG6 = ET6, 0, DG6-ET6),IF(DG6 = ET6, EQ6-DF6, (EQ6-DF6) + (DG6-ET6)))))*100),IF(LEN(RIGHT(EQ6,LEN(EQ6)-FIND(\".\",EQ6)))=4,((IF(EN6 = \"Buy\", IF(DF6 = EQ6, IF(DG6 = ET6, 0, ET6 - DG6),IF(DG6 = ET6, DF6-EQ6, (DF6 - EQ6) + (ET6 - DG6))), IF(DF6 = EQ6, IF(DG6 = ET6, 0, DG6-ET6),IF(DG6 = ET6, EQ6-DF6, (EQ6-DF6) + (DG6-ET6)))))*10000),IF(LEN(RIGHT(EQ6,LEN(EQ6)-FIND(\".\",EQ6)))=3,((IF(EN6 = \"Buy\", IF(DF6 = EQ6, IF(DG6 = ET6, 0, ET6 - DG6),IF(DG6 = ET6, DF6-EQ6, (DF6 - EQ6) + (ET6 - DG6))), IF(DF6 = EQ6, IF(DG6 = ET6, 0, DG6-ET6),IF(DG6 = ET6, EQ6-DF6, (EQ6-DF6) + (DG6-ET6)))))*100),IF(LEN(RIGHT(EQ6,LEN(EQ6)-FIND(\".\",EQ6)))=5,((IF(EN6 = \"Buy\", IF(DF6 = EQ6, IF(DG6 = ET6, 0, ET6 - DG6),IF(DG6 = ET6, DF6-EQ6, (DF6 - EQ6) + (ET6 - DG6))), IF(DF6 = EQ6, IF(DG6 = ET6, 0, DG6-ET6),IF(DG6 = ET6, EQ6-DF6, (EQ6-DF6) + (DG6-ET6)))))*10000))))))","v":""},{"$f":"IF(EN6=\"\",\"\",IF(LEN(RIGHT(EQ6,LEN(EQ6)-FIND(\".\",EQ6)))=2,((DA6*ABS(ET6-EQ6))*100),IF(LEN(RIGHT(EQ6,LEN(EQ6)-FIND(\".\",EQ6)))=4,((DA6*ABS(ET6-EQ6))*10000),IF(LEN(RIGHT(EQ6,LEN(EQ6)-FIND(\".\",EQ6)))=3,((DA6*ABS(ET6-EQ6))*100),IF(LEN(RIGHT(EQ6,LEN(EQ6)-FIND(\".\",EQ6)))=5,((DA6*ABS(ET6-EQ6))*10000))))))","v":""},{"$f":"IF(EN6=\"\",\"\",ABS(DV6/ABS(CN6)))","v":""},null,null,null,null,null,null,null,null,null,null,{"$f":" SUMIF(H:H, \"Win\",K:K)/(SUM(O:O) + SUM(P:P))","v":{"$error":"#DIV/0!"}},{"$f":" IF(IFERROR(LARGE(BB:BB, 1),\"\") = 0, \"\", IFERROR(LARGE(BB:BB, 1),\"\"))","v":""},{"$f":"  IF(IFERROR(SMALL(BJ:BJ, 1),\"\")=0, \"\", IFERROR(SMALL(BJ:BJ, 1),\"\"))","v":""}]
[null,{"$f":" B6+ 1","v":2},null,null,null,null,{"$f":" IF(EN7 = \"\", \"\", INT(K7)&\" d,\"&\" \"&HOUR(K7)&\" h,\"&\" \"&MINUTE(K7)&\" m,\"&\" \"&SECOND(K7)&\" s\")","v":""},{"$f":" IF(EN7 = \"\",\"\",IF(CZ7 +DB7 = 0, \"BE\", IF(CZ7 > 0, \"Win\",\"Loss\")))","v":""},{"$f":" IF(EN7=\"\", \"\",VALUE(C7 + D7))","v":""},{"$f":" IF(EN7 = \"\", \"\", VALUE(E7 + F7))","v":""},{"$f":"IF(EN7=\"\",\"\",IF(C7=\"\",0,IF(D7=\"\",0,(E7+F7-D7-C7))))","v":""},{"$f":" IFERROR(IF(VALUE(E7&F7) > VALUE(C8&D8), IF(VALUE(C8+D8) < VALUE(C9 + D9), E7 + F7 - C8 - D8 - (C7 + D7 - C8 - D8),E7 + F7 - C8 - D8), \"\"), \"\")","v":""},{"$f":"IFERROR(IF(EN7=\"\",\"\",IF(VALUE(E6+F6)<VALUE(C7+D7),C7+D7-E6-F6,\"\")),\"\")","v":""},{"$f":" TRIM(EN7)","v":""},{"$f":" IF(AND(N7 = \"Buy\", H7 = \"Win\"), 1, 0)","v":0},{"$f":" IF(AND(N7 = \"Sell\", H7 = \"Win\"), 1, 0)","v":0},{"$f":" IF(AND(N7 = \"Buy\", H7 = \"Loss\"), 1, 0)","v":0},{"$f":" IF(AND(N7 = \"Sell\", H7 = \"Loss\"), 1, 0)","v":0},{"$f":" IF(AND(N7 = \"Buy\", H7 = \"BE\"), 1, 0)","v":0},{"$f":" IF(AND(N7 = \"Sell\", H7 = \"BE\"), 1, 0)","v":0},{"$f":" IF(EN7 = \"\", 0, (E7 - DATE(YEAR(E7),1,0)) & YEAR(E7)&\"\")","v":0},{"$f":"IFERROR( IF(SUM(INDIRECT(\"O\"&(MATCH(U7,U:U,0))&\":T\"&DC7)) = 0, \"\", IF(ROW(U7) = FLOOR((MATCH(U7, U:U, 0) +DC7)/2,1),SUM(INDIRECT(\"O\"&(MATCH(U7,U:U,0))&\":T\"&DC7)),\"\")),\"\")","v":""},{"$f":" IFERROR(IF(EN7 = \"\", \"\", IF(ROW(U7) = FLOOR((MATCH(U7, U:U, 0) + DC7)/2,1),SUM(INDIRECT(\"BT\"&(MATCH(U7,U:U,0))&\":BT\"&DC7)),\"\")),\"\")","v":""},{"$f":"  IFERROR(IF(W7 = \"\",\"\",W7/(Y7-W7)),\"\")","v":""},{"$f":" IFERROR(IF(ROW(U7) = FLOOR((MATCH(U7, U:U, 0) + DC7)/2,1),INDIRECT(\"BU\"&DC7),\"\"),\"\")","v":""},{"$f":"  IF(V7= 0,\"\",X7)","v":""},{"$f":"IF(Z7=\"\",\"\",Z7+1)","v":""},{"$f":" IF(EN7 = \"\", 0, WEEKNUM(E7) & YEAR(E7) & \"\")","v":0},{"$f":" IFERROR(IF(SUM(INDIRECT(\"O\"&(MATCH(AB7,AB:AB,0))&\":T\"&DD7)) = 0, \"\", IF(ROW(AB7) = FLOOR((MATCH(AB7, AB:AB, 0) + DD7)/2,1),SUM(INDIRECT(\"O\"&(MATCH(AB7,AB:AB,0))&\":T\"&DD7)),\"\")),\"\")","v":""},{"$f":" IFERROR(IF(EN7 = \"\", \"\", IF(ROW(AB7) = FLOOR((MATCH(AB7, AB:AB, 0) +DD7)/2,1),SUM(INDIRECT(\"BT\"&(MATCH(AB7,AB:AB,0))&\":BT\"&DD7)),\"\")),\"\")","v":""},{"$f":" IFERROR( IF(AD7 = \"\",\"\",AD7/(AF7-AD7)),\"\")","v":""},{"$f":" IFERROR(IF(ROW(AB7) = FLOOR((MATCH(AB7, AB:AB, 0) + DD7)/2,1),INDIRECT(\"BU\"&DD7),\"\"),\"\")","v":""},{"$f":"  IF(AC7= 0,\"\",AE7)","v":""},{"$f":"IF(AG7=\"\",\"\",AG7+1)","v":""},{"$f":" IF(EN7 = \"\", 0, MONTH(E7)&YEAR(E7)&\"\")","v":0},{"$f":"IFERROR( IF(SUM(INDIRECT(\"O\"&(MATCH(AI7,AI:AI,0))&\":T\"&DE7)) = 0, \"\", IF(ROW(AI7) = FLOOR((MATCH(AI7, AI:AI, 0) + DE7)/2,1),SUM(INDIRECT(\"O\"&(MATCH(AI7,AI:AI,0))&\":T\"&DE7)),\"\")),\"\")","v":""},{"$f":" IFERROR(IF(EN7 = \"\", \"\", IF(ROW(AI7) = FLOOR((MATCH(AI7, AI:AI, 0) + DE7)/2,1),SUM(INDIRECT(\"BT\"&(MATCH(AI7,AI:AI,0))&\":BT\"&DE7)),\"\")),\"\")","v":""},{"$f":" IFERROR( IF(AK7 = \"\",\"\",AK7/(AM7-AK7)),\"\")","v":""},{"$f":" IFERROR(IF(ROW(AI7) = FLOOR((MATCH(AI7, AI:AI, 0) + DE7)/2,1),INDIRECT(\"BU\"&DE7),\"\"),\"\")","v":""},{"$f":"  IF(AJ7= 0,\"\",AL7)","v":""},{"$f":"IF(AN7=\"\",\"\",AN7+1)","v":""},{"$f":" IF(EN7 = \"\", 0, YEAR(E7)&\"\")","v":0},{"$f":" IFERROR(IF(SUM(INDIRECT(\"O\"&(MATCH(AP7,AP:AP,0))&\":T\"&ED7)) = 0, \"\", IF(ROW(AP7) = FLOOR((MATCH(AP7, AP:AP, 0) + ED7)/2,1),SUM(INDIRECT(\"O\"&(MATCH(AP7,AP:AP,0))&\":T\"&ED7)),\"\")), \"\")","v":""},{"$f":" IF(EN7 = \"\", \"\", IF(ROW(AP7) = FLOOR((MATCH(AP7, AP:AP, 0) + ED7)/2,1),SUM(INDIRECT(\"BT\"&(MATCH(AP7,AP:AP,0))&\":BT\"&ED7)),\"\"))","v":""},{"$f":" IFERROR( IF(AR7 = \"\",\"\",AR7/(AT7-AR7)),\"\")","v":""},{"$f":" IFERROR(IF(ROW(AP7) = FLOOR((MATCH(AP7, AP:AP, 0) + ED7)/2,1),INDIRECT(\"BU\"&ED7),\"\"), \"\")","v":""},{"$f":"  IF(AQ7= 0,\"\",AS7)","v":""},{"$f":"IF(AU7=\"\",\"\",AU7+1)","v":""},{"$f":" IF(BX7=\"\",0,IF(IF(BU7 = \"\",0,-1*((MIN(BU$5:$BU7)-BU7)))=0,0,IF(BU7 = \"\",0,-1*((MIN(BU$5:$BU7)-BU7)))))","v":0},{"$f":"  IF(BX7=\"\",0,IF(IF(BU7 = \"\",0,-1*((MIN(BU$5:$BU7)-BU7)))/MIN((BU$5:BU7))=0,0,IF(BU7 = \"\",0,-1*((MIN(BU$5:$BU7)-BU7)))/MIN((BU$5:BU7))))","v":0},{"$f":" IF(EN7 = \"\", \"\", IF(BD6 = BD7, AY6, AY6 + 1))","v":""},{"$f":" IF(EN7 = \"\", \"\", IF(BD6 = BD7, AZ6 + 1,1))","v":""},{"$f":" IF(AX7 = 0, \"\", IF( IF(ROW(AY7) = FLOOR((MATCH(AY7, AY:AY, 0) + MATCH(AY7, AY:AY))/2,1), INDIRECT(\"E\"&(MATCH(AY7,AY:AY))) + INDIRECT(\"F\"&(MATCH(AY7,AY:AY)))  - INDIRECT(\"E\"&(MATCH(AY7,AY:AY,0))) - INDIRECT(\"F\"&(MATCH(AY7,AY:AY,0))),\"\") = 0, \"\", IF(ROW(AY7) = FLOOR((MATCH(AY7, AY:AY, 0) + MATCH(AY7, AY:AY))/2,1), INDIRECT(\"E\"&(MATCH(AY7,AY:AY))) + INDIRECT(\"F\"&(MATCH(AY7,AY:AY)))  - INDIRECT(\"E\"&(MATCH(AY7,AY:AY,0))) - INDIRECT(\"F\"&(MATCH(AY7,AY:AY,0))),\"\")))","v":""},{"$f":" IF(EN6 = \"\", \"\", IF(IF(ROW(AY7) = FLOOR((MATCH(AY7, AY:AY, 0) + MATCH(AY7, AY:AY))/2,1), MAX(INDIRECT(\"AW\"&(MATCH(AY7,AY:AY,0))&\":AW\"&MATCH(AY7,AY:AY))),\"\") = 0, \"\",  IF(ROW(AY7) = FLOOR((MATCH(AY7, AY:AY, 0) + MATCH(AY7, AY:AY))/2,1), MAX(INDIRECT(\"AW\"&(MATCH(AY7,AY:AY,0))&\":AW\"&MATCH(AY7,AY:AY))),\"\")))","v":""},{"$f":" IF(EN6 = \"\", \"\", IF(IF(ROW(AY7) = FLOOR((MATCH(AY7, AY:AY, 0) + MATCH(AY7, AY:AY))/2,1), MAX(INDIRECT(\"AX\"&(MATCH(AY7,AY:AY,0))&\":AX\"&MATCH(AY7,AY:AY))),\"\") = 0, \"\",  IF(ROW(AY7) = FLOOR((MATCH(AY7, AY:AY, 0) + MATCH(AY7, AY:AY))/2,1), MAX(INDIRECT(\"AX\"&(MATCH(AY7,AY:AY,0))&\":AX\"&MATCH(AY7,AY:AY))),\"\")))","v":""},{"$f":" MIN(BU6, BD6)","v":0},{"$f":" IF(BX7=\"\",0,IF(IF(BU7 = \"\",0,(-1*(MAX(BU$5:$BU7)-BU7)))=0,0,IF(BU7 = \"\",0,(-1*(MAX(BU$5:$BU7)-BU7)))))","v":0},{"$f":" IF(BX7=\"\",0,IF(IF(BU7=\"\",0,(-1*(MAX(BU$5:$BU7)-BU7)))/MAX($BU$5:BU7) = 0,0,IF(BU7=\"\",0,(-1*(MAX(BU$5:$BU7)-BU7)))/MAX($BU$5:BU7)))","v":0},{"$f":" IF(EN7 = \"\", \"\", IF(BL6 = BL7, BG6, BG6 + 1))","v":""},{"$f":" IF(EN7 = \"\", \"\", IF(BL6 = BL7, BH6 + 1,1))","v":""},{"$f":" IF(BF7 = 0, \"\", IF( IF(ROW(BG7) = FLOOR((MATCH(BG7, BG:BG, 0) + MATCH(BG7, BG:BG))/2,1), INDIRECT(\"E\"&(MATCH(BG7,BG:BG))) + INDIRECT(\"F\"&(MATCH(BG7,BG:BG)))  - INDIRECT(\"E\"&(MATCH(BG7,BG:BG,0))) - INDIRECT(\"F\"&(MATCH(BG7,BG:BG,0))),\"\") = 0, \"\", IF(ROW(BG7) = FLOOR((MATCH(BG7,BG:BG,0) + MATCH(BG7, BG:BG))/2,1), INDIRECT(\"E\"&(MATCH(BG7,BG:BG))) + INDIRECT(\"F\"&(MATCH(BG7,BG:BG)))  - INDIRECT(\"E\"&(MATCH(BG7,BG:BG,0))) - INDIRECT(\"F\"&(MATCH(BG7,BG:BG,0))),\"\")))","v":""},{"$f":" IF(EN6 = \"\", \"\",  IF(IF(ROW(BG7) = FLOOR((MATCH(BG7, BG:BG, 0) + MATCH(BG7, BG:BG))/2,1), MIN(INDIRECT(\"BE\"&(MATCH(BG7,BG:BG,0))&\":BE\"&MATCH(BG7,BG:BG))),\"\") = 0, \"\", IF(ROW(BG7) = FLOOR((MATCH(BG7, BG:BG, 0) + MATCH(BG7, BG:BG))/2,1), MIN(INDIRECT(\"BE\"&(MATCH(BG7,BG:BG,0))&\":BE\"&MATCH(BG7,BG:BG))),\"\")))","v":""},{"$f":" IF(EN6 = \"\", \"\",  IF(IF(ROW(BG7) = FLOOR((MATCH(BG7, BG:BG, 0) + MATCH(BG7, BG:BG))/2,1), MIN(INDIRECT(\"BF\"&(MATCH(BG7,BG:BG,0))&\":BF\"&MATCH(BG7,BG:BG))),\"\") = 0, \"\", IF(ROW(BG7) = FLOOR((MATCH(BG7, BG:BG, 0) + MATCH(BG7, BG:BG))/2,1), MIN(INDIRECT(\"BF\"&(MATCH(BG7,BG:BG,0))&\":BF\"&MATCH(BG7,BG:BG))),\"\")))","v":""},{"$f":" MAX(BU6, BL6)","v":0},{"$f":"IF(H7=\"\",\"\",IF(H7=\"Win\",IF(BN7=1,BN7 & \" \" & \"Win\",BN7 & \" \" & \"Wins\"),IF(H7=\"Loss\",IF(BN7=1,BN7 & \" \" & \"Loss\",BN7 & \" \" & \"Losses\"), IF(H7 = \"BE\",IF(BN7=1,BN7 & \" \" & \"BE\",BN7 & \" \" & \"BE's\")))))","v":""},{"$f":" IF(H6=\"\",\"\",IF(H6=H7, BN6+1,1))","v":""},{"$f":" IF(H7 = \"\", \"\", IF(H6 <> H7, (LOOKUP(9E+307,$BO$5:$BO6) + 1), \"\"))","v":""},{"$f":" IF(EN6 = \"\", \"\", IF(BN7 = 1, \"\",IF(BN7<BN8, \"\", \"S\")))","v":""},{"$f":" IF(BP7 = \"\", \"\", IF(H7 = \"Win\",BN7,\"\"))","v":""},{"$f":" IF(BP7 = \"\", \"\", IF(H7 = \"Loss\",BN7,\"\"))","v":""},{"$f":" IF(BP7 = \"\", \"\", IF(H7 = \"BE\",BN7,\"\"))","v":""},{"$f":" IF(EN7 = \"\", \"\", DB7 +CZ7)","v":""},{"$f":" IF(EN7 = \"\", \"\", BU6 + BT7)","v":""},{"$f":" IF(BU7 = \"\",\"\", BV6 + 1)","v":""},{"$f":" IF(BU7 = \"\", \"\", $FN$13*BV7 + $FM$13)","v":""},{"$f":" IF(EN7 = \"\", \"\", (BT7)/BU6)","v":""},{"$f":" IF(EN7 = \"\", \"\",'Overall Performance'!$C$22)","v":""},{"$f":" IF(EN7 = \"\", \"\", IF(BX7=0,\"\",BX7 + 1))","v":""},{"$f":" IF(H7 = \"Win\", BZ7, \"\")","v":""},{"$f":" IF(H7 = \"Loss\", BZ7, \"\")","v":""},{"$f":"IFERROR(INDEX($Y:$Y,SMALL(IF($Y:$Y<>\"\",ROW($Y:$Y)),ROW(2:2))),\"\")","v":""},null,{"$f":" IF(Z7 = \"\", \"\", IF(Z7>0, 0, CH7))","v":""},{"$f":" IF(Z7 = \"\", \"\", IF(Z7>0, 0, W7))","v":""},{"$f":" IF(Z7 = \"\", \"\", Z7 - $FJ$10 + 1)","v":""},{"$f":" IF(Z7 = \"\", \"\", Z7 - $FJ$10)","v":""},{"$f":" IF(AN7 = \"\", \"\", IF(AN7 > 0, 0, CL7))","v":""},{"$f":" IF(AN7 = \"\", \"\", IF(AN7 > 0, 0, AK7))","v":""},{"$f":"IF(AN7=\"\", \"\",AN7-$FJ$14 + 1)","v":""},{"$f":"IF(AN7=\"\", \"\",AN7-$FJ$14)","v":""},{"$f":" IF(EN7 = \"\",\"\",(ES7 - EQ7)/(EQ7 - ER7))","v":""},{"$f":" IF(EN7=\"\",\"\", DA7*ABS((ET7-EQ7)/(EQ7-ER7)))","v":""},{"$f":" IF(CN7 > 0, CN7, \"\")","v":""},{"$f":" IF(CN7 < 0, CN7, \"\")","v":""},{"$f":" IF(EN7 = \"\", \"\", IF(OR(BX7 > AVERAGE(BX:BX) + 3*_xlfn.STDEV.P(BX:BX), BX7 < AVERAGE(BX:BX) - 3*_xlfn.STDEV.P(BX:BX)), BX7, 0))","v":""},{"$f":" IF(EN7= \"\", \"\", SUM(INDIRECT(\"BT\"&(MATCH(U7,U:U,0))&\":BT\"&DC7)))","v":""},{"$f":" IF(EN7= \"\", \"\", SUM(INDIRECT(\"ET\"&(MATCH(U7,U:U,0))&\":ET\"&DC7)))","v":""},{"$f":" IF(EN7= \"\", \"\", (INDIRECT(\"BU\"&DC7)))","v":""},{"$f":" IF(EN7= \"\", \"\", SUM(INDIRECT(\"O\"&(MATCH(U7,U:U,0))&\":T\"&DC7)))","v":""},{"$f":"IF(EN7=\"\",\"\",IF(LEN(RIGHT(EQ7,LEN(EQ7)-FIND(\".\",EQ7)))=2,((-1*ABS(EU7-EQ7))*100),IF(LEN(RIGHT(EQ7,LEN(EQ7)-FIND(\".\",EQ7)))=4,((-1*ABS(EU7-EQ7))*10000),IF(LEN(RIGHT(EQ7,LEN(EQ7)-FIND(\".\",EQ7)))=3,((-1*ABS(EU7-EQ7))*100),IF(LEN(RIGHT(EQ7,LEN(EQ7)-FIND(\".\",EQ7)))=5,((-1*ABS(EU7-EQ7))*10000))))))","v":""},{"$f":" IF(EN7 = \"\", \"\", (((EU7-EQ7)/(ET7-EQ7))*CZ7) + DB7)","v":""},{"$f":"IF(EN7=\"\",\"\",IF(LEN(RIGHT(EQ7,LEN(EQ7)-FIND(\".\",EQ7)))=2,((ABS(EV7-EQ7))*100),IF(LEN(RIGHT(EQ7,LEN(EQ7)-FIND(\".\",EQ7)))=4,((ABS(EV7-EQ7))*10000),IF(LEN(RIGHT(EQ7,LEN(EQ7)-FIND(\".\",EQ7)))=3,((ABS(EV7-EQ7))*100),IF(LEN(RIGHT(EQ7,LEN(EQ7)-FIND(\".\",EQ7)))=5,((ABS(EV7-EQ7))*10000))))))","v":""},{"$f":" IF(EN7 = \"\", \"\", (((EV7-EQ7)/(ET7-EQ7))*CZ7) + DB7)","v":""},{"$f":" IF(EN7 = \"\", \"\", EL7)","v":""},{"$f":" IF(EN7 = \"\", \"\", IF(EN7 = \"Buy\", IF(EQ7 > ET7, -1, 1), IF(EQ7 > ET7, 1, -1)))","v":""},{"$f":"IF(EN7=\"\", \"\",EZ7+FA7)","v":""},{"$f":" IF(EN7 = \"\", \"\", LOOKUP(2,1/(U:U = U7), ROW(U:U)))","v":""},{"$f":" IF(EN7 = \"\", \"\", LOOKUP(2,1/(AB:AB = AB7), ROW(AB:AB)))","v":""},{"$f":" IF(EN7 = \"\", \"\", LOOKUP(2,1/(AI:AI = AI7), ROW(AI:AI)))","v":""},null,null,{"$f":" IF(CO7 = \"\", \"\", CO7*EY7)","v":""},{"$f":" IF(CP7 = \"\", \"\", CP7*EY7)","v":""},{"$f":" IF(EN7 = \"\", \"\",BF7)","v":""},{"$f":" DJ7","v":""},{"$f":" IF(EL8 = \"\", \"\", DL6 + 1)","v":""},{"$f":" IF(EN7 <> \"\", K7*24,#N/A)","v":{"$error":"#N/A"}},{"$f":" IF(EN7 <> \"\", CW7,#N/A)","v":{"$error":"#N/A"}},{"$f":" IF(EN7 <> \"\", CY7,#N/A)","v":{"$error":"#N/A"}},{"$f":" IF(EN7 <> \"\", CM7,#N/A)","v":{"$error":"#N/A"}},{"$f":" IF(EN7 <> \"\", CN7,#N/A)","v":{"$error":"#N/A"}},{"$f":" IF(CN7 > 0, CM7, -1)","v":""},{"$f":" IF(CN7 > 0, CM7, \"\")","v":""},{"$f":" IF(CN7 < 0, CM7, \"\")","v":""},{"$f":" IF(AQ7 = \"\",\"\",LOOKUP(9E+307,$DU$5:$DU6) + 1)","v":""},{"$f":" IF(EN7 = \"\", \"\", (CZ7)/BU6)","v":""},{"$f":" IF(EN7 = \"\", \"\", WEEKDAY(C7,1))","v":""},{"$f":" IF(EN7=\"\", \"\", MONTH(C7))","v":""},{"$f":" IF(EN7 = \"\", \"\", YEAR(E7))","v":""},{"$f":" IF(EB7 = \"\", \"\", MAX(((EA7-EB7)/EA7), ((EB7-EC7)/EB7)))","v":""},{"$f":" IF(EB7=\"\", \"\", MAX($EB$6:EB7))","v":""},{"$f":" AM7","v":""},{"$f":" IF(EB7=\"\",\"\", MIN(EB7:$EB$1048576))","v":""},{"$f":" IF(EN7 = \"\", \"\", LOOKUP(2,1/(AP:AP = AP7), ROW(AP:AP)))","v":""},{"$f":" IFERROR(_xlfn.IFS(FE7 = \"1-Minute\", 1, FE7 = \"5-Minute\", 2, FE7 = \"15-Minute\", 3, FE7 = \"30-Minute\", 4, FE7 = \"1-Hour\", 5, FE7 = \"4-Hour\", 6, FE7 = \"Daily\", 7, FE7 = \"Weekly\", 8, FE7 = \"Monthly\", 9), \"\")","v":""},{"$f":" IFERROR(_xlfn.IFS(FF7 = \"Very Low\", 1, FF7 = \"Low\", 2, FF7 = \"Medium\", 3, FF7 = \"High\", 4, FF7 = \"Very High\", 5),\"\")","v":""},null,{"$f":" TEXT(CM7, \"#,###0.000\") & \" : 1\"","v":" : 1"},{"$f":" IF(EN7 = \"\", \"\", IF(N7 = \"Buy\", (ET7-EQ7)/(EV7-EU7), (EQ7-ET7)/(EU7-EV7)))","v":""},{"$f":"IF(EN7=\"\",\"\",IF(N7 = \"Buy\", (EV7 - EQ7)/(EV7-EU7), (EQ7-EV7)/(EU7-EV7)))","v":""},{"$f":"IF(EN7=\"\",\"\",IF(N7 = \"Buy\", (ET7-EU7)/(EV7-EU7), (EU7-ET7)/(EU7-EV7)))","v":""},null,null,null,null,null,null,null,null,null,null,null,{"$f":" IF(EQ7=\"\",\"\",IF(LEN(RIGHT(EQ7,LEN(EQ7)-FIND(\".\",EQ7)))=2,((IF(EN7 = \"Buy\", IF(DF7 = EQ7, IF(DG7 = ET7, 0, ET7 - DG7),IF(DG7 = ET7, DF7-EQ7, (DF7 - EQ7) + (ET7 - DG7))), IF(DF7 = EQ7, IF(DG7 = ET7, 0, DG7-ET7),IF(DG7 = ET7, EQ7-DF7, (EQ7-DF7) + (DG7-ET7)))))*100),IF(LEN(RIGHT(EQ7,LEN(EQ7)-FIND(\".\",EQ7)))=4,((IF(EN7 = \"Buy\", IF(DF7 = EQ7, IF(DG7 = ET7, 0, ET7 - DG7),IF(DG7 = ET7, DF7-EQ7, (DF7 - EQ7) + (ET7 - DG7))), IF(DF7 = EQ7, IF(DG7 = ET7, 0, DG7-ET7),IF(DG7 = ET7, EQ7-DF7, (EQ7-DF7) + (DG7-ET7)))))*10000),IF(LEN(RIGHT(EQ7,LEN(EQ7)-FIND(\".\",EQ7)))=3,((IF(EN7 = \"Buy\", IF(DF7 = EQ7, IF(DG7 = ET7, 0, ET7 - DG7),IF(DG7 = ET7, DF7-EQ7, (DF7 - EQ7) + (ET7 - DG7))), IF(DF7 = EQ7, IF(DG7 = ET7, 0, DG7-ET7),IF(DG7 = ET7, EQ7-DF7, (EQ7-DF7) + (DG7-ET7)))))*100),IF(LEN(RIGHT(EQ7,LEN(EQ7)-FIND(\".\",EQ7)))=5,((IF(EN7 = \"Buy\", IF(DF7 = EQ7, IF(DG7 = ET7, 0, ET7 - DG7),IF(DG7 = ET7, DF7-EQ7, (DF7 - EQ7) + (ET7 - DG7))), IF(DF7 = EQ7, IF(DG7 = ET7, 0, DG7-ET7),IF(DG7 = ET7, EQ7-DF7, (EQ7-DF7) + (DG7-ET7)))))*10000))))))","v":""},{"$f":"IF(EN7=\"\",\"\",IF(LEN(RIGHT(EQ7,LEN(EQ7)-FIND(\".\",EQ7)))=2,((DA7*ABS(ET7-EQ7))*100),IF(LEN(RIGHT(EQ7,LEN(EQ7)-FIND(\".\",EQ7)))=4,((DA7*ABS(ET7-EQ7))*10000),IF(LEN(RIGHT(EQ7,LEN(EQ7)-FIND(\".\",EQ7)))=3,((DA7*ABS(ET7-EQ7))*100),IF(LEN(RIGHT(EQ7,LEN(EQ7)-FIND(\".\",EQ7)))=5,((DA7*ABS(ET7-EQ7))*10000))))))","v":""},{"$f":"IF(EN7=\"\",\"\",ABS(DV7/ABS(CN7)))","v":""},null,null,null,null,null,null,null,null,null,null,{"$f":" SUMIF(H:H, \"Loss\",K:K)/(SUM(Q:Q) + SUM(R:R))","v":{"$error":"#DIV/0!"}},{"$f":"  IF(IFERROR(LARGE(BB:BB, 2),\"\") = 0, \"\",IFERROR(LARGE(BB:BB, 2),\"\"))","v":""},{"$f":"  IF(IFERROR(SMALL(BJ:BJ, 2),\"\")=0, \"\",   IFERROR(SMALL(BJ:BJ, 2),\"\"))","v":""}]
[null,{"$f":" B7+ 1","v":3},null,null,null,null,{"$f":" IF(EN8 = \"\", \"\", INT(K8)&\" d,\"&\" \"&HOUR(K8)&\" h,\"&\" \"&MINUTE(K8)&\" m,\"&\" \"&SECOND(K8)&\" s\")","v":""},{"$f":" IF(EN8 = \"\",\"\",IF(CZ8 +DB8 = 0, \"BE\", IF(CZ8 > 0, \"Win\",\"Loss\")))","v":""},{"$f":" IF(EN8=\"\", \"\",VALUE(C8 + D8))","v":""},{"$f":" IF(EN8 = \"\", \"\", VALUE(E8 + F8))","v":""},{"$f":"IF(EN8=\"\",\"\",IF(C8=\"\",0,IF(D8=\"\",0,(E8+F8-D8-C8))))","v":""},{"$f":" IFERROR(IF(VALUE(E8&F8) > VALUE(C9&D9), IF(VALUE(C9+D9) < VALUE(C10 + D10), E8 + F8 - C9 - D9 - (C8 + D8 - C9 - D9),E8 + F8 - C9 - D9), \"\"), \"\")","v":""},{"$f":"IFERROR(IF(EN8=\"\",\"\",IF(VALUE(E7+F7)<VALUE(C8+D8),C8+D8-E7-F7,\"\")),\"\")","v":""},{"$f":" TRIM(EN8)","v":""},{"$f":" IF(AND(N8 = \"Buy\", H8 = \"Win\"), 1, 0)","v":0},{"$f":" IF(AND(N8 = \"Sell\", H8 = \"Win\"), 1, 0)","v":0},{"$f":" IF(AND(N8 = \"Buy\", H8 = \"Loss\"), 1, 0)","v":0},{"$f":" IF(AND(N8 = \"Sell\", H8 = \"Loss\"), 1, 0)","v":0},{"$f":" IF(AND(N8 = \"Buy\", H8 = \"BE\"), 1, 0)","v":0},{"$f":" IF(AND(N8 = \"Sell\", H8 = \"BE\"), 1, 0)","v":0},{"$f":" IF(EN8 = \"\", 0, (E8 - DATE(YEAR(E8),1,0)) & YEAR(E8)&\"\")","v":0},{"$f":"IFERROR( IF(SUM(INDIRECT(\"O\"&(MATCH(U8,U:U,0))&\":T\"&DC8)) = 0, \"\", IF(ROW(U8) = FLOOR((MATCH(U8, U:U, 0) +DC8)/2,1),SUM(INDIRECT(\"O\"&(MATCH(U8,U:U,0))&\":T\"&DC8)),\"\")),\"\")","v":""},{"$f":" IFERROR(IF(EN8 = \"\", \"\", IF(ROW(U8) = FLOOR((MATCH(U8, U:U, 0) + DC8)/2,1),SUM(INDIRECT(\"BT\"&(MATCH(U8,U:U,0))&\":BT\"&DC8)),\"\")),\"\")","v":""},{"$f":"  IFERROR(IF(W8 = \"\",\"\",W8/(Y8-W8)),\"\")","v":""},{"$f":" IFERROR(IF(ROW(U8) = FLOOR((MATCH(U8, U:U, 0) + DC8)/2,1),INDIRECT(\"BU\"&DC8),\"\"),\"\")","v":""},{"$f":"  IF(V8= 0,\"\",X8)","v":""},{"$f":"IF(Z8=\"\",\"\",Z8+1)","v":""},{"$f":" IF(EN8 = \"\", 0, WEEKNUM(E8) & YEAR(E8) & \"\")","v":0},{"$f":" IFERROR(IF(SUM(INDIRECT(\"O\"&(MATCH(AB8,AB:AB,0))&\":T\"&DD8)) = 0, \"\", IF(ROW(AB8) = FLOOR((MATCH(AB8, AB:AB, 0) + DD8)/2,1),SUM(INDIRECT(\"O\"&(MATCH(AB8,AB:AB,0))&\":T\"&DD8)),\"\")),\"\")","v":""},{"$f":" IFERROR(IF(EN8 = \"\", \"\", IF(ROW(AB8) = FLOOR((MATCH(AB8, AB:AB, 0) +DD8)/2,1),SUM(INDIRECT(\"BT\"&(MATCH(AB8,AB:AB,0))&\":BT\"&DD8)),\"\")),\"\")","v":""},{"$f":" IFERROR( IF(AD8 = \"\",\"\",AD8/(AF8-AD8)),\"\")","v":""},{"$f":" IFERROR(IF(ROW(AB8) = FLOOR((MATCH(AB8, AB:AB, 0) + DD8)/2,1),INDIRECT(\"BU\"&DD8),\"\"),\"\")","v":""},{"$f":"  IF(AC8= 0,\"\",AE8)","v":""},{"$f":"IF(AG8=\"\",\"\",AG8+1)","v":""},{"$f":" IF(EN8 = \"\", 0, MONTH(E8)&YEAR(E8)&\"\")","v":0},{"$f":"IFERROR( IF(SUM(INDIRECT(\"O\"&(MATCH(AI8,AI:AI,0))&\":T\"&DE8)) = 0, \"\", IF(ROW(AI8) = FLOOR((MATCH(AI8, AI:AI, 0) + DE8)/2,1),SUM(INDIRECT(\"O\"&(MATCH(AI8,AI:AI,0))&\":T\"&DE8)),\"\")),\"\")","v":""},{"$f":" IFERROR(IF(EN8 = \"\", \"\", IF(ROW(AI8) = FLOOR((MATCH(AI8, AI:AI, 0) + DE8)/2,1),SUM(INDIRECT(\"BT\"&(MATCH(AI8,AI:AI,0))&\":BT\"&DE8)),\"\")),\"\")","v":""},{"$f":" IFERROR( IF(AK8 = \"\",\"\",AK8/(AM8-AK8)),\"\")","v":""},{"$f":" IFERROR(IF(ROW(AI8) = FLOOR((MATCH(AI8, AI:AI, 0) + DE8)/2,1),INDIRECT(\"BU\"&DE8),\"\"),\"\")","v":""},{"$f":"  IF(AJ8= 0,\"\",AL8)","v":""},{"$f":"IF(AN8=\"\",\"\",AN8+1)","v":""},{"$f":" IF(EN8 = \"\", 0, YEAR(E8)&\"\")","v":0},{"$f":" IFERROR(IF(SUM(INDIRECT(\"O\"&(MATCH(AP8,AP:AP,0))&\":T\"&ED8)) = 0, \"\", IF(ROW(AP8) = FLOOR((MATCH(AP8, AP:AP, 0) + ED8)/2,1),SUM(INDIRECT(\"O\"&(MATCH(AP8,AP:AP,0))&\":T\"&ED8)),\"\")), \"\")","v":""},{"$f":" IF(EN8 = \"\", \"\", IF(ROW(AP8) = FLOOR((MATCH(AP8, AP:AP, 0) + ED8)/2,1),SUM(INDIRECT(\"BT\"&(MATCH(AP8,AP:AP,0))&\":BT\"&ED8)),\"\"))","v":""},{"$f":" IFERROR( IF(AR8 = \"\",\"\",AR8/(AT8-AR8)),\"\")","v":""},{"$f":" IFERROR(IF(ROW(AP8) = FLOOR((MATCH(AP8, AP:AP, 0) + ED8)/2,1),INDIRECT(\"BU\"&ED8),\"\"), \"\")","v":""},{"$f":"  IF(AQ8= 0,\"\",AS8)","v":""},{"$f":"IF(AU8=\"\",\"\",AU8+1)","v":""},{"$f":" IF(BX8=\"\",0,IF(IF(BU8 = \"\",0,-1*((MIN(BU$5:$BU8)-BU8)))=0,0,IF(BU8 = \"\",0,-1*((MIN(BU$5:$BU8)-BU8)))))","v":0},{"$f":"  IF(BX8=\"\",0,IF(IF(BU8 = \"\",0,-1*((MIN(BU$5:$BU8)-BU8)))/MIN((BU$5:BU8))=0,0,IF(BU8 = \"\",0,-1*((MIN(BU$5:$BU8)-BU8)))/MIN((BU$5:BU8))))","v":0},{"$f":" IF(EN8 = \"\", \"\", IF(BD7 = BD8, AY7, AY7 + 1))","v":""},{"$f":" IF(EN8 = \"\", \"\", IF(BD7 = BD8, AZ7 + 1,1))","v":""},{"$f":" IF(AX8 = 0, \"\", IF( IF(ROW(AY8) = FLOOR((MATCH(AY8, AY:AY, 0) + MATCH(AY8, AY:AY))/2,1), INDIRECT(\"E\"&(MATCH(AY8,AY:AY))) + INDIRECT(\"F\"&(MATCH(AY8,AY:AY)))  - INDIRECT(\"E\"&(MATCH(AY8,AY:AY,0))) - INDIRECT(\"F\"&(MATCH(AY8,AY:AY,0))),\"\") = 0, \"\", IF(ROW(AY8) = FLOOR((MATCH(AY8, AY:AY, 0) + MATCH(AY8, AY:AY))/2,1), INDIRECT(\"E\"&(MATCH(AY8,AY:AY))) + INDIRECT(\"F\"&(MATCH(AY8,AY:AY)))  - INDIRECT(\"E\"&(MATCH(AY8,AY:AY,0))) - INDIRECT(\"F\"&(MATCH(AY8,AY:AY,0))),\"\")))","v":""},{"$f":" IF(EN7 = \"\", \"\", IF(IF(ROW(AY8) = FLOOR((MATCH(AY8, AY:AY, 0) + MATCH(AY8, AY:AY))/2,1), MAX(INDIRECT(\"AW\"&(MATCH(AY8,AY:AY,0))&\":AW\"&MATCH(AY8,AY:AY))),\"\") = 0, \"\",  IF(ROW(AY8) = FLOOR((MATCH(AY8, AY:AY, 0) + MATCH(AY8, AY:AY))/2,1), MAX(INDIRECT(\"AW\"&(MATCH(AY8,AY:AY,0))&\":AW\"&MATCH(AY8,AY:AY))),\"\")))","v":""},{"$f":" IF(EN7 = \"\", \"\", IF(IF(ROW(AY8) = FLOOR((MATCH(AY8, AY:AY, 0) + MATCH(AY8, AY:AY))/2,1), MAX(INDIRECT(\"AX\"&(MATCH(AY8,AY:AY,0))&\":AX\"&MATCH(AY8,AY:AY))),\"\") = 0, \"\",  IF(ROW(AY8) = FLOOR((MATCH(AY8, AY:AY, 0) + MATCH(AY8, AY:AY))/2,1), MAX(INDIRECT(\"AX\"&(MATCH(AY8,AY:AY,0))&\":AX\"&MATCH(AY8,AY:AY))),\"\")))","v":""},{"$f":" MIN(BU7, BD7)","v":0},{"$f":" IF(BX8=\"\",0,IF(IF(BU8 = \"\",0,(-1*(MAX(BU$5:$BU8)-BU8)))=0,0,IF(BU8 = \"\",0,(-1*(MAX(BU$5:$BU8)-BU8)))))","v":0},{"$f":" IF(BX8=\"\",0,IF(IF(BU8=\"\",0,(-1*(MAX(BU$5:$BU8)-BU8)))/MAX($BU$5:BU8) = 0,0,IF(BU8=\"\",0,(-1*(MAX(BU$5:$BU8)-BU8)))/MAX($BU$5:BU8)))","v":0},{"$f":" IF(EN8 = \"\", \"\", IF(BL7 = BL8, BG7, BG7 + 1))","v":""},{"$f":" IF(EN8 = \"\", \"\", IF(BL7 = BL8, BH7 + 1,1))","v":""},{"$f":" IF(BF8 = 0, \"\", IF( IF(ROW(BG8) = FLOOR((MATCH(BG8, BG:BG, 0) + MATCH(BG8, BG:BG))/2,1), INDIRECT(\"E\"&(MATCH(BG8,BG:BG))) + INDIRECT(\"F\"&(MATCH(BG8,BG:BG)))  - INDIRECT(\"E\"&(MATCH(BG8,BG:BG,0))) - INDIRECT(\"F\"&(MATCH(BG8,BG:BG,0))),\"\") = 0, \"\", IF(ROW(BG8) = FLOOR((MATCH(BG8,BG:BG,0) + MATCH(BG8, BG:BG))/2,1), INDIRECT(\"E\"&(MATCH(BG8,BG:BG))) + INDIRECT(\"F\"&(MATCH(BG8,BG:BG)))  - INDIRECT(\"E\"&(MATCH(BG8,BG:BG,0))) - INDIRECT(\"F\"&(MATCH(BG8,BG:BG,0))),\"\")))","v":""},{"$f":" IF(EN7 = \"\", \"\",  IF(IF(ROW(BG8) = FLOOR((MATCH(BG8, BG:BG, 0) + MATCH(BG8, BG:BG))/2,1), MIN(INDIRECT(\"BE\"&(MATCH(BG8,BG:BG,0))&\":BE\"&MATCH(BG8,BG:BG))),\"\") = 0, \"\", IF(ROW(BG8) = FLOOR((MATCH(BG8, BG:BG, 0) + MATCH(BG8, BG:BG))/2,1), MIN(INDIRECT(\"BE\"&(MATCH(BG8,BG:BG,0))&\":BE\"&MATCH(BG8,BG:BG))),\"\")))","v":""},{"$f":" IF(EN7 = \"\", \"\",  IF(IF(ROW(BG8) = FLOOR((MATCH(BG8, BG:BG, 0) + MATCH(BG8, BG:BG))/2,1), MIN(INDIRECT(\"BF\"&(MATCH(BG8,BG:BG,0))&\":BF\"&MATCH(BG8,BG:BG))),\"\") = 0, \"\", IF(ROW(BG8) = FLOOR((MATCH(BG8, BG:BG, 0) + MATCH(BG8, BG:BG))/2,1), MIN(INDIRECT(\"BF\"&(MATCH(BG8,BG:BG,0))&\":BF\"&MATCH(BG8,BG:BG))),\"\")))","v":""},{"$f":" MAX(BU7, BL7)","v":0},{"$f":"IF(H8=\"\",\"\",IF(H8=\"Win\",IF(BN8=1,BN8 & \" \" & \"Win\",BN8 & \" \" & \"Wins\"),IF(H8=\"Loss\",IF(BN8=1,BN8 & \" \" & \"Loss\",BN8 & \" \" & \"Losses\"), IF(H8 = \"BE\",IF(BN8=1,BN8 & \" \" & \"BE\",BN8 & \" \" & \"BE's\")))))","v":""},{"$f":" IF(H7=\"\",\"\",IF(H7=H8, BN7+1,1))","v":""},{"$f":" IF(H8 = \"\", \"\", IF(H7 <> H8, (LOOKUP(9E+307,$BO$5:$BO7) + 1), \"\"))","v":""},{"$f":" IF(EN8 = \"\", \"\", IF(BN8 = 1, \"\",\"S\"))","v":""},{"$f":" IF(BP8 = \"\", \"\", IF(H8 = \"Win\",BN8,\"\"))","v":""},{"$f":" IF(BP8 = \"\", \"\", IF(H8 = \"Loss\",BN8,\"\"))","v":""},{"$f":" IF(BP8 = \"\", \"\", IF(H8 = \"BE\",BN8,\"\"))","v":""},{"$f":" IF(EN8 = \"\", \"\", DB8 +CZ8)","v":""},{"$f":" IF(EN8 = \"\", \"\", BU7 + BT8)","v":""},{"$f":" IF(BU8 = \"\",\"\", BV7 + 1)","v":""},{"$f":" IF(BU8 = \"\", \"\", $FN$13*BV8 + $FM$13)","v":""},{"$f":" IF(EN8 = \"\", \"\", (BT8)/BU7)","v":""},{"$f":" IF(EN8 = \"\", \"\",'Overall Performance'!$C$22)","v":""},{"$f":" IF(EN8 = \"\", \"\", IF(BX8=0,\"\",BX8 + 1))","v":""},{"$f":" IF(H8 = \"Win\", BZ8, \"\")","v":""},{"$f":" IF(H8 = \"Loss\", BZ8, \"\")","v":""},{"$f":"IFERROR(INDEX($Y:$Y,SMALL(IF($Y:$Y<>\"\",ROW($Y:$Y)),ROW(3:3))),\"\")","v":""},null,{"$f":" IF(Z8 = \"\", \"\", IF(Z8>0, 0, CH8))","v":""},{"$f":" IF(Z8 = \"\", \"\", IF(Z8>0, 0, W8))","v":""},{"$f":" IF(Z8 = \"\", \"\", Z8 - $FJ$10 + 1)","v":""},{"$f":" IF(Z8 = \"\", \"\", Z8 - $FJ$10)","v":""},{"$f":" IF(AN8 = \"\", \"\", IF(AN8 > 0, 0, CL8))","v":""},{"$f":" IF(AN8 = \"\", \"\", IF(AN8 > 0, 0, AK8))","v":""},{"$f":"IF(AN8=\"\", \"\",AN8-$FJ$14 + 1)","v":""},{"$f":"IF(AN8=\"\", \"\",AN8-$FJ$14)","v":""},{"$f":" IF(EN8 = \"\",\"\",(ES8 - EQ8)/(EQ8 - ER8))","v":""},{"$f":" IF(EN8=\"\",\"\", DA8*ABS((ET8-EQ8)/(EQ8-ER8)))","v":""},{"$f":" IF(CN8 > 0, CN8, \"\")","v":""},{"$f":" IF(CN8 < 0, CN8, \"\")","v":""},{"$f":" IF(EN8 = \"\", \"\", IF(OR(BX8 > AVERAGE(BX:BX) + 3*_xlfn.STDEV.P(BX:BX), BX8 < AVERAGE(BX:BX) - 3*_xlfn.STDEV.P(BX:BX)), BX8, 0))","v":""},{"$f":" IF(EN8= \"\", \"\", SUM(INDIRECT(\"BT\"&(MATCH(U8,U:U,0))&\":BT\"&DC8)))","v":""},{"$f":" IF(EN8= \"\", \"\", SUM(INDIRECT(\"ET\"&(MATCH(U8,U:U,0))&\":ET\"&DC8)))","v":""},{"$f":" IF(EN8= \"\", \"\", (INDIRECT(\"BU\"&DC8)))","v":""},{"$f":" IF(EN8= \"\", \"\", SUM(INDIRECT(\"O\"&(MATCH(U8,U:U,0))&\":T\"&DC8)))","v":""},{"$f":"IF(EN8=\"\",\"\",IF(LEN(RIGHT(EQ8,LEN(EQ8)-FIND(\".\",EQ8)))=2,((-1*ABS(EU8-EQ8))*100),IF(LEN(RIGHT(EQ8,LEN(EQ8)-FIND(\".\",EQ8)))=4,((-1*ABS(EU8-EQ8))*10000),IF(LEN(RIGHT(EQ8,LEN(EQ8)-FIND(\".\",EQ8)))=3,((-1*ABS(EU8-EQ8))*100),IF(LEN(RIGHT(EQ8,LEN(EQ8)-FIND(\".\",EQ8)))=5,((-1*ABS(EU8-EQ8))*10000))))))","v":""},{"$f":" IF(EN8 = \"\", \"\", (((EU8-EQ8)/(ET8-EQ8))*CZ8) + DB8)","v":""},{"$f":"IF(EN8=\"\",\"\",IF(LEN(RIGHT(EQ8,LEN(EQ8)-FIND(\".\",EQ8)))=2,((ABS(EV8-EQ8))*100),IF(LEN(RIGHT(EQ8,LEN(EQ8)-FIND(\".\",EQ8)))=4,((ABS(EV8-EQ8))*10000),IF(LEN(RIGHT(EQ8,LEN(EQ8)-FIND(\".\",EQ8)))=3,((ABS(EV8-EQ8))*100),IF(LEN(RIGHT(EQ8,LEN(EQ8)-FIND(\".\",EQ8)))=5,((ABS(EV8-EQ8))*10000))))))","v":""},{"$f":" IF(EN8 = \"\", \"\", (((EV8-EQ8)/(ET8-EQ8))*CZ8) + DB8)","v":""},{"$f":" IF(EN8 = \"\", \"\", EL8)","v":""},{"$f":" IF(EN8 = \"\", \"\", IF(EN8 = \"Buy\", IF(EQ8 > ET8, -1, 1), IF(EQ8 > ET8, 1, -1)))","v":""},{"$f":"IF(EN8=\"\", \"\",EZ8+FA8)","v":""},{"$f":" IF(EN8 = \"\", \"\", LOOKUP(2,1/(U:U = U8), ROW(U:U)))","v":""},{"$f":" IF(EN8 = \"\", \"\", LOOKUP(2,1/(AB:AB = AB8), ROW(AB:AB)))","v":""},{"$f":" IF(EN8 = \"\", \"\", LOOKUP(2,1/(AI:AI = AI8), ROW(AI:AI)))","v":""},null,null,{"$f":" IF(CO8 = \"\", \"\", CO8*EY8)","v":""},{"$f":" IF(CP8 = \"\", \"\", CP8*EY8)","v":""},{"$f":" IF(EN8 = \"\", \"\",BF8)","v":""},{"$f":" DJ8","v":""},{"$f":" IF(EL9 = \"\", \"\", DL7 + 1)","v":""},{"$f":" IF(EN8 <> \"\", K8*24,#N/A)","v":{"$error":"#N/A"}},{"$f":" IF(EN8 <> \"\", CW8,#N/A)","v":{"$error":"#N/A"}},{"$f":" IF(EN8 <> \"\", CY8,#N/A)","v":{"$error":"#N/A"}},{"$f":" IF(EN8 <> \"\", CM8,#N/A)","v":{"$error":"#N/A"}},{"$f":" IF(EN8 <> \"\", CN8,#N/A)","v":{"$error":"#N/A"}},{"$f":" IF(CN8 > 0, CM8, -1)","v":""},{"$f":" IF(CN8 > 0, CM8, \"\")","v":""},{"$f":" IF(CN8 < 0, CM8, \"\")","v":""},{"$f":" IF(AQ8 = \"\",\"\",LOOKUP(9E+307,$DU$5:$DU7) + 1)","v":""},{"$f":" IF(EN8 = \"\", \"\", (CZ8)/BU7)","v":""},{"$f":" IF(EN8 = \"\", \"\", WEEKDAY(C8,1))","v":""},{"$f":" IF(EN8=\"\", \"\", MONTH(C8))","v":""},{"$f":" IF(EN8 = \"\", \"\", YEAR(E8))","v":""},{"$f":" IF(EB8 = \"\", \"\", MAX(((EA8-EB8)/EA8), ((EB8-EC8)/EB8)))","v":""},{"$f":" IF(EB8=\"\", \"\", MAX($EB$6:EB8))","v":""},{"$f":" AM8","v":""},{"$f":" IF(EB8=\"\",\"\", MIN(EB8:$EB$1048576))","v":""},{"$f":" IF(EN8 = \"\", \"\", LOOKUP(2,1/(AP:AP = AP8), ROW(AP:AP)))","v":""},{"$f":" IFERROR(_xlfn.IFS(FE8 = \"1-Minute\", 1, FE8 = \"5-Minute\", 2, FE8 = \"15-Minute\", 3, FE8 = \"30-Minute\", 4, FE8 = \"1-Hour\", 5, FE8 = \"4-Hour\", 6, FE8 = \"Daily\", 7, FE8 = \"Weekly\", 8, FE8 = \"Monthly\", 9), \"\")","v":""},{"$f":" IFERROR(_xlfn.IFS(FF8 = \"Very Low\", 1, FF8 = \"Low\", 2, FF8 = \"Medium\", 3, FF8 = \"High\", 4, FF8 = \"Very High\", 5),\"\")","v":""},null,{"$f":" TEXT(CM8, \"#,###0.000\") & \" : 1\"","v":" : 1"},{"$f":" IF(EN8 = \"\", \"\", IF(N8 = \"Buy\", (ET8-EQ8)/(EV8-EU8), (EQ8-ET8)/(EU8-EV8)))","v":""},{"$f":"IF(EN8=\"\",\"\",IF(N8 = \"Buy\", (EV8 - EQ8)/(EV8-EU8), (EQ8-EV8)/(EU8-EV8)))","v":""},{"$f":"IF(EN8=\"\",\"\",IF(N8 = \"Buy\", (ET8-EU8)/(EV8-EU8), (EU8-ET8)/(EU8-EV8)))","v":""},null,null,null,null,null,null,null,null,null,null,null,{"$f":" IF(EQ8=\"\",\"\",IF(LEN(RIGHT(EQ8,LEN(EQ8)-FIND(\".\",EQ8)))=2,((IF(EN8 = \"Buy\", IF(DF8 = EQ8, IF(DG8 = ET8, 0, ET8 - DG8),IF(DG8 = ET8, DF8-EQ8, (DF8 - EQ8) + (ET8 - DG8))), IF(DF8 = EQ8, IF(DG8 = ET8, 0, DG8-ET8),IF(DG8 = ET8, EQ8-DF8, (EQ8-DF8) + (DG8-ET8)))))*100),IF(LEN(RIGHT(EQ8,LEN(EQ8)-FIND(\".\",EQ8)))=4,((IF(EN8 = \"Buy\", IF(DF8 = EQ8, IF(DG8 = ET8, 0, ET8 - DG8),IF(DG8 = ET8, DF8-EQ8, (DF8 - EQ8) + (ET8 - DG8))), IF(DF8 = EQ8, IF(DG8 = ET8, 0, DG8-ET8),IF(DG8 = ET8, EQ8-DF8, (EQ8-DF8) + (DG8-ET8)))))*10000),IF(LEN(RIGHT(EQ8,LEN(EQ8)-FIND(\".\",EQ8)))=3,((IF(EN8 = \"Buy\", IF(DF8 = EQ8, IF(DG8 = ET8, 0, ET8 - DG8),IF(DG8 = ET8, DF8-EQ8, (DF8 - EQ8) + (ET8 - DG8))), IF(DF8 = EQ8, IF(DG8 = ET8, 0, DG8-ET8),IF(DG8 = ET8, EQ8-DF8, (EQ8-DF8) + (DG8-ET8)))))*100),IF(LEN(RIGHT(EQ8,LEN(EQ8)-FIND(\".\",EQ8)))=5,((IF(EN8 = \"Buy\", IF(DF8 = EQ8, IF(DG8 = ET8, 0, ET8 - DG8),IF(DG8 = ET8, DF8-EQ8, (DF8 - EQ8) + (ET8 - DG8))), IF(DF8 = EQ8, IF(DG8 = ET8, 0, DG8-ET8),IF(DG8 = ET8, EQ8-DF8, (EQ8-DF8) + (DG8-ET8)))))*10000))))))","v":""},{"$f":"IF(EN8=\"\",\"\",IF(LEN(RIGHT(EQ8,LEN(EQ8)-FIND(\".\",EQ8)))=2,((DA8*ABS(ET8-EQ8))*100),IF(LEN(RIGHT(EQ8,LEN(EQ8)-FIND(\".\",EQ8)))=4,((DA8*ABS(ET8-EQ8))*10000),IF(LEN(RIGHT(EQ8,LEN(EQ8)-FIND(\".\",EQ8)))=3,((DA8*ABS(ET8-EQ8))*100),IF(LEN(RIGHT(EQ8,LEN(EQ8)-FIND(\".\",EQ8)))=5,((DA8*ABS(ET8-EQ8))*10000))))))","v":""},{"$f":"IF(EN8=\"\",\"\",ABS(DV8/ABS(CN8)))","v":""},null,null,null,null,null,null,null,null,null,null,{"$f":" SUMIF(H:H, \"BE\",K:K)/(SUM(S:S) + SUM(T:T))","v":{"$error":"#DIV/0!"}},{"$f":"  IF(IFERROR(LARGE(BB:BB, 3),\"\") = 0, \"\",  IFERROR(LARGE(BB:BB, 3),\"\"))","v":""},{"$f":" IF( IFERROR(SMALL(BJ:BJ, 3),\"\")=0, \"\", IFERROR(SMALL(BJ:BJ, 3),\"\"))","v":""}]
[null,{"$f":" B8+ 1","v":4},null,null,null,null,{"$f":" IF(EN9 = \"\", \"\", INT(K9)&\" d,\"&\" \"&HOUR(K9)&\" h,\"&\" \"&MINUTE(K9)&\" m,\"&\" \"&SECOND(K9)&\" s\")","v":""},{"$f":" IF(EN9 = \"\",\"\",IF(CZ9 +DB9 = 0, \"BE\", IF(CZ9 > 0, \"Win\",\"Loss\")))","v":""},{"$f":" IF(EN9=\"\", \"\",VALUE(C9 + D9))","v":""},{"$f":" IF(EN9 = \"\", \"\", VALUE(E9 + F9))","v":""},{"$f":"IF(EN9=\"\",\"\",IF(C9=\"\",0,IF(D9=\"\",0,(E9+F9-D9-C9))))","v":""},{"$f":" IFERROR(IF(VALUE(E9&F9) > VALUE(C10&D10), IF(VALUE(C10+D10) < VALUE(C11 + D11), E9 + F9 - C10 - D10 - (C9 + D9 - C10 - D10),E9 + F9 - C10 - D10), \"\"), \"\")","v":""},{"$f":"IFERROR(IF(EN9=\"\",\"\",IF(VALUE(E8+F8)<VALUE(C9+D9),C9+D9-E8-F8,\"\")),\"\")","v":""},{"$f":" TRIM(EN9)","v":""},{"$f":" IF(AND(N9 = \"Buy\", H9 = \"Win\"), 1, 0)","v":0},{"$f":" IF(AND(N9 = \"Sell\", H9 = \"Win\"), 1, 0)","v":0},{"$f":" IF(AND(N9 = \"Buy\", H9 = \"Loss\"), 1, 0)","v":0},{"$f":" IF(AND(N9 = \"Sell\", H9 = \"Loss\"), 1, 0)","v":0},{"$f":" IF(AND(N9 = \"Buy\", H9 = \"BE\"), 1, 0)","v":0},{"$f":" IF(AND(N9 = \"Sell\", H9 = \"BE\"), 1, 0)","v":0},{"$f":" IF(EN9 = \"\", 0, (E9 - DATE(YEAR(E9),1,0)) & YEAR(E9)&\"\")","v":0},{"$f":"IFERROR( IF(SUM(INDIRECT(\"O\"&(MATCH(U9,U:U,0))&\":T\"&DC9)) = 0, \"\", IF(ROW(U9) = FLOOR((MATCH(U9, U:U, 0) +DC9)/2,1),SUM(INDIRECT(\"O\"&(MATCH(U9,U:U,0))&\":T\"&DC9)),\"\")),\"\")","v":""},{"$f":" IFERROR(IF(EN9 = \"\", \"\", IF(ROW(U9) = FLOOR((MATCH(U9, U:U, 0) + DC9)/2,1),SUM(INDIRECT(\"BT\"&(MATCH(U9,U:U,0))&\":BT\"&DC9)),\"\")),\"\")","v":""},{"$f":"  IFERROR(IF(W9 = \"\",\"\",W9/(Y9-W9)),\"\")","v":""},{"$f":" IFERROR(IF(ROW(U9) = FLOOR((MATCH(U9, U:U, 0) + DC9)/2,1),INDIRECT(\"BU\"&DC9),\"\"),\"\")","v":""},{"$f":"  IF(V9= 0,\"\",X9)","v":""},{"$f":"IF(Z9=\"\",\"\",Z9+1)","v":""},{"$f":" IF(EN9 = \"\", 0, WEEKNUM(E9) & YEAR(E9) & \"\")","v":0},{"$f":" IFERROR(IF(SUM(INDIRECT(\"O\"&(MATCH(AB9,AB:AB,0))&\":T\"&DD9)) = 0, \"\", IF(ROW(AB9) = FLOOR((MATCH(AB9, AB:AB, 0) + DD9)/2,1),SUM(INDIRECT(\"O\"&(MATCH(AB9,AB:AB,0))&\":T\"&DD9)),\"\")),\"\")","v":""},{"$f":" IFERROR(IF(EN9 = \"\", \"\", IF(ROW(AB9) = FLOOR((MATCH(AB9, AB:AB, 0) +DD9)/2,1),SUM(INDIRECT(\"BT\"&(MATCH(AB9,AB:AB,0))&\":BT\"&DD9)),\"\")),\"\")","v":""},{"$f":" IFERROR( IF(AD9 = \"\",\"\",AD9/(AF9-AD9)),\"\")","v":""},{"$f":" IFERROR(IF(ROW(AB9) = FLOOR((MATCH(AB9, AB:AB, 0) + DD9)/2,1),INDIRECT(\"BU\"&DD9),\"\"),\"\")","v":""},{"$f":"  IF(AC9= 0,\"\",AE9)","v":""},{"$f":"IF(AG9=\"\",\"\",AG9+1)","v":""},{"$f":" IF(EN9 = \"\", 0, MONTH(E9)&YEAR(E9)&\"\")","v":0},{"$f":"IFERROR( IF(SUM(INDIRECT(\"O\"&(MATCH(AI9,AI:AI,0))&\":T\"&DE9)) = 0, \"\", IF(ROW(AI9) = FLOOR((MATCH(AI9, AI:AI, 0) + DE9)/2,1),SUM(INDIRECT(\"O\"&(MATCH(AI9,AI:AI,0))&\":T\"&DE9)),\"\")),\"\")","v":""},{"$f":" IFERROR(IF(EN9 = \"\", \"\", IF(ROW(AI9) = FLOOR((MATCH(AI9, AI:AI, 0) + DE9)/2,1),SUM(INDIRECT(\"BT\"&(MATCH(AI9,AI:AI,0))&\":BT\"&DE9)),\"\")),\"\")","v":""},{"$f":" IFERROR( IF(AK9 = \"\",\"\",AK9/(AM9-AK9)),\"\")","v":""},{"$f":" IFERROR(IF(ROW(AI9) = FLOOR((MATCH(AI9, AI:AI, 0) + DE9)/2,1),INDIRECT(\"BU\"&DE9),\"\"),\"\")","v":""},{"$f":"  IF(AJ9= 0,\"\",AL9)","v":""},{"$f":"IF(AN9=\"\",\"\",AN9+1)","v":""},{"$f":" IF(EN9 = \"\", 0, YEAR(E9)&\"\")","v":0},{"$f":" IFERROR(IF(SUM(INDIRECT(\"O\"&(MATCH(AP9,AP:AP,0))&\":T\"&ED9)) = 0, \"\", IF(ROW(AP9) = FLOOR((MATCH(AP9, AP:AP, 0) + ED9)/2,1),SUM(INDIRECT(\"O\"&(MATCH(AP9,AP:AP,0))&\":T\"&ED9)),\"\")), \"\")","v":""},{"$f":" IF(EN9 = \"\", \"\", IF(ROW(AP9) = FLOOR((MATCH(AP9, AP:AP, 0) + ED9)/2,1),SUM(INDIRECT(\"BT\"&(MATCH(AP9,AP:AP,0))&\":BT\"&ED9)),\"\"))","v":""},{"$f":" IFERROR( IF(AR9 = \"\",\"\",AR9/(AT9-AR9)),\"\")","v":""},{"$f":" IFERROR(IF(ROW(AP9) = FLOOR((MATCH(AP9, AP:AP, 0) + ED9)/2,1),INDIRECT(\"BU\"&ED9),\"\"), \"\")","v":""},{"$f":"  IF(AQ9= 0,\"\",AS9)","v":""},{"$f":"IF(AU9=\"\",\"\",AU9+1)","v":""},{"$f":" IF(BX9=\"\",0,IF(IF(BU9 = \"\",0,-1*((MIN(BU$5:$BU9)-BU9)))=0,0,IF(BU9 = \"\",0,-1*((MIN(BU$5:$BU9)-BU9)))))","v":0},{"$f":"  IF(BX9=\"\",0,IF(IF(BU9 = \"\",0,-1*((MIN(BU$5:$BU9)-BU9)))/MIN((BU$5:BU9))=0,0,IF(BU9 = \"\",0,-1*((MIN(BU$5:$BU9)-BU9)))/MIN((BU$5:BU9))))","v":0},{"$f":" IF(EN9 = \"\", \"\", IF(BD8 = BD9, AY8, AY8 + 1))","v":""},{"$f":" IF(EN9 = \"\", \"\", IF(BD8 = BD9, AZ8 + 1,1))","v":""},{"$f":" IF(AX9 = 0, \"\", IF( IF(ROW(AY9) = FLOOR((MATCH(AY9, AY:AY, 0) + MATCH(AY9, AY:AY))/2,1), INDIRECT(\"E\"&(MATCH(AY9,AY:AY))) + INDIRECT(\"F\"&(MATCH(AY9,AY:AY)))  - INDIRECT(\"E\"&(MATCH(AY9,AY:AY,0))) - INDIRECT(\"F\"&(MATCH(AY9,AY:AY,0))),\"\") = 0, \"\", IF(ROW(AY9) = FLOOR((MATCH(AY9, AY:AY, 0) + MATCH(AY9, AY:AY))/2,1), INDIRECT(\"E\"&(MATCH(AY9,AY:AY))) + INDIRECT(\"F\"&(MATCH(AY9,AY:AY)))  - INDIRECT(\"E\"&(MATCH(AY9,AY:AY,0))) - INDIRECT(\"F\"&(MATCH(AY9,AY:AY,0))),\"\")))","v":""},{"$f":" IF(EN8 = \"\", \"\", IF(IF(ROW(AY9) = FLOOR((MATCH(AY9, AY:AY, 0) + MATCH(AY9, AY:AY))/2,1), MAX(INDIRECT(\"AW\"&(MATCH(AY9,AY:AY,0))&\":AW\"&MATCH(AY9,AY:AY))),\"\") = 0, \"\",  IF(ROW(AY9) = FLOOR((MATCH(AY9, AY:AY, 0) + MATCH(AY9, AY:AY))/2,1), MAX(INDIRECT(\"AW\"&(MATCH(AY9,AY:AY,0))&\":AW\"&MATCH(AY9,AY:AY))),\"\")))","v":""},{"$f":" IF(EN8 = \"\", \"\", IF(IF(ROW(AY9) = FLOOR((MATCH(AY9, AY:AY, 0) + MATCH(AY9, AY:AY))/2,1), MAX(INDIRECT(\"AX\"&(MATCH(AY9,AY:AY,0))&\":AX\"&MATCH(AY9,AY:AY))),\"\") = 0, \"\",  IF(ROW(AY9) = FLOOR((MATCH(AY9, AY:AY, 0) + MATCH(AY9, AY:AY))/2,1), MAX(INDIRECT(\"AX\"&(MATCH(AY9,AY:AY,0))&\":AX\"&MATCH(AY9,AY:AY))),\"\")))","v":""},{"$f":" MIN(BU8, BD8)","v":0},{"$f":" IF(BX9=\"\",0,IF(IF(BU9 = \"\",0,(-1*(MAX(BU$5:$BU9)-BU9)))=0,0,IF(BU9 = \"\",0,(-1*(MAX(BU$5:$BU9)-BU9)))))","v":0},{"$f":" IF(BX9=\"\",0,IF(IF(BU9=\"\",0,(-1*(MAX(BU$5:$BU9)-BU9)))/MAX($BU$5:BU9) = 0,0,IF(BU9=\"\",0,(-1*(MAX(BU$5:$BU9)-BU9)))/MAX($BU$5:BU9)))","v":0},{"$f":" IF(EN9 = \"\", \"\", IF(BL8 = BL9, BG8, BG8 + 1))","v":""},{"$f":" IF(EN9 = \"\", \"\", IF(BL8 = BL9, BH8 + 1,1))","v":""},{"$f":" IF(BF9 = 0, \"\", IF( IF(ROW(BG9) = FLOOR((MATCH(BG9, BG:BG, 0) + MATCH(BG9, BG:BG))/2,1), INDIRECT(\"E\"&(MATCH(BG9,BG:BG))) + INDIRECT(\"F\"&(MATCH(BG9,BG:BG)))  - INDIRECT(\"E\"&(MATCH(BG9,BG:BG,0))) - INDIRECT(\"F\"&(MATCH(BG9,BG:BG,0))),\"\") = 0, \"\", IF(ROW(BG9) = FLOOR((MATCH(BG9,BG:BG,0) + MATCH(BG9, BG:BG))/2,1), INDIRECT(\"E\"&(MATCH(BG9,BG:BG))) + INDIRECT(\"F\"&(MATCH(BG9,BG:BG)))  - INDIRECT(\"E\"&(MATCH(BG9,BG:BG,0))) - INDIRECT(\"F\"&(MATCH(BG9,BG:BG,0))),\"\")))","v":""},{"$f":" IF(EN8 = \"\", \"\",  IF(IF(ROW(BG9) = FLOOR((MATCH(BG9, BG:BG, 0) + MATCH(BG9, BG:BG))/2,1), MIN(INDIRECT(\"BE\"&(MATCH(BG9,BG:BG,0))&\":BE\"&MATCH(BG9,BG:BG))),\"\") = 0, \"\", IF(ROW(BG9) = FLOOR((MATCH(BG9, BG:BG, 0) + MATCH(BG9, BG:BG))/2,1), MIN(INDIRECT(\"BE\"&(MATCH(BG9,BG:BG,0))&\":BE\"&MATCH(BG9,BG:BG))),\"\")))","v":""},{"$f":" IF(EN8 = \"\", \"\",  IF(IF(ROW(BG9) = FLOOR((MATCH(BG9, BG:BG, 0) + MATCH(BG9, BG:BG))/2,1), MIN(INDIRECT(\"BF\"&(MATCH(BG9,BG:BG,0))&\":BF\"&MATCH(BG9,BG:BG))),\"\") = 0, \"\", IF(ROW(BG9) = FLOOR((MATCH(BG9, BG:BG, 0) + MATCH(BG9, BG:BG))/2,1), MIN(INDIRECT(\"BF\"&(MATCH(BG9,BG:BG,0))&\":BF\"&MATCH(BG9,BG:BG))),\"\")))","v":""},{"$f":" MAX(BU8, BL8)","v":0},{"$f":"IF(H9=\"\",\"\",IF(H9=\"Win\",IF(BN9=1,BN9 & \" \" & \"Win\",BN9 & \" \" & \"Wins\"),IF(H9=\"Loss\",IF(BN9=1,BN9 & \" \" & \"Loss\",BN9 & \" \" & \"Losses\"), IF(H9 = \"BE\",IF(BN9=1,BN9 & \" \" & \"BE\",BN9 & \" \" & \"BE's\")))))","v":""},{"$f":" IF(H8=\"\",\"\",IF(H8=H9, BN8+1,1))","v":""},{"$f":" IF(H9 = \"\", \"\", IF(H8 <> H9, (LOOKUP(9E+307,$BO$5:$BO8) + 1), \"\"))","v":""},{"$f":" IF(EN8 = \"\", \"\", IF(BN9 = 1, \"\",IF(BN9<BN10, \"\", \"S\")))","v":""},{"$f":" IF(BP9 = \"\", \"\", IF(H9 = \"Win\",BN9,\"\"))","v":""},{"$f":" IF(BP9 = \"\", \"\", IF(H9 = \"Loss\",BN9,\"\"))","v":""},{"$f":" IF(BP9 = \"\", \"\", IF(H9 = \"BE\",BN9,\"\"))","v":""},{"$f":" IF(EN9 = \"\", \"\", DB9 +CZ9)","v":""},{"$f":" IF(EN9 = \"\", \"\", BU8 + BT9)","v":""},{"$f":" IF(BU9 = \"\",\"\", BV8 + 1)","v":""},{"$f":" IF(BU9 = \"\", \"\", $FN$13*BV9 + $FM$13)","v":""},{"$f":" IF(EN9 = \"\", \"\", (BT9)/BU8)","v":""},{"$f":" IF(EN9 = \"\", \"\",'Overall Performance'!$C$22)","v":""},{"$f":" IF(EN9 = \"\", \"\", IF(BX9=0,\"\",BX9 + 1))","v":""},{"$f":" IF(H9 = \"Win\", BZ9, \"\")","v":""},{"$f":" IF(H9 = \"Loss\", BZ9, \"\")","v":""},{"$f":"IFERROR(INDEX($Y:$Y,SMALL(IF($Y:$Y<>\"\",ROW($Y:$Y)),ROW(4:4))),\"\")","v":""},null,{"$f":" IF(Z9 = \"\", \"\", IF(Z9>0, 0, CH9))","v":""},{"$f":" IF(Z9 = \"\", \"\", IF(Z9>0, 0, W9))","v":""},{"$f":" IF(Z9 = \"\", \"\", Z9 - $FJ$10 + 1)","v":""},{"$f":" IF(Z9 = \"\", \"\", Z9 - $FJ$10)","v":""},{"$f":" IF(AN9 = \"\", \"\", IF(AN9 > 0, 0, CL9))","v":""},{"$f":" IF(AN9 = \"\", \"\", IF(AN9 > 0, 0, AK9))","v":""},{"$f":"IF(AN9=\"\", \"\",AN9-$FJ$14 + 1)","v":""},{"$f":"IF(AN9=\"\", \"\",AN9-$FJ$14)","v":""},{"$f":" IF(EN9 = \"\",\"\",(ES9 - EQ9)/(EQ9 - ER9))","v":""},{"$f":" IF(EN9=\"\",\"\", DA9*ABS((ET9-EQ9)/(EQ9-ER9)))","v":""},{"$f":" IF(CN9 > 0, CN9, \"\")","v":""},{"$f":" IF(CN9 < 0, CN9, \"\")","v":""},{"$f":" IF(EN9 = \"\", \"\", IF(OR(BX9 > AVERAGE(BX:BX) + 3*_xlfn.STDEV.P(BX:BX), BX9 < AVERAGE(BX:BX) - 3*_xlfn.STDEV.P(BX:BX)), BX9, 0))","v":""},{"$f":" IF(EN9= \"\", \"\", SUM(INDIRECT(\"BT\"&(MATCH(U9,U:U,0))&\":BT\"&DC9)))","v":""},{"$f":" IF(EN9= \"\", \"\", SUM(INDIRECT(\"ET\"&(MATCH(U9,U:U,0))&\":ET\"&DC9)))","v":""},{"$f":" IF(EN9= \"\", \"\", (INDIRECT(\"BU\"&DC9)))","v":""},{"$f":" IF(EN9= \"\", \"\", SUM(INDIRECT(\"O\"&(MATCH(U9,U:U,0))&\":T\"&DC9)))","v":""},{"$f":"IF(EN9=\"\",\"\",IF(LEN(RIGHT(EQ9,LEN(EQ9)-FIND(\".\",EQ9)))=2,((-1*ABS(EU9-EQ9))*100),IF(LEN(RIGHT(EQ9,LEN(EQ9)-FIND(\".\",EQ9)))=4,((-1*ABS(EU9-EQ9))*10000),IF(LEN(RIGHT(EQ9,LEN(EQ9)-FIND(\".\",EQ9)))=3,((-1*ABS(EU9-EQ9))*100),IF(LEN(RIGHT(EQ9,LEN(EQ9)-FIND(\".\",EQ9)))=5,((-1*ABS(EU9-EQ9))*10000))))))","v":""},{"$f":" IF(EN9 = \"\", \"\", (((EU9-EQ9)/(ET9-EQ9))*CZ9) + DB9)","v":""},{"$f":"IF(EN9=\"\",\"\",IF(LEN(RIGHT(EQ9,LEN(EQ9)-FIND(\".\",EQ9)))=2,((ABS(EV9-EQ9))*100),IF(LEN(RIGHT(EQ9,LEN(EQ9)-FIND(\".\",EQ9)))=4,((ABS(EV9-EQ9))*10000),IF(LEN(RIGHT(EQ9,LEN(EQ9)-FIND(\".\",EQ9)))=3,((ABS(EV9-EQ9))*100),IF(LEN(RIGHT(EQ9,LEN(EQ9)-FIND(\".\",EQ9)))=5,((ABS(EV9-EQ9))*10000))))))","v":""},{"$f":" IF(EN9 = \"\", \"\", (((EV9-EQ9)/(ET9-EQ9))*CZ9) + DB9)","v":""},{"$f":" IF(EN9 = \"\", \"\", EL9)","v":""},{"$f":" IF(EN9 = \"\", \"\", IF(EN9 = \"Buy\", IF(EQ9 > ET9, -1, 1), IF(EQ9 > ET9, 1, -1)))","v":""},{"$f":"IF(EN9=\"\", \"\",EZ9+FA9)","v":""},{"$f":" IF(EN9 = \"\", \"\", LOOKUP(2,1/(U:U = U9), ROW(U:U)))","v":""},{"$f":" IF(EN9 = \"\", \"\", LOOKUP(2,1/(AB:AB = AB9), ROW(AB:AB)))","v":""},{"$f":" IF(EN9 = \"\", \"\", LOOKUP(2,1/(AI:AI = AI9), ROW(AI:AI)))","v":""},null,null,{"$f":" IF(CO9 = \"\", \"\", CO9*EY9)","v":""},{"$f":" IF(CP9 = \"\", \"\", CP9*EY9)","v":""},{"$f":" IF(EN9 = \"\", \"\",BF9)","v":""},{"$f":" DJ9","v":""},{"$f":" IF(EL10 = \"\", \"\", DL8 + 1)","v":""},{"$f":" IF(EN9 <> \"\", K9*24,#N/A)","v":{"$error":"#N/A"}},{"$f":" IF(EN9 <> \"\", CW9,#N/A)","v":{"$error":"#N/A"}},{"$f":" IF(EN9 <> \"\", CY9,#N/A)","v":{"$error":"#N/A"}},{"$f":" IF(EN9 <> \"\", CM9,#N/A)","v":{"$error":"#N/A"}},{"$f":" IF(EN9 <> \"\", CN9,#N/A)","v":{"$error":"#N/A"}},{"$f":" IF(CN9 > 0, CM9, -1)","v":""},{"$f":" IF(CN9 > 0, CM9, \"\")","v":""},{"$f":" IF(CN9 < 0, CM9, \"\")","v":""},{"$f":" IF(AQ9 = \"\",\"\",LOOKUP(9E+307,$DU$5:$DU8) + 1)","v":""},{"$f":" IF(EN9 = \"\", \"\", (CZ9)/BU8)","v":""},{"$f":" IF(EN9 = \"\", \"\", WEEKDAY(C9,1))","v":""},{"$f":" IF(EN9=\"\", \"\", MONTH(C9))","v":""},{"$f":" IF(EN9 = \"\", \"\", YEAR(E9))","v":""},{"$f":" IF(EB9 = \"\", \"\", MAX(((EA9-EB9)/EA9), ((EB9-EC9)/EB9)))","v":""},{"$f":" IF(EB9=\"\", \"\", MAX($EB$6:EB9))","v":""},{"$f":" AM9","v":""},{"$f":" IF(EB9=\"\",\"\", MIN(EB9:$EB$1048576))","v":""},{"$f":" IF(EN9 = \"\", \"\", LOOKUP(2,1/(AP:AP = AP9), ROW(AP:AP)))","v":""},{"$f":" IFERROR(_xlfn.IFS(FE9 = \"1-Minute\", 1, FE9 = \"5-Minute\", 2, FE9 = \"15-Minute\", 3, FE9 = \"30-Minute\", 4, FE9 = \"1-Hour\", 5, FE9 = \"4-Hour\", 6, FE9 = \"Daily\", 7, FE9 = \"Weekly\", 8, FE9 = \"Monthly\", 9), \"\")","v":""},{"$f":" IFERROR(_xlfn.IFS(FF9 = \"Very Low\", 1, FF9 = \"Low\", 2, FF9 = \"Medium\", 3, FF9 = \"High\", 4, FF9 = \"Very High\", 5),\"\")","v":""},null,{"$f":" TEXT(CM9, \"#,###0.000\") & \" : 1\"","v":" : 1"},{"$f":" IF(EN9 = \"\", \"\", IF(N9 = \"Buy\", (ET9-EQ9)/(EV9-EU9), (EQ9-ET9)/(EU9-EV9)))","v":""},{"$f":"IF(EN9=\"\",\"\",IF(N9 = \"Buy\", (EV9 - EQ9)/(EV9-EU9), (EQ9-EV9)/(EU9-EV9)))","v":""},{"$f":"IF(EN9=\"\",\"\",IF(N9 = \"Buy\", (ET9-EU9)/(EV9-EU9), (EU9-ET9)/(EU9-EV9)))","v":""},null,null,null,null,null,null,null,null,null,null,null,{"$f":" IF(EQ9=\"\",\"\",IF(LEN(RIGHT(EQ9,LEN(EQ9)-FIND(\".\",EQ9)))=2,((IF(EN9 = \"Buy\", IF(DF9 = EQ9, IF(DG9 = ET9, 0, ET9 - DG9),IF(DG9 = ET9, DF9-EQ9, (DF9 - EQ9) + (ET9 - DG9))), IF(DF9 = EQ9, IF(DG9 = ET9, 0, DG9-ET9),IF(DG9 = ET9, EQ9-DF9, (EQ9-DF9) + (DG9-ET9)))))*100),IF(LEN(RIGHT(EQ9,LEN(EQ9)-FIND(\".\",EQ9)))=4,((IF(EN9 = \"Buy\", IF(DF9 = EQ9, IF(DG9 = ET9, 0, ET9 - DG9),IF(DG9 = ET9, DF9-EQ9, (DF9 - EQ9) + (ET9 - DG9))), IF(DF9 = EQ9, IF(DG9 = ET9, 0, DG9-ET9),IF(DG9 = ET9, EQ9-DF9, (EQ9-DF9) + (DG9-ET9)))))*10000),IF(LEN(RIGHT(EQ9,LEN(EQ9)-FIND(\".\",EQ9)))=3,((IF(EN9 = \"Buy\", IF(DF9 = EQ9, IF(DG9 = ET9, 0, ET9 - DG9),IF(DG9 = ET9, DF9-EQ9, (DF9 - EQ9) + (ET9 - DG9))), IF(DF9 = EQ9, IF(DG9 = ET9, 0, DG9-ET9),IF(DG9 = ET9, EQ9-DF9, (EQ9-DF9) + (DG9-ET9)))))*100),IF(LEN(RIGHT(EQ9,LEN(EQ9)-FIND(\".\",EQ9)))=5,((IF(EN9 = \"Buy\", IF(DF9 = EQ9, IF(DG9 = ET9, 0, ET9 - DG9),IF(DG9 = ET9, DF9-EQ9, (DF9 - EQ9) + (ET9 - DG9))), IF(DF9 = EQ9, IF(DG9 = ET9, 0, DG9-ET9),IF(DG9 = ET9, EQ9-DF9, (EQ9-DF9) + (DG9-ET9)))))*10000))))))","v":""},{"$f":"IF(EN9=\"\",\"\",IF(LEN(RIGHT(EQ9,LEN(EQ9)-FIND(\".\",EQ9)))=2,((DA9*ABS(ET9-EQ9))*100),IF(LEN(RIGHT(EQ9,LEN(EQ9)-FIND(\".\",EQ9)))=4,((DA9*ABS(ET9-EQ9))*10000),IF(LEN(RIGHT(EQ9,LEN(EQ9)-FIND(\".\",EQ9)))=3,((DA9*ABS(ET9-EQ9))*100),IF(LEN(RIGHT(EQ9,LEN(EQ9)-FIND(\".\",EQ9)))=5,((DA9*ABS(ET9-EQ9))*10000))))))","v":""},{"$f":"IF(EN9=\"\",\"\",ABS(DV9/ABS(CN9)))","v":""},null,null,null,null,null,null,null,null,null,null,null,{"$f":"  IF(IFERROR(LARGE(BB:BB, 4),\"\")=0, \"\", IFERROR(LARGE(BB:BB, 4),\"\"))","v":""},{"$f":" IF( IFERROR(SMALL(BJ:BJ, 4),\"\")=0, \"\",  IFERROR(SMALL(BJ:BJ, 4),\"\"))","v":""}]
[null,{"$f":" B9+ 1","v":5},null,null,null,null,{"$f":" IF(EN10 = \"\", \"\", INT(K10)&\" d,\"&\" \"&HOUR(K10)&\" h,\"&\" \"&MINUTE(K10)&\" m,\"&\" \"&SECOND(K10)&\" s\")","v":""},{"$f":" IF(EN10 = \"\",\"\",IF(CZ10 +DB10 = 0, \"BE\", IF(CZ10 > 0, \"Win\",\"Loss\")))","v":""},{"$f":" IF(EN10=\"\", \"\",VALUE(C10 + D10))","v":""},{"$f":" IF(EN10 = \"\", \"\", VALUE(E10 + F10))","v":""},{"$f":"IF(EN10=\"\",\"\",IF(C10=\"\",0,IF(D10=\"\",0,(E10+F10-D10-C10))))","v":""},{"$f":" IFERROR(IF(VALUE(E10&F10) > VALUE(C11&D11), IF(VALUE(C11+D11) < VALUE(C12 + D12), E10 + F10 - C11 - D11 - (C10 + D10 - C11 - D11),E10 + F10 - C11 - D11), \"\"), \"\")","v":""},{"$f":"IFERROR(IF(EN10=\"\",\"\",IF(VALUE(E9+F9)<VALUE(C10+D10),C10+D10-E9-F9,\"\")),\"\")","v":""},{"$f":" TRIM(EN10)","v":""},{"$f":" IF(AND(N10 = \"Buy\", H10 = \"Win\"), 1, 0)","v":0},{"$f":" IF(AND(N10 = \"Sell\", H10 = \"Win\"), 1, 0)","v":0},{"$f":" IF(AND(N10 = \"Buy\", H10 = \"Loss\"), 1, 0)","v":0},{"$f":" IF(AND(N10 = \"Sell\", H10 = \"Loss\"), 1, 0)","v":0},{"$f":" IF(AND(N10 = \"Buy\", H10 = \"BE\"), 1, 0)","v":0},{"$f":" IF(AND(N10 = \"Sell\", H10 = \"BE\"), 1, 0)","v":0},{"$f":" IF(EN10 = \"\", 0, (E10 - DATE(YEAR(E10),1,0)) & YEAR(E10)&\"\")","v":0},{"$f":"IFERROR( IF(SUM(INDIRECT(\"O\"&(MATCH(U10,U:U,0))&\":T\"&DC10)) = 0, \"\", IF(ROW(U10) = FLOOR((MATCH(U10, U:U, 0) +DC10)/2,1),SUM(INDIRECT(\"O\"&(MATCH(U10,U:U,0))&\":T\"&DC10)),\"\")),\"\")","v":""},{"$f":" IFERROR(IF(EN10 = \"\", \"\", IF(ROW(U10) = FLOOR((MATCH(U10, U:U, 0) + DC10)/2,1),SUM(INDIRECT(\"BT\"&(MATCH(U10,U:U,0))&\":BT\"&DC10)),\"\")),\"\")","v":""},{"$f":"  IFERROR(IF(W10 = \"\",\"\",W10/(Y10-W10)),\"\")","v":""},{"$f":" IFERROR(IF(ROW(U10) = FLOOR((MATCH(U10, U:U, 0) + DC10)/2,1),INDIRECT(\"BU\"&DC10),\"\"),\"\")","v":""},{"$f":"  IF(V10= 0,\"\",X10)","v":""},{"$f":"IF(Z10=\"\",\"\",Z10+1)","v":""},{"$f":" IF(EN10 = \"\", 0, WEEKNUM(E10) & YEAR(E10) & \"\")","v":0},{"$f":" IFERROR(IF(SUM(INDIRECT(\"O\"&(MATCH(AB10,AB:AB,0))&\":T\"&DD10)) = 0, \"\", IF(ROW(AB10) = FLOOR((MATCH(AB10, AB:AB, 0) + DD10)/2,1),SUM(INDIRECT(\"O\"&(MATCH(AB10,AB:AB,0))&\":T\"&DD10)),\"\")),\"\")","v":""},{"$f":" IFERROR(IF(EN10 = \"\", \"\", IF(ROW(AB10) = FLOOR((MATCH(AB10, AB:AB, 0) +DD10)/2,1),SUM(INDIRECT(\"BT\"&(MATCH(AB10,AB:AB,0))&\":BT\"&DD10)),\"\")),\"\")","v":""},{"$f":" IFERROR( IF(AD10 = \"\",\"\",AD10/(AF10-AD10)),\"\")","v":""},{"$f":" IFERROR(IF(ROW(AB10) = FLOOR((MATCH(AB10, AB:AB, 0) + DD10)/2,1),INDIRECT(\"BU\"&DD10),\"\"),\"\")","v":""},{"$f":"  IF(AC10= 0,\"\",AE10)","v":""},{"$f":"IF(AG10=\"\",\"\",AG10+1)","v":""},{"$f":" IF(EN10 = \"\", 0, MONTH(E10)&YEAR(E10)&\"\")","v":0},{"$f":"IFERROR( IF(SUM(INDIRECT(\"O\"&(MATCH(AI10,AI:AI,0))&\":T\"&DE10)) = 0, \"\", IF(ROW(AI10) = FLOOR((MATCH(AI10, AI:AI, 0) + DE10)/2,1),SUM(INDIRECT(\"O\"&(MATCH(AI10,AI:AI,0))&\":T\"&DE10)),\"\")),\"\")","v":""},{"$f":" IFERROR(IF(EN10 = \"\", \"\", IF(ROW(AI10) = FLOOR((MATCH(AI10, AI:AI, 0) + DE10)/2,1),SUM(INDIRECT(\"BT\"&(MATCH(AI10,AI:AI,0))&\":BT\"&DE10)),\"\")),\"\")","v":""},{"$f":" IFERROR( IF(AK10 = \"\",\"\",AK10/(AM10-AK10)),\"\")","v":""},{"$f":" IFERROR(IF(ROW(AI10) = FLOOR((MATCH(AI10, AI:AI, 0) + DE10)/2,1),INDIRECT(\"BU\"&DE10),\"\"),\"\")","v":""},{"$f":"  IF(AJ10= 0,\"\",AL10)","v":""},{"$f":"IF(AN10=\"\",\"\",AN10+1)","v":""},{"$f":" IF(EN10 = \"\", 0, YEAR(E10)&\"\")","v":0},{"$f":" IFERROR(IF(SUM(INDIRECT(\"O\"&(MATCH(AP10,AP:AP,0))&\":T\"&ED10)) = 0, \"\", IF(ROW(AP10) = FLOOR((MATCH(AP10, AP:AP, 0) + ED10)/2,1),SUM(INDIRECT(\"O\"&(MATCH(AP10,AP:AP,0))&\":T\"&ED10)),\"\")), \"\")","v":""},{"$f":" IF(EN10 = \"\", \"\", IF(ROW(AP10) = FLOOR((MATCH(AP10, AP:AP, 0) + ED10)/2,1),SUM(INDIRECT(\"BT\"&(MATCH(AP10,AP:AP,0))&\":BT\"&ED10)),\"\"))","v":""},{"$f":" IFERROR( IF(AR10 = \"\",\"\",AR10/(AT10-AR10)),\"\")","v":""},{"$f":" IFERROR(IF(ROW(AP10) = FLOOR((MATCH(AP10, AP:AP, 0) + ED10)/2,1),INDIRECT(\"BU\"&ED10),\"\"), \"\")","v":""},{"$f":"  IF(AQ10= 0,\"\",AS10)","v":""},{"$f":"IF(AU10=\"\",\"\",AU10+1)","v":""},{"$f":" IF(BX10=\"\",0,IF(IF(BU10 = \"\",0,-1*((MIN(BU$5:$BU10)-BU10)))=0,0,IF(BU10 = \"\",0,-1*((MIN(BU$5:$BU10)-BU10)))))","v":0},{"$f":"  IF(BX10=\"\",0,IF(IF(BU10 = \"\",0,-1*((MIN(BU$5:$BU10)-BU10)))/MIN((BU$5:BU10))=0,0,IF(BU10 = \"\",0,-1*((MIN(BU$5:$BU10)-BU10)))/MIN((BU$5:BU10))))","v":0},{"$f":" IF(EN10 = \"\", \"\", IF(BD9 = BD10, AY9, AY9 + 1))","v":""},{"$f":" IF(EN10 = \"\", \"\", IF(BD9 = BD10, AZ9 + 1,1))","v":""},{"$f":" IF(AX10 = 0, \"\", IF( IF(ROW(AY10) = FLOOR((MATCH(AY10, AY:AY, 0) + MATCH(AY10, AY:AY))/2,1), INDIRECT(\"E\"&(MATCH(AY10,AY:AY))) + INDIRECT(\"F\"&(MATCH(AY10,AY:AY)))  - INDIRECT(\"E\"&(MATCH(AY10,AY:AY,0))) - INDIRECT(\"F\"&(MATCH(AY10,AY:AY,0))),\"\") = 0, \"\", IF(ROW(AY10) = FLOOR((MATCH(AY10, AY:AY, 0) + MATCH(AY10, AY:AY))/2,1), INDIRECT(\"E\"&(MATCH(AY10,AY:AY))) + INDIRECT(\"F\"&(MATCH(AY10,AY:AY)))  - INDIRECT(\"E\"&(MATCH(AY10,AY:AY,0))) - INDIRECT(\"F\"&(MATCH(AY10,AY:AY,0))),\"\")))","v":""},{"$f":" IF(EN9 = \"\", \"\", IF(IF(ROW(AY10) = FLOOR((MATCH(AY10, AY:AY, 0) + MATCH(AY10, AY:AY))/2,1), MAX(INDIRECT(\"AW\"&(MATCH(AY10,AY:AY,0))&\":AW\"&MATCH(AY10,AY:AY))),\"\") = 0, \"\",  IF(ROW(AY10) = FLOOR((MATCH(AY10, AY:AY, 0) + MATCH(AY10, AY:AY))/2,1), MAX(INDIRECT(\"AW\"&(MATCH(AY10,AY:AY,0))&\":AW\"&MATCH(AY10,AY:AY))),\"\")))","v":""},{"$f":" IF(EN9 = \"\", \"\", IF(IF(ROW(AY10) = FLOOR((MATCH(AY10, AY:AY, 0) + MATCH(AY10, AY:AY))/2,1), MAX(INDIRECT(\"AX\"&(MATCH(AY10,AY:AY,0))&\":AX\"&MATCH(AY10,AY:AY))),\"\") = 0, \"\",  IF(ROW(AY10) = FLOOR((MATCH(AY10, AY:AY, 0) + MATCH(AY10, AY:AY))/2,1), MAX(INDIRECT(\"AX\"&(MATCH(AY10,AY:AY,0))&\":AX\"&MATCH(AY10,AY:AY))),\"\")))","v":""},{"$f":" MIN(BU9, BD9)","v":0},{"$f":" IF(BX10=\"\",0,IF(IF(BU10 = \"\",0,(-1*(MAX(BU$5:$BU10)-BU10)))=0,0,IF(BU10 = \"\",0,(-1*(MAX(BU$5:$BU10)-BU10)))))","v":0},{"$f":" IF(BX10=\"\",0,IF(IF(BU10=\"\",0,(-1*(MAX(BU$5:$BU10)-BU10)))/MAX($BU$5:BU10) = 0,0,IF(BU10=\"\",0,(-1*(MAX(BU$5:$BU10)-BU10)))/MAX($BU$5:BU10)))","v":0},{"$f":" IF(EN10 = \"\", \"\", IF(BL9 = BL10, BG9, BG9 + 1))","v":""},{"$f":" IF(EN10 = \"\", \"\", IF(BL9 = BL10, BH9 + 1,1))","v":""},{"$f":" IF(BF10 = 0, \"\", IF( IF(ROW(BG10) = FLOOR((MATCH(BG10, BG:BG, 0) + MATCH(BG10, BG:BG))/2,1), INDIRECT(\"E\"&(MATCH(BG10,BG:BG))) + INDIRECT(\"F\"&(MATCH(BG10,BG:BG)))  - INDIRECT(\"E\"&(MATCH(BG10,BG:BG,0))) - INDIRECT(\"F\"&(MATCH(BG10,BG:BG,0))),\"\") = 0, \"\", IF(ROW(BG10) = FLOOR((MATCH(BG10,BG:BG,0) + MATCH(BG10, BG:BG))/2,1), INDIRECT(\"E\"&(MATCH(BG10,BG:BG))) + INDIRECT(\"F\"&(MATCH(BG10,BG:BG)))  - INDIRECT(\"E\"&(MATCH(BG10,BG:BG,0))) - INDIRECT(\"F\"&(MATCH(BG10,BG:BG,0))),\"\")))","v":""},{"$f":" IF(EN9 = \"\", \"\",  IF(IF(ROW(BG10) = FLOOR((MATCH(BG10, BG:BG, 0) + MATCH(BG10, BG:BG))/2,1), MIN(INDIRECT(\"BE\"&(MATCH(BG10,BG:BG,0))&\":BE\"&MATCH(BG10,BG:BG))),\"\") = 0, \"\", IF(ROW(BG10) = FLOOR((MATCH(BG10, BG:BG, 0) + MATCH(BG10, BG:BG))/2,1), MIN(INDIRECT(\"BE\"&(MATCH(BG10,BG:BG,0))&\":BE\"&MATCH(BG10,BG:BG))),\"\")))","v":""},{"$f":" IF(EN9 = \"\", \"\",  IF(IF(ROW(BG10) = FLOOR((MATCH(BG10, BG:BG, 0) + MATCH(BG10, BG:BG))/2,1), MIN(INDIRECT(\"BF\"&(MATCH(BG10,BG:BG,0))&\":BF\"&MATCH(BG10,BG:BG))),\"\") = 0, \"\", IF(ROW(BG10) = FLOOR((MATCH(BG10, BG:BG, 0) + MATCH(BG10, BG:BG))/2,1), MIN(INDIRECT(\"BF\"&(MATCH(BG10,BG:BG,0))&\":BF\"&MATCH(BG10,BG:BG))),\"\")))","v":""},{"$f":" MAX(BU9, BL9)","v":0},{"$f":"IF(H10=\"\",\"\",IF(H10=\"Win\",IF(BN10=1,BN10 & \" \" & \"Win\",BN10 & \" \" & \"Wins\"),IF(H10=\"Loss\",IF(BN10=1,BN10 & \" \" & \"Loss\",BN10 & \" \" & \"Losses\"), IF(H10 = \"BE\",IF(BN10=1,BN10 & \" \" & \"BE\",BN10 & \" \" & \"BE's\")))))","v":""},{"$f":" IF(H9=\"\",\"\",IF(H9=H10, BN9+1,1))","v":""},{"$f":" IF(H10 = \"\", \"\", IF(H9 <> H10, (LOOKUP(9E+307,$BO$5:$BO9) + 1), \"\"))","v":""},{"$f":" IF(EN9 = \"\", \"\", IF(BN10 = 1, \"\",IF(BN10<BN11, \"\", \"S\")))","v":""},{"$f":" IF(BP10 = \"\", \"\", IF(H10 = \"Win\",BN10,\"\"))","v":""},{"$f":" IF(BP10 = \"\", \"\", IF(H10 = \"Loss\",BN10,\"\"))","v":""},{"$f":" IF(BP10 = \"\", \"\", IF(H10 = \"BE\",BN10,\"\"))","v":""},{"$f":" IF(EN10 = \"\", \"\", DB10 +CZ10)","v":""},{"$f":" IF(EN10 = \"\", \"\", BU9 + BT10)","v":""},{"$f":" IF(BU10 = \"\",\"\", BV9 + 1)","v":""},{"$f":" IF(BU10 = \"\", \"\", $FN$13*BV10 + $FM$13)","v":""},{"$f":" IF(EN10 = \"\", \"\", (BT10)/BU9)","v":""},{"$f":" IF(EN10 = \"\", \"\",'Overall Performance'!$C$22)","v":""},{"$f":" IF(EN10 = \"\", \"\", IF(BX10=0,\"\",BX10 + 1))","v":""},{"$f":" IF(H10 = \"Win\", BZ10, \"\")","v":""},{"$f":" IF(H10 = \"Loss\", BZ10, \"\")","v":""},{"$f":"IFERROR(INDEX($Y:$Y,SMALL(IF($Y:$Y<>\"\",ROW($Y:$Y)),ROW(5:5))),\"\")","v":""},null,{"$f":" IF(Z10 = \"\", \"\", IF(Z10>0, 0, CH10))","v":""},{"$f":" IF(Z10 = \"\", \"\", IF(Z10>0, 0, W10))","v":""},{"$f":" IF(Z10 = \"\", \"\", Z10 - $FJ$10 + 1)","v":""},{"$f":" IF(Z10 = \"\", \"\", Z10 - $FJ$10)","v":""},{"$f":" IF(AN10 = \"\", \"\", IF(AN10 > 0, 0, CL10))","v":""},{"$f":" IF(AN10 = \"\", \"\", IF(AN10 > 0, 0, AK10))","v":""},{"$f":"IF(AN10=\"\", \"\",AN10-$FJ$14 + 1)","v":""},{"$f":"IF(AN10=\"\", \"\",AN10-$FJ$14)","v":""},{"$f":" IF(EN10 = \"\",\"\",(ES10 - EQ10)/(EQ10 - ER10))","v":""},{"$f":" IF(EN10=\"\",\"\", DA10*ABS((ET10-EQ10)/(EQ10-ER10)))","v":""},{"$f":" IF(CN10 > 0, CN10, \"\")","v":""},{"$f":" IF(CN10 < 0, CN10, \"\")","v":""},{"$f":" IF(EN10 = \"\", \"\", IF(OR(BX10 > AVERAGE(BX:BX) + 3*_xlfn.STDEV.P(BX:BX), BX10 < AVERAGE(BX:BX) - 3*_xlfn.STDEV.P(BX:BX)), BX10, 0))","v":""},{"$f":" IF(EN10= \"\", \"\", SUM(INDIRECT(\"BT\"&(MATCH(U10,U:U,0))&\":BT\"&DC10)))","v":""},{"$f":" IF(EN10= \"\", \"\", SUM(INDIRECT(\"ET\"&(MATCH(U10,U:U,0))&\":ET\"&DC10)))","v":""},{"$f":" IF(EN10= \"\", \"\", (INDIRECT(\"BU\"&DC10)))","v":""},{"$f":" IF(EN10= \"\", \"\", SUM(INDIRECT(\"O\"&(MATCH(U10,U:U,0))&\":T\"&DC10)))","v":""},{"$f":"IF(EN10=\"\",\"\",IF(LEN(RIGHT(EQ10,LEN(EQ10)-FIND(\".\",EQ10)))=2,((-1*ABS(EU10-EQ10))*100),IF(LEN(RIGHT(EQ10,LEN(EQ10)-FIND(\".\",EQ10)))=4,((-1*ABS(EU10-EQ10))*10000),IF(LEN(RIGHT(EQ10,LEN(EQ10)-FIND(\".\",EQ10)))=3,((-1*ABS(EU10-EQ10))*100),IF(LEN(RIGHT(EQ10,LEN(EQ10)-FIND(\".\",EQ10)))=5,((-1*ABS(EU10-EQ10))*10000))))))","v":""},{"$f":" IF(EN10 = \"\", \"\", (((EU10-EQ10)/(ET10-EQ10))*CZ10) + DB10)","v":""},{"$f":"IF(EN10=\"\",\"\",IF(LEN(RIGHT(EQ10,LEN(EQ10)-FIND(\".\",EQ10)))=2,((ABS(EV10-EQ10))*100),IF(LEN(RIGHT(EQ10,LEN(EQ10)-FIND(\".\",EQ10)))=4,((ABS(EV10-EQ10))*10000),IF(LEN(RIGHT(EQ10,LEN(EQ10)-FIND(\".\",EQ10)))=3,((ABS(EV10-EQ10))*100),IF(LEN(RIGHT(EQ10,LEN(EQ10)-FIND(\".\",EQ10)))=5,((ABS(EV10-EQ10))*10000))))))","v":""},{"$f":" IF(EN10 = \"\", \"\", (((EV10-EQ10)/(ET10-EQ10))*CZ10) + DB10)","v":""},{"$f":" IF(EN10 = \"\", \"\", EL10)","v":""},{"$f":" IF(EN10 = \"\", \"\", IF(EN10 = \"Buy\", IF(EQ10 > ET10, -1, 1), IF(EQ10 > ET10, 1, -1)))","v":""},{"$f":"IF(EN10=\"\", \"\",EZ10+FA10)","v":""},{"$f":" IF(EN10 = \"\", \"\", LOOKUP(2,1/(U:U = U10), ROW(U:U)))","v":""},{"$f":" IF(EN10 = \"\", \"\", LOOKUP(2,1/(AB:AB = AB10), ROW(AB:AB)))","v":""},{"$f":" IF(EN10 = \"\", \"\", LOOKUP(2,1/(AI:AI = AI10), ROW(AI:AI)))","v":""},null,null,{"$f":" IF(CO10 = \"\", \"\", CO10*EY10)","v":""},{"$f":" IF(CP10 = \"\", \"\", CP10*EY10)","v":""},{"$f":" IF(EN10 = \"\", \"\",BF10)","v":""},{"$f":" DJ10","v":""},{"$f":" IF(EL11 = \"\", \"\", DL9 + 1)","v":""},{"$f":" IF(EN10 <> \"\", K10*24,#N/A)","v":{"$error":"#N/A"}},{"$f":" IF(EN10 <> \"\", CW10,#N/A)","v":{"$error":"#N/A"}},{"$f":" IF(EN10 <> \"\", CY10,#N/A)","v":{"$error":"#N/A"}},{"$f":" IF(EN10 <> \"\", CM10,#N/A)","v":{"$error":"#N/A"}},{"$f":" IF(EN10 <> \"\", CN10,#N/A)","v":{"$error":"#N/A"}},{"$f":" IF(CN10 > 0, CM10, -1)","v":""},{"$f":" IF(CN10 > 0, CM10, \"\")","v":""},{"$f":" IF(CN10 < 0, CM10, \"\")","v":""},{"$f":" IF(AQ10 = \"\",\"\",LOOKUP(9E+307,$DU$5:$DU9) + 1)","v":""},{"$f":" IF(EN10 = \"\", \"\", (CZ10)/BU9)","v":""},{"$f":" IF(EN10 = \"\", \"\", WEEKDAY(C10,1))","v":""},{"$f":" IF(EN10=\"\", \"\", MONTH(C10))","v":""},{"$f":" IF(EN10 = \"\", \"\", YEAR(E10))","v":""},{"$f":" IF(EB10 = \"\", \"\", MAX(((EA10-EB10)/EA10), ((EB10-EC10)/EB10)))","v":""},{"$f":" IF(EB10=\"\", \"\", MAX($EB$6:EB10))","v":""},{"$f":" AM10","v":""},{"$f":" IF(EB10=\"\",\"\", MIN(EB10:$EB$1048576))","v":""},{"$f":" IF(EN10 = \"\", \"\", LOOKUP(2,1/(AP:AP = AP10), ROW(AP:AP)))","v":""},{"$f":" IFERROR(_xlfn.IFS(FE10 = \"1-Minute\", 1, FE10 = \"5-Minute\", 2, FE10 = \"15-Minute\", 3, FE10 = \"30-Minute\", 4, FE10 = \"1-Hour\", 5, FE10 = \"4-Hour\", 6, FE10 = \"Daily\", 7, FE10 = \"Weekly\", 8, FE10 = \"Monthly\", 9), \"\")","v":""},{"$f":" IFERROR(_xlfn.IFS(FF10 = \"Very Low\", 1, FF10 = \"Low\", 2, FF10 = \"Medium\", 3, FF10 = \"High\", 4, FF10 = \"Very High\", 5),\"\")","v":""},null,{"$f":" TEXT(CM10, \"#,###0.000\") & \" : 1\"","v":" : 1"},{"$f":" IF(EN10 = \"\", \"\", IF(N10 = \"Buy\", (ET10-EQ10)/(EV10-EU10), (EQ10-ET10)/(EU10-EV10)))","v":""},{"$f":"IF(EN10=\"\",\"\",IF(N10 = \"Buy\", (EV10 - EQ10)/(EV10-EU10), (EQ10-EV10)/(EU10-EV10)))","v":""},{"$f":"IF(EN10=\"\",\"\",IF(N10 = \"Buy\", (ET10-EU10)/(EV10-EU10), (EU10-ET10)/(EU10-EV10)))","v":""},null,null,null,null,null,null,null,null,null,null,null,{"$f":" IF(EQ10=\"\",\"\",IF(LEN(RIGHT(EQ10,LEN(EQ10)-FIND(\".\",EQ10)))=2,((IF(EN10 = \"Buy\", IF(DF10 = EQ10, IF(DG10 = ET10, 0, ET10 - DG10),IF(DG10 = ET10, DF10-EQ10, (DF10 - EQ10) + (ET10 - DG10))), IF(DF10 = EQ10, IF(DG10 = ET10, 0, DG10-ET10),IF(DG10 = ET10, EQ10-DF10, (EQ10-DF10) + (DG10-ET10)))))*100),IF(LEN(RIGHT(EQ10,LEN(EQ10)-FIND(\".\",EQ10)))=4,((IF(EN10 = \"Buy\", IF(DF10 = EQ10, IF(DG10 = ET10, 0, ET10 - DG10),IF(DG10 = ET10, DF10-EQ10, (DF10 - EQ10) + (ET10 - DG10))), IF(DF10 = EQ10, IF(DG10 = ET10, 0, DG10-ET10),IF(DG10 = ET10, EQ10-DF10, (EQ10-DF10) + (DG10-ET10)))))*10000),IF(LEN(RIGHT(EQ10,LEN(EQ10)-FIND(\".\",EQ10)))=3,((IF(EN10 = \"Buy\", IF(DF10 = EQ10, IF(DG10 = ET10, 0, ET10 - DG10),IF(DG10 = ET10, DF10-EQ10, (DF10 - EQ10) + (ET10 - DG10))), IF(DF10 = EQ10, IF(DG10 = ET10, 0, DG10-ET10),IF(DG10 = ET10, EQ10-DF10, (EQ10-DF10) + (DG10-ET10)))))*100),IF(LEN(RIGHT(EQ10,LEN(EQ10)-FIND(\".\",EQ10)))=5,((IF(EN10 = \"Buy\", IF(DF10 = EQ10, IF(DG10 = ET10, 0, ET10 - DG10),IF(DG10 = ET10, DF10-EQ10, (DF10 - EQ10) + (ET10 - DG10))), IF(DF10 = EQ10, IF(DG10 = ET10, 0, DG10-ET10),IF(DG10 = ET10, EQ10-DF10, (EQ10-DF10) + (DG10-ET10)))))*10000))))))","v":""},{"$f":"IF(EN10=\"\",\"\",IF(LEN(RIGHT(EQ10,LEN(EQ10)-FIND(\".\",EQ10)))=2,((DA10*ABS(ET10-EQ10))*100),IF(LEN(RIGHT(EQ10,LEN(EQ10)-FIND(\".\",EQ10)))=4,((DA10*ABS(ET10-EQ10))*10000),IF(LEN(RIGHT(EQ10,LEN(EQ10)-FIND(\".\",EQ10)))=3,((DA10*ABS(ET10-EQ10))*100),IF(LEN(RIGHT(EQ10,LEN(EQ10)-FIND(\".\",EQ10)))=5,((DA10*ABS(ET10-EQ10))*10000))))))","v":""},{"$f":"IF(EN10=\"\",\"\",ABS(DV10/ABS(CN10)))","v":""},null,null,null,null,null,null,null,null,null,null,{"$f":" ((1 + ('Treasury Bill Data'!#REF!)/100)^(1/252)) - 1","v":{"$error":"#REF!"}},{"$f":"  IF(IFERROR(LARGE(BB:BB, 5),\"\")=0, \"\", IFERROR(LARGE(BB:BB, 5),\"\"))","v":""},{"$f":" IF( IFERROR(SMALL(BJ:BJ, 5),\"\")=0, \"\", IFERROR(SMALL(BJ:BJ, 5),\"\"))","v":""},{"$f":" FM5/'Overall Performance'!C10","v":{"$error":"#DIV/0!"}}]
[null,{"$f":" B10+ 1","v":6},null,null,null,null,{"$f":" IF(EN11 = \"\", \"\", INT(K11)&\" d,\"&\" \"&HOUR(K11)&\" h,\"&\" \"&MINUTE(K11)&\" m,\"&\" \"&SECOND(K11)&\" s\")","v":""},{"$f":" IF(EN11 = \"\",\"\",IF(CZ11 +DB11 = 0, \"BE\", IF(CZ11 > 0, \"Win\",\"Loss\")))","v":""},{"$f":" IF(EN11=\"\", \"\",VALUE(C11 + D11))","v":""},{"$f":" IF(EN11 = \"\", \"\", VALUE(E11 + F11))","v":""},{"$f":"IF(EN11=\"\",\"\",IF(C11=\"\",0,IF(D11=\"\",0,(E11+F11-D11-C11))))","v":""},{"$f":" IFERROR(IF(VALUE(E11&F11) > VALUE(C12&D12), IF(VALUE(C12+D12) < VALUE(C13 + D13), E11 + F11 - C12 - D12 - (C11 + D11 - C12 - D12),E11 + F11 - C12 - D12), \"\"), \"\")","v":""},{"$f":"IFERROR(IF(EN11=\"\",\"\",IF(VALUE(E10+F10)<VALUE(C11+D11),C11+D11-E10-F10,\"\")),\"\")","v":""},{"$f":" TRIM(EN11)","v":""},{"$f":" IF(AND(N11 = \"Buy\", H11 = \"Win\"), 1, 0)","v":0},{"$f":" IF(AND(N11 = \"Sell\", H11 = \"Win\"), 1, 0)","v":0},{"$f":" IF(AND(N11 = \"Buy\", H11 = \"Loss\"), 1, 0)","v":0},{"$f":" IF(AND(N11 = \"Sell\", H11 = \"Loss\"), 1, 0)","v":0},{"$f":" IF(AND(N11 = \"Buy\", H11 = \"BE\"), 1, 0)","v":0},{"$f":" IF(AND(N11 = \"Sell\", H11 = \"BE\"), 1, 0)","v":0},{"$f":" IF(EN11 = \"\", 0, (E11 - DATE(YEAR(E11),1,0)) & YEAR(E11)&\"\")","v":0},{"$f":"IFERROR( IF(SUM(INDIRECT(\"O\"&(MATCH(U11,U:U,0))&\":T\"&DC11)) = 0, \"\", IF(ROW(U11) = FLOOR((MATCH(U11, U:U, 0) +DC11)/2,1),SUM(INDIRECT(\"O\"&(MATCH(U11,U:U,0))&\":T\"&DC11)),\"\")),\"\")","v":""},{"$f":" IFERROR(IF(EN11 = \"\", \"\", IF(ROW(U11) = FLOOR((MATCH(U11, U:U, 0) + DC11)/2,1),SUM(INDIRECT(\"BT\"&(MATCH(U11,U:U,0))&\":BT\"&DC11)),\"\")),\"\")","v":""},{"$f":"  IFERROR(IF(W11 = \"\",\"\",W11/(Y11-W11)),\"\")","v":""},{"$f":" IFERROR(IF(ROW(U11) = FLOOR((MATCH(U11, U:U, 0) + DC11)/2,1),INDIRECT(\"BU\"&DC11),\"\"),\"\")","v":""},{"$f":"  IF(V11= 0,\"\",X11)","v":""},{"$f":"IF(Z11=\"\",\"\",Z11+1)","v":""},{"$f":" IF(EN11 = \"\", 0, WEEKNUM(E11) & YEAR(E11) & \"\")","v":0},{"$f":" IFERROR(IF(SUM(INDIRECT(\"O\"&(MATCH(AB11,AB:AB,0))&\":T\"&DD11)) = 0, \"\", IF(ROW(AB11) = FLOOR((MATCH(AB11, AB:AB, 0) + DD11)/2,1),SUM(INDIRECT(\"O\"&(MATCH(AB11,AB:AB,0))&\":T\"&DD11)),\"\")),\"\")","v":""},{"$f":" IFERROR(IF(EN11 = \"\", \"\", IF(ROW(AB11) = FLOOR((MATCH(AB11, AB:AB, 0) +DD11)/2,1),SUM(INDIRECT(\"BT\"&(MATCH(AB11,AB:AB,0))&\":BT\"&DD11)),\"\")),\"\")","v":""},{"$f":" IFERROR( IF(AD11 = \"\",\"\",AD11/(AF11-AD11)),\"\")","v":""},{"$f":" IFERROR(IF(ROW(AB11) = FLOOR((MATCH(AB11, AB:AB, 0) + DD11)/2,1),INDIRECT(\"BU\"&DD11),\"\"),\"\")","v":""},{"$f":"  IF(AC11= 0,\"\",AE11)","v":""},{"$f":"IF(AG11=\"\",\"\",AG11+1)","v":""},{"$f":" IF(EN11 = \"\", 0, MONTH(E11)&YEAR(E11)&\"\")","v":0},{"$f":"IFERROR( IF(SUM(INDIRECT(\"O\"&(MATCH(AI11,AI:AI,0))&\":T\"&DE11)) = 0, \"\", IF(ROW(AI11) = FLOOR((MATCH(AI11, AI:AI, 0) + DE11)/2,1),SUM(INDIRECT(\"O\"&(MATCH(AI11,AI:AI,0))&\":T\"&DE11)),\"\")),\"\")","v":""},{"$f":" IFERROR(IF(EN11 = \"\", \"\", IF(ROW(AI11) = FLOOR((MATCH(AI11, AI:AI, 0) + DE11)/2,1),SUM(INDIRECT(\"BT\"&(MATCH(AI11,AI:AI,0))&\":BT\"&DE11)),\"\")),\"\")","v":""},{"$f":" IFERROR( IF(AK11 = \"\",\"\",AK11/(AM11-AK11)),\"\")","v":""},{"$f":" IFERROR(IF(ROW(AI11) = FLOOR((MATCH(AI11, AI:AI, 0) + DE11)/2,1),INDIRECT(\"BU\"&DE11),\"\"),\"\")","v":""},{"$f":"  IF(AJ11= 0,\"\",AL11)","v":""},{"$f":"IF(AN11=\"\",\"\",AN11+1)","v":""},{"$f":" IF(EN11 = \"\", 0, YEAR(E11)&\"\")","v":0},{"$f":" IFERROR(IF(SUM(INDIRECT(\"O\"&(MATCH(AP11,AP:AP,0))&\":T\"&ED11)) = 0, \"\", IF(ROW(AP11) = FLOOR((MATCH(AP11, AP:AP, 0) + ED11)/2,1),SUM(INDIRECT(\"O\"&(MATCH(AP11,AP:AP,0))&\":T\"&ED11)),\"\")), \"\")","v":""},{"$f":" IF(EN11 = \"\", \"\", IF(ROW(AP11) = FLOOR((MATCH(AP11, AP:AP, 0) + ED11)/2,1),SUM(INDIRECT(\"BT\"&(MATCH(AP11,AP:AP,0))&\":BT\"&ED11)),\"\"))","v":""},{"$f":" IFERROR( IF(AR11 = \"\",\"\",AR11/(AT11-AR11)),\"\")","v":""},{"$f":" IFERROR(IF(ROW(AP11) = FLOOR((MATCH(AP11, AP:AP, 0) + ED11)/2,1),INDIRECT(\"BU\"&ED11),\"\"), \"\")","v":""},{"$f":"  IF(AQ11= 0,\"\",AS11)","v":""},{"$f":"IF(AU11=\"\",\"\",AU11+1)","v":""},{"$f":" IF(BX11=\"\",0,IF(IF(BU11 = \"\",0,-1*((MIN(BU$5:$BU11)-BU11)))=0,0,IF(BU11 = \"\",0,-1*((MIN(BU$5:$BU11)-BU11)))))","v":0},{"$f":"  IF(BX11=\"\",0,IF(IF(BU11 = \"\",0,-1*((MIN(BU$5:$BU11)-BU11)))/MIN((BU$5:BU11))=0,0,IF(BU11 = \"\",0,-1*((MIN(BU$5:$BU11)-BU11)))/MIN((BU$5:BU11))))","v":0},{"$f":" IF(EN11 = \"\", \"\", IF(BD10 = BD11, AY10, AY10 + 1))","v":""},{"$f":" IF(EN11 = \"\", \"\", IF(BD10 = BD11, AZ10 + 1,1))","v":""},{"$f":" IF(AX11 = 0, \"\", IF( IF(ROW(AY11) = FLOOR((MATCH(AY11, AY:AY, 0) + MATCH(AY11, AY:AY))/2,1), INDIRECT(\"E\"&(MATCH(AY11,AY:AY))) + INDIRECT(\"F\"&(MATCH(AY11,AY:AY)))  - INDIRECT(\"E\"&(MATCH(AY11,AY:AY,0))) - INDIRECT(\"F\"&(MATCH(AY11,AY:AY,0))),\"\") = 0, \"\", IF(ROW(AY11) = FLOOR((MATCH(AY11, AY:AY, 0) + MATCH(AY11, AY:AY))/2,1), INDIRECT(\"E\"&(MATCH(AY11,AY:AY))) + INDIRECT(\"F\"&(MATCH(AY11,AY:AY)))  - INDIRECT(\"E\"&(MATCH(AY11,AY:AY,0))) - INDIRECT(\"F\"&(MATCH(AY11,AY:AY,0))),\"\")))","v":""},{"$f":" IF(EN10 = \"\", \"\", IF(IF(ROW(AY11) = FLOOR((MATCH(AY11, AY:AY, 0) + MATCH(AY11, AY:AY))/2,1), MAX(INDIRECT(\"AW\"&(MATCH(AY11,AY:AY,0))&\":AW\"&MATCH(AY11,AY:AY))),\"\") = 0, \"\",  IF(ROW(AY11) = FLOOR((MATCH(AY11, AY:AY, 0) + MATCH(AY11, AY:AY))/2,1), MAX(INDIRECT(\"AW\"&(MATCH(AY11,AY:AY,0))&\":AW\"&MATCH(AY11,AY:AY))),\"\")))","v":""},{"$f":" IF(EN10 = \"\", \"\", IF(IF(ROW(AY11) = FLOOR((MATCH(AY11, AY:AY, 0) + MATCH(AY11, AY:AY))/2,1), MAX(INDIRECT(\"AX\"&(MATCH(AY11,AY:AY,0))&\":AX\"&MATCH(AY11,AY:AY))),\"\") = 0, \"\",  IF(ROW(AY11) = FLOOR((MATCH(AY11, AY:AY, 0) + MATCH(AY11, AY:AY))/2,1), MAX(INDIRECT(\"AX\"&(MATCH(AY11,AY:AY,0))&\":AX\"&MATCH(AY11,AY:AY))),\"\")))","v":""},{"$f":" MIN(BU10, BD10)","v":0},{"$f":" IF(BX11=\"\",0,IF(IF(BU11 = \"\",0,(-1*(MAX(BU$5:$BU11)-BU11)))=0,0,IF(BU11 = \"\",0,(-1*(MAX(BU$5:$BU11)-BU11)))))","v":0},{"$f":" IF(BX11=\"\",0,IF(IF(BU11=\"\",0,(-1*(MAX(BU$5:$BU11)-BU11)))/MAX($BU$5:BU11) = 0,0,IF(BU11=\"\",0,(-1*(MAX(BU$5:$BU11)-BU11)))/MAX($BU$5:BU11)))","v":0},{"$f":" IF(EN11 = \"\", \"\", IF(BL10 = BL11, BG10, BG10 + 1))","v":""},{"$f":" IF(EN11 = \"\", \"\", IF(BL10 = BL11, BH10 + 1,1))","v":""},{"$f":" IF(BF11 = 0, \"\", IF( IF(ROW(BG11) = FLOOR((MATCH(BG11, BG:BG, 0) + MATCH(BG11, BG:BG))/2,1), INDIRECT(\"E\"&(MATCH(BG11,BG:BG))) + INDIRECT(\"F\"&(MATCH(BG11,BG:BG)))  - INDIRECT(\"E\"&(MATCH(BG11,BG:BG,0))) - INDIRECT(\"F\"&(MATCH(BG11,BG:BG,0))),\"\") = 0, \"\", IF(ROW(BG11) = FLOOR((MATCH(BG11,BG:BG,0) + MATCH(BG11, BG:BG))/2,1), INDIRECT(\"E\"&(MATCH(BG11,BG:BG))) + INDIRECT(\"F\"&(MATCH(BG11,BG:BG)))  - INDIRECT(\"E\"&(MATCH(BG11,BG:BG,0))) - INDIRECT(\"F\"&(MATCH(BG11,BG:BG,0))),\"\")))","v":""},{"$f":" IF(EN10 = \"\", \"\",  IF(IF(ROW(BG11) = FLOOR((MATCH(BG11, BG:BG, 0) + MATCH(BG11, BG:BG))/2,1), MIN(INDIRECT(\"BE\"&(MATCH(BG11,BG:BG,0))&\":BE\"&MATCH(BG11,BG:BG))),\"\") = 0, \"\", IF(ROW(BG11) = FLOOR((MATCH(BG11, BG:BG, 0) + MATCH(BG11, BG:BG))/2,1), MIN(INDIRECT(\"BE\"&(MATCH(BG11,BG:BG,0))&\":BE\"&MATCH(BG11,BG:BG))),\"\")))","v":""},{"$f":" IF(EN10 = \"\", \"\",  IF(IF(ROW(BG11) = FLOOR((MATCH(BG11, BG:BG, 0) + MATCH(BG11, BG:BG))/2,1), MIN(INDIRECT(\"BF\"&(MATCH(BG11,BG:BG,0))&\":BF\"&MATCH(BG11,BG:BG))),\"\") = 0, \"\", IF(ROW(BG11) = FLOOR((MATCH(BG11, BG:BG, 0) + MATCH(BG11, BG:BG))/2,1), MIN(INDIRECT(\"BF\"&(MATCH(BG11,BG:BG,0))&\":BF\"&MATCH(BG11,BG:BG))),\"\")))","v":""},{"$f":" MAX(BU10, BL10)","v":0},{"$f":"IF(H11=\"\",\"\",IF(H11=\"Win\",IF(BN11=1,BN11 & \" \" & \"Win\",BN11 & \" \" & \"Wins\"),IF(H11=\"Loss\",IF(BN11=1,BN11 & \" \" & \"Loss\",BN11 & \" \" & \"Losses\"), IF(H11 = \"BE\",IF(BN11=1,BN11 & \" \" & \"BE\",BN11 & \" \" & \"BE's\")))))","v":""},{"$f":" IF(H10=\"\",\"\",IF(H10=H11, BN10+1,1))","v":""},{"$f":" IF(H11 = \"\", \"\", IF(H10 <> H11, (LOOKUP(9E+307,$BO$5:$BO10) + 1), \"\"))","v":""},{"$f":" IF(EN10 = \"\", \"\", IF(BN11 = 1, \"\",IF(BN11<BN12, \"\", \"S\")))","v":""},{"$f":" IF(BP11 = \"\", \"\", IF(H11 = \"Win\",BN11,\"\"))","v":""},{"$f":" IF(BP11 = \"\", \"\", IF(H11 = \"Loss\",BN11,\"\"))","v":""},{"$f":" IF(BP11 = \"\", \"\", IF(H11 = \"BE\",BN11,\"\"))","v":""},{"$f":" IF(EN11 = \"\", \"\", DB11 +CZ11)","v":""},{"$f":" IF(EN11 = \"\", \"\", BU10 + BT11)","v":""},{"$f":" IF(BU11 = \"\",\"\", BV10 + 1)","v":""},{"$f":" IF(BU11 = \"\", \"\", $FN$13*BV11 + $FM$13)","v":""},{"$f":" IF(EN11 = \"\", \"\", (BT11)/BU10)","v":""},{"$f":" IF(EN11 = \"\", \"\",'Overall Performance'!$C$22)","v":""},{"$f":" IF(EN11 = \"\", \"\", IF(BX11=0,\"\",BX11 + 1))","v":""},{"$f":" IF(H11 = \"Win\", BZ11, \"\")","v":""},{"$f":" IF(H11 = \"Loss\", BZ11, \"\")","v":""},{"$f":"IFERROR(INDEX($Y:$Y,SMALL(IF($Y:$Y<>\"\",ROW($Y:$Y)),ROW(6:6))),\"\")","v":""},null,{"$f":" IF(Z11 = \"\", \"\", IF(Z11>0, 0, CH11))","v":""},{"$f":" IF(Z11 = \"\", \"\", IF(Z11>0, 0, W11))","v":""},{"$f":" IF(Z11 = \"\", \"\", Z11 - $FJ$10 + 1)","v":""},{"$f":" IF(Z11 = \"\", \"\", Z11 - $FJ$10)","v":""},{"$f":" IF(AN11 = \"\", \"\", IF(AN11 > 0, 0, CL11))","v":""},{"$f":" IF(AN11 = \"\", \"\", IF(AN11 > 0, 0, AK11))","v":""},{"$f":"IF(AN11=\"\", \"\",AN11-$FJ$14 + 1)","v":""},{"$f":"IF(AN11=\"\", \"\",AN11-$FJ$14)","v":""},{"$f":" IF(EN11 = \"\",\"\",(ES11 - EQ11)/(EQ11 - ER11))","v":""},{"$f":" IF(EN11=\"\",\"\", DA11*ABS((ET11-EQ11)/(EQ11-ER11)))","v":""},{"$f":" IF(CN11 > 0, CN11, \"\")","v":""},{"$f":" IF(CN11 < 0, CN11, \"\")","v":""},{"$f":" IF(EN11 = \"\", \"\", IF(OR(BX11 > AVERAGE(BX:BX) + 3*_xlfn.STDEV.P(BX:BX), BX11 < AVERAGE(BX:BX) - 3*_xlfn.STDEV.P(BX:BX)), BX11, 0))","v":""},{"$f":" IF(EN11= \"\", \"\", SUM(INDIRECT(\"BT\"&(MATCH(U11,U:U,0))&\":BT\"&DC11)))","v":""},{"$f":" IF(EN11= \"\", \"\", SUM(INDIRECT(\"ET\"&(MATCH(U11,U:U,0))&\":ET\"&DC11)))","v":""},{"$f":" IF(EN11= \"\", \"\", (INDIRECT(\"BU\"&DC11)))","v":""},{"$f":" IF(EN11= \"\", \"\", SUM(INDIRECT(\"O\"&(MATCH(U11,U:U,0))&\":T\"&DC11)))","v":""},{"$f":"IF(EN11=\"\",\"\",IF(LEN(RIGHT(EQ11,LEN(EQ11)-FIND(\".\",EQ11)))=2,((-1*ABS(EU11-EQ11))*100),IF(LEN(RIGHT(EQ11,LEN(EQ11)-FIND(\".\",EQ11)))=4,((-1*ABS(EU11-EQ11))*10000),IF(LEN(RIGHT(EQ11,LEN(EQ11)-FIND(\".\",EQ11)))=3,((-1*ABS(EU11-EQ11))*100),IF(LEN(RIGHT(EQ11,LEN(EQ11)-FIND(\".\",EQ11)))=5,((-1*ABS(EU11-EQ11))*10000))))))","v":""},{"$f":" IF(EN11 = \"\", \"\", (((EU11-EQ11)/(ET11-EQ11))*CZ11) + DB11)","v":""},{"$f":"IF(EN11=\"\",\"\",IF(LEN(RIGHT(EQ11,LEN(EQ11)-FIND(\".\",EQ11)))=2,((ABS(EV11-EQ11))*100),IF(LEN(RIGHT(EQ11,LEN(EQ11)-FIND(\".\",EQ11)))=4,((ABS(EV11-EQ11))*10000),IF(LEN(RIGHT(EQ11,LEN(EQ11)-FIND(\".\",EQ11)))=3,((ABS(EV11-EQ11))*100),IF(LEN(RIGHT(EQ11,LEN(EQ11)-FIND(\".\",EQ11)))=5,((ABS(EV11-EQ11))*10000))))))","v":""},{"$f":" IF(EN11 = \"\", \"\", (((EV11-EQ11)/(ET11-EQ11))*CZ11) + DB11)","v":""},{"$f":" IF(EN11 = \"\", \"\", EL11)","v":""},{"$f":" IF(EN11 = \"\", \"\", IF(EN11 = \"Buy\", IF(EQ11 > ET11, -1, 1), IF(EQ11 > ET11, 1, -1)))","v":""},{"$f":"IF(EN11=\"\", \"\",EZ11+FA11)","v":""},{"$f":" IF(EN11 = \"\", \"\", LOOKUP(2,1/(U:U = U11), ROW(U:U)))","v":""},{"$f":" IF(EN11 = \"\", \"\", LOOKUP(2,1/(AB:AB = AB11), ROW(AB:AB)))","v":""},{"$f":" IF(EN11 = \"\", \"\", LOOKUP(2,1/(AI:AI = AI11), ROW(AI:AI)))","v":""},null,null,{"$f":" IF(CO11 = \"\", \"\", CO11*EY11)","v":""},{"$f":" IF(CP11 = \"\", \"\", CP11*EY11)","v":""},{"$f":" IF(EN11 = \"\", \"\",BF11)","v":""},{"$f":" DJ11","v":""},{"$f":" IF(EL12 = \"\", \"\", DL10 + 1)","v":""},{"$f":" IF(EN11 <> \"\", K11*24,#N/A)","v":{"$error":"#N/A"}},{"$f":" IF(EN11 <> \"\", CW11,#N/A)","v":{"$error":"#N/A"}},{"$f":" IF(EN11 <> \"\", CY11,#N/A)","v":{"$error":"#N/A"}},{"$f":" IF(EN11 <> \"\", CM11,#N/A)","v":{"$error":"#N/A"}},{"$f":" IF(EN11 <> \"\", CN11,#N/A)","v":{"$error":"#N/A"}},{"$f":" IF(CN11 > 0, CM11, -1)","v":""},{"$f":" IF(CN11 > 0, CM11, \"\")","v":""},{"$f":" IF(CN11 < 0, CM11, \"\")","v":""},{"$f":" IF(AQ11 = \"\",\"\",LOOKUP(9E+307,$DU$5:$DU10) + 1)","v":""},{"$f":" IF(EN11 = \"\", \"\", (CZ11)/BU10)","v":""},{"$f":" IF(EN11 = \"\", \"\", WEEKDAY(C11,1))","v":""},{"$f":" IF(EN11=\"\", \"\", MONTH(C11))","v":""},{"$f":" IF(EN11 = \"\", \"\", YEAR(E11))","v":""},{"$f":" IF(EB11 = \"\", \"\", MAX(((EA11-EB11)/EA11), ((EB11-EC11)/EB11)))","v":""},{"$f":" IF(EB11=\"\", \"\", MAX($EB$6:EB11))","v":""},{"$f":" AM11","v":""},{"$f":" IF(EB11=\"\",\"\", MIN(EB11:$EB$1048576))","v":""},{"$f":" IF(EN11 = \"\", \"\", LOOKUP(2,1/(AP:AP = AP11), ROW(AP:AP)))","v":""},{"$f":" IFERROR(_xlfn.IFS(FE11 = \"1-Minute\", 1, FE11 = \"5-Minute\", 2, FE11 = \"15-Minute\", 3, FE11 = \"30-Minute\", 4, FE11 = \"1-Hour\", 5, FE11 = \"4-Hour\", 6, FE11 = \"Daily\", 7, FE11 = \"Weekly\", 8, FE11 = \"Monthly\", 9), \"\")","v":""},{"$f":" IFERROR(_xlfn.IFS(FF11 = \"Very Low\", 1, FF11 = \"Low\", 2, FF11 = \"Medium\", 3, FF11 = \"High\", 4, FF11 = \"Very High\", 5),\"\")","v":""},null,{"$f":" TEXT(CM11, \"#,###0.000\") & \" : 1\"","v":" : 1"},{"$f":" IF(EN11 = \"\", \"\", IF(N11 = \"Buy\", (ET11-EQ11)/(EV11-EU11), (EQ11-ET11)/(EU11-EV11)))","v":""},{"$f":"IF(EN11=\"\",\"\",IF(N11 = \"Buy\", (EV11 - EQ11)/(EV11-EU11), (EQ11-EV11)/(EU11-EV11)))","v":""},{"$f":"IF(EN11=\"\",\"\",IF(N11 = \"Buy\", (ET11-EU11)/(EV11-EU11), (EU11-ET11)/(EU11-EV11)))","v":""},null,null,null,null,null,null,null,null,null,null,null,{"$f":" IF(EQ11=\"\",\"\",IF(LEN(RIGHT(EQ11,LEN(EQ11)-FIND(\".\",EQ11)))=2,((IF(EN11 = \"Buy\", IF(DF11 = EQ11, IF(DG11 = ET11, 0, ET11 - DG11),IF(DG11 = ET11, DF11-EQ11, (DF11 - EQ11) + (ET11 - DG11))), IF(DF11 = EQ11, IF(DG11 = ET11, 0, DG11-ET11),IF(DG11 = ET11, EQ11-DF11, (EQ11-DF11) + (DG11-ET11)))))*100),IF(LEN(RIGHT(EQ11,LEN(EQ11)-FIND(\".\",EQ11)))=4,((IF(EN11 = \"Buy\", IF(DF11 = EQ11, IF(DG11 = ET11, 0, ET11 - DG11),IF(DG11 = ET11, DF11-EQ11, (DF11 - EQ11) + (ET11 - DG11))), IF(DF11 = EQ11, IF(DG11 = ET11, 0, DG11-ET11),IF(DG11 = ET11, EQ11-DF11, (EQ11-DF11) + (DG11-ET11)))))*10000),IF(LEN(RIGHT(EQ11,LEN(EQ11)-FIND(\".\",EQ11)))=3,((IF(EN11 = \"Buy\", IF(DF11 = EQ11, IF(DG11 = ET11, 0, ET11 - DG11),IF(DG11 = ET11, DF11-EQ11, (DF11 - EQ11) + (ET11 - DG11))), IF(DF11 = EQ11, IF(DG11 = ET11, 0, DG11-ET11),IF(DG11 = ET11, EQ11-DF11, (EQ11-DF11) + (DG11-ET11)))))*100),IF(LEN(RIGHT(EQ11,LEN(EQ11)-FIND(\".\",EQ11)))=5,((IF(EN11 = \"Buy\", IF(DF11 = EQ11, IF(DG11 = ET11, 0, ET11 - DG11),IF(DG11 = ET11, DF11-EQ11, (DF11 - EQ11) + (ET11 - DG11))), IF(DF11 = EQ11, IF(DG11 = ET11, 0, DG11-ET11),IF(DG11 = ET11, EQ11-DF11, (EQ11-DF11) + (DG11-ET11)))))*10000))))))","v":""},{"$f":"IF(EN11=\"\",\"\",IF(LEN(RIGHT(EQ11,LEN(EQ11)-FIND(\".\",EQ11)))=2,((DA11*ABS(ET11-EQ11))*100),IF(LEN(RIGHT(EQ11,LEN(EQ11)-FIND(\".\",EQ11)))=4,((DA11*ABS(ET11-EQ11))*10000),IF(LEN(RIGHT(EQ11,LEN(EQ11)-FIND(\".\",EQ11)))=3,((DA11*ABS(ET11-EQ11))*100),IF(LEN(RIGHT(EQ11,LEN(EQ11)-FIND(\".\",EQ11)))=5,((DA11*ABS(ET11-EQ11))*10000))))))","v":""},{"$f":"IF(EN11=\"\",\"\",ABS(DV11/ABS(CN11)))","v":""},null,null,null,null,null,null,null,null,null,null,{"$f":" AVERAGE(Z:Z)","v":{"$error":"#DIV/0!"}},{"$f":" IFERROR(LARGE(#REF!, 2),\"\")","v":""},{"$f":" SUMIF(H:H, \"Win\", BX:BX)","v":0},{"$f":" SUM(EP:EP)","v":0}]
[null,{"$f":" B11+ 1","v":7},null,null,null,null,{"$f":" IF(EN12 = \"\", \"\", INT(K12)&\" d,\"&\" \"&HOUR(K12)&\" h,\"&\" \"&MINUTE(K12)&\" m,\"&\" \"&SECOND(K12)&\" s\")","v":""},{"$f":" IF(EN12 = \"\",\"\",IF(CZ12 +DB12 = 0, \"BE\", IF(CZ12 > 0, \"Win\",\"Loss\")))","v":""},{"$f":" IF(EN12=\"\", \"\",VALUE(C12 + D12))","v":""},{"$f":" IF(EN12 = \"\", \"\", VALUE(E12 + F12))","v":""},{"$f":"IF(EN12=\"\",\"\",IF(C12=\"\",0,IF(D12=\"\",0,(E12+F12-D12-C12))))","v":""},{"$f":" IFERROR(IF(VALUE(E12&F12) > VALUE(C13&D13), IF(VALUE(C13+D13) < VALUE(C14 + D14), E12 + F12 - C13 - D13 - (C12 + D12 - C13 - D13),E12 + F12 - C13 - D13), \"\"), \"\")","v":""},{"$f":"IFERROR(IF(EN12=\"\",\"\",IF(VALUE(E11+F11)<VALUE(C12+D12),C12+D12-E11-F11,\"\")),\"\")","v":""},{"$f":" TRIM(EN12)","v":""},{"$f":" IF(AND(N12 = \"Buy\", H12 = \"Win\"), 1, 0)","v":0},{"$f":" IF(AND(N12 = \"Sell\", H12 = \"Win\"), 1, 0)","v":0},{"$f":" IF(AND(N12 = \"Buy\", H12 = \"Loss\"), 1, 0)","v":0},{"$f":" IF(AND(N12 = \"Sell\", H12 = \"Loss\"), 1, 0)","v":0},{"$f":" IF(AND(N12 = \"Buy\", H12 = \"BE\"), 1, 0)","v":0},{"$f":" IF(AND(N12 = \"Sell\", H12 = \"BE\"), 1, 0)","v":0},{"$f":" IF(EN12 = \"\", 0, (E12 - DATE(YEAR(E12),1,0)) & YEAR(E12)&\"\")","v":0},{"$f":"IFERROR( IF(SUM(INDIRECT(\"O\"&(MATCH(U12,U:U,0))&\":T\"&DC12)) = 0, \"\", IF(ROW(U12) = FLOOR((MATCH(U12, U:U, 0) +DC12)/2,1),SUM(INDIRECT(\"O\"&(MATCH(U12,U:U,0))&\":T\"&DC12)),\"\")),\"\")","v":""},{"$f":" IFERROR(IF(EN12 = \"\", \"\", IF(ROW(U12) = FLOOR((MATCH(U12, U:U, 0) + DC12)/2,1),SUM(INDIRECT(\"BT\"&(MATCH(U12,U:U,0))&\":BT\"&DC12)),\"\")),\"\")","v":""},{"$f":"  IFERROR(IF(W12 = \"\",\"\",W12/(Y12-W12)),\"\")","v":""},{"$f":" IFERROR(IF(ROW(U12) = FLOOR((MATCH(U12, U:U, 0) + DC12)/2,1),INDIRECT(\"BU\"&DC12),\"\"),\"\")","v":""},{"$f":"  IF(V12= 0,\"\",X12)","v":""},{"$f":"IF(Z12=\"\",\"\",Z12+1)","v":""},{"$f":" IF(EN12 = \"\", 0, WEEKNUM(E12) & YEAR(E12) & \"\")","v":0},{"$f":" IFERROR(IF(SUM(INDIRECT(\"O\"&(MATCH(AB12,AB:AB,0))&\":T\"&DD12)) = 0, \"\", IF(ROW(AB12) = FLOOR((MATCH(AB12, AB:AB, 0) + DD12)/2,1),SUM(INDIRECT(\"O\"&(MATCH(AB12,AB:AB,0))&\":T\"&DD12)),\"\")),\"\")","v":""},{"$f":" IFERROR(IF(EN12 = \"\", \"\", IF(ROW(AB12) = FLOOR((MATCH(AB12, AB:AB, 0) +DD12)/2,1),SUM(INDIRECT(\"BT\"&(MATCH(AB12,AB:AB,0))&\":BT\"&DD12)),\"\")),\"\")","v":""},{"$f":" IFERROR( IF(AD12 = \"\",\"\",AD12/(AF12-AD12)),\"\")","v":""},{"$f":" IFERROR(IF(ROW(AB12) = FLOOR((MATCH(AB12, AB:AB, 0) + DD12)/2,1),INDIRECT(\"BU\"&DD12),\"\"),\"\")","v":""},{"$f":"  IF(AC12= 0,\"\",AE12)","v":""},{"$f":"IF(AG12=\"\",\"\",AG12+1)","v":""},{"$f":" IF(EN12 = \"\", 0, MONTH(E12)&YEAR(E12)&\"\")","v":0},{"$f":"IFERROR( IF(SUM(INDIRECT(\"O\"&(MATCH(AI12,AI:AI,0))&\":T\"&DE12)) = 0, \"\", IF(ROW(AI12) = FLOOR((MATCH(AI12, AI:AI, 0) + DE12)/2,1),SUM(INDIRECT(\"O\"&(MATCH(AI12,AI:AI,0))&\":T\"&DE12)),\"\")),\"\")","v":""},{"$f":" IFERROR(IF(EN12 = \"\", \"\", IF(ROW(AI12) = FLOOR((MATCH(AI12, AI:AI, 0) + DE12)/2,1),SUM(INDIRECT(\"BT\"&(MATCH(AI12,AI:AI,0))&\":BT\"&DE12)),\"\")),\"\")","v":""},{"$f":" IFERROR( IF(AK12 = \"\",\"\",AK12/(AM12-AK12)),\"\")","v":""},{"$f":" IFERROR(IF(ROW(AI12) = FLOOR((MATCH(AI12, AI:AI, 0) + DE12)/2,1),INDIRECT(\"BU\"&DE12),\"\"),\"\")","v":""},{"$f":"  IF(AJ12= 0,\"\",AL12)","v":""},{"$f":"IF(AN12=\"\",\"\",AN12+1)","v":""},{"$f":" IF(EN12 = \"\", 0, YEAR(E12)&\"\")","v":0},{"$f":" IFERROR(IF(SUM(INDIRECT(\"O\"&(MATCH(AP12,AP:AP,0))&\":T\"&ED12)) = 0, \"\", IF(ROW(AP12) = FLOOR((MATCH(AP12, AP:AP, 0) + ED12)/2,1),SUM(INDIRECT(\"O\"&(MATCH(AP12,AP:AP,0))&\":T\"&ED12)),\"\")), \"\")","v":""},{"$f":" IF(EN12 = \"\", \"\", IF(ROW(AP12) = FLOOR((MATCH(AP12, AP:AP, 0) + ED12)/2,1),SUM(INDIRECT(\"BT\"&(MATCH(AP12,AP:AP,0))&\":BT\"&ED12)),\"\"))","v":""},{"$f":" IFERROR( IF(AR12 = \"\",\"\",AR12/(AT12-AR12)),\"\")","v":""},{"$f":" IFERROR(IF(ROW(AP12) = FLOOR((MATCH(AP12, AP:AP, 0) + ED12)/2,1),INDIRECT(\"BU\"&ED12),\"\"), \"\")","v":""},{"$f":"  IF(AQ12= 0,\"\",AS12)","v":""},{"$f":"IF(AU12=\"\",\"\",AU12+1)","v":""},{"$f":" IF(BX12=\"\",0,IF(IF(BU12 = \"\",0,-1*((MIN(BU$5:$BU12)-BU12)))=0,0,IF(BU12 = \"\",0,-1*((MIN(BU$5:$BU12)-BU12)))))","v":0},{"$f":"  IF(BX12=\"\",0,IF(IF(BU12 = \"\",0,-1*((MIN(BU$5:$BU12)-BU12)))/MIN((BU$5:BU12))=0,0,IF(BU12 = \"\",0,-1*((MIN(BU$5:$BU12)-BU12)))/MIN((BU$5:BU12))))","v":0},{"$f":" IF(EN12 = \"\", \"\", IF(BD11 = BD12, AY11, AY11 + 1))","v":""},{"$f":" IF(EN12 = \"\", \"\", IF(BD11 = BD12, AZ11 + 1,1))","v":""},{"$f":" IF(AX12 = 0, \"\", IF( IF(ROW(AY12) = FLOOR((MATCH(AY12, AY:AY, 0) + MATCH(AY12, AY:AY))/2,1), INDIRECT(\"E\"&(MATCH(AY12,AY:AY))) + INDIRECT(\"F\"&(MATCH(AY12,AY:AY)))  - INDIRECT(\"E\"&(MATCH(AY12,AY:AY,0))) - INDIRECT(\"F\"&(MATCH(AY12,AY:AY,0))),\"\") = 0, \"\", IF(ROW(AY12) = FLOOR((MATCH(AY12, AY:AY, 0) + MATCH(AY12, AY:AY))/2,1), INDIRECT(\"E\"&(MATCH(AY12,AY:AY))) + INDIRECT(\"F\"&(MATCH(AY12,AY:AY)))  - INDIRECT(\"E\"&(MATCH(AY12,AY:AY,0))) - INDIRECT(\"F\"&(MATCH(AY12,AY:AY,0))),\"\")))","v":""},{"$f":" IF(EN11 = \"\", \"\", IF(IF(ROW(AY12) = FLOOR((MATCH(AY12, AY:AY, 0) + MATCH(AY12, AY:AY))/2,1), MAX(INDIRECT(\"AW\"&(MATCH(AY12,AY:AY,0))&\":AW\"&MATCH(AY12,AY:AY))),\"\") = 0, \"\",  IF(ROW(AY12) = FLOOR((MATCH(AY12, AY:AY, 0) + MATCH(AY12, AY:AY))/2,1), MAX(INDIRECT(\"AW\"&(MATCH(AY12,AY:AY,0))&\":AW\"&MATCH(AY12,AY:AY))),\"\")))","v":""},{"$f":" IF(EN11 = \"\", \"\", IF(IF(ROW(AY12) = FLOOR((MATCH(AY12, AY:AY, 0) + MATCH(AY12, AY:AY))/2,1), MAX(INDIRECT(\"AX\"&(MATCH(AY12,AY:AY,0))&\":AX\"&MATCH(AY12,AY:AY))),\"\") = 0, \"\",  IF(ROW(AY12) = FLOOR((MATCH(AY12, AY:AY, 0) + MATCH(AY12, AY:AY))/2,1), MAX(INDIRECT(\"AX\"&(MATCH(AY12,AY:AY,0))&\":AX\"&MATCH(AY12,AY:AY))),\"\")))","v":""},{"$f":" MIN(BU11, BD11)","v":0},{"$f":" IF(BX12=\"\",0,IF(IF(BU12 = \"\",0,(-1*(MAX(BU$5:$BU12)-BU12)))=0,0,IF(BU12 = \"\",0,(-1*(MAX(BU$5:$BU12)-BU12)))))","v":0},{"$f":" IF(BX12=\"\",0,IF(IF(BU12=\"\",0,(-1*(MAX(BU$5:$BU12)-BU12)))/MAX($BU$5:BU12) = 0,0,IF(BU12=\"\",0,(-1*(MAX(BU$5:$BU12)-BU12)))/MAX($BU$5:BU12)))","v":0},{"$f":" IF(EN12 = \"\", \"\", IF(BL11 = BL12, BG11, BG11 + 1))","v":""},{"$f":" IF(EN12 = \"\", \"\", IF(BL11 = BL12, BH11 + 1,1))","v":""},{"$f":" IF(BF12 = 0, \"\", IF( IF(ROW(BG12) = FLOOR((MATCH(BG12, BG:BG, 0) + MATCH(BG12, BG:BG))/2,1), INDIRECT(\"E\"&(MATCH(BG12,BG:BG))) + INDIRECT(\"F\"&(MATCH(BG12,BG:BG)))  - INDIRECT(\"E\"&(MATCH(BG12,BG:BG,0))) - INDIRECT(\"F\"&(MATCH(BG12,BG:BG,0))),\"\") = 0, \"\", IF(ROW(BG12) = FLOOR((MATCH(BG12,BG:BG,0) + MATCH(BG12, BG:BG))/2,1), INDIRECT(\"E\"&(MATCH(BG12,BG:BG))) + INDIRECT(\"F\"&(MATCH(BG12,BG:BG)))  - INDIRECT(\"E\"&(MATCH(BG12,BG:BG,0))) - INDIRECT(\"F\"&(MATCH(BG12,BG:BG,0))),\"\")))","v":""},{"$f":" IF(EN11 = \"\", \"\",  IF(IF(ROW(BG12) = FLOOR((MATCH(BG12, BG:BG, 0) + MATCH(BG12, BG:BG))/2,1), MIN(INDIRECT(\"BE\"&(MATCH(BG12,BG:BG,0))&\":BE\"&MATCH(BG12,BG:BG))),\"\") = 0, \"\", IF(ROW(BG12) = FLOOR((MATCH(BG12, BG:BG, 0) + MATCH(BG12, BG:BG))/2,1), MIN(INDIRECT(\"BE\"&(MATCH(BG12,BG:BG,0))&\":BE\"&MATCH(BG12,BG:BG))),\"\")))","v":""},{"$f":" IF(EN11 = \"\", \"\",  IF(IF(ROW(BG12) = FLOOR((MATCH(BG12, BG:BG, 0) + MATCH(BG12, BG:BG))/2,1), MIN(INDIRECT(\"BF\"&(MATCH(BG12,BG:BG,0))&\":BF\"&MATCH(BG12,BG:BG))),\"\") = 0, \"\", IF(ROW(BG12) = FLOOR((MATCH(BG12, BG:BG, 0) + MATCH(BG12, BG:BG))/2,1), MIN(INDIRECT(\"BF\"&(MATCH(BG12,BG:BG,0))&\":BF\"&MATCH(BG12,BG:BG))),\"\")))","v":""},{"$f":" MAX(BU11, BL11)","v":0},{"$f":"IF(H12=\"\",\"\",IF(H12=\"Win\",IF(BN12=1,BN12 & \" \" & \"Win\",BN12 & \" \" & \"Wins\"),IF(H12=\"Loss\",IF(BN12=1,BN12 & \" \" & \"Loss\",BN12 & \" \" & \"Losses\"), IF(H12 = \"BE\",IF(BN12=1,BN12 & \" \" & \"BE\",BN12 & \" \" & \"BE's\")))))","v":""},{"$f":" IF(H11=\"\",\"\",IF(H11=H12, BN11+1,1))","v":""},{"$f":" IF(H12 = \"\", \"\", IF(H11 <> H12, (LOOKUP(9E+307,$BO$5:$BO11) + 1), \"\"))","v":""},{"$f":" IF(EN11 = \"\", \"\", IF(BN12 = 1, \"\",IF(BN12<BN13, \"\", \"S\")))","v":""},{"$f":" IF(BP12 = \"\", \"\", IF(H12 = \"Win\",BN12,\"\"))","v":""},{"$f":" IF(BP12 = \"\", \"\", IF(H12 = \"Loss\",BN12,\"\"))","v":""},{"$f":" IF(BP12 = \"\", \"\", IF(H12 = \"BE\",BN12,\"\"))","v":""},{"$f":" IF(EN12 = \"\", \"\", DB12 +CZ12)","v":""},{"$f":" IF(EN12 = \"\", \"\", BU11 + BT12)","v":""},{"$f":" IF(BU12 = \"\",\"\", BV11 + 1)","v":""},{"$f":" IF(BU12 = \"\", \"\", $FN$13*BV12 + $FM$13)","v":""},{"$f":" IF(EN12 = \"\", \"\", (BT12)/BU11)","v":""},{"$f":" IF(EN12 = \"\", \"\",'Overall Performance'!$C$22)","v":""},{"$f":" IF(EN12 = \"\", \"\", IF(BX12=0,\"\",BX12 + 1))","v":""},{"$f":" IF(H12 = \"Win\", BZ12, \"\")","v":""},{"$f":" IF(H12 = \"Loss\", BZ12, \"\")","v":""},{"$f":"IFERROR(INDEX($Y:$Y,SMALL(IF($Y:$Y<>\"\",ROW($Y:$Y)),ROW(7:7))),\"\")","v":""},null,{"$f":" IF(Z12 = \"\", \"\", IF(Z12>0, 0, CH12))","v":""},{"$f":" IF(Z12 = \"\", \"\", IF(Z12>0, 0, W12))","v":""},{"$f":" IF(Z12 = \"\", \"\", Z12 - $FJ$10 + 1)","v":""},{"$f":" IF(Z12 = \"\", \"\", Z12 - $FJ$10)","v":""},{"$f":" IF(AN12 = \"\", \"\", IF(AN12 > 0, 0, CL12))","v":""},{"$f":" IF(AN12 = \"\", \"\", IF(AN12 > 0, 0, AK12))","v":""},{"$f":"IF(AN12=\"\", \"\",AN12-$FJ$14 + 1)","v":""},{"$f":"IF(AN12=\"\", \"\",AN12-$FJ$14)","v":""},{"$f":" IF(EN12 = \"\",\"\",(ES12 - EQ12)/(EQ12 - ER12))","v":""},{"$f":" IF(EN12=\"\",\"\", DA12*ABS((ET12-EQ12)/(EQ12-ER12)))","v":""},{"$f":" IF(CN12 > 0, CN12, \"\")","v":""},{"$f":" IF(CN12 < 0, CN12, \"\")","v":""},{"$f":" IF(EN12 = \"\", \"\", IF(OR(BX12 > AVERAGE(BX:BX) + 3*_xlfn.STDEV.P(BX:BX), BX12 < AVERAGE(BX:BX) - 3*_xlfn.STDEV.P(BX:BX)), BX12, 0))","v":""},{"$f":" IF(EN12= \"\", \"\", SUM(INDIRECT(\"BT\"&(MATCH(U12,U:U,0))&\":BT\"&DC12)))","v":""},{"$f":" IF(EN12= \"\", \"\", SUM(INDIRECT(\"ET\"&(MATCH(U12,U:U,0))&\":ET\"&DC12)))","v":""},{"$f":" IF(EN12= \"\", \"\", (INDIRECT(\"BU\"&DC12)))","v":""},{"$f":" IF(EN12= \"\", \"\", SUM(INDIRECT(\"O\"&(MATCH(U12,U:U,0))&\":T\"&DC12)))","v":""},{"$f":"IF(EN12=\"\",\"\",IF(LEN(RIGHT(EQ12,LEN(EQ12)-FIND(\".\",EQ12)))=2,((-1*ABS(EU12-EQ12))*100),IF(LEN(RIGHT(EQ12,LEN(EQ12)-FIND(\".\",EQ12)))=4,((-1*ABS(EU12-EQ12))*10000),IF(LEN(RIGHT(EQ12,LEN(EQ12)-FIND(\".\",EQ12)))=3,((-1*ABS(EU12-EQ12))*100),IF(LEN(RIGHT(EQ12,LEN(EQ12)-FIND(\".\",EQ12)))=5,((-1*ABS(EU12-EQ12))*10000))))))","v":""},{"$f":" IF(EN12 = \"\", \"\", (((EU12-EQ12)/(ET12-EQ12))*CZ12) + DB12)","v":""},{"$f":"IF(EN12=\"\",\"\",IF(LEN(RIGHT(EQ12,LEN(EQ12)-FIND(\".\",EQ12)))=2,((ABS(EV12-EQ12))*100),IF(LEN(RIGHT(EQ12,LEN(EQ12)-FIND(\".\",EQ12)))=4,((ABS(EV12-EQ12))*10000),IF(LEN(RIGHT(EQ12,LEN(EQ12)-FIND(\".\",EQ12)))=3,((ABS(EV12-EQ12))*100),IF(LEN(RIGHT(EQ12,LEN(EQ12)-FIND(\".\",EQ12)))=5,((ABS(EV12-EQ12))*10000))))))","v":""},{"$f":" IF(EN12 = \"\", \"\", (((EV12-EQ12)/(ET12-EQ12))*CZ12) + DB12)","v":""},{"$f":" IF(EN12 = \"\", \"\", EL12)","v":""},{"$f":" IF(EN12 = \"\", \"\", IF(EN12 = \"Buy\", IF(EQ12 > ET12, -1, 1), IF(EQ12 > ET12, 1, -1)))","v":""},{"$f":"IF(EN12=\"\", \"\",EZ12+FA12)","v":""},{"$f":" IF(EN12 = \"\", \"\", LOOKUP(2,1/(U:U = U12), ROW(U:U)))","v":""},{"$f":" IF(EN12 = \"\", \"\", LOOKUP(2,1/(AB:AB = AB12), ROW(AB:AB)))","v":""},{"$f":" IF(EN12 = \"\", \"\", LOOKUP(2,1/(AI:AI = AI12), ROW(AI:AI)))","v":""},null,null,{"$f":" IF(CO12 = \"\", \"\", CO12*EY12)","v":""},{"$f":" IF(CP12 = \"\", \"\", CP12*EY12)","v":""},{"$f":" IF(EN12 = \"\", \"\",BF12)","v":""},{"$f":" DJ12","v":""},{"$f":" IF(EL13 = \"\", \"\", DL11 + 1)","v":""},{"$f":" IF(EN12 <> \"\", K12*24,#N/A)","v":{"$error":"#N/A"}},{"$f":" IF(EN12 <> \"\", CW12,#N/A)","v":{"$error":"#N/A"}},{"$f":" IF(EN12 <> \"\", CY12,#N/A)","v":{"$error":"#N/A"}},{"$f":" IF(EN12 <> \"\", CM12,#N/A)","v":{"$error":"#N/A"}},{"$f":" IF(EN12 <> \"\", CN12,#N/A)","v":{"$error":"#N/A"}},{"$f":" IF(CN12 > 0, CM12, -1)","v":""},{"$f":" IF(CN12 > 0, CM12, \"\")","v":""},{"$f":" IF(CN12 < 0, CM12, \"\")","v":""},{"$f":" IF(AQ12 = \"\",\"\",LOOKUP(9E+307,$DU$5:$DU11) + 1)","v":""},{"$f":" IF(EN12 = \"\", \"\", (CZ12)/BU11)","v":""},{"$f":" IF(EN12 = \"\", \"\", WEEKDAY(C12,1))","v":""},{"$f":" IF(EN12=\"\", \"\", MONTH(C12))","v":""},{"$f":" IF(EN12 = \"\", \"\", YEAR(E12))","v":""},{"$f":" IF(EB12 = \"\", \"\", MAX(((EA12-EB12)/EA12), ((EB12-EC12)/EB12)))","v":""},{"$f":" IF(EB12=\"\", \"\", MAX($EB$6:EB12))","v":""},{"$f":" AM12","v":""},{"$f":" IF(EB12=\"\",\"\", MIN(EB12:$EB$1048576))","v":""},{"$f":" IF(EN12 = \"\", \"\", LOOKUP(2,1/(AP:AP = AP12), ROW(AP:AP)))","v":""},{"$f":" IFERROR(_xlfn.IFS(FE12 = \"1-Minute\", 1, FE12 = \"5-Minute\", 2, FE12 = \"15-Minute\", 3, FE12 = \"30-Minute\", 4, FE12 = \"1-Hour\", 5, FE12 = \"4-Hour\", 6, FE12 = \"Daily\", 7, FE12 = \"Weekly\", 8, FE12 = \"Monthly\", 9), \"\")","v":""},{"$f":" IFERROR(_xlfn.IFS(FF12 = \"Very Low\", 1, FF12 = \"Low\", 2, FF12 = \"Medium\", 3, FF12 = \"High\", 4, FF12 = \"Very High\", 5),\"\")","v":""},null,{"$f":" TEXT(CM12, \"#,###0.000\") & \" : 1\"","v":" : 1"},{"$f":" IF(EN12 = \"\", \"\", IF(N12 = \"Buy\", (ET12-EQ12)/(EV12-EU12), (EQ12-ET12)/(EU12-EV12)))","v":""},{"$f":"IF(EN12=\"\",\"\",IF(N12 = \"Buy\", (EV12 - EQ12)/(EV12-EU12), (EQ12-EV12)/(EU12-EV12)))","v":""},{"$f":"IF(EN12=\"\",\"\",IF(N12 = \"Buy\", (ET12-EU12)/(EV12-EU12), (EU12-ET12)/(EU12-EV12)))","v":""},null,null,null,null,null,null,null,null,null,null,null,{"$f":" IF(EQ12=\"\",\"\",IF(LEN(RIGHT(EQ12,LEN(EQ12)-FIND(\".\",EQ12)))=2,((IF(EN12 = \"Buy\", IF(DF12 = EQ12, IF(DG12 = ET12, 0, ET12 - DG12),IF(DG12 = ET12, DF12-EQ12, (DF12 - EQ12) + (ET12 - DG12))), IF(DF12 = EQ12, IF(DG12 = ET12, 0, DG12-ET12),IF(DG12 = ET12, EQ12-DF12, (EQ12-DF12) + (DG12-ET12)))))*100),IF(LEN(RIGHT(EQ12,LEN(EQ12)-FIND(\".\",EQ12)))=4,((IF(EN12 = \"Buy\", IF(DF12 = EQ12, IF(DG12 = ET12, 0, ET12 - DG12),IF(DG12 = ET12, DF12-EQ12, (DF12 - EQ12) + (ET12 - DG12))), IF(DF12 = EQ12, IF(DG12 = ET12, 0, DG12-ET12),IF(DG12 = ET12, EQ12-DF12, (EQ12-DF12) + (DG12-ET12)))))*10000),IF(LEN(RIGHT(EQ12,LEN(EQ12)-FIND(\".\",EQ12)))=3,((IF(EN12 = \"Buy\", IF(DF12 = EQ12, IF(DG12 = ET12, 0, ET12 - DG12),IF(DG12 = ET12, DF12-EQ12, (DF12 - EQ12) + (ET12 - DG12))), IF(DF12 = EQ12, IF(DG12 = ET12, 0, DG12-ET12),IF(DG12 = ET12, EQ12-DF12, (EQ12-DF12) + (DG12-ET12)))))*100),IF(LEN(RIGHT(EQ12,LEN(EQ12)-FIND(\".\",EQ12)))=5,((IF(EN12 = \"Buy\", IF(DF12 = EQ12, IF(DG12 = ET12, 0, ET12 - DG12),IF(DG12 = ET12, DF12-EQ12, (DF12 - EQ12) + (ET12 - DG12))), IF(DF12 = EQ12, IF(DG12 = ET12, 0, DG12-ET12),IF(DG12 = ET12, EQ12-DF12, (EQ12-DF12) + (DG12-ET12)))))*10000))))))","v":""},{"$f":"IF(EN12=\"\",\"\",IF(LEN(RIGHT(EQ12,LEN(EQ12)-FIND(\".\",EQ12)))=2,((DA12*ABS(ET12-EQ12))*100),IF(LEN(RIGHT(EQ12,LEN(EQ12)-FIND(\".\",EQ12)))=4,((DA12*ABS(ET12-EQ12))*10000),IF(LEN(RIGHT(EQ12,LEN(EQ12)-FIND(\".\",EQ12)))=3,((DA12*ABS(ET12-EQ12))*100),IF(LEN(RIGHT(EQ12,LEN(EQ12)-FIND(\".\",EQ12)))=5,((DA12*ABS(ET12-EQ12))*10000))))))","v":""},{"$f":"IF(EN12=\"\",\"\",ABS(DV12/ABS(CN12)))","v":""},null,null,null,null,null,null,null,null,null,null,{"$f":" GEOMEAN(AA:AA) - 1","v":{"$error":"#NUM!"}},{"$f":" _xlfn.STDEV.P(W:W)","v":{"$error":"#DIV/0!"}},{"$f":" SUMIF(H:H, \"Loss\", BX:BX)","v":0},"y-intercept:","slope:"]
[null,{"$f":" B12+ 1","v":8},null,null,null,null,{"$f":" IF(EN13 = \"\", \"\", INT(K13)&\" d,\"&\" \"&HOUR(K13)&\" h,\"&\" \"&MINUTE(K13)&\" m,\"&\" \"&SECOND(K13)&\" s\")","v":""},{"$f":" IF(EN13 = \"\",\"\",IF(CZ13 +DB13 = 0, \"BE\", IF(CZ13 > 0, \"Win\",\"Loss\")))","v":""},{"$f":" IF(EN13=\"\", \"\",VALUE(C13 + D13))","v":""},{"$f":" IF(EN13 = \"\", \"\", VALUE(E13 + F13))","v":""},{"$f":"IF(EN13=\"\",\"\",IF(C13=\"\",0,IF(D13=\"\",0,(E13+F13-D13-C13))))","v":""},{"$f":" IFERROR(IF(VALUE(E13&F13) > VALUE(C14&D14), IF(VALUE(C14+D14) < VALUE(C15 + D15), E13 + F13 - C14 - D14 - (C13 + D13 - C14 - D14),E13 + F13 - C14 - D14), \"\"), \"\")","v":""},{"$f":"IFERROR(IF(EN13=\"\",\"\",IF(VALUE(E12+F12)<VALUE(C13+D13),C13+D13-E12-F12,\"\")),\"\")","v":""},{"$f":" TRIM(EN13)","v":""},{"$f":" IF(AND(N13 = \"Buy\", H13 = \"Win\"), 1, 0)","v":0},{"$f":" IF(AND(N13 = \"Sell\", H13 = \"Win\"), 1, 0)","v":0},{"$f":" IF(AND(N13 = \"Buy\", H13 = \"Loss\"), 1, 0)","v":0},{"$f":" IF(AND(N13 = \"Sell\", H13 = \"Loss\"), 1, 0)","v":0},{"$f":" IF(AND(N13 = \"Buy\", H13 = \"BE\"), 1, 0)","v":0},{"$f":" IF(AND(N13 = \"Sell\", H13 = \"BE\"), 1, 0)","v":0},{"$f":" IF(EN13 = \"\", 0, (E13 - DATE(YEAR(E13),1,0)) & YEAR(E13)&\"\")","v":0},{"$f":"IFERROR( IF(SUM(INDIRECT(\"O\"&(MATCH(U13,U:U,0))&\":T\"&DC13)) = 0, \"\", IF(ROW(U13) = FLOOR((MATCH(U13, U:U, 0) +DC13)/2,1),SUM(INDIRECT(\"O\"&(MATCH(U13,U:U,0))&\":T\"&DC13)),\"\")),\"\")","v":""},{"$f":" IFERROR(IF(EN13 = \"\", \"\", IF(ROW(U13) = FLOOR((MATCH(U13, U:U, 0) + DC13)/2,1),SUM(INDIRECT(\"BT\"&(MATCH(U13,U:U,0))&\":BT\"&DC13)),\"\")),\"\")","v":""},{"$f":"  IFERROR(IF(W13 = \"\",\"\",W13/(Y13-W13)),\"\")","v":""},{"$f":" IFERROR(IF(ROW(U13) = FLOOR((MATCH(U13, U:U, 0) + DC13)/2,1),INDIRECT(\"BU\"&DC13),\"\"),\"\")","v":""},{"$f":"  IF(V13= 0,\"\",X13)","v":""},{"$f":"IF(Z13=\"\",\"\",Z13+1)","v":""},{"$f":" IF(EN13 = \"\", 0, WEEKNUM(E13) & YEAR(E13) & \"\")","v":0},{"$f":" IFERROR(IF(SUM(INDIRECT(\"O\"&(MATCH(AB13,AB:AB,0))&\":T\"&DD13)) = 0, \"\", IF(ROW(AB13) = FLOOR((MATCH(AB13, AB:AB, 0) + DD13)/2,1),SUM(INDIRECT(\"O\"&(MATCH(AB13,AB:AB,0))&\":T\"&DD13)),\"\")),\"\")","v":""},{"$f":" IFERROR(IF(EN13 = \"\", \"\", IF(ROW(AB13) = FLOOR((MATCH(AB13, AB:AB, 0) +DD13)/2,1),SUM(INDIRECT(\"BT\"&(MATCH(AB13,AB:AB,0))&\":BT\"&DD13)),\"\")),\"\")","v":""},{"$f":" IFERROR( IF(AD13 = \"\",\"\",AD13/(AF13-AD13)),\"\")","v":""},{"$f":" IFERROR(IF(ROW(AB13) = FLOOR((MATCH(AB13, AB:AB, 0) + DD13)/2,1),INDIRECT(\"BU\"&DD13),\"\"),\"\")","v":""},{"$f":"  IF(AC13= 0,\"\",AE13)","v":""},{"$f":"IF(AG13=\"\",\"\",AG13+1)","v":""},{"$f":" IF(EN13 = \"\", 0, MONTH(E13)&YEAR(E13)&\"\")","v":0},{"$f":"IFERROR( IF(SUM(INDIRECT(\"O\"&(MATCH(AI13,AI:AI,0))&\":T\"&DE13)) = 0, \"\", IF(ROW(AI13) = FLOOR((MATCH(AI13, AI:AI, 0) + DE13)/2,1),SUM(INDIRECT(\"O\"&(MATCH(AI13,AI:AI,0))&\":T\"&DE13)),\"\")),\"\")","v":""},{"$f":" IFERROR(IF(EN13 = \"\", \"\", IF(ROW(AI13) = FLOOR((MATCH(AI13, AI:AI, 0) + DE13)/2,1),SUM(INDIRECT(\"BT\"&(MATCH(AI13,AI:AI,0))&\":BT\"&DE13)),\"\")),\"\")","v":""},{"$f":" IFERROR( IF(AK13 = \"\",\"\",AK13/(AM13-AK13)),\"\")","v":""},{"$f":" IFERROR(IF(ROW(AI13) = FLOOR((MATCH(AI13, AI:AI, 0) + DE13)/2,1),INDIRECT(\"BU\"&DE13),\"\"),\"\")","v":""},{"$f":"  IF(AJ13= 0,\"\",AL13)","v":""},{"$f":"IF(AN13=\"\",\"\",AN13+1)","v":""},{"$f":" IF(EN13 = \"\", 0, YEAR(E13)&\"\")","v":0},{"$f":" IFERROR(IF(SUM(INDIRECT(\"O\"&(MATCH(AP13,AP:AP,0))&\":T\"&ED13)) = 0, \"\", IF(ROW(AP13) = FLOOR((MATCH(AP13, AP:AP, 0) + ED13)/2,1),SUM(INDIRECT(\"O\"&(MATCH(AP13,AP:AP,0))&\":T\"&ED13)),\"\")), \"\")","v":""},{"$f":" IF(EN13 = \"\", \"\", IF(ROW(AP13) = FLOOR((MATCH(AP13, AP:AP, 0) + ED13)/2,1),SUM(INDIRECT(\"BT\"&(MATCH(AP13,AP:AP,0))&\":BT\"&ED13)),\"\"))","v":""},{"$f":" IFERROR( IF(AR13 = \"\",\"\",AR13/(AT13-AR13)),\"\")","v":""},{"$f":" IFERROR(IF(ROW(AP13) = FLOOR((MATCH(AP13, AP:AP, 0) + ED13)/2,1),INDIRECT(\"BU\"&ED13),\"\"), \"\")","v":""},{"$f":"  IF(AQ13= 0,\"\",AS13)","v":""},{"$f":"IF(AU13=\"\",\"\",AU13+1)","v":""},{"$f":" IF(BX13=\"\",0,IF(IF(BU13 = \"\",0,-1*((MIN(BU$5:$BU13)-BU13)))=0,0,IF(BU13 = \"\",0,-1*((MIN(BU$5:$BU13)-BU13)))))","v":0},{"$f":"  IF(BX13=\"\",0,IF(IF(BU13 = \"\",0,-1*((MIN(BU$5:$BU13)-BU13)))/MIN((BU$5:BU13))=0,0,IF(BU13 = \"\",0,-1*((MIN(BU$5:$BU13)-BU13)))/MIN((BU$5:BU13))))","v":0},{"$f":" IF(EN13 = \"\", \"\", IF(BD12 = BD13, AY12, AY12 + 1))","v":""},{"$f":" IF(EN13 = \"\", \"\", IF(BD12 = BD13, AZ12 + 1,1))","v":""},{"$f":" IF(AX13 = 0, \"\", IF( IF(ROW(AY13) = FLOOR((MATCH(AY13, AY:AY, 0) + MATCH(AY13, AY:AY))/2,1), INDIRECT(\"E\"&(MATCH(AY13,AY:AY))) + INDIRECT(\"F\"&(MATCH(AY13,AY:AY)))  - INDIRECT(\"E\"&(MATCH(AY13,AY:AY,0))) - INDIRECT(\"F\"&(MATCH(AY13,AY:AY,0))),\"\") = 0, \"\", IF(ROW(AY13) = FLOOR((MATCH(AY13, AY:AY, 0) + MATCH(AY13, AY:AY))/2,1), INDIRECT(\"E\"&(MATCH(AY13,AY:AY))) + INDIRECT(\"F\"&(MATCH(AY13,AY:AY)))  - INDIRECT(\"E\"&(MATCH(AY13,AY:AY,0))) - INDIRECT(\"F\"&(MATCH(AY13,AY:AY,0))),\"\")))","v":""},{"$f":" IF(EN12 = \"\", \"\", IF(IF(ROW(AY13) = FLOOR((MATCH(AY13, AY:AY, 0) + MATCH(AY13, AY:AY))/2,1), MAX(INDIRECT(\"AW\"&(MATCH(AY13,AY:AY,0))&\":AW\"&MATCH(AY13,AY:AY))),\"\") = 0, \"\",  IF(ROW(AY13) = FLOOR((MATCH(AY13, AY:AY, 0) + MATCH(AY13, AY:AY))/2,1), MAX(INDIRECT(\"AW\"&(MATCH(AY13,AY:AY,0))&\":AW\"&MATCH(AY13,AY:AY))),\"\")))","v":""},{"$f":" IF(EN12 = \"\", \"\", IF(IF(ROW(AY13) = FLOOR((MATCH(AY13, AY:AY, 0) + MATCH(AY13, AY:AY))/2,1), MAX(INDIRECT(\"AX\"&(MATCH(AY13,AY:AY,0))&\":AX\"&MATCH(AY13,AY:AY))),\"\") = 0, \"\",  IF(ROW(AY13) = FLOOR((MATCH(AY13, AY:AY, 0) + MATCH(AY13, AY:AY))/2,1), MAX(INDIRECT(\"AX\"&(MATCH(AY13,AY:AY,0))&\":AX\"&MATCH(AY13,AY:AY))),\"\")))","v":""},{"$f":" MIN(BU12, BD12)","v":0},{"$f":" IF(BX13=\"\",0,IF(IF(BU13 = \"\",0,(-1*(MAX(BU$5:$BU13)-BU13)))=0,0,IF(BU13 = \"\",0,(-1*(MAX(BU$5:$BU13)-BU13)))))","v":0},{"$f":" IF(BX13=\"\",0,IF(IF(BU13=\"\",0,(-1*(MAX(BU$5:$BU13)-BU13)))/MAX($BU$5:BU13) = 0,0,IF(BU13=\"\",0,(-1*(MAX(BU$5:$BU13)-BU13)))/MAX($BU$5:BU13)))","v":0},{"$f":" IF(EN13 = \"\", \"\", IF(BL12 = BL13, BG12, BG12 + 1))","v":""},{"$f":" IF(EN13 = \"\", \"\", IF(BL12 = BL13, BH12 + 1,1))","v":""},{"$f":" IF(BF13 = 0, \"\", IF( IF(ROW(BG13) = FLOOR((MATCH(BG13, BG:BG, 0) + MATCH(BG13, BG:BG))/2,1), INDIRECT(\"E\"&(MATCH(BG13,BG:BG))) + INDIRECT(\"F\"&(MATCH(BG13,BG:BG)))  - INDIRECT(\"E\"&(MATCH(BG13,BG:BG,0))) - INDIRECT(\"F\"&(MATCH(BG13,BG:BG,0))),\"\") = 0, \"\", IF(ROW(BG13) = FLOOR((MATCH(BG13,BG:BG,0) + MATCH(BG13, BG:BG))/2,1), INDIRECT(\"E\"&(MATCH(BG13,BG:BG))) + INDIRECT(\"F\"&(MATCH(BG13,BG:BG)))  - INDIRECT(\"E\"&(MATCH(BG13,BG:BG,0))) - INDIRECT(\"F\"&(MATCH(BG13,BG:BG,0))),\"\")))","v":""},{"$f":" IF(EN12 = \"\", \"\",  IF(IF(ROW(BG13) = FLOOR((MATCH(BG13, BG:BG, 0) + MATCH(BG13, BG:BG))/2,1), MIN(INDIRECT(\"BE\"&(MATCH(BG13,BG:BG,0))&\":BE\"&MATCH(BG13,BG:BG))),\"\") = 0, \"\", IF(ROW(BG13) = FLOOR((MATCH(BG13, BG:BG, 0) + MATCH(BG13, BG:BG))/2,1), MIN(INDIRECT(\"BE\"&(MATCH(BG13,BG:BG,0))&\":BE\"&MATCH(BG13,BG:BG))),\"\")))","v":""},{"$f":" IF(EN12 = \"\", \"\",  IF(IF(ROW(BG13) = FLOOR((MATCH(BG13, BG:BG, 0) + MATCH(BG13, BG:BG))/2,1), MIN(INDIRECT(\"BF\"&(MATCH(BG13,BG:BG,0))&\":BF\"&MATCH(BG13,BG:BG))),\"\") = 0, \"\", IF(ROW(BG13) = FLOOR((MATCH(BG13, BG:BG, 0) + MATCH(BG13, BG:BG))/2,1), MIN(INDIRECT(\"BF\"&(MATCH(BG13,BG:BG,0))&\":BF\"&MATCH(BG13,BG:BG))),\"\")))","v":""},{"$f":" MAX(BU12, BL12)","v":0},{"$f":"IF(H13=\"\",\"\",IF(H13=\"Win\",IF(BN13=1,BN13 & \" \" & \"Win\",BN13 & \" \" & \"Wins\"),IF(H13=\"Loss\",IF(BN13=1,BN13 & \" \" & \"Loss\",BN13 & \" \" & \"Losses\"), IF(H13 = \"BE\",IF(BN13=1,BN13 & \" \" & \"BE\",BN13 & \" \" & \"BE's\")))))","v":""},{"$f":" IF(H12=\"\",\"\",IF(H12=H13, BN12+1,1))","v":""},{"$f":" IF(H13 = \"\", \"\", IF(H12 <> H13, (LOOKUP(9E+307,$BO$5:$BO12) + 1), \"\"))","v":""},{"$f":" IF(EN12 = \"\", \"\", IF(BN13 = 1, \"\",IF(BN13<BN14, \"\", \"S\")))","v":""},{"$f":" IF(BP13 = \"\", \"\", IF(H13 = \"Win\",BN13,\"\"))","v":""},{"$f":" IF(BP13 = \"\", \"\", IF(H13 = \"Loss\",BN13,\"\"))","v":""},{"$f":" IF(BP13 = \"\", \"\", IF(H13 = \"BE\",BN13,\"\"))","v":""},{"$f":" IF(EN13 = \"\", \"\", DB13 +CZ13)","v":""},{"$f":" IF(EN13 = \"\", \"\", BU12 + BT13)","v":""},{"$f":" IF(BU13 = \"\",\"\", BV12 + 1)","v":""},{"$f":" IF(BU13 = \"\", \"\", $FN$13*BV13 + $FM$13)","v":""},{"$f":" IF(EN13 = \"\", \"\", (BT13)/BU12)","v":""},{"$f":" IF(EN13 = \"\", \"\",'Overall Performance'!$C$22)","v":""},{"$f":" IF(EN13 = \"\", \"\", IF(BX13=0,\"\",BX13 + 1))","v":""},{"$f":" IF(H13 = \"Win\", BZ13, \"\")","v":""},{"$f":" IF(H13 = \"Loss\", BZ13, \"\")","v":""},{"$f":"IFERROR(INDEX($Y:$Y,SMALL(IF($Y:$Y<>\"\",ROW($Y:$Y)),ROW(8:8))),\"\")","v":""},null,{"$f":" IF(Z13 = \"\", \"\", IF(Z13>0, 0, CH13))","v":""},{"$f":" IF(Z13 = \"\", \"\", IF(Z13>0, 0, W13))","v":""},{"$f":" IF(Z13 = \"\", \"\", Z13 - $FJ$10 + 1)","v":""},{"$f":" IF(Z13 = \"\", \"\", Z13 - $FJ$10)","v":""},{"$f":" IF(AN13 = \"\", \"\", IF(AN13 > 0, 0, CL13))","v":""},{"$f":" IF(AN13 = \"\", \"\", IF(AN13 > 0, 0, AK13))","v":""},{"$f":"IF(AN13=\"\", \"\",AN13-$FJ$14 + 1)","v":""},{"$f":"IF(AN13=\"\", \"\",AN13-$FJ$14)","v":""},{"$f":" IF(EN13 = \"\",\"\",(ES13 - EQ13)/(EQ13 - ER13))","v":""},{"$f":" IF(EN13=\"\",\"\", DA13*ABS((ET13-EQ13)/(EQ13-ER13)))","v":""},{"$f":" IF(CN13 > 0, CN13, \"\")","v":""},{"$f":" IF(CN13 < 0, CN13, \"\")","v":""},{"$f":" IF(EN13 = \"\", \"\", IF(OR(BX13 > AVERAGE(BX:BX) + 3*_xlfn.STDEV.P(BX:BX), BX13 < AVERAGE(BX:BX) - 3*_xlfn.STDEV.P(BX:BX)), BX13, 0))","v":""},{"$f":" IF(EN13= \"\", \"\", SUM(INDIRECT(\"BT\"&(MATCH(U13,U:U,0))&\":BT\"&DC13)))","v":""},{"$f":" IF(EN13= \"\", \"\", SUM(INDIRECT(\"ET\"&(MATCH(U13,U:U,0))&\":ET\"&DC13)))","v":""},{"$f":" IF(EN13= \"\", \"\", (INDIRECT(\"BU\"&DC13)))","v":""},{"$f":" IF(EN13= \"\", \"\", SUM(INDIRECT(\"O\"&(MATCH(U13,U:U,0))&\":T\"&DC13)))","v":""},{"$f":"IF(EN13=\"\",\"\",IF(LEN(RIGHT(EQ13,LEN(EQ13)-FIND(\".\",EQ13)))=2,((-1*ABS(EU13-EQ13))*100),IF(LEN(RIGHT(EQ13,LEN(EQ13)-FIND(\".\",EQ13)))=4,((-1*ABS(EU13-EQ13))*10000),IF(LEN(RIGHT(EQ13,LEN(EQ13)-FIND(\".\",EQ13)))=3,((-1*ABS(EU13-EQ13))*100),IF(LEN(RIGHT(EQ13,LEN(EQ13)-FIND(\".\",EQ13)))=5,((-1*ABS(EU13-EQ13))*10000))))))","v":""},{"$f":" IF(EN13 = \"\", \"\", (((EU13-EQ13)/(ET13-EQ13))*CZ13) + DB13)","v":""},{"$f":"IF(EN13=\"\",\"\",IF(LEN(RIGHT(EQ13,LEN(EQ13)-FIND(\".\",EQ13)))=2,((ABS(EV13-EQ13))*100),IF(LEN(RIGHT(EQ13,LEN(EQ13)-FIND(\".\",EQ13)))=4,((ABS(EV13-EQ13))*10000),IF(LEN(RIGHT(EQ13,LEN(EQ13)-FIND(\".\",EQ13)))=3,((ABS(EV13-EQ13))*100),IF(LEN(RIGHT(EQ13,LEN(EQ13)-FIND(\".\",EQ13)))=5,((ABS(EV13-EQ13))*10000))))))","v":""},{"$f":" IF(EN13 = \"\", \"\", (((EV13-EQ13)/(ET13-EQ13))*CZ13) + DB13)","v":""},{"$f":" IF(EN13 = \"\", \"\", EL13)","v":""},{"$f":" IF(EN13 = \"\", \"\", IF(EN13 = \"Buy\", IF(EQ13 > ET13, -1, 1), IF(EQ13 > ET13, 1, -1)))","v":""},{"$f":"IF(EN13=\"\", \"\",EZ13+FA13)","v":""},{"$f":" IF(EN13 = \"\", \"\", LOOKUP(2,1/(U:U = U13), ROW(U:U)))","v":""},{"$f":" IF(EN13 = \"\", \"\", LOOKUP(2,1/(AB:AB = AB13), ROW(AB:AB)))","v":""},{"$f":" IF(EN13 = \"\", \"\", LOOKUP(2,1/(AI:AI = AI13), ROW(AI:AI)))","v":""},null,null,{"$f":" IF(CO13 = \"\", \"\", CO13*EY13)","v":""},{"$f":" IF(CP13 = \"\", \"\", CP13*EY13)","v":""},{"$f":" IF(EN13 = \"\", \"\",BF13)","v":""},{"$f":" DJ13","v":""},{"$f":" IF(EL14 = \"\", \"\", DL12 + 1)","v":""},{"$f":" IF(EN13 <> \"\", K13*24,#N/A)","v":{"$error":"#N/A"}},{"$f":" IF(EN13 <> \"\", CW13,#N/A)","v":{"$error":"#N/A"}},{"$f":" IF(EN13 <> \"\", CY13,#N/A)","v":{"$error":"#N/A"}},{"$f":" IF(EN13 <> \"\", CM13,#N/A)","v":{"$error":"#N/A"}},{"$f":" IF(EN13 <> \"\", CN13,#N/A)","v":{"$error":"#N/A"}},{"$f":" IF(CN13 > 0, CM13, -1)","v":""},{"$f":" IF(CN13 > 0, CM13, \"\")","v":""},{"$f":" IF(CN13 < 0, CM13, \"\")","v":""},{"$f":" IF(AQ13 = \"\",\"\",LOOKUP(9E+307,$DU$5:$DU12) + 1)","v":""},{"$f":" IF(EN13 = \"\", \"\", (CZ13)/BU12)","v":""},{"$f":" IF(EN13 = \"\", \"\", WEEKDAY(C13,1))","v":""},{"$f":" IF(EN13=\"\", \"\", MONTH(C13))","v":""},{"$f":" IF(EN13 = \"\", \"\", YEAR(E13))","v":""},{"$f":" IF(EB13 = \"\", \"\", MAX(((EA13-EB13)/EA13), ((EB13-EC13)/EB13)))","v":""},{"$f":" IF(EB13=\"\", \"\", MAX($EB$6:EB13))","v":""},{"$f":" AM13","v":""},{"$f":" IF(EB13=\"\",\"\", MIN(EB13:$EB$1048576))","v":""},{"$f":" IF(EN13 = \"\", \"\", LOOKUP(2,1/(AP:AP = AP13), ROW(AP:AP)))","v":""},{"$f":" IFERROR(_xlfn.IFS(FE13 = \"1-Minute\", 1, FE13 = \"5-Minute\", 2, FE13 = \"15-Minute\", 3, FE13 = \"30-Minute\", 4, FE13 = \"1-Hour\", 5, FE13 = \"4-Hour\", 6, FE13 = \"Daily\", 7, FE13 = \"Weekly\", 8, FE13 = \"Monthly\", 9), \"\")","v":""},{"$f":" IFERROR(_xlfn.IFS(FF13 = \"Very Low\", 1, FF13 = \"Low\", 2, FF13 = \"Medium\", 3, FF13 = \"High\", 4, FF13 = \"Very High\", 5),\"\")","v":""},null,{"$f":" TEXT(CM13, \"#,###0.000\") & \" : 1\"","v":" : 1"},{"$f":" IF(EN13 = \"\", \"\", IF(N13 = \"Buy\", (ET13-EQ13)/(EV13-EU13), (EQ13-ET13)/(EU13-EV13)))","v":""},{"$f":"IF(EN13=\"\",\"\",IF(N13 = \"Buy\", (EV13 - EQ13)/(EV13-EU13), (EQ13-EV13)/(EU13-EV13)))","v":""},{"$f":"IF(EN13=\"\",\"\",IF(N13 = \"Buy\", (ET13-EU13)/(EV13-EU13), (EU13-ET13)/(EU13-EV13)))","v":""},null,null,null,null,null,null,null,null,null,null,null,{"$f":" IF(EQ13=\"\",\"\",IF(LEN(RIGHT(EQ13,LEN(EQ13)-FIND(\".\",EQ13)))=2,((IF(EN13 = \"Buy\", IF(DF13 = EQ13, IF(DG13 = ET13, 0, ET13 - DG13),IF(DG13 = ET13, DF13-EQ13, (DF13 - EQ13) + (ET13 - DG13))), IF(DF13 = EQ13, IF(DG13 = ET13, 0, DG13-ET13),IF(DG13 = ET13, EQ13-DF13, (EQ13-DF13) + (DG13-ET13)))))*100),IF(LEN(RIGHT(EQ13,LEN(EQ13)-FIND(\".\",EQ13)))=4,((IF(EN13 = \"Buy\", IF(DF13 = EQ13, IF(DG13 = ET13, 0, ET13 - DG13),IF(DG13 = ET13, DF13-EQ13, (DF13 - EQ13) + (ET13 - DG13))), IF(DF13 = EQ13, IF(DG13 = ET13, 0, DG13-ET13),IF(DG13 = ET13, EQ13-DF13, (EQ13-DF13) + (DG13-ET13)))))*10000),IF(LEN(RIGHT(EQ13,LEN(EQ13)-FIND(\".\",EQ13)))=3,((IF(EN13 = \"Buy\", IF(DF13 = EQ13, IF(DG13 = ET13, 0, ET13 - DG13),IF(DG13 = ET13, DF13-EQ13, (DF13 - EQ13) + (ET13 - DG13))), IF(DF13 = EQ13, IF(DG13 = ET13, 0, DG13-ET13),IF(DG13 = ET13, EQ13-DF13, (EQ13-DF13) + (DG13-ET13)))))*100),IF(LEN(RIGHT(EQ13,LEN(EQ13)-FIND(\".\",EQ13)))=5,((IF(EN13 = \"Buy\", IF(DF13 = EQ13, IF(DG13 = ET13, 0, ET13 - DG13),IF(DG13 = ET13, DF13-EQ13, (DF13 - EQ13) + (ET13 - DG13))), IF(DF13 = EQ13, IF(DG13 = ET13, 0, DG13-ET13),IF(DG13 = ET13, EQ13-DF13, (EQ13-DF13) + (DG13-ET13)))))*10000))))))","v":""},{"$f":"IF(EN13=\"\",\"\",IF(LEN(RIGHT(EQ13,LEN(EQ13)-FIND(\".\",EQ13)))=2,((DA13*ABS(ET13-EQ13))*100),IF(LEN(RIGHT(EQ13,LEN(EQ13)-FIND(\".\",EQ13)))=4,((DA13*ABS(ET13-EQ13))*10000),IF(LEN(RIGHT(EQ13,LEN(EQ13)-FIND(\".\",EQ13)))=3,((DA13*ABS(ET13-EQ13))*100),IF(LEN(RIGHT(EQ13,LEN(EQ13)-FIND(\".\",EQ13)))=5,((DA13*ABS(ET13-EQ13))*10000))))))","v":""},{"$f":"IF(EN13=\"\",\"\",ABS(DV13/ABS(CN13)))","v":""},null,null,null,null,null,null,null,null,null,null,{"$f":" _xlfn.STDEV.P(CH:CH)","v":{"$error":"#DIV/0!"}},{"$f":" _xlfn.STDEV.P(AK:AK)","v":{"$error":"#DIV/0!"}},null,{"$f":" INTERCEPT(BU:BU, BV:BV)","v":{"$error":"#DIV/0!"}},{"$f":" SLOPE(BU:BU,BV:BV)","v":{"$error":"#DIV/0!"}}]
[null,{"$f":" B13+ 1","v":9},null,null,null,null,{"$f":" IF(EN14 = \"\", \"\", INT(K14)&\" d,\"&\" \"&HOUR(K14)&\" h,\"&\" \"&MINUTE(K14)&\" m,\"&\" \"&SECOND(K14)&\" s\")","v":""},{"$f":" IF(EN14 = \"\",\"\",IF(CZ14 +DB14 = 0, \"BE\", IF(CZ14 > 0, \"Win\",\"Loss\")))","v":""},{"$f":" IF(EN14=\"\", \"\",VALUE(C14 + D14))","v":""},{"$f":" IF(EN14 = \"\", \"\", VALUE(E14 + F14))","v":""},{"$f":"IF(EN14=\"\",\"\",IF(C14=\"\",0,IF(D14=\"\",0,(E14+F14-D14-C14))))","v":""},{"$f":" IFERROR(IF(VALUE(E14&F14) > VALUE(C15&D15), IF(VALUE(C15+D15) < VALUE(C16 + D16), E14 + F14 - C15 - D15 - (C14 + D14 - C15 - D15),E14 + F14 - C15 - D15), \"\"), \"\")","v":""},{"$f":"IFERROR(IF(EN14=\"\",\"\",IF(VALUE(E13+F13)<VALUE(C14+D14),C14+D14-E13-F13,\"\")),\"\")","v":""},{"$f":" TRIM(EN14)","v":""},{"$f":" IF(AND(N14 = \"Buy\", H14 = \"Win\"), 1, 0)","v":0},{"$f":" IF(AND(N14 = \"Sell\", H14 = \"Win\"), 1, 0)","v":0},{"$f":" IF(AND(N14 = \"Buy\", H14 = \"Loss\"), 1, 0)","v":0},{"$f":" IF(AND(N14 = \"Sell\", H14 = \"Loss\"), 1, 0)","v":0},{"$f":" IF(AND(N14 = \"Buy\", H14 = \"BE\"), 1, 0)","v":0},{"$f":" IF(AND(N14 = \"Sell\", H14 = \"BE\"), 1, 0)","v":0},{"$f":" IF(EN14 = \"\", 0, (E14 - DATE(YEAR(E14),1,0)) & YEAR(E14)&\"\")","v":0},{"$f":"IFERROR( IF(SUM(INDIRECT(\"O\"&(MATCH(U14,U:U,0))&\":T\"&DC14)) = 0, \"\", IF(ROW(U14) = FLOOR((MATCH(U14, U:U, 0) +DC14)/2,1),SUM(INDIRECT(\"O\"&(MATCH(U14,U:U,0))&\":T\"&DC14)),\"\")),\"\")","v":""},{"$f":" IFERROR(IF(EN14 = \"\", \"\", IF(ROW(U14) = FLOOR((MATCH(U14, U:U, 0) + DC14)/2,1),SUM(INDIRECT(\"BT\"&(MATCH(U14,U:U,0))&\":BT\"&DC14)),\"\")),\"\")","v":""},{"$f":"  IFERROR(IF(W14 = \"\",\"\",W14/(Y14-W14)),\"\")","v":""},{"$f":" IFERROR(IF(ROW(U14) = FLOOR((MATCH(U14, U:U, 0) + DC14)/2,1),INDIRECT(\"BU\"&DC14),\"\"),\"\")","v":""},{"$f":"  IF(V14= 0,\"\",X14)","v":""},{"$f":"IF(Z14=\"\",\"\",Z14+1)","v":""},{"$f":" IF(EN14 = \"\", 0, WEEKNUM(E14) & YEAR(E14) & \"\")","v":0},{"$f":" IFERROR(IF(SUM(INDIRECT(\"O\"&(MATCH(AB14,AB:AB,0))&\":T\"&DD14)) = 0, \"\", IF(ROW(AB14) = FLOOR((MATCH(AB14, AB:AB, 0) + DD14)/2,1),SUM(INDIRECT(\"O\"&(MATCH(AB14,AB:AB,0))&\":T\"&DD14)),\"\")),\"\")","v":""},{"$f":" IFERROR(IF(EN14 = \"\", \"\", IF(ROW(AB14) = FLOOR((MATCH(AB14, AB:AB, 0) +DD14)/2,1),SUM(INDIRECT(\"BT\"&(MATCH(AB14,AB:AB,0))&\":BT\"&DD14)),\"\")),\"\")","v":""},{"$f":" IFERROR( IF(AD14 = \"\",\"\",AD14/(AF14-AD14)),\"\")","v":""},{"$f":" IFERROR(IF(ROW(AB14) = FLOOR((MATCH(AB14, AB:AB, 0) + DD14)/2,1),INDIRECT(\"BU\"&DD14),\"\"),\"\")","v":""},{"$f":"  IF(AC14= 0,\"\",AE14)","v":""},{"$f":"IF(AG14=\"\",\"\",AG14+1)","v":""},{"$f":" IF(EN14 = \"\", 0, MONTH(E14)&YEAR(E14)&\"\")","v":0},{"$f":"IFERROR( IF(SUM(INDIRECT(\"O\"&(MATCH(AI14,AI:AI,0))&\":T\"&DE14)) = 0, \"\", IF(ROW(AI14) = FLOOR((MATCH(AI14, AI:AI, 0) + DE14)/2,1),SUM(INDIRECT(\"O\"&(MATCH(AI14,AI:AI,0))&\":T\"&DE14)),\"\")),\"\")","v":""},{"$f":" IFERROR(IF(EN14 = \"\", \"\", IF(ROW(AI14) = FLOOR((MATCH(AI14, AI:AI, 0) + DE14)/2,1),SUM(INDIRECT(\"BT\"&(MATCH(AI14,AI:AI,0))&\":BT\"&DE14)),\"\")),\"\")","v":""},{"$f":" IFERROR( IF(AK14 = \"\",\"\",AK14/(AM14-AK14)),\"\")","v":""},{"$f":" IFERROR(IF(ROW(AI14) = FLOOR((MATCH(AI14, AI:AI, 0) + DE14)/2,1),INDIRECT(\"BU\"&DE14),\"\"),\"\")","v":""},{"$f":"  IF(AJ14= 0,\"\",AL14)","v":""},{"$f":"IF(AN14=\"\",\"\",AN14+1)","v":""},{"$f":" IF(EN14 = \"\", 0, YEAR(E14)&\"\")","v":0},{"$f":" IFERROR(IF(SUM(INDIRECT(\"O\"&(MATCH(AP14,AP:AP,0))&\":T\"&ED14)) = 0, \"\", IF(ROW(AP14) = FLOOR((MATCH(AP14, AP:AP, 0) + ED14)/2,1),SUM(INDIRECT(\"O\"&(MATCH(AP14,AP:AP,0))&\":T\"&ED14)),\"\")), \"\")","v":""},{"$f":" IF(EN14 = \"\", \"\", IF(ROW(AP14) = FLOOR((MATCH(AP14, AP:AP, 0) + ED14)/2,1),SUM(INDIRECT(\"BT\"&(MATCH(AP14,AP:AP,0))&\":BT\"&ED14)),\"\"))","v":""},{"$f":" IFERROR( IF(AR14 = \"\",\"\",AR14/(AT14-AR14)),\"\")","v":""},{"$f":" IFERROR(IF(ROW(AP14) = FLOOR((MATCH(AP14, AP:AP, 0) + ED14)/2,1),INDIRECT(\"BU\"&ED14),\"\"), \"\")","v":""},{"$f":"  IF(AQ14= 0,\"\",AS14)","v":""},{"$f":"IF(AU14=\"\",\"\",AU14+1)","v":""},{"$f":" IF(BX14=\"\",0,IF(IF(BU14 = \"\",0,-1*((MIN(BU$5:$BU14)-BU14)))=0,0,IF(BU14 = \"\",0,-1*((MIN(BU$5:$BU14)-BU14)))))","v":0},{"$f":"  IF(BX14=\"\",0,IF(IF(BU14 = \"\",0,-1*((MIN(BU$5:$BU14)-BU14)))/MIN((BU$5:BU14))=0,0,IF(BU14 = \"\",0,-1*((MIN(BU$5:$BU14)-BU14)))/MIN((BU$5:BU14))))","v":0},{"$f":" IF(EN14 = \"\", \"\", IF(BD13 = BD14, AY13, AY13 + 1))","v":""},{"$f":" IF(EN14 = \"\", \"\", IF(BD13 = BD14, AZ13 + 1,1))","v":""},{"$f":" IF(AX14 = 0, \"\", IF( IF(ROW(AY14) = FLOOR((MATCH(AY14, AY:AY, 0) + MATCH(AY14, AY:AY))/2,1), INDIRECT(\"E\"&(MATCH(AY14,AY:AY))) + INDIRECT(\"F\"&(MATCH(AY14,AY:AY)))  - INDIRECT(\"E\"&(MATCH(AY14,AY:AY,0))) - INDIRECT(\"F\"&(MATCH(AY14,AY:AY,0))),\"\") = 0, \"\", IF(ROW(AY14) = FLOOR((MATCH(AY14, AY:AY, 0) + MATCH(AY14, AY:AY))/2,1), INDIRECT(\"E\"&(MATCH(AY14,AY:AY))) + INDIRECT(\"F\"&(MATCH(AY14,AY:AY)))  - INDIRECT(\"E\"&(MATCH(AY14,AY:AY,0))) - INDIRECT(\"F\"&(MATCH(AY14,AY:AY,0))),\"\")))","v":""},{"$f":" IF(EN13 = \"\", \"\", IF(IF(ROW(AY14) = FLOOR((MATCH(AY14, AY:AY, 0) + MATCH(AY14, AY:AY))/2,1), MAX(INDIRECT(\"AW\"&(MATCH(AY14,AY:AY,0))&\":AW\"&MATCH(AY14,AY:AY))),\"\") = 0, \"\",  IF(ROW(AY14) = FLOOR((MATCH(AY14, AY:AY, 0) + MATCH(AY14, AY:AY))/2,1), MAX(INDIRECT(\"AW\"&(MATCH(AY14,AY:AY,0))&\":AW\"&MATCH(AY14,AY:AY))),\"\")))","v":""},{"$f":" IF(EN13 = \"\", \"\", IF(IF(ROW(AY14) = FLOOR((MATCH(AY14, AY:AY, 0) + MATCH(AY14, AY:AY))/2,1), MAX(INDIRECT(\"AX\"&(MATCH(AY14,AY:AY,0))&\":AX\"&MATCH(AY14,AY:AY))),\"\") = 0, \"\",  IF(ROW(AY14) = FLOOR((MATCH(AY14, AY:AY, 0) + MATCH(AY14, AY:AY))/2,1), MAX(INDIRECT(\"AX\"&(MATCH(AY14,AY:AY,0))&\":AX\"&MATCH(AY14,AY:AY))),\"\")))","v":""},{"$f":" MIN(BU13, BD13)","v":0},{"$f":" IF(BX14=\"\",0,IF(IF(BU14 = \"\",0,(-1*(MAX(BU$5:$BU14)-BU14)))=0,0,IF(BU14 = \"\",0,(-1*(MAX(BU$5:$BU14)-BU14)))))","v":0},{"$f":" IF(BX14=\"\",0,IF(IF(BU14=\"\",0,(-1*(MAX(BU$5:$BU14)-BU14)))/MAX($BU$5:BU14) = 0,0,IF(BU14=\"\",0,(-1*(MAX(BU$5:$BU14)-BU14)))/MAX($BU$5:BU14)))","v":0},{"$f":" IF(EN14 = \"\", \"\", IF(BL13 = BL14, BG13, BG13 + 1))","v":""},{"$f":" IF(EN14 = \"\", \"\", IF(BL13 = BL14, BH13 + 1,1))","v":""},{"$f":" IF(BF14 = 0, \"\", IF( IF(ROW(BG14) = FLOOR((MATCH(BG14, BG:BG, 0) + MATCH(BG14, BG:BG))/2,1), INDIRECT(\"E\"&(MATCH(BG14,BG:BG))) + INDIRECT(\"F\"&(MATCH(BG14,BG:BG)))  - INDIRECT(\"E\"&(MATCH(BG14,BG:BG,0))) - INDIRECT(\"F\"&(MATCH(BG14,BG:BG,0))),\"\") = 0, \"\", IF(ROW(BG14) = FLOOR((MATCH(BG14,BG:BG,0) + MATCH(BG14, BG:BG))/2,1), INDIRECT(\"E\"&(MATCH(BG14,BG:BG))) + INDIRECT(\"F\"&(MATCH(BG14,BG:BG)))  - INDIRECT(\"E\"&(MATCH(BG14,BG:BG,0))) - INDIRECT(\"F\"&(MATCH(BG14,BG:BG,0))),\"\")))","v":""},{"$f":" IF(EN13 = \"\", \"\",  IF(IF(ROW(BG14) = FLOOR((MATCH(BG14, BG:BG, 0) + MATCH(BG14, BG:BG))/2,1), MIN(INDIRECT(\"BE\"&(MATCH(BG14,BG:BG,0))&\":BE\"&MATCH(BG14,BG:BG))),\"\") = 0, \"\", IF(ROW(BG14) = FLOOR((MATCH(BG14, BG:BG, 0) + MATCH(BG14, BG:BG))/2,1), MIN(INDIRECT(\"BE\"&(MATCH(BG14,BG:BG,0))&\":BE\"&MATCH(BG14,BG:BG))),\"\")))","v":""},{"$f":" IF(EN13 = \"\", \"\",  IF(IF(ROW(BG14) = FLOOR((MATCH(BG14, BG:BG, 0) + MATCH(BG14, BG:BG))/2,1), MIN(INDIRECT(\"BF\"&(MATCH(BG14,BG:BG,0))&\":BF\"&MATCH(BG14,BG:BG))),\"\") = 0, \"\", IF(ROW(BG14) = FLOOR((MATCH(BG14, BG:BG, 0) + MATCH(BG14, BG:BG))/2,1), MIN(INDIRECT(\"BF\"&(MATCH(BG14,BG:BG,0))&\":BF\"&MATCH(BG14,BG:BG))),\"\")))","v":""},{"$f":" MAX(BU13, BL13)","v":0},{"$f":"IF(H14=\"\",\"\",IF(H14=\"Win\",IF(BN14=1,BN14 & \" \" & \"Win\",BN14 & \" \" & \"Wins\"),IF(H14=\"Loss\",IF(BN14=1,BN14 & \" \" & \"Loss\",BN14 & \" \" & \"Losses\"), IF(H14 = \"BE\",IF(BN14=1,BN14 & \" \" & \"BE\",BN14 & \" \" & \"BE's\")))))","v":""},{"$f":" IF(H13=\"\",\"\",IF(H13=H14, BN13+1,1))","v":""},{"$f":" IF(H14 = \"\", \"\", IF(H13 <> H14, (LOOKUP(9E+307,$BO$5:$BO13) + 1), \"\"))","v":""},{"$f":" IF(EN13 = \"\", \"\", IF(BN14 = 1, \"\",IF(BN14<BN15, \"\", \"S\")))","v":""},{"$f":" IF(BP14 = \"\", \"\", IF(H14 = \"Win\",BN14,\"\"))","v":""},{"$f":" IF(BP14 = \"\", \"\", IF(H14 = \"Loss\",BN14,\"\"))","v":""},{"$f":" IF(BP14 = \"\", \"\", IF(H14 = \"BE\",BN14,\"\"))","v":""},{"$f":" IF(EN14 = \"\", \"\", DB14 +CZ14)","v":""},{"$f":" IF(EN14 = \"\", \"\", BU13 + BT14)","v":""},{"$f":" IF(BU14 = \"\",\"\", BV13 + 1)","v":""},{"$f":" IF(BU14 = \"\", \"\", $FN$13*BV14 + $FM$13)","v":""},{"$f":" IF(EN14 = \"\", \"\", (BT14)/BU13)","v":""},{"$f":" IF(EN14 = \"\", \"\",'Overall Performance'!$C$22)","v":""},{"$f":" IF(EN14 = \"\", \"\", IF(BX14=0,\"\",BX14 + 1))","v":""},{"$f":" IF(H14 = \"Win\", BZ14, \"\")","v":""},{"$f":" IF(H14 = \"Loss\", BZ14, \"\")","v":""},{"$f":"IFERROR(INDEX($Y:$Y,SMALL(IF($Y:$Y<>\"\",ROW($Y:$Y)),ROW(9:9))),\"\")","v":""},null,{"$f":" IF(Z14 = \"\", \"\", IF(Z14>0, 0, CH14))","v":""},{"$f":" IF(Z14 = \"\", \"\", IF(Z14>0, 0, W14))","v":""},{"$f":" IF(Z14 = \"\", \"\", Z14 - $FJ$10 + 1)","v":""},{"$f":" IF(Z14 = \"\", \"\", Z14 - $FJ$10)","v":""},{"$f":" IF(AN14 = \"\", \"\", IF(AN14 > 0, 0, CL14))","v":""},{"$f":" IF(AN14 = \"\", \"\", IF(AN14 > 0, 0, AK14))","v":""},{"$f":"IF(AN14=\"\", \"\",AN14-$FJ$14 + 1)","v":""},{"$f":"IF(AN14=\"\", \"\",AN14-$FJ$14)","v":""},{"$f":" IF(EN14 = \"\",\"\",(ES14 - EQ14)/(EQ14 - ER14))","v":""},{"$f":" IF(EN14=\"\",\"\", DA14*ABS((ET14-EQ14)/(EQ14-ER14)))","v":""},{"$f":" IF(CN14 > 0, CN14, \"\")","v":""},{"$f":" IF(CN14 < 0, CN14, \"\")","v":""},{"$f":" IF(EN14 = \"\", \"\", IF(OR(BX14 > AVERAGE(BX:BX) + 3*_xlfn.STDEV.P(BX:BX), BX14 < AVERAGE(BX:BX) - 3*_xlfn.STDEV.P(BX:BX)), BX14, 0))","v":""},{"$f":" IF(EN14= \"\", \"\", SUM(INDIRECT(\"BT\"&(MATCH(U14,U:U,0))&\":BT\"&DC14)))","v":""},{"$f":" IF(EN14= \"\", \"\", SUM(INDIRECT(\"ET\"&(MATCH(U14,U:U,0))&\":ET\"&DC14)))","v":""},{"$f":" IF(EN14= \"\", \"\", (INDIRECT(\"BU\"&DC14)))","v":""},{"$f":" IF(EN14= \"\", \"\", SUM(INDIRECT(\"O\"&(MATCH(U14,U:U,0))&\":T\"&DC14)))","v":""},{"$f":"IF(EN14=\"\",\"\",IF(LEN(RIGHT(EQ14,LEN(EQ14)-FIND(\".\",EQ14)))=2,((-1*ABS(EU14-EQ14))*100),IF(LEN(RIGHT(EQ14,LEN(EQ14)-FIND(\".\",EQ14)))=4,((-1*ABS(EU14-EQ14))*10000),IF(LEN(RIGHT(EQ14,LEN(EQ14)-FIND(\".\",EQ14)))=3,((-1*ABS(EU14-EQ14))*100),IF(LEN(RIGHT(EQ14,LEN(EQ14)-FIND(\".\",EQ14)))=5,((-1*ABS(EU14-EQ14))*10000))))))","v":""},{"$f":" IF(EN14 = \"\", \"\", (((EU14-EQ14)/(ET14-EQ14))*CZ14) + DB14)","v":""},{"$f":"IF(EN14=\"\",\"\",IF(LEN(RIGHT(EQ14,LEN(EQ14)-FIND(\".\",EQ14)))=2,((ABS(EV14-EQ14))*100),IF(LEN(RIGHT(EQ14,LEN(EQ14)-FIND(\".\",EQ14)))=4,((ABS(EV14-EQ14))*10000),IF(LEN(RIGHT(EQ14,LEN(EQ14)-FIND(\".\",EQ14)))=3,((ABS(EV14-EQ14))*100),IF(LEN(RIGHT(EQ14,LEN(EQ14)-FIND(\".\",EQ14)))=5,((ABS(EV14-EQ14))*10000))))))","v":""},{"$f":" IF(EN14 = \"\", \"\", (((EV14-EQ14)/(ET14-EQ14))*CZ14) + DB14)","v":""},{"$f":" IF(EN14 = \"\", \"\", EL14)","v":""},{"$f":" IF(EN14 = \"\", \"\", IF(EN14 = \"Buy\", IF(EQ14 > ET14, -1, 1), IF(EQ14 > ET14, 1, -1)))","v":""},{"$f":"IF(EN14=\"\", \"\",EZ14+FA14)","v":""},{"$f":" IF(EN14 = \"\", \"\", LOOKUP(2,1/(U:U = U14), ROW(U:U)))","v":""},{"$f":" IF(EN14 = \"\", \"\", LOOKUP(2,1/(AB:AB = AB14), ROW(AB:AB)))","v":""},{"$f":" IF(EN14 = \"\", \"\", LOOKUP(2,1/(AI:AI = AI14), ROW(AI:AI)))","v":""},null,null,{"$f":" IF(CO14 = \"\", \"\", CO14*EY14)","v":""},{"$f":" IF(CP14 = \"\", \"\", CP14*EY14)","v":""},{"$f":" IF(EN14 = \"\", \"\",BF14)","v":""},{"$f":" DJ14","v":""},{"$f":" IF(EL15 = \"\", \"\", DL13 + 1)","v":""},{"$f":" IF(EN14 <> \"\", K14*24,#N/A)","v":{"$error":"#N/A"}},{"$f":" IF(EN14 <> \"\", CW14,#N/A)","v":{"$error":"#N/A"}},{"$f":" IF(EN14 <> \"\", CY14,#N/A)","v":{"$error":"#N/A"}},{"$f":" IF(EN14 <> \"\", CM14,#N/A)","v":{"$error":"#N/A"}},{"$f":" IF(EN14 <> \"\", CN14,#N/A)","v":{"$error":"#N/A"}},{"$f":" IF(CN14 > 0, CM14, -1)","v":""},{"$f":" IF(CN14 > 0, CM14, \"\")","v":""},{"$f":" IF(CN14 < 0, CM14, \"\")","v":""},{"$f":" IF(AQ14 = \"\",\"\",LOOKUP(9E+307,$DU$5:$DU13) + 1)","v":""},{"$f":" IF(EN14 = \"\", \"\", (CZ14)/BU13)","v":""},{"$f":" IF(EN14 = \"\", \"\", WEEKDAY(C14,1))","v":""},{"$f":" IF(EN14=\"\", \"\", MONTH(C14))","v":""},{"$f":" IF(EN14 = \"\", \"\", YEAR(E14))","v":""},{"$f":" IF(EB14 = \"\", \"\", MAX(((EA14-EB14)/EA14), ((EB14-EC14)/EB14)))","v":""},{"$f":" IF(EB14=\"\", \"\", MAX($EB$6:EB14))","v":""},{"$f":" AM14","v":""},{"$f":" IF(EB14=\"\",\"\", MIN(EB14:$EB$1048576))","v":""},{"$f":" IF(EN14 = \"\", \"\", LOOKUP(2,1/(AP:AP = AP14), ROW(AP:AP)))","v":""},{"$f":" IFERROR(_xlfn.IFS(FE14 = \"1-Minute\", 1, FE14 = \"5-Minute\", 2, FE14 = \"15-Minute\", 3, FE14 = \"30-Minute\", 4, FE14 = \"1-Hour\", 5, FE14 = \"4-Hour\", 6, FE14 = \"Daily\", 7, FE14 = \"Weekly\", 8, FE14 = \"Monthly\", 9), \"\")","v":""},{"$f":" IFERROR(_xlfn.IFS(FF14 = \"Very Low\", 1, FF14 = \"Low\", 2, FF14 = \"Medium\", 3, FF14 = \"High\", 4, FF14 = \"Very High\", 5),\"\")","v":""},null,{"$f":" TEXT(CM14, \"#,###0.000\") & \" : 1\"","v":" : 1"},{"$f":" IF(EN14 = \"\", \"\", IF(N14 = \"Buy\", (ET14-EQ14)/(EV14-EU14), (EQ14-ET14)/(EU14-EV14)))","v":""},{"$f":"IF(EN14=\"\",\"\",IF(N14 = \"Buy\", (EV14 - EQ14)/(EV14-EU14), (EQ14-EV14)/(EU14-EV14)))","v":""},{"$f":"IF(EN14=\"\",\"\",IF(N14 = \"Buy\", (ET14-EU14)/(EV14-EU14), (EU14-ET14)/(EU14-EV14)))","v":""},null,null,null,null,null,null,null,null,null,null,null,{"$f":" IF(EQ14=\"\",\"\",IF(LEN(RIGHT(EQ14,LEN(EQ14)-FIND(\".\",EQ14)))=2,((IF(EN14 = \"Buy\", IF(DF14 = EQ14, IF(DG14 = ET14, 0, ET14 - DG14),IF(DG14 = ET14, DF14-EQ14, (DF14 - EQ14) + (ET14 - DG14))), IF(DF14 = EQ14, IF(DG14 = ET14, 0, DG14-ET14),IF(DG14 = ET14, EQ14-DF14, (EQ14-DF14) + (DG14-ET14)))))*100),IF(LEN(RIGHT(EQ14,LEN(EQ14)-FIND(\".\",EQ14)))=4,((IF(EN14 = \"Buy\", IF(DF14 = EQ14, IF(DG14 = ET14, 0, ET14 - DG14),IF(DG14 = ET14, DF14-EQ14, (DF14 - EQ14) + (ET14 - DG14))), IF(DF14 = EQ14, IF(DG14 = ET14, 0, DG14-ET14),IF(DG14 = ET14, EQ14-DF14, (EQ14-DF14) + (DG14-ET14)))))*10000),IF(LEN(RIGHT(EQ14,LEN(EQ14)-FIND(\".\",EQ14)))=3,((IF(EN14 = \"Buy\", IF(DF14 = EQ14, IF(DG14 = ET14, 0, ET14 - DG14),IF(DG14 = ET14, DF14-EQ14, (DF14 - EQ14) + (ET14 - DG14))), IF(DF14 = EQ14, IF(DG14 = ET14, 0, DG14-ET14),IF(DG14 = ET14, EQ14-DF14, (EQ14-DF14) + (DG14-ET14)))))*100),IF(LEN(RIGHT(EQ14,LEN(EQ14)-FIND(\".\",EQ14)))=5,((IF(EN14 = \"Buy\", IF(DF14 = EQ14, IF(DG14 = ET14, 0, ET14 - DG14),IF(DG14 = ET14, DF14-EQ14, (DF14 - EQ14) + (ET14 - DG14))), IF(DF14 = EQ14, IF(DG14 = ET14, 0, DG14-ET14),IF(DG14 = ET14, EQ14-DF14, (EQ14-DF14) + (DG14-ET14)))))*10000))))))","v":""},{"$f":"IF(EN14=\"\",\"\",IF(LEN(RIGHT(EQ14,LEN(EQ14)-FIND(\".\",EQ14)))=2,((DA14*ABS(ET14-EQ14))*100),IF(LEN(RIGHT(EQ14,LEN(EQ14)-FIND(\".\",EQ14)))=4,((DA14*ABS(ET14-EQ14))*10000),IF(LEN(RIGHT(EQ14,LEN(EQ14)-FIND(\".\",EQ14)))=3,((DA14*ABS(ET14-EQ14))*100),IF(LEN(RIGHT(EQ14,LEN(EQ14)-FIND(\".\",EQ14)))=5,((DA14*ABS(ET14-EQ14))*10000))))))","v":""},{"$f":"IF(EN14=\"\",\"\",ABS(DV14/ABS(CN14)))","v":""},null,null,null,null,null,null,null,null,null,null,{"$f":" ((1 + ('Treasury Bill Data'!#REF!)/100)^(1/12)) - 1","v":{"$error":"#REF!"}},{"$f":" IFERROR(LARGE(#REF!, 5),\"\")","v":""},null,"LR correlation:","Standard error"]
[null,{"$f":" B14+ 1","v":10},null,null,null,null,{"$f":" IF(EN15 = \"\", \"\", INT(K15)&\" d,\"&\" \"&HOUR(K15)&\" h,\"&\" \"&MINUTE(K15)&\" m,\"&\" \"&SECOND(K15)&\" s\")","v":""},{"$f":" IF(EN15 = \"\",\"\",IF(CZ15 +DB15 = 0, \"BE\", IF(CZ15 > 0, \"Win\",\"Loss\")))","v":""},{"$f":" IF(EN15=\"\", \"\",VALUE(C15 + D15))","v":""},{"$f":" IF(EN15 = \"\", \"\", VALUE(E15 + F15))","v":""},{"$f":"IF(EN15=\"\",\"\",IF(C15=\"\",0,IF(D15=\"\",0,(E15+F15-D15-C15))))","v":""},{"$f":" IFERROR(IF(VALUE(E15&F15) > VALUE(C16&D16), IF(VALUE(C16+D16) < VALUE(C17 + D17), E15 + F15 - C16 - D16 - (C15 + D15 - C16 - D16),E15 + F15 - C16 - D16), \"\"), \"\")","v":""},{"$f":"IFERROR(IF(EN15=\"\",\"\",IF(VALUE(E14+F14)<VALUE(C15+D15),C15+D15-E14-F14,\"\")),\"\")","v":""},{"$f":" TRIM(EN15)","v":""},{"$f":" IF(AND(N15 = \"Buy\", H15 = \"Win\"), 1, 0)","v":0},{"$f":" IF(AND(N15 = \"Sell\", H15 = \"Win\"), 1, 0)","v":0},{"$f":" IF(AND(N15 = \"Buy\", H15 = \"Loss\"), 1, 0)","v":0},{"$f":" IF(AND(N15 = \"Sell\", H15 = \"Loss\"), 1, 0)","v":0},{"$f":" IF(AND(N15 = \"Buy\", H15 = \"BE\"), 1, 0)","v":0},{"$f":" IF(AND(N15 = \"Sell\", H15 = \"BE\"), 1, 0)","v":0},{"$f":" IF(EN15 = \"\", 0, (E15 - DATE(YEAR(E15),1,0)) & YEAR(E15)&\"\")","v":0},{"$f":"IFERROR( IF(SUM(INDIRECT(\"O\"&(MATCH(U15,U:U,0))&\":T\"&DC15)) = 0, \"\", IF(ROW(U15) = FLOOR((MATCH(U15, U:U, 0) +DC15)/2,1),SUM(INDIRECT(\"O\"&(MATCH(U15,U:U,0))&\":T\"&DC15)),\"\")),\"\")","v":""},{"$f":" IFERROR(IF(EN15 = \"\", \"\", IF(ROW(U15) = FLOOR((MATCH(U15, U:U, 0) + DC15)/2,1),SUM(INDIRECT(\"BT\"&(MATCH(U15,U:U,0))&\":BT\"&DC15)),\"\")),\"\")","v":""},{"$f":"  IFERROR(IF(W15 = \"\",\"\",W15/(Y15-W15)),\"\")","v":""},{"$f":" IFERROR(IF(ROW(U15) = FLOOR((MATCH(U15, U:U, 0) + DC15)/2,1),INDIRECT(\"BU\"&DC15),\"\"),\"\")","v":""},{"$f":"  IF(V15= 0,\"\",X15)","v":""},{"$f":"IF(Z15=\"\",\"\",Z15+1)","v":""},{"$f":" IF(EN15 = \"\", 0, WEEKNUM(E15) & YEAR(E15) & \"\")","v":0},{"$f":" IFERROR(IF(SUM(INDIRECT(\"O\"&(MATCH(AB15,AB:AB,0))&\":T\"&DD15)) = 0, \"\", IF(ROW(AB15) = FLOOR((MATCH(AB15, AB:AB, 0) + DD15)/2,1),SUM(INDIRECT(\"O\"&(MATCH(AB15,AB:AB,0))&\":T\"&DD15)),\"\")),\"\")","v":""},{"$f":" IFERROR(IF(EN15 = \"\", \"\", IF(ROW(AB15) = FLOOR((MATCH(AB15, AB:AB, 0) +DD15)/2,1),SUM(INDIRECT(\"BT\"&(MATCH(AB15,AB:AB,0))&\":BT\"&DD15)),\"\")),\"\")","v":""},{"$f":" IFERROR( IF(AD15 = \"\",\"\",AD15/(AF15-AD15)),\"\")","v":""},{"$f":" IFERROR(IF(ROW(AB15) = FLOOR((MATCH(AB15, AB:AB, 0) + DD15)/2,1),INDIRECT(\"BU\"&DD15),\"\"),\"\")","v":""},{"$f":"  IF(AC15= 0,\"\",AE15)","v":""},{"$f":"IF(AG15=\"\",\"\",AG15+1)","v":""},{"$f":" IF(EN15 = \"\", 0, MONTH(E15)&YEAR(E15)&\"\")","v":0},{"$f":"IFERROR( IF(SUM(INDIRECT(\"O\"&(MATCH(AI15,AI:AI,0))&\":T\"&DE15)) = 0, \"\", IF(ROW(AI15) = FLOOR((MATCH(AI15, AI:AI, 0) + DE15)/2,1),SUM(INDIRECT(\"O\"&(MATCH(AI15,AI:AI,0))&\":T\"&DE15)),\"\")),\"\")","v":""},{"$f":" IFERROR(IF(EN15 = \"\", \"\", IF(ROW(AI15) = FLOOR((MATCH(AI15, AI:AI, 0) + DE15)/2,1),SUM(INDIRECT(\"BT\"&(MATCH(AI15,AI:AI,0))&\":BT\"&DE15)),\"\")),\"\")","v":""},{"$f":" IFERROR( IF(AK15 = \"\",\"\",AK15/(AM15-AK15)),\"\")","v":""},{"$f":" IFERROR(IF(ROW(AI15) = FLOOR((MATCH(AI15, AI:AI, 0) + DE15)/2,1),INDIRECT(\"BU\"&DE15),\"\"),\"\")","v":""},{"$f":"  IF(AJ15= 0,\"\",AL15)","v":""},{"$f":"IF(AN15=\"\",\"\",AN15+1)","v":""},{"$f":" IF(EN15 = \"\", 0, YEAR(E15)&\"\")","v":0},{"$f":" IFERROR(IF(SUM(INDIRECT(\"O\"&(MATCH(AP15,AP:AP,0))&\":T\"&ED15)) = 0, \"\", IF(ROW(AP15) = FLOOR((MATCH(AP15, AP:AP, 0) + ED15)/2,1),SUM(INDIRECT(\"O\"&(MATCH(AP15,AP:AP,0))&\":T\"&ED15)),\"\")), \"\")","v":""},{"$f":" IF(EN15 = \"\", \"\", IF(ROW(AP15) = FLOOR((MATCH(AP15, AP:AP, 0) + ED15)/2,1),SUM(INDIRECT(\"BT\"&(MATCH(AP15,AP:AP,0))&\":BT\"&ED15)),\"\"))","v":""},{"$f":" IFERROR( IF(AR15 = \"\",\"\",AR15/(AT15-AR15)),\"\")","v":""},{"$f":" IFERROR(IF(ROW(AP15) = FLOOR((MATCH(AP15, AP:AP, 0) + ED15)/2,1),INDIRECT(\"BU\"&ED15),\"\"), \"\")","v":""},{"$f":"  IF(AQ15= 0,\"\",AS15)","v":""},{"$f":"IF(AU15=\"\",\"\",AU15+1)","v":""},{"$f":" IF(BX15=\"\",0,IF(IF(BU15 = \"\",0,-1*((MIN(BU$5:$BU15)-BU15)))=0,0,IF(BU15 = \"\",0,-1*((MIN(BU$5:$BU15)-BU15)))))","v":0},{"$f":"  IF(BX15=\"\",0,IF(IF(BU15 = \"\",0,-1*((MIN(BU$5:$BU15)-BU15)))/MIN((BU$5:BU15))=0,0,IF(BU15 = \"\",0,-1*((MIN(BU$5:$BU15)-BU15)))/MIN((BU$5:BU15))))","v":0},{"$f":" IF(EN15 = \"\", \"\", IF(BD14 = BD15, AY14, AY14 + 1))","v":""},{"$f":" IF(EN15 = \"\", \"\", IF(BD14 = BD15, AZ14 + 1,1))","v":""},{"$f":" IF(AX15 = 0, \"\", IF( IF(ROW(AY15) = FLOOR((MATCH(AY15, AY:AY, 0) + MATCH(AY15, AY:AY))/2,1), INDIRECT(\"E\"&(MATCH(AY15,AY:AY))) + INDIRECT(\"F\"&(MATCH(AY15,AY:AY)))  - INDIRECT(\"E\"&(MATCH(AY15,AY:AY,0))) - INDIRECT(\"F\"&(MATCH(AY15,AY:AY,0))),\"\") = 0, \"\", IF(ROW(AY15) = FLOOR((MATCH(AY15, AY:AY, 0) + MATCH(AY15, AY:AY))/2,1), INDIRECT(\"E\"&(MATCH(AY15,AY:AY))) + INDIRECT(\"F\"&(MATCH(AY15,AY:AY)))  - INDIRECT(\"E\"&(MATCH(AY15,AY:AY,0))) - INDIRECT(\"F\"&(MATCH(AY15,AY:AY,0))),\"\")))","v":""},{"$f":" IF(EN14 = \"\", \"\", IF(IF(ROW(AY15) = FLOOR((MATCH(AY15, AY:AY, 0) + MATCH(AY15, AY:AY))/2,1), MAX(INDIRECT(\"AW\"&(MATCH(AY15,AY:AY,0))&\":AW\"&MATCH(AY15,AY:AY))),\"\") = 0, \"\",  IF(ROW(AY15) = FLOOR((MATCH(AY15, AY:AY, 0) + MATCH(AY15, AY:AY))/2,1), MAX(INDIRECT(\"AW\"&(MATCH(AY15,AY:AY,0))&\":AW\"&MATCH(AY15,AY:AY))),\"\")))","v":""},{"$f":" IF(EN14 = \"\", \"\", IF(IF(ROW(AY15) = FLOOR((MATCH(AY15, AY:AY, 0) + MATCH(AY15, AY:AY))/2,1), MAX(INDIRECT(\"AX\"&(MATCH(AY15,AY:AY,0))&\":AX\"&MATCH(AY15,AY:AY))),\"\") = 0, \"\",  IF(ROW(AY15) = FLOOR((MATCH(AY15, AY:AY, 0) + MATCH(AY15, AY:AY))/2,1), MAX(INDIRECT(\"AX\"&(MATCH(AY15,AY:AY,0))&\":AX\"&MATCH(AY15,AY:AY))),\"\")))","v":""},{"$f":" MIN(BU14, BD14)","v":0},{"$f":" IF(BX15=\"\",0,IF(IF(BU15 = \"\",0,(-1*(MAX(BU$5:$BU15)-BU15)))=0,0,IF(BU15 = \"\",0,(-1*(MAX(BU$5:$BU15)-BU15)))))","v":0},{"$f":" IF(BX15=\"\",0,IF(IF(BU15=\"\",0,(-1*(MAX(BU$5:$BU15)-BU15)))/MAX($BU$5:BU15) = 0,0,IF(BU15=\"\",0,(-1*(MAX(BU$5:$BU15)-BU15)))/MAX($BU$5:BU15)))","v":0},{"$f":" IF(EN15 = \"\", \"\", IF(BL14 = BL15, BG14, BG14 + 1))","v":""},{"$f":" IF(EN15 = \"\", \"\", IF(BL14 = BL15, BH14 + 1,1))","v":""},{"$f":" IF(BF15 = 0, \"\", IF( IF(ROW(BG15) = FLOOR((MATCH(BG15, BG:BG, 0) + MATCH(BG15, BG:BG))/2,1), INDIRECT(\"E\"&(MATCH(BG15,BG:BG))) + INDIRECT(\"F\"&(MATCH(BG15,BG:BG)))  - INDIRECT(\"E\"&(MATCH(BG15,BG:BG,0))) - INDIRECT(\"F\"&(MATCH(BG15,BG:BG,0))),\"\") = 0, \"\", IF(ROW(BG15) = FLOOR((MATCH(BG15,BG:BG,0) + MATCH(BG15, BG:BG))/2,1), INDIRECT(\"E\"&(MATCH(BG15,BG:BG))) + INDIRECT(\"F\"&(MATCH(BG15,BG:BG)))  - INDIRECT(\"E\"&(MATCH(BG15,BG:BG,0))) - INDIRECT(\"F\"&(MATCH(BG15,BG:BG,0))),\"\")))","v":""},{"$f":" IF(EN14 = \"\", \"\",  IF(IF(ROW(BG15) = FLOOR((MATCH(BG15, BG:BG, 0) + MATCH(BG15, BG:BG))/2,1), MIN(INDIRECT(\"BE\"&(MATCH(BG15,BG:BG,0))&\":BE\"&MATCH(BG15,BG:BG))),\"\") = 0, \"\", IF(ROW(BG15) = FLOOR((MATCH(BG15, BG:BG, 0) + MATCH(BG15, BG:BG))/2,1), MIN(INDIRECT(\"BE\"&(MATCH(BG15,BG:BG,0))&\":BE\"&MATCH(BG15,BG:BG))),\"\")))","v":""},{"$f":" IF(EN14 = \"\", \"\",  IF(IF(ROW(BG15) = FLOOR((MATCH(BG15, BG:BG, 0) + MATCH(BG15, BG:BG))/2,1), MIN(INDIRECT(\"BF\"&(MATCH(BG15,BG:BG,0))&\":BF\"&MATCH(BG15,BG:BG))),\"\") = 0, \"\", IF(ROW(BG15) = FLOOR((MATCH(BG15, BG:BG, 0) + MATCH(BG15, BG:BG))/2,1), MIN(INDIRECT(\"BF\"&(MATCH(BG15,BG:BG,0))&\":BF\"&MATCH(BG15,BG:BG))),\"\")))","v":""},{"$f":" MAX(BU14, BL14)","v":0},{"$f":"IF(H15=\"\",\"\",IF(H15=\"Win\",IF(BN15=1,BN15 & \" \" & \"Win\",BN15 & \" \" & \"Wins\"),IF(H15=\"Loss\",IF(BN15=1,BN15 & \" \" & \"Loss\",BN15 & \" \" & \"Losses\"), IF(H15 = \"BE\",IF(BN15=1,BN15 & \" \" & \"BE\",BN15 & \" \" & \"BE's\")))))","v":""},{"$f":" IF(H14=\"\",\"\",IF(H14=H15, BN14+1,1))","v":""},{"$f":" IF(H15 = \"\", \"\", IF(H14 <> H15, (LOOKUP(9E+307,$BO$5:$BO14) + 1), \"\"))","v":""},{"$f":" IF(EN14 = \"\", \"\", IF(BN15 = 1, \"\",IF(BN15<BN16, \"\", \"S\")))","v":""},{"$f":" IF(BP15 = \"\", \"\", IF(H15 = \"Win\",BN15,\"\"))","v":""},{"$f":" IF(BP15 = \"\", \"\", IF(H15 = \"Loss\",BN15,\"\"))","v":""},{"$f":" IF(BP15 = \"\", \"\", IF(H15 = \"BE\",BN15,\"\"))","v":""},{"$f":" IF(EN15 = \"\", \"\", DB15 +CZ15)","v":""},{"$f":" IF(EN15 = \"\", \"\", BU14 + BT15)","v":""},{"$f":" IF(BU15 = \"\",\"\", BV14 + 1)","v":""},{"$f":" IF(BU15 = \"\", \"\", $FN$13*BV15 + $FM$13)","v":""},{"$f":" IF(EN15 = \"\", \"\", (BT15)/BU14)","v":""},{"$f":" IF(EN15 = \"\", \"\",'Overall Performance'!$C$22)","v":""},{"$f":" IF(EN15 = \"\", \"\", IF(BX15=0,\"\",BX15 + 1))","v":""},{"$f":" IF(H15 = \"Win\", BZ15, \"\")","v":""},{"$f":" IF(H15 = \"Loss\", BZ15, \"\")","v":""},{"$f":"IFERROR(INDEX($Y:$Y,SMALL(IF($Y:$Y<>\"\",ROW($Y:$Y)),ROW(10:10))),\"\")","v":""},null,{"$f":" IF(Z15 = \"\", \"\", IF(Z15>0, 0, CH15))","v":""},{"$f":" IF(Z15 = \"\", \"\", IF(Z15>0, 0, W15))","v":""},{"$f":" IF(Z15 = \"\", \"\", Z15 - $FJ$10 + 1)","v":""},{"$f":" IF(Z15 = \"\", \"\", Z15 - $FJ$10)","v":""},{"$f":" IF(AN15 = \"\", \"\", IF(AN15 > 0, 0, CL15))","v":""},{"$f":" IF(AN15 = \"\", \"\", IF(AN15 > 0, 0, AK15))","v":""},{"$f":"IF(AN15=\"\", \"\",AN15-$FJ$14 + 1)","v":""},{"$f":"IF(AN15=\"\", \"\",AN15-$FJ$14)","v":""},{"$f":" IF(EN15 = \"\",\"\",(ES15 - EQ15)/(EQ15 - ER15))","v":""},{"$f":" IF(EN15=\"\",\"\", DA15*ABS((ET15-EQ15)/(EQ15-ER15)))","v":""},{"$f":" IF(CN15 > 0, CN15, \"\")","v":""},{"$f":" IF(CN15 < 0, CN15, \"\")","v":""},{"$f":" IF(EN15 = \"\", \"\", IF(OR(BX15 > AVERAGE(BX:BX) + 3*_xlfn.STDEV.P(BX:BX), BX15 < AVERAGE(BX:BX) - 3*_xlfn.STDEV.P(BX:BX)), BX15, 0))","v":""},{"$f":" IF(EN15= \"\", \"\", SUM(INDIRECT(\"BT\"&(MATCH(U15,U:U,0))&\":BT\"&DC15)))","v":""},{"$f":" IF(EN15= \"\", \"\", SUM(INDIRECT(\"ET\"&(MATCH(U15,U:U,0))&\":ET\"&DC15)))","v":""},{"$f":" IF(EN15= \"\", \"\", (INDIRECT(\"BU\"&DC15)))","v":""},{"$f":" IF(EN15= \"\", \"\", SUM(INDIRECT(\"O\"&(MATCH(U15,U:U,0))&\":T\"&DC15)))","v":""},{"$f":"IF(EN15=\"\",\"\",IF(LEN(RIGHT(EQ15,LEN(EQ15)-FIND(\".\",EQ15)))=2,((-1*ABS(EU15-EQ15))*100),IF(LEN(RIGHT(EQ15,LEN(EQ15)-FIND(\".\",EQ15)))=4,((-1*ABS(EU15-EQ15))*10000),IF(LEN(RIGHT(EQ15,LEN(EQ15)-FIND(\".\",EQ15)))=3,((-1*ABS(EU15-EQ15))*100),IF(LEN(RIGHT(EQ15,LEN(EQ15)-FIND(\".\",EQ15)))=5,((-1*ABS(EU15-EQ15))*10000))))))","v":""},{"$f":" IF(EN15 = \"\", \"\", (((EU15-EQ15)/(ET15-EQ15))*CZ15) + DB15)","v":""},{"$f":"IF(EN15=\"\",\"\",IF(LEN(RIGHT(EQ15,LEN(EQ15)-FIND(\".\",EQ15)))=2,((ABS(EV15-EQ15))*100),IF(LEN(RIGHT(EQ15,LEN(EQ15)-FIND(\".\",EQ15)))=4,((ABS(EV15-EQ15))*10000),IF(LEN(RIGHT(EQ15,LEN(EQ15)-FIND(\".\",EQ15)))=3,((ABS(EV15-EQ15))*100),IF(LEN(RIGHT(EQ15,LEN(EQ15)-FIND(\".\",EQ15)))=5,((ABS(EV15-EQ15))*10000))))))","v":""},{"$f":" IF(EN15 = \"\", \"\", (((EV15-EQ15)/(ET15-EQ15))*CZ15) + DB15)","v":""},{"$f":" IF(EN15 = \"\", \"\", EL15)","v":""},{"$f":" IF(EN15 = \"\", \"\", IF(EN15 = \"Buy\", IF(EQ15 > ET15, -1, 1), IF(EQ15 > ET15, 1, -1)))","v":""},{"$f":"IF(EN15=\"\", \"\",EZ15+FA15)","v":""},{"$f":" IF(EN15 = \"\", \"\", LOOKUP(2,1/(U:U = U15), ROW(U:U)))","v":""},{"$f":" IF(EN15 = \"\", \"\", LOOKUP(2,1/(AB:AB = AB15), ROW(AB:AB)))","v":""},{"$f":" IF(EN15 = \"\", \"\", LOOKUP(2,1/(AI:AI = AI15), ROW(AI:AI)))","v":""},null,null,{"$f":" IF(CO15 = \"\", \"\", CO15*EY15)","v":""},{"$f":" IF(CP15 = \"\", \"\", CP15*EY15)","v":""},{"$f":" IF(EN15 = \"\", \"\",BF15)","v":""},{"$f":" DJ15","v":""},{"$f":" IF(EL16 = \"\", \"\", DL14 + 1)","v":""},{"$f":" IF(EN15 <> \"\", K15*24,#N/A)","v":{"$error":"#N/A"}},{"$f":" IF(EN15 <> \"\", CW15,#N/A)","v":{"$error":"#N/A"}},{"$f":" IF(EN15 <> \"\", CY15,#N/A)","v":{"$error":"#N/A"}},{"$f":" IF(EN15 <> \"\", CM15,#N/A)","v":{"$error":"#N/A"}},{"$f":" IF(EN15 <> \"\", CN15,#N/A)","v":{"$error":"#N/A"}},{"$f":" IF(CN15 > 0, CM15, -1)","v":""},{"$f":" IF(CN15 > 0, CM15, \"\")","v":""},{"$f":" IF(CN15 < 0, CM15, \"\")","v":""},{"$f":" IF(AQ15 = \"\",\"\",LOOKUP(9E+307,$DU$5:$DU14) + 1)","v":""},{"$f":" IF(EN15 = \"\", \"\", (CZ15)/BU14)","v":""},{"$f":" IF(EN15 = \"\", \"\", WEEKDAY(C15,1))","v":""},{"$f":" IF(EN15=\"\", \"\", MONTH(C15))","v":""},{"$f":" IF(EN15 = \"\", \"\", YEAR(E15))","v":""},{"$f":" IF(EB15 = \"\", \"\", MAX(((EA15-EB15)/EA15), ((EB15-EC15)/EB15)))","v":""},{"$f":" IF(EB15=\"\", \"\", MAX($EB$6:EB15))","v":""},{"$f":" AM15","v":""},{"$f":" IF(EB15=\"\",\"\", MIN(EB15:$EB$1048576))","v":""},{"$f":" IF(EN15 = \"\", \"\", LOOKUP(2,1/(AP:AP = AP15), ROW(AP:AP)))","v":""},{"$f":" IFERROR(_xlfn.IFS(FE15 = \"1-Minute\", 1, FE15 = \"5-Minute\", 2, FE15 = \"15-Minute\", 3, FE15 = \"30-Minute\", 4, FE15 = \"1-Hour\", 5, FE15 = \"4-Hour\", 6, FE15 = \"Daily\", 7, FE15 = \"Weekly\", 8, FE15 = \"Monthly\", 9), \"\")","v":""},{"$f":" IFERROR(_xlfn.IFS(FF15 = \"Very Low\", 1, FF15 = \"Low\", 2, FF15 = \"Medium\", 3, FF15 = \"High\", 4, FF15 = \"Very High\", 5),\"\")","v":""},null,{"$f":" TEXT(CM15, \"#,###0.000\") & \" : 1\"","v":" : 1"},{"$f":" IF(EN15 = \"\", \"\", IF(N15 = \"Buy\", (ET15-EQ15)/(EV15-EU15), (EQ15-ET15)/(EU15-EV15)))","v":""},{"$f":"IF(EN15=\"\",\"\",IF(N15 = \"Buy\", (EV15 - EQ15)/(EV15-EU15), (EQ15-EV15)/(EU15-EV15)))","v":""},{"$f":"IF(EN15=\"\",\"\",IF(N15 = \"Buy\", (ET15-EU15)/(EV15-EU15), (EU15-ET15)/(EU15-EV15)))","v":""},null,null,null,null,null,null,null,null,null,null,null,{"$f":" IF(EQ15=\"\",\"\",IF(LEN(RIGHT(EQ15,LEN(EQ15)-FIND(\".\",EQ15)))=2,((IF(EN15 = \"Buy\", IF(DF15 = EQ15, IF(DG15 = ET15, 0, ET15 - DG15),IF(DG15 = ET15, DF15-EQ15, (DF15 - EQ15) + (ET15 - DG15))), IF(DF15 = EQ15, IF(DG15 = ET15, 0, DG15-ET15),IF(DG15 = ET15, EQ15-DF15, (EQ15-DF15) + (DG15-ET15)))))*100),IF(LEN(RIGHT(EQ15,LEN(EQ15)-FIND(\".\",EQ15)))=4,((IF(EN15 = \"Buy\", IF(DF15 = EQ15, IF(DG15 = ET15, 0, ET15 - DG15),IF(DG15 = ET15, DF15-EQ15, (DF15 - EQ15) + (ET15 - DG15))), IF(DF15 = EQ15, IF(DG15 = ET15, 0, DG15-ET15),IF(DG15 = ET15, EQ15-DF15, (EQ15-DF15) + (DG15-ET15)))))*10000),IF(LEN(RIGHT(EQ15,LEN(EQ15)-FIND(\".\",EQ15)))=3,((IF(EN15 = \"Buy\", IF(DF15 = EQ15, IF(DG15 = ET15, 0, ET15 - DG15),IF(DG15 = ET15, DF15-EQ15, (DF15 - EQ15) + (ET15 - DG15))), IF(DF15 = EQ15, IF(DG15 = ET15, 0, DG15-ET15),IF(DG15 = ET15, EQ15-DF15, (EQ15-DF15) + (DG15-ET15)))))*100),IF(LEN(RIGHT(EQ15,LEN(EQ15)-FIND(\".\",EQ15)))=5,((IF(EN15 = \"Buy\", IF(DF15 = EQ15, IF(DG15 = ET15, 0, ET15 - DG15),IF(DG15 = ET15, DF15-EQ15, (DF15 - EQ15) + (ET15 - DG15))), IF(DF15 = EQ15, IF(DG15 = ET15, 0, DG15-ET15),IF(DG15 = ET15, EQ15-DF15, (EQ15-DF15) + (DG15-ET15)))))*10000))))))","v":""},{"$f":"IF(EN15=\"\",\"\",IF(LEN(RIGHT(EQ15,LEN(EQ15)-FIND(\".\",EQ15)))=2,((DA15*ABS(ET15-EQ15))*100),IF(LEN(RIGHT(EQ15,LEN(EQ15)-FIND(\".\",EQ15)))=4,((DA15*ABS(ET15-EQ15))*10000),IF(LEN(RIGHT(EQ15,LEN(EQ15)-FIND(\".\",EQ15)))=3,((DA15*ABS(ET15-EQ15))*100),IF(LEN(RIGHT(EQ15,LEN(EQ15)-FIND(\".\",EQ15)))=5,((DA15*ABS(ET15-EQ15))*10000))))))","v":""},{"$f":"IF(EN15=\"\",\"\",ABS(DV15/ABS(CN15)))","v":""},null,null,null,null,null,null,null,null,null,null,{"$f":" AVERAGE(AN:AN)","v":{"$error":"#DIV/0!"}},{"$f":" SUMIF(H:H, \"Win\", EX:EX)","v":0},null,{"$f":" CORREL(BU:BU, BW:BW)","v":{"$error":"#DIV/0!"}},{"$f":" STEYX(BU:BU, BW:BW)","v":{"$error":"#DIV/0!"}}]
[null,{"$f":" B15+ 1","v":11},null,null,null,null,{"$f":" IF(EN16 = \"\", \"\", INT(K16)&\" d,\"&\" \"&HOUR(K16)&\" h,\"&\" \"&MINUTE(K16)&\" m,\"&\" \"&SECOND(K16)&\" s\")","v":""},{"$f":" IF(EN16 = \"\",\"\",IF(CZ16 +DB16 = 0, \"BE\", IF(CZ16 > 0, \"Win\",\"Loss\")))","v":""},{"$f":" IF(EN16=\"\", \"\",VALUE(C16 + D16))","v":""},{"$f":" IF(EN16 = \"\", \"\", VALUE(E16 + F16))","v":""},{"$f":"IF(EN16=\"\",\"\",IF(C16=\"\",0,IF(D16=\"\",0,(E16+F16-D16-C16))))","v":""},{"$f":" IFERROR(IF(VALUE(E16&F16) > VALUE(C17&D17), IF(VALUE(C17+D17) < VALUE(C18 + D18), E16 + F16 - C17 - D17 - (C16 + D16 - C17 - D17),E16 + F16 - C17 - D17), \"\"), \"\")","v":""},{"$f":"IFERROR(IF(EN16=\"\",\"\",IF(VALUE(E15+F15)<VALUE(C16+D16),C16+D16-E15-F15,\"\")),\"\")","v":""},{"$f":" TRIM(EN16)","v":""},{"$f":" IF(AND(N16 = \"Buy\", H16 = \"Win\"), 1, 0)","v":0},{"$f":" IF(AND(N16 = \"Sell\", H16 = \"Win\"), 1, 0)","v":0},{"$f":" IF(AND(N16 = \"Buy\", H16 = \"Loss\"), 1, 0)","v":0},{"$f":" IF(AND(N16 = \"Sell\", H16 = \"Loss\"), 1, 0)","v":0},{"$f":" IF(AND(N16 = \"Buy\", H16 = \"BE\"), 1, 0)","v":0},{"$f":" IF(AND(N16 = \"Sell\", H16 = \"BE\"), 1, 0)","v":0},{"$f":" IF(EN16 = \"\", 0, (E16 - DATE(YEAR(E16),1,0)) & YEAR(E16)&\"\")","v":0},{"$f":"IFERROR( IF(SUM(INDIRECT(\"O\"&(MATCH(U16,U:U,0))&\":T\"&DC16)) = 0, \"\", IF(ROW(U16) = FLOOR((MATCH(U16, U:U, 0) +DC16)/2,1),SUM(INDIRECT(\"O\"&(MATCH(U16,U:U,0))&\":T\"&DC16)),\"\")),\"\")","v":""},{"$f":" IFERROR(IF(EN16 = \"\", \"\", IF(ROW(U16) = FLOOR((MATCH(U16, U:U, 0) + DC16)/2,1),SUM(INDIRECT(\"BT\"&(MATCH(U16,U:U,0))&\":BT\"&DC16)),\"\")),\"\")","v":""},{"$f":"  IFERROR(IF(W16 = \"\",\"\",W16/(Y16-W16)),\"\")","v":""},{"$f":" IFERROR(IF(ROW(U16) = FLOOR((MATCH(U16, U:U, 0) + DC16)/2,1),INDIRECT(\"BU\"&DC16),\"\"),\"\")","v":""},{"$f":"  IF(V16= 0,\"\",X16)","v":""},{"$f":"IF(Z16=\"\",\"\",Z16+1)","v":""},{"$f":" IF(EN16 = \"\", 0, WEEKNUM(E16) & YEAR(E16) & \"\")","v":0},{"$f":" IFERROR(IF(SUM(INDIRECT(\"O\"&(MATCH(AB16,AB:AB,0))&\":T\"&DD16)) = 0, \"\", IF(ROW(AB16) = FLOOR((MATCH(AB16, AB:AB, 0) + DD16)/2,1),SUM(INDIRECT(\"O\"&(MATCH(AB16,AB:AB,0))&\":T\"&DD16)),\"\")),\"\")","v":""},{"$f":" IFERROR(IF(EN16 = \"\", \"\", IF(ROW(AB16) = FLOOR((MATCH(AB16, AB:AB, 0) +DD16)/2,1),SUM(INDIRECT(\"BT\"&(MATCH(AB16,AB:AB,0))&\":BT\"&DD16)),\"\")),\"\")","v":""},{"$f":" IFERROR( IF(AD16 = \"\",\"\",AD16/(AF16-AD16)),\"\")","v":""},{"$f":" IFERROR(IF(ROW(AB16) = FLOOR((MATCH(AB16, AB:AB, 0) + DD16)/2,1),INDIRECT(\"BU\"&DD16),\"\"),\"\")","v":""},{"$f":"  IF(AC16= 0,\"\",AE16)","v":""},{"$f":"IF(AG16=\"\",\"\",AG16+1)","v":""},{"$f":" IF(EN16 = \"\", 0, MONTH(E16)&YEAR(E16)&\"\")","v":0},{"$f":"IFERROR( IF(SUM(INDIRECT(\"O\"&(MATCH(AI16,AI:AI,0))&\":T\"&DE16)) = 0, \"\", IF(ROW(AI16) = FLOOR((MATCH(AI16, AI:AI, 0) + DE16)/2,1),SUM(INDIRECT(\"O\"&(MATCH(AI16,AI:AI,0))&\":T\"&DE16)),\"\")),\"\")","v":""},{"$f":" IFERROR(IF(EN16 = \"\", \"\", IF(ROW(AI16) = FLOOR((MATCH(AI16, AI:AI, 0) + DE16)/2,1),SUM(INDIRECT(\"BT\"&(MATCH(AI16,AI:AI,0))&\":BT\"&DE16)),\"\")),\"\")","v":""},{"$f":" IFERROR( IF(AK16 = \"\",\"\",AK16/(AM16-AK16)),\"\")","v":""},{"$f":" IFERROR(IF(ROW(AI16) = FLOOR((MATCH(AI16, AI:AI, 0) + DE16)/2,1),INDIRECT(\"BU\"&DE16),\"\"),\"\")","v":""},{"$f":"  IF(AJ16= 0,\"\",AL16)","v":""},{"$f":"IF(AN16=\"\",\"\",AN16+1)","v":""},{"$f":" IF(EN16 = \"\", 0, YEAR(E16)&\"\")","v":0},{"$f":" IFERROR(IF(SUM(INDIRECT(\"O\"&(MATCH(AP16,AP:AP,0))&\":T\"&ED16)) = 0, \"\", IF(ROW(AP16) = FLOOR((MATCH(AP16, AP:AP, 0) + ED16)/2,1),SUM(INDIRECT(\"O\"&(MATCH(AP16,AP:AP,0))&\":T\"&ED16)),\"\")), \"\")","v":""},{"$f":" IF(EN16 = \"\", \"\", IF(ROW(AP16) = FLOOR((MATCH(AP16, AP:AP, 0) + ED16)/2,1),SUM(INDIRECT(\"BT\"&(MATCH(AP16,AP:AP,0))&\":BT\"&ED16)),\"\"))","v":""},{"$f":" IFERROR( IF(AR16 = \"\",\"\",AR16/(AT16-AR16)),\"\")","v":""},{"$f":" IFERROR(IF(ROW(AP16) = FLOOR((MATCH(AP16, AP:AP, 0) + ED16)/2,1),INDIRECT(\"BU\"&ED16),\"\"), \"\")","v":""},{"$f":"  IF(AQ16= 0,\"\",AS16)","v":""},{"$f":"IF(AU16=\"\",\"\",AU16+1)","v":""},{"$f":" IF(BX16=\"\",0,IF(IF(BU16 = \"\",0,-1*((MIN(BU$5:$BU16)-BU16)))=0,0,IF(BU16 = \"\",0,-1*((MIN(BU$5:$BU16)-BU16)))))","v":0},{"$f":"  IF(BX16=\"\",0,IF(IF(BU16 = \"\",0,-1*((MIN(BU$5:$BU16)-BU16)))/MIN((BU$5:BU16))=0,0,IF(BU16 = \"\",0,-1*((MIN(BU$5:$BU16)-BU16)))/MIN((BU$5:BU16))))","v":0},{"$f":" IF(EN16 = \"\", \"\", IF(BD15 = BD16, AY15, AY15 + 1))","v":""},{"$f":" IF(EN16 = \"\", \"\", IF(BD15 = BD16, AZ15 + 1,1))","v":""},{"$f":" IF(AX16 = 0, \"\", IF( IF(ROW(AY16) = FLOOR((MATCH(AY16, AY:AY, 0) + MATCH(AY16, AY:AY))/2,1), INDIRECT(\"E\"&(MATCH(AY16,AY:AY))) + INDIRECT(\"F\"&(MATCH(AY16,AY:AY)))  - INDIRECT(\"E\"&(MATCH(AY16,AY:AY,0))) - INDIRECT(\"F\"&(MATCH(AY16,AY:AY,0))),\"\") = 0, \"\", IF(ROW(AY16) = FLOOR((MATCH(AY16, AY:AY, 0) + MATCH(AY16, AY:AY))/2,1), INDIRECT(\"E\"&(MATCH(AY16,AY:AY))) + INDIRECT(\"F\"&(MATCH(AY16,AY:AY)))  - INDIRECT(\"E\"&(MATCH(AY16,AY:AY,0))) - INDIRECT(\"F\"&(MATCH(AY16,AY:AY,0))),\"\")))","v":""},{"$f":" IF(EN15 = \"\", \"\", IF(IF(ROW(AY16) = FLOOR((MATCH(AY16, AY:AY, 0) + MATCH(AY16, AY:AY))/2,1), MAX(INDIRECT(\"AW\"&(MATCH(AY16,AY:AY,0))&\":AW\"&MATCH(AY16,AY:AY))),\"\") = 0, \"\",  IF(ROW(AY16) = FLOOR((MATCH(AY16, AY:AY, 0) + MATCH(AY16, AY:AY))/2,1), MAX(INDIRECT(\"AW\"&(MATCH(AY16,AY:AY,0))&\":AW\"&MATCH(AY16,AY:AY))),\"\")))","v":""},{"$f":" IF(EN15 = \"\", \"\", IF(IF(ROW(AY16) = FLOOR((MATCH(AY16, AY:AY, 0) + MATCH(AY16, AY:AY))/2,1), MAX(INDIRECT(\"AX\"&(MATCH(AY16,AY:AY,0))&\":AX\"&MATCH(AY16,AY:AY))),\"\") = 0, \"\",  IF(ROW(AY16) = FLOOR((MATCH(AY16, AY:AY, 0) + MATCH(AY16, AY:AY))/2,1), MAX(INDIRECT(\"AX\"&(MATCH(AY16,AY:AY,0))&\":AX\"&MATCH(AY16,AY:AY))),\"\")))","v":""},{"$f":" MIN(BU15, BD15)","v":0},{"$f":" IF(BX16=\"\",0,IF(IF(BU16 = \"\",0,(-1*(MAX(BU$5:$BU16)-BU16)))=0,0,IF(BU16 = \"\",0,(-1*(MAX(BU$5:$BU16)-BU16)))))","v":0},{"$f":" IF(BX16=\"\",0,IF(IF(BU16=\"\",0,(-1*(MAX(BU$5:$BU16)-BU16)))/MAX($BU$5:BU16) = 0,0,IF(BU16=\"\",0,(-1*(MAX(BU$5:$BU16)-BU16)))/MAX($BU$5:BU16)))","v":0},{"$f":" IF(EN16 = \"\", \"\", IF(BL15 = BL16, BG15, BG15 + 1))","v":""},{"$f":" IF(EN16 = \"\", \"\", IF(BL15 = BL16, BH15 + 1,1))","v":""},{"$f":" IF(BF16 = 0, \"\", IF( IF(ROW(BG16) = FLOOR((MATCH(BG16, BG:BG, 0) + MATCH(BG16, BG:BG))/2,1), INDIRECT(\"E\"&(MATCH(BG16,BG:BG))) + INDIRECT(\"F\"&(MATCH(BG16,BG:BG)))  - INDIRECT(\"E\"&(MATCH(BG16,BG:BG,0))) - INDIRECT(\"F\"&(MATCH(BG16,BG:BG,0))),\"\") = 0, \"\", IF(ROW(BG16) = FLOOR((MATCH(BG16,BG:BG,0) + MATCH(BG16, BG:BG))/2,1), INDIRECT(\"E\"&(MATCH(BG16,BG:BG))) + INDIRECT(\"F\"&(MATCH(BG16,BG:BG)))  - INDIRECT(\"E\"&(MATCH(BG16,BG:BG,0))) - INDIRECT(\"F\"&(MATCH(BG16,BG:BG,0))),\"\")))","v":""},{"$f":" IF(EN15 = \"\", \"\",  IF(IF(ROW(BG16) = FLOOR((MATCH(BG16, BG:BG, 0) + MATCH(BG16, BG:BG))/2,1), MIN(INDIRECT(\"BE\"&(MATCH(BG16,BG:BG,0))&\":BE\"&MATCH(BG16,BG:BG))),\"\") = 0, \"\", IF(ROW(BG16) = FLOOR((MATCH(BG16, BG:BG, 0) + MATCH(BG16, BG:BG))/2,1), MIN(INDIRECT(\"BE\"&(MATCH(BG16,BG:BG,0))&\":BE\"&MATCH(BG16,BG:BG))),\"\")))","v":""},{"$f":" IF(EN15 = \"\", \"\",  IF(IF(ROW(BG16) = FLOOR((MATCH(BG16, BG:BG, 0) + MATCH(BG16, BG:BG))/2,1), MIN(INDIRECT(\"BF\"&(MATCH(BG16,BG:BG,0))&\":BF\"&MATCH(BG16,BG:BG))),\"\") = 0, \"\", IF(ROW(BG16) = FLOOR((MATCH(BG16, BG:BG, 0) + MATCH(BG16, BG:BG))/2,1), MIN(INDIRECT(\"BF\"&(MATCH(BG16,BG:BG,0))&\":BF\"&MATCH(BG16,BG:BG))),\"\")))","v":""},{"$f":" MAX(BU15, BL15)","v":0},{"$f":"IF(H16=\"\",\"\",IF(H16=\"Win\",IF(BN16=1,BN16 & \" \" & \"Win\",BN16 & \" \" & \"Wins\"),IF(H16=\"Loss\",IF(BN16=1,BN16 & \" \" & \"Loss\",BN16 & \" \" & \"Losses\"), IF(H16 = \"BE\",IF(BN16=1,BN16 & \" \" & \"BE\",BN16 & \" \" & \"BE's\")))))","v":""},{"$f":" IF(H15=\"\",\"\",IF(H15=H16, BN15+1,1))","v":""},{"$f":" IF(H16 = \"\", \"\", IF(H15 <> H16, (LOOKUP(9E+307,$BO$5:$BO15) + 1), \"\"))","v":""},{"$f":" IF(EN15 = \"\", \"\", IF(BN16 = 1, \"\",IF(BN16<BN17, \"\", \"S\")))","v":""},{"$f":" IF(BP16 = \"\", \"\", IF(H16 = \"Win\",BN16,\"\"))","v":""},{"$f":" IF(BP16 = \"\", \"\", IF(H16 = \"Loss\",BN16,\"\"))","v":""},{"$f":" IF(BP16 = \"\", \"\", IF(H16 = \"BE\",BN16,\"\"))","v":""},{"$f":" IF(EN16 = \"\", \"\", DB16 +CZ16)","v":""},{"$f":" IF(EN16 = \"\", \"\", BU15 + BT16)","v":""},{"$f":" IF(BU16 = \"\",\"\", BV15 + 1)","v":""},{"$f":" IF(BU16 = \"\", \"\", $FN$13*BV16 + $FM$13)","v":""},{"$f":" IF(EN16 = \"\", \"\", (BT16)/BU15)","v":""},{"$f":" IF(EN16 = \"\", \"\",'Overall Performance'!$C$22)","v":""},{"$f":" IF(EN16 = \"\", \"\", IF(BX16=0,\"\",BX16 + 1))","v":""},{"$f":" IF(H16 = \"Win\", BZ16, \"\")","v":""},{"$f":" IF(H16 = \"Loss\", BZ16, \"\")","v":""},{"$f":"IFERROR(INDEX($Y:$Y,SMALL(IF($Y:$Y<>\"\",ROW($Y:$Y)),ROW(11:11))),\"\")","v":""},null,{"$f":" IF(Z16 = \"\", \"\", IF(Z16>0, 0, CH16))","v":""},{"$f":" IF(Z16 = \"\", \"\", IF(Z16>0, 0, W16))","v":""},{"$f":" IF(Z16 = \"\", \"\", Z16 - $FJ$10 + 1)","v":""},{"$f":" IF(Z16 = \"\", \"\", Z16 - $FJ$10)","v":""},{"$f":" IF(AN16 = \"\", \"\", IF(AN16 > 0, 0, CL16))","v":""},{"$f":" IF(AN16 = \"\", \"\", IF(AN16 > 0, 0, AK16))","v":""},{"$f":"IF(AN16=\"\", \"\",AN16-$FJ$14 + 1)","v":""},{"$f":"IF(AN16=\"\", \"\",AN16-$FJ$14)","v":""},{"$f":" IF(EN16 = \"\",\"\",(ES16 - EQ16)/(EQ16 - ER16))","v":""},{"$f":" IF(EN16=\"\",\"\", DA16*ABS((ET16-EQ16)/(EQ16-ER16)))","v":""},{"$f":" IF(CN16 > 0, CN16, \"\")","v":""},{"$f":" IF(CN16 < 0, CN16, \"\")","v":""},{"$f":" IF(EN16 = \"\", \"\", IF(OR(BX16 > AVERAGE(BX:BX) + 3*_xlfn.STDEV.P(BX:BX), BX16 < AVERAGE(BX:BX) - 3*_xlfn.STDEV.P(BX:BX)), BX16, 0))","v":""},{"$f":" IF(EN16= \"\", \"\", SUM(INDIRECT(\"BT\"&(MATCH(U16,U:U,0))&\":BT\"&DC16)))","v":""},{"$f":" IF(EN16= \"\", \"\", SUM(INDIRECT(\"ET\"&(MATCH(U16,U:U,0))&\":ET\"&DC16)))","v":""},{"$f":" IF(EN16= \"\", \"\", (INDIRECT(\"BU\"&DC16)))","v":""},{"$f":" IF(EN16= \"\", \"\", SUM(INDIRECT(\"O\"&(MATCH(U16,U:U,0))&\":T\"&DC16)))","v":""},{"$f":"IF(EN16=\"\",\"\",IF(LEN(RIGHT(EQ16,LEN(EQ16)-FIND(\".\",EQ16)))=2,((-1*ABS(EU16-EQ16))*100),IF(LEN(RIGHT(EQ16,LEN(EQ16)-FIND(\".\",EQ16)))=4,((-1*ABS(EU16-EQ16))*10000),IF(LEN(RIGHT(EQ16,LEN(EQ16)-FIND(\".\",EQ16)))=3,((-1*ABS(EU16-EQ16))*100),IF(LEN(RIGHT(EQ16,LEN(EQ16)-FIND(\".\",EQ16)))=5,((-1*ABS(EU16-EQ16))*10000))))))","v":""},{"$f":" IF(EN16 = \"\", \"\", (((EU16-EQ16)/(ET16-EQ16))*CZ16) + DB16)","v":""},{"$f":"IF(EN16=\"\",\"\",IF(LEN(RIGHT(EQ16,LEN(EQ16)-FIND(\".\",EQ16)))=2,((ABS(EV16-EQ16))*100),IF(LEN(RIGHT(EQ16,LEN(EQ16)-FIND(\".\",EQ16)))=4,((ABS(EV16-EQ16))*10000),IF(LEN(RIGHT(EQ16,LEN(EQ16)-FIND(\".\",EQ16)))=3,((ABS(EV16-EQ16))*100),IF(LEN(RIGHT(EQ16,LEN(EQ16)-FIND(\".\",EQ16)))=5,((ABS(EV16-EQ16))*10000))))))","v":""},{"$f":" IF(EN16 = \"\", \"\", (((EV16-EQ16)/(ET16-EQ16))*CZ16) + DB16)","v":""},{"$f":" IF(EN16 = \"\", \"\", EL16)","v":""},{"$f":" IF(EN16 = \"\", \"\", IF(EN16 = \"Buy\", IF(EQ16 > ET16, -1, 1), IF(EQ16 > ET16, 1, -1)))","v":""},{"$f":"IF(EN16=\"\", \"\",EZ16+FA16)","v":""},{"$f":" IF(EN16 = \"\", \"\", LOOKUP(2,1/(U:U = U16), ROW(U:U)))","v":""},{"$f":" IF(EN16 = \"\", \"\", LOOKUP(2,1/(AB:AB = AB16), ROW(AB:AB)))","v":""},{"$f":" IF(EN16 = \"\", \"\", LOOKUP(2,1/(AI:AI = AI16), ROW(AI:AI)))","v":""},null,null,{"$f":" IF(CO16 = \"\", \"\", CO16*EY16)","v":""},{"$f":" IF(CP16 = \"\", \"\", CP16*EY16)","v":""},{"$f":" IF(EN16 = \"\", \"\",BF16)","v":""},{"$f":" DJ16","v":""},{"$f":" IF(EL17 = \"\", \"\", DL15 + 1)","v":""},{"$f":" IF(EN16 <> \"\", K16*24,#N/A)","v":{"$error":"#N/A"}},{"$f":" IF(EN16 <> \"\", CW16,#N/A)","v":{"$error":"#N/A"}},{"$f":" IF(EN16 <> \"\", CY16,#N/A)","v":{"$error":"#N/A"}},{"$f":" IF(EN16 <> \"\", CM16,#N/A)","v":{"$error":"#N/A"}},{"$f":" IF(EN16 <> \"\", CN16,#N/A)","v":{"$error":"#N/A"}},{"$f":" IF(CN16 > 0, CM16, -1)","v":""},{"$f":" IF(CN16 > 0, CM16, \"\")","v":""},{"$f":" IF(CN16 < 0, CM16, \"\")","v":""},{"$f":" IF(AQ16 = \"\",\"\",LOOKUP(9E+307,$DU$5:$DU15) + 1)","v":""},{"$f":" IF(EN16 = \"\", \"\", (CZ16)/BU15)","v":""},{"$f":" IF(EN16 = \"\", \"\", WEEKDAY(C16,1))","v":""},{"$f":" IF(EN16=\"\", \"\", MONTH(C16))","v":""},{"$f":" IF(EN16 = \"\", \"\", YEAR(E16))","v":""},{"$f":" IF(EB16 = \"\", \"\", MAX(((EA16-EB16)/EA16), ((EB16-EC16)/EB16)))","v":""},{"$f":" IF(EB16=\"\", \"\", MAX($EB$6:EB16))","v":""},{"$f":" AM16","v":""},{"$f":" IF(EB16=\"\",\"\", MIN(EB16:$EB$1048576))","v":""},{"$f":" IF(EN16 = \"\", \"\", LOOKUP(2,1/(AP:AP = AP16), ROW(AP:AP)))","v":""},{"$f":" IFERROR(_xlfn.IFS(FE16 = \"1-Minute\", 1, FE16 = \"5-Minute\", 2, FE16 = \"15-Minute\", 3, FE16 = \"30-Minute\", 4, FE16 = \"1-Hour\", 5, FE16 = \"4-Hour\", 6, FE16 = \"Daily\", 7, FE16 = \"Weekly\", 8, FE16 = \"Monthly\", 9), \"\")","v":""},{"$f":" IFERROR(_xlfn.IFS(FF16 = \"Very Low\", 1, FF16 = \"Low\", 2, FF16 = \"Medium\", 3, FF16 = \"High\", 4, FF16 = \"Very High\", 5),\"\")","v":""},null,{"$f":" TEXT(CM16, \"#,###0.000\") & \" : 1\"","v":" : 1"},{"$f":" IF(EN16 = \"\", \"\", IF(N16 = \"Buy\", (ET16-EQ16)/(EV16-EU16), (EQ16-ET16)/(EU16-EV16)))","v":""},{"$f":"IF(EN16=\"\",\"\",IF(N16 = \"Buy\", (EV16 - EQ16)/(EV16-EU16), (EQ16-EV16)/(EU16-EV16)))","v":""},{"$f":"IF(EN16=\"\",\"\",IF(N16 = \"Buy\", (ET16-EU16)/(EV16-EU16), (EU16-ET16)/(EU16-EV16)))","v":""},null,null,null,null,null,null,null,null,null,null,null,{"$f":" IF(EQ16=\"\",\"\",IF(LEN(RIGHT(EQ16,LEN(EQ16)-FIND(\".\",EQ16)))=2,((IF(EN16 = \"Buy\", IF(DF16 = EQ16, IF(DG16 = ET16, 0, ET16 - DG16),IF(DG16 = ET16, DF16-EQ16, (DF16 - EQ16) + (ET16 - DG16))), IF(DF16 = EQ16, IF(DG16 = ET16, 0, DG16-ET16),IF(DG16 = ET16, EQ16-DF16, (EQ16-DF16) + (DG16-ET16)))))*100),IF(LEN(RIGHT(EQ16,LEN(EQ16)-FIND(\".\",EQ16)))=4,((IF(EN16 = \"Buy\", IF(DF16 = EQ16, IF(DG16 = ET16, 0, ET16 - DG16),IF(DG16 = ET16, DF16-EQ16, (DF16 - EQ16) + (ET16 - DG16))), IF(DF16 = EQ16, IF(DG16 = ET16, 0, DG16-ET16),IF(DG16 = ET16, EQ16-DF16, (EQ16-DF16) + (DG16-ET16)))))*10000),IF(LEN(RIGHT(EQ16,LEN(EQ16)-FIND(\".\",EQ16)))=3,((IF(EN16 = \"Buy\", IF(DF16 = EQ16, IF(DG16 = ET16, 0, ET16 - DG16),IF(DG16 = ET16, DF16-EQ16, (DF16 - EQ16) + (ET16 - DG16))), IF(DF16 = EQ16, IF(DG16 = ET16, 0, DG16-ET16),IF(DG16 = ET16, EQ16-DF16, (EQ16-DF16) + (DG16-ET16)))))*100),IF(LEN(RIGHT(EQ16,LEN(EQ16)-FIND(\".\",EQ16)))=5,((IF(EN16 = \"Buy\", IF(DF16 = EQ16, IF(DG16 = ET16, 0, ET16 - DG16),IF(DG16 = ET16, DF16-EQ16, (DF16 - EQ16) + (ET16 - DG16))), IF(DF16 = EQ16, IF(DG16 = ET16, 0, DG16-ET16),IF(DG16 = ET16, EQ16-DF16, (EQ16-DF16) + (DG16-ET16)))))*10000))))))","v":""},{"$f":"IF(EN16=\"\",\"\",IF(LEN(RIGHT(EQ16,LEN(EQ16)-FIND(\".\",EQ16)))=2,((DA16*ABS(ET16-EQ16))*100),IF(LEN(RIGHT(EQ16,LEN(EQ16)-FIND(\".\",EQ16)))=4,((DA16*ABS(ET16-EQ16))*10000),IF(LEN(RIGHT(EQ16,LEN(EQ16)-FIND(\".\",EQ16)))=3,((DA16*ABS(ET16-EQ16))*100),IF(LEN(RIGHT(EQ16,LEN(EQ16)-FIND(\".\",EQ16)))=5,((DA16*ABS(ET16-EQ16))*10000))))))","v":""},{"$f":"IF(EN16=\"\",\"\",ABS(DV16/ABS(CN16)))","v":""},null,null,null,null,null,null,null,null,null,null,{"$f":" GEOMEAN(AO:AO) - 1","v":{"$error":"#NUM!"}},{"$f":" SUMIF(H:H, \"Loss\", EX:EX)","v":0},null,"K-Ratio:"]
[null,{"$f":" B16+ 1","v":12},null,null,null,null,{"$f":" IF(EN17 = \"\", \"\", INT(K17)&\" d,\"&\" \"&HOUR(K17)&\" h,\"&\" \"&MINUTE(K17)&\" m,\"&\" \"&SECOND(K17)&\" s\")","v":""},{"$f":" IF(EN17 = \"\",\"\",IF(CZ17 +DB17 = 0, \"BE\", IF(CZ17 > 0, \"Win\",\"Loss\")))","v":""},{"$f":" IF(EN17=\"\", \"\",VALUE(C17 + D17))","v":""},{"$f":" IF(EN17 = \"\", \"\", VALUE(E17 + F17))","v":""},{"$f":"IF(EN17=\"\",\"\",IF(C17=\"\",0,IF(D17=\"\",0,(E17+F17-D17-C17))))","v":""},{"$f":" IFERROR(IF(VALUE(E17&F17) > VALUE(C18&D18), IF(VALUE(C18+D18) < VALUE(C19 + D19), E17 + F17 - C18 - D18 - (C17 + D17 - C18 - D18),E17 + F17 - C18 - D18), \"\"), \"\")","v":""},{"$f":"IFERROR(IF(EN17=\"\",\"\",IF(VALUE(E16+F16)<VALUE(C17+D17),C17+D17-E16-F16,\"\")),\"\")","v":""},{"$f":" TRIM(EN17)","v":""},{"$f":" IF(AND(N17 = \"Buy\", H17 = \"Win\"), 1, 0)","v":0},{"$f":" IF(AND(N17 = \"Sell\", H17 = \"Win\"), 1, 0)","v":0},{"$f":" IF(AND(N17 = \"Buy\", H17 = \"Loss\"), 1, 0)","v":0},{"$f":" IF(AND(N17 = \"Sell\", H17 = \"Loss\"), 1, 0)","v":0},{"$f":" IF(AND(N17 = \"Buy\", H17 = \"BE\"), 1, 0)","v":0},{"$f":" IF(AND(N17 = \"Sell\", H17 = \"BE\"), 1, 0)","v":0},{"$f":" IF(EN17 = \"\", 0, (E17 - DATE(YEAR(E17),1,0)) & YEAR(E17)&\"\")","v":0},{"$f":"IFERROR( IF(SUM(INDIRECT(\"O\"&(MATCH(U17,U:U,0))&\":T\"&DC17)) = 0, \"\", IF(ROW(U17) = FLOOR((MATCH(U17, U:U, 0) +DC17)/2,1),SUM(INDIRECT(\"O\"&(MATCH(U17,U:U,0))&\":T\"&DC17)),\"\")),\"\")","v":""},{"$f":" IFERROR(IF(EN17 = \"\", \"\", IF(ROW(U17) = FLOOR((MATCH(U17, U:U, 0) + DC17)/2,1),SUM(INDIRECT(\"BT\"&(MATCH(U17,U:U,0))&\":BT\"&DC17)),\"\")),\"\")","v":""},{"$f":"  IFERROR(IF(W17 = \"\",\"\",W17/(Y17-W17)),\"\")","v":""},{"$f":" IFERROR(IF(ROW(U17) = FLOOR((MATCH(U17, U:U, 0) + DC17)/2,1),INDIRECT(\"BU\"&DC17),\"\"),\"\")","v":""},{"$f":"  IF(V17= 0,\"\",X17)","v":""},{"$f":"IF(Z17=\"\",\"\",Z17+1)","v":""},{"$f":" IF(EN17 = \"\", 0, WEEKNUM(E17) & YEAR(E17) & \"\")","v":0},{"$f":" IFERROR(IF(SUM(INDIRECT(\"O\"&(MATCH(AB17,AB:AB,0))&\":T\"&DD17)) = 0, \"\", IF(ROW(AB17) = FLOOR((MATCH(AB17, AB:AB, 0) + DD17)/2,1),SUM(INDIRECT(\"O\"&(MATCH(AB17,AB:AB,0))&\":T\"&DD17)),\"\")),\"\")","v":""},{"$f":" IFERROR(IF(EN17 = \"\", \"\", IF(ROW(AB17) = FLOOR((MATCH(AB17, AB:AB, 0) +DD17)/2,1),SUM(INDIRECT(\"BT\"&(MATCH(AB17,AB:AB,0))&\":BT\"&DD17)),\"\")),\"\")","v":""},{"$f":" IFERROR( IF(AD17 = \"\",\"\",AD17/(AF17-AD17)),\"\")","v":""},{"$f":" IFERROR(IF(ROW(AB17) = FLOOR((MATCH(AB17, AB:AB, 0) + DD17)/2,1),INDIRECT(\"BU\"&DD17),\"\"),\"\")","v":""},{"$f":"  IF(AC17= 0,\"\",AE17)","v":""},{"$f":"IF(AG17=\"\",\"\",AG17+1)","v":""},{"$f":" IF(EN17 = \"\", 0, MONTH(E17)&YEAR(E17)&\"\")","v":0},{"$f":"IFERROR( IF(SUM(INDIRECT(\"O\"&(MATCH(AI17,AI:AI,0))&\":T\"&DE17)) = 0, \"\", IF(ROW(AI17) = FLOOR((MATCH(AI17, AI:AI, 0) + DE17)/2,1),SUM(INDIRECT(\"O\"&(MATCH(AI17,AI:AI,0))&\":T\"&DE17)),\"\")),\"\")","v":""},{"$f":" IFERROR(IF(EN17 = \"\", \"\", IF(ROW(AI17) = FLOOR((MATCH(AI17, AI:AI, 0) + DE17)/2,1),SUM(INDIRECT(\"BT\"&(MATCH(AI17,AI:AI,0))&\":BT\"&DE17)),\"\")),\"\")","v":""},{"$f":" IFERROR( IF(AK17 = \"\",\"\",AK17/(AM17-AK17)),\"\")","v":""},{"$f":" IFERROR(IF(ROW(AI17) = FLOOR((MATCH(AI17, AI:AI, 0) + DE17)/2,1),INDIRECT(\"BU\"&DE17),\"\"),\"\")","v":""},{"$f":"  IF(AJ17= 0,\"\",AL17)","v":""},{"$f":"IF(AN17=\"\",\"\",AN17+1)","v":""},{"$f":" IF(EN17 = \"\", 0, YEAR(E17)&\"\")","v":0},{"$f":" IFERROR(IF(SUM(INDIRECT(\"O\"&(MATCH(AP17,AP:AP,0))&\":T\"&ED17)) = 0, \"\", IF(ROW(AP17) = FLOOR((MATCH(AP17, AP:AP, 0) + ED17)/2,1),SUM(INDIRECT(\"O\"&(MATCH(AP17,AP:AP,0))&\":T\"&ED17)),\"\")), \"\")","v":""},{"$f":" IF(EN17 = \"\", \"\", IF(ROW(AP17) = FLOOR((MATCH(AP17, AP:AP, 0) + ED17)/2,1),SUM(INDIRECT(\"BT\"&(MATCH(AP17,AP:AP,0))&\":BT\"&ED17)),\"\"))","v":""},{"$f":" IFERROR( IF(AR17 = \"\",\"\",AR17/(AT17-AR17)),\"\")","v":""},{"$f":" IFERROR(IF(ROW(AP17) = FLOOR((MATCH(AP17, AP:AP, 0) + ED17)/2,1),INDIRECT(\"BU\"&ED17),\"\"), \"\")","v":""},{"$f":"  IF(AQ17= 0,\"\",AS17)","v":""},{"$f":"IF(AU17=\"\",\"\",AU17+1)","v":""},{"$f":" IF(BX17=\"\",0,IF(IF(BU17 = \"\",0,-1*((MIN(BU$5:$BU17)-BU17)))=0,0,IF(BU17 = \"\",0,-1*((MIN(BU$5:$BU17)-BU17)))))","v":0},{"$f":"  IF(BX17=\"\",0,IF(IF(BU17 = \"\",0,-1*((MIN(BU$5:$BU17)-BU17)))/MIN((BU$5:BU17))=0,0,IF(BU17 = \"\",0,-1*((MIN(BU$5:$BU17)-BU17)))/MIN((BU$5:BU17))))","v":0},{"$f":" IF(EN17 = \"\", \"\", IF(BD16 = BD17, AY16, AY16 + 1))","v":""},{"$f":" IF(EN17 = \"\", \"\", IF(BD16 = BD17, AZ16 + 1,1))","v":""},{"$f":" IF(AX17 = 0, \"\", IF( IF(ROW(AY17) = FLOOR((MATCH(AY17, AY:AY, 0) + MATCH(AY17, AY:AY))/2,1), INDIRECT(\"E\"&(MATCH(AY17,AY:AY))) + INDIRECT(\"F\"&(MATCH(AY17,AY:AY)))  - INDIRECT(\"E\"&(MATCH(AY17,AY:AY,0))) - INDIRECT(\"F\"&(MATCH(AY17,AY:AY,0))),\"\") = 0, \"\", IF(ROW(AY17) = FLOOR((MATCH(AY17, AY:AY, 0) + MATCH(AY17, AY:AY))/2,1), INDIRECT(\"E\"&(MATCH(AY17,AY:AY))) + INDIRECT(\"F\"&(MATCH(AY17,AY:AY)))  - INDIRECT(\"E\"&(MATCH(AY17,AY:AY,0))) - INDIRECT(\"F\"&(MATCH(AY17,AY:AY,0))),\"\")))","v":""},{"$f":" IF(EN16 = \"\", \"\", IF(IF(ROW(AY17) = FLOOR((MATCH(AY17, AY:AY, 0) + MATCH(AY17, AY:AY))/2,1), MAX(INDIRECT(\"AW\"&(MATCH(AY17,AY:AY,0))&\":AW\"&MATCH(AY17,AY:AY))),\"\") = 0, \"\",  IF(ROW(AY17) = FLOOR((MATCH(AY17, AY:AY, 0) + MATCH(AY17, AY:AY))/2,1), MAX(INDIRECT(\"AW\"&(MATCH(AY17,AY:AY,0))&\":AW\"&MATCH(AY17,AY:AY))),\"\")))","v":""},{"$f":" IF(EN16 = \"\", \"\", IF(IF(ROW(AY17) = FLOOR((MATCH(AY17, AY:AY, 0) + MATCH(AY17, AY:AY))/2,1), MAX(INDIRECT(\"AX\"&(MATCH(AY17,AY:AY,0))&\":AX\"&MATCH(AY17,AY:AY))),\"\") = 0, \"\",  IF(ROW(AY17) = FLOOR((MATCH(AY17, AY:AY, 0) + MATCH(AY17, AY:AY))/2,1), MAX(INDIRECT(\"AX\"&(MATCH(AY17,AY:AY,0))&\":AX\"&MATCH(AY17,AY:AY))),\"\")))","v":""},{"$f":" MIN(BU16, BD16)","v":0},{"$f":" IF(BX17=\"\",0,IF(IF(BU17 = \"\",0,(-1*(MAX(BU$5:$BU17)-BU17)))=0,0,IF(BU17 = \"\",0,(-1*(MAX(BU$5:$BU17)-BU17)))))","v":0},{"$f":" IF(BX17=\"\",0,IF(IF(BU17=\"\",0,(-1*(MAX(BU$5:$BU17)-BU17)))/MAX($BU$5:BU17) = 0,0,IF(BU17=\"\",0,(-1*(MAX(BU$5:$BU17)-BU17)))/MAX($BU$5:BU17)))","v":0},{"$f":" IF(EN17 = \"\", \"\", IF(BL16 = BL17, BG16, BG16 + 1))","v":""},{"$f":" IF(EN17 = \"\", \"\", IF(BL16 = BL17, BH16 + 1,1))","v":""},{"$f":" IF(BF17 = 0, \"\", IF( IF(ROW(BG17) = FLOOR((MATCH(BG17, BG:BG, 0) + MATCH(BG17, BG:BG))/2,1), INDIRECT(\"E\"&(MATCH(BG17,BG:BG))) + INDIRECT(\"F\"&(MATCH(BG17,BG:BG)))  - INDIRECT(\"E\"&(MATCH(BG17,BG:BG,0))) - INDIRECT(\"F\"&(MATCH(BG17,BG:BG,0))),\"\") = 0, \"\", IF(ROW(BG17) = FLOOR((MATCH(BG17,BG:BG,0) + MATCH(BG17, BG:BG))/2,1), INDIRECT(\"E\"&(MATCH(BG17,BG:BG))) + INDIRECT(\"F\"&(MATCH(BG17,BG:BG)))  - INDIRECT(\"E\"&(MATCH(BG17,BG:BG,0))) - INDIRECT(\"F\"&(MATCH(BG17,BG:BG,0))),\"\")))","v":""},{"$f":" IF(EN16 = \"\", \"\",  IF(IF(ROW(BG17) = FLOOR((MATCH(BG17, BG:BG, 0) + MATCH(BG17, BG:BG))/2,1), MIN(INDIRECT(\"BE\"&(MATCH(BG17,BG:BG,0))&\":BE\"&MATCH(BG17,BG:BG))),\"\") = 0, \"\", IF(ROW(BG17) = FLOOR((MATCH(BG17, BG:BG, 0) + MATCH(BG17, BG:BG))/2,1), MIN(INDIRECT(\"BE\"&(MATCH(BG17,BG:BG,0))&\":BE\"&MATCH(BG17,BG:BG))),\"\")))","v":""},{"$f":" IF(EN16 = \"\", \"\",  IF(IF(ROW(BG17) = FLOOR((MATCH(BG17, BG:BG, 0) + MATCH(BG17, BG:BG))/2,1), MIN(INDIRECT(\"BF\"&(MATCH(BG17,BG:BG,0))&\":BF\"&MATCH(BG17,BG:BG))),\"\") = 0, \"\", IF(ROW(BG17) = FLOOR((MATCH(BG17, BG:BG, 0) + MATCH(BG17, BG:BG))/2,1), MIN(INDIRECT(\"BF\"&(MATCH(BG17,BG:BG,0))&\":BF\"&MATCH(BG17,BG:BG))),\"\")))","v":""},{"$f":" MAX(BU16, BL16)","v":0},{"$f":"IF(H17=\"\",\"\",IF(H17=\"Win\",IF(BN17=1,BN17 & \" \" & \"Win\",BN17 & \" \" & \"Wins\"),IF(H17=\"Loss\",IF(BN17=1,BN17 & \" \" & \"Loss\",BN17 & \" \" & \"Losses\"), IF(H17 = \"BE\",IF(BN17=1,BN17 & \" \" & \"BE\",BN17 & \" \" & \"BE's\")))))","v":""},{"$f":" IF(H16=\"\",\"\",IF(H16=H17, BN16+1,1))","v":""},{"$f":" IF(H17 = \"\", \"\", IF(H16 <> H17, (LOOKUP(9E+307,$BO$5:$BO16) + 1), \"\"))","v":""},{"$f":" IF(EN16 = \"\", \"\", IF(BN17 = 1, \"\",IF(BN17<BN18, \"\", \"S\")))","v":""},{"$f":" IF(BP17 = \"\", \"\", IF(H17 = \"Win\",BN17,\"\"))","v":""},{"$f":" IF(BP17 = \"\", \"\", IF(H17 = \"Loss\",BN17,\"\"))","v":""},{"$f":" IF(BP17 = \"\", \"\", IF(H17 = \"BE\",BN17,\"\"))","v":""},{"$f":" IF(EN17 = \"\", \"\", DB17 +CZ17)","v":""},{"$f":" IF(EN17 = \"\", \"\", BU16 + BT17)","v":""},{"$f":" IF(BU17 = \"\",\"\", BV16 + 1)","v":""},{"$f":" IF(BU17 = \"\", \"\", $FN$13*BV17 + $FM$13)","v":""},{"$f":" IF(EN17 = \"\", \"\", (BT17)/BU16)","v":""},{"$f":" IF(EN17 = \"\", \"\",'Overall Performance'!$C$22)","v":""},{"$f":" IF(EN17 = \"\", \"\", IF(BX17=0,\"\",BX17 + 1))","v":""},{"$f":" IF(H17 = \"Win\", BZ17, \"\")","v":""},{"$f":" IF(H17 = \"Loss\", BZ17, \"\")","v":""},{"$f":"IFERROR(INDEX($Y:$Y,SMALL(IF($Y:$Y<>\"\",ROW($Y:$Y)),ROW(12:12))),\"\")","v":""},null,{"$f":" IF(Z17 = \"\", \"\", IF(Z17>0, 0, CH17))","v":""},{"$f":" IF(Z17 = \"\", \"\", IF(Z17>0, 0, W17))","v":""},{"$f":" IF(Z17 = \"\", \"\", Z17 - $FJ$10 + 1)","v":""},{"$f":" IF(Z17 = \"\", \"\", Z17 - $FJ$10)","v":""},{"$f":" IF(AN17 = \"\", \"\", IF(AN17 > 0, 0, CL17))","v":""},{"$f":" IF(AN17 = \"\", \"\", IF(AN17 > 0, 0, AK17))","v":""},{"$f":"IF(AN17=\"\", \"\",AN17-$FJ$14 + 1)","v":""},{"$f":"IF(AN17=\"\", \"\",AN17-$FJ$14)","v":""},{"$f":" IF(EN17 = \"\",\"\",(ES17 - EQ17)/(EQ17 - ER17))","v":""},{"$f":" IF(EN17=\"\",\"\", DA17*ABS((ET17-EQ17)/(EQ17-ER17)))","v":""},{"$f":" IF(CN17 > 0, CN17, \"\")","v":""},{"$f":" IF(CN17 < 0, CN17, \"\")","v":""},{"$f":" IF(EN17 = \"\", \"\", IF(OR(BX17 > AVERAGE(BX:BX) + 3*_xlfn.STDEV.P(BX:BX), BX17 < AVERAGE(BX:BX) - 3*_xlfn.STDEV.P(BX:BX)), BX17, 0))","v":""},{"$f":" IF(EN17= \"\", \"\", SUM(INDIRECT(\"BT\"&(MATCH(U17,U:U,0))&\":BT\"&DC17)))","v":""},{"$f":" IF(EN17= \"\", \"\", SUM(INDIRECT(\"ET\"&(MATCH(U17,U:U,0))&\":ET\"&DC17)))","v":""},{"$f":" IF(EN17= \"\", \"\", (INDIRECT(\"BU\"&DC17)))","v":""},{"$f":" IF(EN17= \"\", \"\", SUM(INDIRECT(\"O\"&(MATCH(U17,U:U,0))&\":T\"&DC17)))","v":""},{"$f":"IF(EN17=\"\",\"\",IF(LEN(RIGHT(EQ17,LEN(EQ17)-FIND(\".\",EQ17)))=2,((-1*ABS(EU17-EQ17))*100),IF(LEN(RIGHT(EQ17,LEN(EQ17)-FIND(\".\",EQ17)))=4,((-1*ABS(EU17-EQ17))*10000),IF(LEN(RIGHT(EQ17,LEN(EQ17)-FIND(\".\",EQ17)))=3,((-1*ABS(EU17-EQ17))*100),IF(LEN(RIGHT(EQ17,LEN(EQ17)-FIND(\".\",EQ17)))=5,((-1*ABS(EU17-EQ17))*10000))))))","v":""},{"$f":" IF(EN17 = \"\", \"\", (((EU17-EQ17)/(ET17-EQ17))*CZ17) + DB17)","v":""},{"$f":"IF(EN17=\"\",\"\",IF(LEN(RIGHT(EQ17,LEN(EQ17)-FIND(\".\",EQ17)))=2,((ABS(EV17-EQ17))*100),IF(LEN(RIGHT(EQ17,LEN(EQ17)-FIND(\".\",EQ17)))=4,((ABS(EV17-EQ17))*10000),IF(LEN(RIGHT(EQ17,LEN(EQ17)-FIND(\".\",EQ17)))=3,((ABS(EV17-EQ17))*100),IF(LEN(RIGHT(EQ17,LEN(EQ17)-FIND(\".\",EQ17)))=5,((ABS(EV17-EQ17))*10000))))))","v":""},{"$f":" IF(EN17 = \"\", \"\", (((EV17-EQ17)/(ET17-EQ17))*CZ17) + DB17)","v":""},{"$f":" IF(EN17 = \"\", \"\", EL17)","v":""},{"$f":" IF(EN17 = \"\", \"\", IF(EN17 = \"Buy\", IF(EQ17 > ET17, -1, 1), IF(EQ17 > ET17, 1, -1)))","v":""},{"$f":"IF(EN17=\"\", \"\",EZ17+FA17)","v":""},{"$f":" IF(EN17 = \"\", \"\", LOOKUP(2,1/(U:U = U17), ROW(U:U)))","v":""},{"$f":" IF(EN17 = \"\", \"\", LOOKUP(2,1/(AB:AB = AB17), ROW(AB:AB)))","v":""},{"$f":" IF(EN17 = \"\", \"\", LOOKUP(2,1/(AI:AI = AI17), ROW(AI:AI)))","v":""},null,null,{"$f":" IF(CO17 = \"\", \"\", CO17*EY17)","v":""},{"$f":" IF(CP17 = \"\", \"\", CP17*EY17)","v":""},{"$f":" IF(EN17 = \"\", \"\",BF17)","v":""},{"$f":" DJ17","v":""},{"$f":" IF(EL18 = \"\", \"\", DL16 + 1)","v":""},{"$f":" IF(EN17 <> \"\", K17*24,#N/A)","v":{"$error":"#N/A"}},{"$f":" IF(EN17 <> \"\", CW17,#N/A)","v":{"$error":"#N/A"}},{"$f":" IF(EN17 <> \"\", CY17,#N/A)","v":{"$error":"#N/A"}},{"$f":" IF(EN17 <> \"\", CM17,#N/A)","v":{"$error":"#N/A"}},{"$f":" IF(EN17 <> \"\", CN17,#N/A)","v":{"$error":"#N/A"}},{"$f":" IF(CN17 > 0, CM17, -1)","v":""},{"$f":" IF(CN17 > 0, CM17, \"\")","v":""},{"$f":" IF(CN17 < 0, CM17, \"\")","v":""},{"$f":" IF(AQ17 = \"\",\"\",LOOKUP(9E+307,$DU$5:$DU16) + 1)","v":""},{"$f":" IF(EN17 = \"\", \"\", (CZ17)/BU16)","v":""},{"$f":" IF(EN17 = \"\", \"\", WEEKDAY(C17,1))","v":""},{"$f":" IF(EN17=\"\", \"\", MONTH(C17))","v":""},{"$f":" IF(EN17 = \"\", \"\", YEAR(E17))","v":""},{"$f":" IF(EB17 = \"\", \"\", MAX(((EA17-EB17)/EA17), ((EB17-EC17)/EB17)))","v":""},{"$f":" IF(EB17=\"\", \"\", MAX($EB$6:EB17))","v":""},{"$f":" AM17","v":""},{"$f":" IF(EB17=\"\",\"\", MIN(EB17:$EB$1048576))","v":""},{"$f":" IF(EN17 = \"\", \"\", LOOKUP(2,1/(AP:AP = AP17), ROW(AP:AP)))","v":""},{"$f":" IFERROR(_xlfn.IFS(FE17 = \"1-Minute\", 1, FE17 = \"5-Minute\", 2, FE17 = \"15-Minute\", 3, FE17 = \"30-Minute\", 4, FE17 = \"1-Hour\", 5, FE17 = \"4-Hour\", 6, FE17 = \"Daily\", 7, FE17 = \"Weekly\", 8, FE17 = \"Monthly\", 9), \"\")","v":""},{"$f":" IFERROR(_xlfn.IFS(FF17 = \"Very Low\", 1, FF17 = \"Low\", 2, FF17 = \"Medium\", 3, FF17 = \"High\", 4, FF17 = \"Very High\", 5),\"\")","v":""},null,{"$f":" TEXT(CM17, \"#,###0.000\") & \" : 1\"","v":" : 1"},{"$f":" IF(EN17 = \"\", \"\", IF(N17 = \"Buy\", (ET17-EQ17)/(EV17-EU17), (EQ17-ET17)/(EU17-EV17)))","v":""},{"$f":"IF(EN17=\"\",\"\",IF(N17 = \"Buy\", (EV17 - EQ17)/(EV17-EU17), (EQ17-EV17)/(EU17-EV17)))","v":""},{"$f":"IF(EN17=\"\",\"\",IF(N17 = \"Buy\", (ET17-EU17)/(EV17-EU17), (EU17-ET17)/(EU17-EV17)))","v":""},null,null,null,null,null,null,null,null,null,null,null,{"$f":" IF(EQ17=\"\",\"\",IF(LEN(RIGHT(EQ17,LEN(EQ17)-FIND(\".\",EQ17)))=2,((IF(EN17 = \"Buy\", IF(DF17 = EQ17, IF(DG17 = ET17, 0, ET17 - DG17),IF(DG17 = ET17, DF17-EQ17, (DF17 - EQ17) + (ET17 - DG17))), IF(DF17 = EQ17, IF(DG17 = ET17, 0, DG17-ET17),IF(DG17 = ET17, EQ17-DF17, (EQ17-DF17) + (DG17-ET17)))))*100),IF(LEN(RIGHT(EQ17,LEN(EQ17)-FIND(\".\",EQ17)))=4,((IF(EN17 = \"Buy\", IF(DF17 = EQ17, IF(DG17 = ET17, 0, ET17 - DG17),IF(DG17 = ET17, DF17-EQ17, (DF17 - EQ17) + (ET17 - DG17))), IF(DF17 = EQ17, IF(DG17 = ET17, 0, DG17-ET17),IF(DG17 = ET17, EQ17-DF17, (EQ17-DF17) + (DG17-ET17)))))*10000),IF(LEN(RIGHT(EQ17,LEN(EQ17)-FIND(\".\",EQ17)))=3,((IF(EN17 = \"Buy\", IF(DF17 = EQ17, IF(DG17 = ET17, 0, ET17 - DG17),IF(DG17 = ET17, DF17-EQ17, (DF17 - EQ17) + (ET17 - DG17))), IF(DF17 = EQ17, IF(DG17 = ET17, 0, DG17-ET17),IF(DG17 = ET17, EQ17-DF17, (EQ17-DF17) + (DG17-ET17)))))*100),IF(LEN(RIGHT(EQ17,LEN(EQ17)-FIND(\".\",EQ17)))=5,((IF(EN17 = \"Buy\", IF(DF17 = EQ17, IF(DG17 = ET17, 0, ET17 - DG17),IF(DG17 = ET17, DF17-EQ17, (DF17 - EQ17) + (ET17 - DG17))), IF(DF17 = EQ17, IF(DG17 = ET17, 0, DG17-ET17),IF(DG17 = ET17, EQ17-DF17, (EQ17-DF17) + (DG17-ET17)))))*10000))))))","v":""},{"$f":"IF(EN17=\"\",\"\",IF(LEN(RIGHT(EQ17,LEN(EQ17)-FIND(\".\",EQ17)))=2,((DA17*ABS(ET17-EQ17))*100),IF(LEN(RIGHT(EQ17,LEN(EQ17)-FIND(\".\",EQ17)))=4,((DA17*ABS(ET17-EQ17))*10000),IF(LEN(RIGHT(EQ17,LEN(EQ17)-FIND(\".\",EQ17)))=3,((DA17*ABS(ET17-EQ17))*100),IF(LEN(RIGHT(EQ17,LEN(EQ17)-FIND(\".\",EQ17)))=5,((DA17*ABS(ET17-EQ17))*10000))))))","v":""},{"$f":"IF(EN17=\"\",\"\",ABS(DV17/ABS(CN17)))","v":""},null,null,null,null,null,null,null,null,null,null,{"$f":" _xlfn.STDEV.P(CL:CL)","v":{"$error":"#DIV/0!"}},null,{"$f":" OptimalF(INDIRECT(\"BT6\"&\":BT\"&(LOOKUP(2,1/(BT:BT<>\"\"),ROW(BT:BT)))))","v":{"$error":"#VALUE!"}},{"$f":"(FN13)/((FN15/SQRT(DEVSQ(BW:BW)))*(COUNTA(EN:EN)-1))","v":{"$error":"#DIV/0!"}}]
[null,{"$f":" B17+ 1","v":13},null,null,null,null,{"$f":" IF(EN18 = \"\", \"\", INT(K18)&\" d,\"&\" \"&HOUR(K18)&\" h,\"&\" \"&MINUTE(K18)&\" m,\"&\" \"&SECOND(K18)&\" s\")","v":""},{"$f":" IF(EN18 = \"\",\"\",IF(CZ18 +DB18 = 0, \"BE\", IF(CZ18 > 0, \"Win\",\"Loss\")))","v":""},{"$f":" IF(EN18=\"\", \"\",VALUE(C18 + D18))","v":""},{"$f":" IF(EN18 = \"\", \"\", VALUE(E18 + F18))","v":""},{"$f":"IF(EN18=\"\",\"\",IF(C18=\"\",0,IF(D18=\"\",0,(E18+F18-D18-C18))))","v":""},{"$f":" IFERROR(IF(VALUE(E18&F18) > VALUE(C19&D19), IF(VALUE(C19+D19) < VALUE(C20 + D20), E18 + F18 - C19 - D19 - (C18 + D18 - C19 - D19),E18 + F18 - C19 - D19), \"\"), \"\")","v":""},{"$f":"IFERROR(IF(EN18=\"\",\"\",IF(VALUE(E17+F17)<VALUE(C18+D18),C18+D18-E17-F17,\"\")),\"\")","v":""},{"$f":" TRIM(EN18)","v":""},{"$f":" IF(AND(N18 = \"Buy\", H18 = \"Win\"), 1, 0)","v":0},{"$f":" IF(AND(N18 = \"Sell\", H18 = \"Win\"), 1, 0)","v":0},{"$f":" IF(AND(N18 = \"Buy\", H18 = \"Loss\"), 1, 0)","v":0},{"$f":" IF(AND(N18 = \"Sell\", H18 = \"Loss\"), 1, 0)","v":0},{"$f":" IF(AND(N18 = \"Buy\", H18 = \"BE\"), 1, 0)","v":0},{"$f":" IF(AND(N18 = \"Sell\", H18 = \"BE\"), 1, 0)","v":0},{"$f":" IF(EN18 = \"\", 0, (E18 - DATE(YEAR(E18),1,0)) & YEAR(E18)&\"\")","v":0},{"$f":"IFERROR( IF(SUM(INDIRECT(\"O\"&(MATCH(U18,U:U,0))&\":T\"&DC18)) = 0, \"\", IF(ROW(U18) = FLOOR((MATCH(U18, U:U, 0) +DC18)/2,1),SUM(INDIRECT(\"O\"&(MATCH(U18,U:U,0))&\":T\"&DC18)),\"\")),\"\")","v":""},{"$f":" IFERROR(IF(EN18 = \"\", \"\", IF(ROW(U18) = FLOOR((MATCH(U18, U:U, 0) + DC18)/2,1),SUM(INDIRECT(\"BT\"&(MATCH(U18,U:U,0))&\":BT\"&DC18)),\"\")),\"\")","v":""},{"$f":"  IFERROR(IF(W18 = \"\",\"\",W18/(Y18-W18)),\"\")","v":""},{"$f":" IFERROR(IF(ROW(U18) = FLOOR((MATCH(U18, U:U, 0) + DC18)/2,1),INDIRECT(\"BU\"&DC18),\"\"),\"\")","v":""},{"$f":"  IF(V18= 0,\"\",X18)","v":""},{"$f":"IF(Z18=\"\",\"\",Z18+1)","v":""},{"$f":" IF(EN18 = \"\", 0, WEEKNUM(E18) & YEAR(E18) & \"\")","v":0},{"$f":" IFERROR(IF(SUM(INDIRECT(\"O\"&(MATCH(AB18,AB:AB,0))&\":T\"&DD18)) = 0, \"\", IF(ROW(AB18) = FLOOR((MATCH(AB18, AB:AB, 0) + DD18)/2,1),SUM(INDIRECT(\"O\"&(MATCH(AB18,AB:AB,0))&\":T\"&DD18)),\"\")),\"\")","v":""},{"$f":" IFERROR(IF(EN18 = \"\", \"\", IF(ROW(AB18) = FLOOR((MATCH(AB18, AB:AB, 0) +DD18)/2,1),SUM(INDIRECT(\"BT\"&(MATCH(AB18,AB:AB,0))&\":BT\"&DD18)),\"\")),\"\")","v":""},{"$f":" IFERROR( IF(AD18 = \"\",\"\",AD18/(AF18-AD18)),\"\")","v":""},{"$f":" IFERROR(IF(ROW(AB18) = FLOOR((MATCH(AB18, AB:AB, 0) + DD18)/2,1),INDIRECT(\"BU\"&DD18),\"\"),\"\")","v":""},{"$f":"  IF(AC18= 0,\"\",AE18)","v":""},{"$f":"IF(AG18=\"\",\"\",AG18+1)","v":""},{"$f":" IF(EN18 = \"\", 0, MONTH(E18)&YEAR(E18)&\"\")","v":0},{"$f":"IFERROR( IF(SUM(INDIRECT(\"O\"&(MATCH(AI18,AI:AI,0))&\":T\"&DE18)) = 0, \"\", IF(ROW(AI18) = FLOOR((MATCH(AI18, AI:AI, 0) + DE18)/2,1),SUM(INDIRECT(\"O\"&(MATCH(AI18,AI:AI,0))&\":T\"&DE18)),\"\")),\"\")","v":""},{"$f":" IFERROR(IF(EN18 = \"\", \"\", IF(ROW(AI18) = FLOOR((MATCH(AI18, AI:AI, 0) + DE18)/2,1),SUM(INDIRECT(\"BT\"&(MATCH(AI18,AI:AI,0))&\":BT\"&DE18)),\"\")),\"\")","v":""},{"$f":" IFERROR( IF(AK18 = \"\",\"\",AK18/(AM18-AK18)),\"\")","v":""},{"$f":" IFERROR(IF(ROW(AI18) = FLOOR((MATCH(AI18, AI:AI, 0) + DE18)/2,1),INDIRECT(\"BU\"&DE18),\"\"),\"\")","v":""},{"$f":"  IF(AJ18= 0,\"\",AL18)","v":""},{"$f":"IF(AN18=\"\",\"\",AN18+1)","v":""},{"$f":" IF(EN18 = \"\", 0, YEAR(E18)&\"\")","v":0},{"$f":" IFERROR(IF(SUM(INDIRECT(\"O\"&(MATCH(AP18,AP:AP,0))&\":T\"&ED18)) = 0, \"\", IF(ROW(AP18) = FLOOR((MATCH(AP18, AP:AP, 0) + ED18)/2,1),SUM(INDIRECT(\"O\"&(MATCH(AP18,AP:AP,0))&\":T\"&ED18)),\"\")), \"\")","v":""},{"$f":" IF(EN18 = \"\", \"\", IF(ROW(AP18) = FLOOR((MATCH(AP18, AP:AP, 0) + ED18)/2,1),SUM(INDIRECT(\"BT\"&(MATCH(AP18,AP:AP,0))&\":BT\"&ED18)),\"\"))","v":""},{"$f":" IFERROR( IF(AR18 = \"\",\"\",AR18/(AT18-AR18)),\"\")","v":""},{"$f":" IFERROR(IF(ROW(AP18) = FLOOR((MATCH(AP18, AP:AP, 0) + ED18)/2,1),INDIRECT(\"BU\"&ED18),\"\"), \"\")","v":""},{"$f":"  IF(AQ18= 0,\"\",AS18)","v":""},{"$f":"IF(AU18=\"\",\"\",AU18+1)","v":""},{"$f":" IF(BX18=\"\",0,IF(IF(BU18 = \"\",0,-1*((MIN(BU$5:$BU18)-BU18)))=0,0,IF(BU18 = \"\",0,-1*((MIN(BU$5:$BU18)-BU18)))))","v":0},{"$f":"  IF(BX18=\"\",0,IF(IF(BU18 = \"\",0,-1*((MIN(BU$5:$BU18)-BU18)))/MIN((BU$5:BU18))=0,0,IF(BU18 = \"\",0,-1*((MIN(BU$5:$BU18)-BU18)))/MIN((BU$5:BU18))))","v":0},{"$f":" IF(EN18 = \"\", \"\", IF(BD17 = BD18, AY17, AY17 + 1))","v":""},{"$f":" IF(EN18 = \"\", \"\", IF(BD17 = BD18, AZ17 + 1,1))","v":""},{"$f":" IF(AX18 = 0, \"\", IF( IF(ROW(AY18) = FLOOR((MATCH(AY18, AY:AY, 0) + MATCH(AY18, AY:AY))/2,1), INDIRECT(\"E\"&(MATCH(AY18,AY:AY))) + INDIRECT(\"F\"&(MATCH(AY18,AY:AY)))  - INDIRECT(\"E\"&(MATCH(AY18,AY:AY,0))) - INDIRECT(\"F\"&(MATCH(AY18,AY:AY,0))),\"\") = 0, \"\", IF(ROW(AY18) = FLOOR((MATCH(AY18, AY:AY, 0) + MATCH(AY18, AY:AY))/2,1), INDIRECT(\"E\"&(MATCH(AY18,AY:AY))) + INDIRECT(\"F\"&(MATCH(AY18,AY:AY)))  - INDIRECT(\"E\"&(MATCH(AY18,AY:AY,0))) - INDIRECT(\"F\"&(MATCH(AY18,AY:AY,0))),\"\")))","v":""},{"$f":" IF(EN17 = \"\", \"\", IF(IF(ROW(AY18) = FLOOR((MATCH(AY18, AY:AY, 0) + MATCH(AY18, AY:AY))/2,1), MAX(INDIRECT(\"AW\"&(MATCH(AY18,AY:AY,0))&\":AW\"&MATCH(AY18,AY:AY))),\"\") = 0, \"\",  IF(ROW(AY18) = FLOOR((MATCH(AY18, AY:AY, 0) + MATCH(AY18, AY:AY))/2,1), MAX(INDIRECT(\"AW\"&(MATCH(AY18,AY:AY,0))&\":AW\"&MATCH(AY18,AY:AY))),\"\")))","v":""},{"$f":" IF(EN17 = \"\", \"\", IF(IF(ROW(AY18) = FLOOR((MATCH(AY18, AY:AY, 0) + MATCH(AY18, AY:AY))/2,1), MAX(INDIRECT(\"AX\"&(MATCH(AY18,AY:AY,0))&\":AX\"&MATCH(AY18,AY:AY))),\"\") = 0, \"\",  IF(ROW(AY18) = FLOOR((MATCH(AY18, AY:AY, 0) + MATCH(AY18, AY:AY))/2,1), MAX(INDIRECT(\"AX\"&(MATCH(AY18,AY:AY,0))&\":AX\"&MATCH(AY18,AY:AY))),\"\")))","v":""},{"$f":" MIN(BU17, BD17)","v":0},{"$f":" IF(BX18=\"\",0,IF(IF(BU18 = \"\",0,(-1*(MAX(BU$5:$BU18)-BU18)))=0,0,IF(BU18 = \"\",0,(-1*(MAX(BU$5:$BU18)-BU18)))))","v":0},{"$f":" IF(BX18=\"\",0,IF(IF(BU18=\"\",0,(-1*(MAX(BU$5:$BU18)-BU18)))/MAX($BU$5:BU18) = 0,0,IF(BU18=\"\",0,(-1*(MAX(BU$5:$BU18)-BU18)))/MAX($BU$5:BU18)))","v":0},{"$f":" IF(EN18 = \"\", \"\", IF(BL17 = BL18, BG17, BG17 + 1))","v":""},{"$f":" IF(EN18 = \"\", \"\", IF(BL17 = BL18, BH17 + 1,1))","v":""},{"$f":" IF(BF18 = 0, \"\", IF( IF(ROW(BG18) = FLOOR((MATCH(BG18, BG:BG, 0) + MATCH(BG18, BG:BG))/2,1), INDIRECT(\"E\"&(MATCH(BG18,BG:BG))) + INDIRECT(\"F\"&(MATCH(BG18,BG:BG)))  - INDIRECT(\"E\"&(MATCH(BG18,BG:BG,0))) - INDIRECT(\"F\"&(MATCH(BG18,BG:BG,0))),\"\") = 0, \"\", IF(ROW(BG18) = FLOOR((MATCH(BG18,BG:BG,0) + MATCH(BG18, BG:BG))/2,1), INDIRECT(\"E\"&(MATCH(BG18,BG:BG))) + INDIRECT(\"F\"&(MATCH(BG18,BG:BG)))  - INDIRECT(\"E\"&(MATCH(BG18,BG:BG,0))) - INDIRECT(\"F\"&(MATCH(BG18,BG:BG,0))),\"\")))","v":""},{"$f":" IF(EN17 = \"\", \"\",  IF(IF(ROW(BG18) = FLOOR((MATCH(BG18, BG:BG, 0) + MATCH(BG18, BG:BG))/2,1), MIN(INDIRECT(\"BE\"&(MATCH(BG18,BG:BG,0))&\":BE\"&MATCH(BG18,BG:BG))),\"\") = 0, \"\", IF(ROW(BG18) = FLOOR((MATCH(BG18, BG:BG, 0) + MATCH(BG18, BG:BG))/2,1), MIN(INDIRECT(\"BE\"&(MATCH(BG18,BG:BG,0))&\":BE\"&MATCH(BG18,BG:BG))),\"\")))","v":""},{"$f":" IF(EN17 = \"\", \"\",  IF(IF(ROW(BG18) = FLOOR((MATCH(BG18, BG:BG, 0) + MATCH(BG18, BG:BG))/2,1), MIN(INDIRECT(\"BF\"&(MATCH(BG18,BG:BG,0))&\":BF\"&MATCH(BG18,BG:BG))),\"\") = 0, \"\", IF(ROW(BG18) = FLOOR((MATCH(BG18, BG:BG, 0) + MATCH(BG18, BG:BG))/2,1), MIN(INDIRECT(\"BF\"&(MATCH(BG18,BG:BG,0))&\":BF\"&MATCH(BG18,BG:BG))),\"\")))","v":""},{"$f":" MAX(BU17, BL17)","v":0},{"$f":"IF(H18=\"\",\"\",IF(H18=\"Win\",IF(BN18=1,BN18 & \" \" & \"Win\",BN18 & \" \" & \"Wins\"),IF(H18=\"Loss\",IF(BN18=1,BN18 & \" \" & \"Loss\",BN18 & \" \" & \"Losses\"), IF(H18 = \"BE\",IF(BN18=1,BN18 & \" \" & \"BE\",BN18 & \" \" & \"BE's\")))))","v":""},{"$f":" IF(H17=\"\",\"\",IF(H17=H18, BN17+1,1))","v":""},{"$f":" IF(H18 = \"\", \"\", IF(H17 <> H18, (LOOKUP(9E+307,$BO$5:$BO17) + 1), \"\"))","v":""},{"$f":" IF(EN17 = \"\", \"\", IF(BN18 = 1, \"\",IF(BN18<BN19, \"\", \"S\")))","v":""},{"$f":" IF(BP18 = \"\", \"\", IF(H18 = \"Win\",BN18,\"\"))","v":""},{"$f":" IF(BP18 = \"\", \"\", IF(H18 = \"Loss\",BN18,\"\"))","v":""},{"$f":" IF(BP18 = \"\", \"\", IF(H18 = \"BE\",BN18,\"\"))","v":""},{"$f":" IF(EN18 = \"\", \"\", DB18 +CZ18)","v":""},{"$f":" IF(EN18 = \"\", \"\", BU17 + BT18)","v":""},{"$f":" IF(BU18 = \"\",\"\", BV17 + 1)","v":""},{"$f":" IF(BU18 = \"\", \"\", $FN$13*BV18 + $FM$13)","v":""},{"$f":" IF(EN18 = \"\", \"\", (BT18)/BU17)","v":""},{"$f":" IF(EN18 = \"\", \"\",'Overall Performance'!$C$22)","v":""},{"$f":" IF(EN18 = \"\", \"\", IF(BX18=0,\"\",BX18 + 1))","v":""},{"$f":" IF(H18 = \"Win\", BZ18, \"\")","v":""},{"$f":" IF(H18 = \"Loss\", BZ18, \"\")","v":""},{"$f":"IFERROR(INDEX($Y:$Y,SMALL(IF($Y:$Y<>\"\",ROW($Y:$Y)),ROW(13:13))),\"\")","v":""},null,{"$f":" IF(Z18 = \"\", \"\", IF(Z18>0, 0, CH18))","v":""},{"$f":" IF(Z18 = \"\", \"\", IF(Z18>0, 0, W18))","v":""},{"$f":" IF(Z18 = \"\", \"\", Z18 - $FJ$10 + 1)","v":""},{"$f":" IF(Z18 = \"\", \"\", Z18 - $FJ$10)","v":""},{"$f":" IF(AN18 = \"\", \"\", IF(AN18 > 0, 0, CL18))","v":""},{"$f":" IF(AN18 = \"\", \"\", IF(AN18 > 0, 0, AK18))","v":""},{"$f":"IF(AN18=\"\", \"\",AN18-$FJ$14 + 1)","v":""},{"$f":"IF(AN18=\"\", \"\",AN18-$FJ$14)","v":""},{"$f":" IF(EN18 = \"\",\"\",(ES18 - EQ18)/(EQ18 - ER18))","v":""},{"$f":" IF(EN18=\"\",\"\", DA18*ABS((ET18-EQ18)/(EQ18-ER18)))","v":""},{"$f":" IF(CN18 > 0, CN18, \"\")","v":""},{"$f":" IF(CN18 < 0, CN18, \"\")","v":""},{"$f":" IF(EN18 = \"\", \"\", IF(OR(BX18 > AVERAGE(BX:BX) + 3*_xlfn.STDEV.P(BX:BX), BX18 < AVERAGE(BX:BX) - 3*_xlfn.STDEV.P(BX:BX)), BX18, 0))","v":""},{"$f":" IF(EN18= \"\", \"\", SUM(INDIRECT(\"BT\"&(MATCH(U18,U:U,0))&\":BT\"&DC18)))","v":""},{"$f":" IF(EN18= \"\", \"\", SUM(INDIRECT(\"ET\"&(MATCH(U18,U:U,0))&\":ET\"&DC18)))","v":""},{"$f":" IF(EN18= \"\", \"\", (INDIRECT(\"BU\"&DC18)))","v":""},{"$f":" IF(EN18= \"\", \"\", SUM(INDIRECT(\"O\"&(MATCH(U18,U:U,0))&\":T\"&DC18)))","v":""},{"$f":"IF(EN18=\"\",\"\",IF(LEN(RIGHT(EQ18,LEN(EQ18)-FIND(\".\",EQ18)))=2,((-1*ABS(EU18-EQ18))*100),IF(LEN(RIGHT(EQ18,LEN(EQ18)-FIND(\".\",EQ18)))=4,((-1*ABS(EU18-EQ18))*10000),IF(LEN(RIGHT(EQ18,LEN(EQ18)-FIND(\".\",EQ18)))=3,((-1*ABS(EU18-EQ18))*100),IF(LEN(RIGHT(EQ18,LEN(EQ18)-FIND(\".\",EQ18)))=5,((-1*ABS(EU18-EQ18))*10000))))))","v":""},{"$f":" IF(EN18 = \"\", \"\", (((EU18-EQ18)/(ET18-EQ18))*CZ18) + DB18)","v":""},{"$f":"IF(EN18=\"\",\"\",IF(LEN(RIGHT(EQ18,LEN(EQ18)-FIND(\".\",EQ18)))=2,((ABS(EV18-EQ18))*100),IF(LEN(RIGHT(EQ18,LEN(EQ18)-FIND(\".\",EQ18)))=4,((ABS(EV18-EQ18))*10000),IF(LEN(RIGHT(EQ18,LEN(EQ18)-FIND(\".\",EQ18)))=3,((ABS(EV18-EQ18))*100),IF(LEN(RIGHT(EQ18,LEN(EQ18)-FIND(\".\",EQ18)))=5,((ABS(EV18-EQ18))*10000))))))","v":""},{"$f":" IF(EN18 = \"\", \"\", (((EV18-EQ18)/(ET18-EQ18))*CZ18) + DB18)","v":""},{"$f":" IF(EN18 = \"\", \"\", EL18)","v":""},{"$f":" IF(EN18 = \"\", \"\", IF(EN18 = \"Buy\", IF(EQ18 > ET18, -1, 1), IF(EQ18 > ET18, 1, -1)))","v":""},{"$f":"IF(EN18=\"\", \"\",EZ18+FA18)","v":""},{"$f":" IF(EN18 = \"\", \"\", LOOKUP(2,1/(U:U = U18), ROW(U:U)))","v":""},{"$f":" IF(EN18 = \"\", \"\", LOOKUP(2,1/(AB:AB = AB18), ROW(AB:AB)))","v":""},{"$f":" IF(EN18 = \"\", \"\", LOOKUP(2,1/(AI:AI = AI18), ROW(AI:AI)))","v":""},null,null,{"$f":" IF(CO18 = \"\", \"\", CO18*EY18)","v":""},{"$f":" IF(CP18 = \"\", \"\", CP18*EY18)","v":""},{"$f":" IF(EN18 = \"\", \"\",BF18)","v":""},{"$f":" DJ18","v":""},{"$f":" IF(EL19 = \"\", \"\", DL17 + 1)","v":""},{"$f":" IF(EN18 <> \"\", K18*24,#N/A)","v":{"$error":"#N/A"}},{"$f":" IF(EN18 <> \"\", CW18,#N/A)","v":{"$error":"#N/A"}},{"$f":" IF(EN18 <> \"\", CY18,#N/A)","v":{"$error":"#N/A"}},{"$f":" IF(EN18 <> \"\", CM18,#N/A)","v":{"$error":"#N/A"}},{"$f":" IF(EN18 <> \"\", CN18,#N/A)","v":{"$error":"#N/A"}},{"$f":" IF(CN18 > 0, CM18, -1)","v":""},{"$f":" IF(CN18 > 0, CM18, \"\")","v":""},{"$f":" IF(CN18 < 0, CM18, \"\")","v":""},{"$f":" IF(AQ18 = \"\",\"\",LOOKUP(9E+307,$DU$5:$DU17) + 1)","v":""},{"$f":" IF(EN18 = \"\", \"\", (CZ18)/BU17)","v":""},{"$f":" IF(EN18 = \"\", \"\", WEEKDAY(C18,1))","v":""},{"$f":" IF(EN18=\"\", \"\", MONTH(C18))","v":""},{"$f":" IF(EN18 = \"\", \"\", YEAR(E18))","v":""},{"$f":" IF(EB18 = \"\", \"\", MAX(((EA18-EB18)/EA18), ((EB18-EC18)/EB18)))","v":""},{"$f":" IF(EB18=\"\", \"\", MAX($EB$6:EB18))","v":""},{"$f":" AM18","v":""},{"$f":" IF(EB18=\"\",\"\", MIN(EB18:$EB$1048576))","v":""},{"$f":" IF(EN18 = \"\", \"\", LOOKUP(2,1/(AP:AP = AP18), ROW(AP:AP)))","v":""},{"$f":" IFERROR(_xlfn.IFS(FE18 = \"1-Minute\", 1, FE18 = \"5-Minute\", 2, FE18 = \"15-Minute\", 3, FE18 = \"30-Minute\", 4, FE18 = \"1-Hour\", 5, FE18 = \"4-Hour\", 6, FE18 = \"Daily\", 7, FE18 = \"Weekly\", 8, FE18 = \"Monthly\", 9), \"\")","v":""},{"$f":" IFERROR(_xlfn.IFS(FF18 = \"Very Low\", 1, FF18 = \"Low\", 2, FF18 = \"Medium\", 3, FF18 = \"High\", 4, FF18 = \"Very High\", 5),\"\")","v":""},null,{"$f":" TEXT(CM18, \"#,###0.000\") & \" : 1\"","v":" : 1"},{"$f":" IF(EN18 = \"\", \"\", IF(N18 = \"Buy\", (ET18-EQ18)/(EV18-EU18), (EQ18-ET18)/(EU18-EV18)))","v":""},{"$f":"IF(EN18=\"\",\"\",IF(N18 = \"Buy\", (EV18 - EQ18)/(EV18-EU18), (EQ18-EV18)/(EU18-EV18)))","v":""},{"$f":"IF(EN18=\"\",\"\",IF(N18 = \"Buy\", (ET18-EU18)/(EV18-EU18), (EU18-ET18)/(EU18-EV18)))","v":""},null,null,null,null,null,null,null,null,null,null,null,{"$f":" IF(EQ18=\"\",\"\",IF(LEN(RIGHT(EQ18,LEN(EQ18)-FIND(\".\",EQ18)))=2,((IF(EN18 = \"Buy\", IF(DF18 = EQ18, IF(DG18 = ET18, 0, ET18 - DG18),IF(DG18 = ET18, DF18-EQ18, (DF18 - EQ18) + (ET18 - DG18))), IF(DF18 = EQ18, IF(DG18 = ET18, 0, DG18-ET18),IF(DG18 = ET18, EQ18-DF18, (EQ18-DF18) + (DG18-ET18)))))*100),IF(LEN(RIGHT(EQ18,LEN(EQ18)-FIND(\".\",EQ18)))=4,((IF(EN18 = \"Buy\", IF(DF18 = EQ18, IF(DG18 = ET18, 0, ET18 - DG18),IF(DG18 = ET18, DF18-EQ18, (DF18 - EQ18) + (ET18 - DG18))), IF(DF18 = EQ18, IF(DG18 = ET18, 0, DG18-ET18),IF(DG18 = ET18, EQ18-DF18, (EQ18-DF18) + (DG18-ET18)))))*10000),IF(LEN(RIGHT(EQ18,LEN(EQ18)-FIND(\".\",EQ18)))=3,((IF(EN18 = \"Buy\", IF(DF18 = EQ18, IF(DG18 = ET18, 0, ET18 - DG18),IF(DG18 = ET18, DF18-EQ18, (DF18 - EQ18) + (ET18 - DG18))), IF(DF18 = EQ18, IF(DG18 = ET18, 0, DG18-ET18),IF(DG18 = ET18, EQ18-DF18, (EQ18-DF18) + (DG18-ET18)))))*100),IF(LEN(RIGHT(EQ18,LEN(EQ18)-FIND(\".\",EQ18)))=5,((IF(EN18 = \"Buy\", IF(DF18 = EQ18, IF(DG18 = ET18, 0, ET18 - DG18),IF(DG18 = ET18, DF18-EQ18, (DF18 - EQ18) + (ET18 - DG18))), IF(DF18 = EQ18, IF(DG18 = ET18, 0, DG18-ET18),IF(DG18 = ET18, EQ18-DF18, (EQ18-DF18) + (DG18-ET18)))))*10000))))))","v":""},{"$f":"IF(EN18=\"\",\"\",IF(LEN(RIGHT(EQ18,LEN(EQ18)-FIND(\".\",EQ18)))=2,((DA18*ABS(ET18-EQ18))*100),IF(LEN(RIGHT(EQ18,LEN(EQ18)-FIND(\".\",EQ18)))=4,((DA18*ABS(ET18-EQ18))*10000),IF(LEN(RIGHT(EQ18,LEN(EQ18)-FIND(\".\",EQ18)))=3,((DA18*ABS(ET18-EQ18))*100),IF(LEN(RIGHT(EQ18,LEN(EQ18)-FIND(\".\",EQ18)))=5,((DA18*ABS(ET18-EQ18))*10000))))))","v":""},{"$f":"IF(EN18=\"\",\"\",ABS(DV18/ABS(CN18)))","v":""},null,null,null,null,null,null,null,null,null,null,{"$f":"(SUMSQ(CI:CI)/COUNT(CI:CI))^0.5","v":{"$error":"#DIV/0!"}}," ",{"$f":" OptimalF(INDIRECT(\"BX6\"&\":BX\"&(LOOKUP(2,1/(BX:BX<>\"\"),ROW(BX:BX)))))","v":{"$error":"#VALUE!"}},{"$f":" INDIRECT(\"E\"&MATCH(MAX('Trade Log'!BB:BB),'Trade Log'!BB:BB))","v":{"$error":"#N/A"}}]
[null,{"$f":" B18+ 1","v":14},null,null,null,null,{"$f":" IF(EN19 = \"\", \"\", INT(K19)&\" d,\"&\" \"&HOUR(K19)&\" h,\"&\" \"&MINUTE(K19)&\" m,\"&\" \"&SECOND(K19)&\" s\")","v":""},{"$f":" IF(EN19 = \"\",\"\",IF(CZ19 +DB19 = 0, \"BE\", IF(CZ19 > 0, \"Win\",\"Loss\")))","v":""},{"$f":" IF(EN19=\"\", \"\",VALUE(C19 + D19))","v":""},{"$f":" IF(EN19 = \"\", \"\", VALUE(E19 + F19))","v":""},{"$f":"IF(EN19=\"\",\"\",IF(C19=\"\",0,IF(D19=\"\",0,(E19+F19-D19-C19))))","v":""},{"$f":" IFERROR(IF(VALUE(E19&F19) > VALUE(C20&D20), IF(VALUE(C20+D20) < VALUE(C21 + D21), E19 + F19 - C20 - D20 - (C19 + D19 - C20 - D20),E19 + F19 - C20 - D20), \"\"), \"\")","v":""},{"$f":"IFERROR(IF(EN19=\"\",\"\",IF(VALUE(E18+F18)<VALUE(C19+D19),C19+D19-E18-F18,\"\")),\"\")","v":""},{"$f":" TRIM(EN19)","v":""},{"$f":" IF(AND(N19 = \"Buy\", H19 = \"Win\"), 1, 0)","v":0},{"$f":" IF(AND(N19 = \"Sell\", H19 = \"Win\"), 1, 0)","v":0},{"$f":" IF(AND(N19 = \"Buy\", H19 = \"Loss\"), 1, 0)","v":0},{"$f":" IF(AND(N19 = \"Sell\", H19 = \"Loss\"), 1, 0)","v":0},{"$f":" IF(AND(N19 = \"Buy\", H19 = \"BE\"), 1, 0)","v":0},{"$f":" IF(AND(N19 = \"Sell\", H19 = \"BE\"), 1, 0)","v":0},{"$f":" IF(EN19 = \"\", 0, (E19 - DATE(YEAR(E19),1,0)) & YEAR(E19)&\"\")","v":0},{"$f":"IFERROR( IF(SUM(INDIRECT(\"O\"&(MATCH(U19,U:U,0))&\":T\"&DC19)) = 0, \"\", IF(ROW(U19) = FLOOR((MATCH(U19, U:U, 0) +DC19)/2,1),SUM(INDIRECT(\"O\"&(MATCH(U19,U:U,0))&\":T\"&DC19)),\"\")),\"\")","v":""},{"$f":" IFERROR(IF(EN19 = \"\", \"\", IF(ROW(U19) = FLOOR((MATCH(U19, U:U, 0) + DC19)/2,1),SUM(INDIRECT(\"BT\"&(MATCH(U19,U:U,0))&\":BT\"&DC19)),\"\")),\"\")","v":""},{"$f":"  IFERROR(IF(W19 = \"\",\"\",W19/(Y19-W19)),\"\")","v":""},{"$f":" IFERROR(IF(ROW(U19) = FLOOR((MATCH(U19, U:U, 0) + DC19)/2,1),INDIRECT(\"BU\"&DC19),\"\"),\"\")","v":""},{"$f":"  IF(V19= 0,\"\",X19)","v":""},{"$f":"IF(Z19=\"\",\"\",Z19+1)","v":""},{"$f":" IF(EN19 = \"\", 0, WEEKNUM(E19) & YEAR(E19) & \"\")","v":0},{"$f":" IFERROR(IF(SUM(INDIRECT(\"O\"&(MATCH(AB19,AB:AB,0))&\":T\"&DD19)) = 0, \"\", IF(ROW(AB19) = FLOOR((MATCH(AB19, AB:AB, 0) + DD19)/2,1),SUM(INDIRECT(\"O\"&(MATCH(AB19,AB:AB,0))&\":T\"&DD19)),\"\")),\"\")","v":""},{"$f":" IFERROR(IF(EN19 = \"\", \"\", IF(ROW(AB19) = FLOOR((MATCH(AB19, AB:AB, 0) +DD19)/2,1),SUM(INDIRECT(\"BT\"&(MATCH(AB19,AB:AB,0))&\":BT\"&DD19)),\"\")),\"\")","v":""},{"$f":" IFERROR( IF(AD19 = \"\",\"\",AD19/(AF19-AD19)),\"\")","v":""},{"$f":" IFERROR(IF(ROW(AB19) = FLOOR((MATCH(AB19, AB:AB, 0) + DD19)/2,1),INDIRECT(\"BU\"&DD19),\"\"),\"\")","v":""},{"$f":"  IF(AC19= 0,\"\",AE19)","v":""},{"$f":"IF(AG19=\"\",\"\",AG19+1)","v":""},{"$f":" IF(EN19 = \"\", 0, MONTH(E19)&YEAR(E19)&\"\")","v":0},{"$f":"IFERROR( IF(SUM(INDIRECT(\"O\"&(MATCH(AI19,AI:AI,0))&\":T\"&DE19)) = 0, \"\", IF(ROW(AI19) = FLOOR((MATCH(AI19, AI:AI, 0) + DE19)/2,1),SUM(INDIRECT(\"O\"&(MATCH(AI19,AI:AI,0))&\":T\"&DE19)),\"\")),\"\")","v":""},{"$f":" IFERROR(IF(EN19 = \"\", \"\", IF(ROW(AI19) = FLOOR((MATCH(AI19, AI:AI, 0) + DE19)/2,1),SUM(INDIRECT(\"BT\"&(MATCH(AI19,AI:AI,0))&\":BT\"&DE19)),\"\")),\"\")","v":""},{"$f":" IFERROR( IF(AK19 = \"\",\"\",AK19/(AM19-AK19)),\"\")","v":""},{"$f":" IFERROR(IF(ROW(AI19) = FLOOR((MATCH(AI19, AI:AI, 0) + DE19)/2,1),INDIRECT(\"BU\"&DE19),\"\"),\"\")","v":""},{"$f":"  IF(AJ19= 0,\"\",AL19)","v":""},{"$f":"IF(AN19=\"\",\"\",AN19+1)","v":""},{"$f":" IF(EN19 = \"\", 0, YEAR(E19)&\"\")","v":0},{"$f":" IFERROR(IF(SUM(INDIRECT(\"O\"&(MATCH(AP19,AP:AP,0))&\":T\"&ED19)) = 0, \"\", IF(ROW(AP19) = FLOOR((MATCH(AP19, AP:AP, 0) + ED19)/2,1),SUM(INDIRECT(\"O\"&(MATCH(AP19,AP:AP,0))&\":T\"&ED19)),\"\")), \"\")","v":""},{"$f":" IF(EN19 = \"\", \"\", IF(ROW(AP19) = FLOOR((MATCH(AP19, AP:AP, 0) + ED19)/2,1),SUM(INDIRECT(\"BT\"&(MATCH(AP19,AP:AP,0))&\":BT\"&ED19)),\"\"))","v":""},{"$f":" IFERROR( IF(AR19 = \"\",\"\",AR19/(AT19-AR19)),\"\")","v":""},{"$f":" IFERROR(IF(ROW(AP19) = FLOOR((MATCH(AP19, AP:AP, 0) + ED19)/2,1),INDIRECT(\"BU\"&ED19),\"\"), \"\")","v":""},{"$f":"  IF(AQ19= 0,\"\",AS19)","v":""},{"$f":"IF(AU19=\"\",\"\",AU19+1)","v":""},{"$f":" IF(BX19=\"\",0,IF(IF(BU19 = \"\",0,-1*((MIN(BU$5:$BU19)-BU19)))=0,0,IF(BU19 = \"\",0,-1*((MIN(BU$5:$BU19)-BU19)))))","v":0},{"$f":"  IF(BX19=\"\",0,IF(IF(BU19 = \"\",0,-1*((MIN(BU$5:$BU19)-BU19)))/MIN((BU$5:BU19))=0,0,IF(BU19 = \"\",0,-1*((MIN(BU$5:$BU19)-BU19)))/MIN((BU$5:BU19))))","v":0},{"$f":" IF(EN19 = \"\", \"\", IF(BD18 = BD19, AY18, AY18 + 1))","v":""},{"$f":" IF(EN19 = \"\", \"\", IF(BD18 = BD19, AZ18 + 1,1))","v":""},{"$f":" IF(AX19 = 0, \"\", IF( IF(ROW(AY19) = FLOOR((MATCH(AY19, AY:AY, 0) + MATCH(AY19, AY:AY))/2,1), INDIRECT(\"E\"&(MATCH(AY19,AY:AY))) + INDIRECT(\"F\"&(MATCH(AY19,AY:AY)))  - INDIRECT(\"E\"&(MATCH(AY19,AY:AY,0))) - INDIRECT(\"F\"&(MATCH(AY19,AY:AY,0))),\"\") = 0, \"\", IF(ROW(AY19) = FLOOR((MATCH(AY19, AY:AY, 0) + MATCH(AY19, AY:AY))/2,1), INDIRECT(\"E\"&(MATCH(AY19,AY:AY))) + INDIRECT(\"F\"&(MATCH(AY19,AY:AY)))  - INDIRECT(\"E\"&(MATCH(AY19,AY:AY,0))) - INDIRECT(\"F\"&(MATCH(AY19,AY:AY,0))),\"\")))","v":""},{"$f":" IF(EN18 = \"\", \"\", IF(IF(ROW(AY19) = FLOOR((MATCH(AY19, AY:AY, 0) + MATCH(AY19, AY:AY))/2,1), MAX(INDIRECT(\"AW\"&(MATCH(AY19,AY:AY,0))&\":AW\"&MATCH(AY19,AY:AY))),\"\") = 0, \"\",  IF(ROW(AY19) = FLOOR((MATCH(AY19, AY:AY, 0) + MATCH(AY19, AY:AY))/2,1), MAX(INDIRECT(\"AW\"&(MATCH(AY19,AY:AY,0))&\":AW\"&MATCH(AY19,AY:AY))),\"\")))","v":""},{"$f":" IF(EN18 = \"\", \"\", IF(IF(ROW(AY19) = FLOOR((MATCH(AY19, AY:AY, 0) + MATCH(AY19, AY:AY))/2,1), MAX(INDIRECT(\"AX\"&(MATCH(AY19,AY:AY,0))&\":AX\"&MATCH(AY19,AY:AY))),\"\") = 0, \"\",  IF(ROW(AY19) = FLOOR((MATCH(AY19, AY:AY, 0) + MATCH(AY19, AY:AY))/2,1), MAX(INDIRECT(\"AX\"&(MATCH(AY19,AY:AY,0))&\":AX\"&MATCH(AY19,AY:AY))),\"\")))","v":""},{"$f":" MIN(BU18, BD18)","v":0},{"$f":" IF(BX19=\"\",0,IF(IF(BU19 = \"\",0,(-1*(MAX(BU$5:$BU19)-BU19)))=0,0,IF(BU19 = \"\",0,(-1*(MAX(BU$5:$BU19)-BU19)))))","v":0},{"$f":" IF(BX19=\"\",0,IF(IF(BU19=\"\",0,(-1*(MAX(BU$5:$BU19)-BU19)))/MAX($BU$5:BU19) = 0,0,IF(BU19=\"\",0,(-1*(MAX(BU$5:$BU19)-BU19)))/MAX($BU$5:BU19)))","v":0},{"$f":" IF(EN19 = \"\", \"\", IF(BL18 = BL19, BG18, BG18 + 1))","v":""},{"$f":" IF(EN19 = \"\", \"\", IF(BL18 = BL19, BH18 + 1,1))","v":""},{"$f":" IF(BF19 = 0, \"\", IF( IF(ROW(BG19) = FLOOR((MATCH(BG19, BG:BG, 0) + MATCH(BG19, BG:BG))/2,1), INDIRECT(\"E\"&(MATCH(BG19,BG:BG))) + INDIRECT(\"F\"&(MATCH(BG19,BG:BG)))  - INDIRECT(\"E\"&(MATCH(BG19,BG:BG,0))) - INDIRECT(\"F\"&(MATCH(BG19,BG:BG,0))),\"\") = 0, \"\", IF(ROW(BG19) = FLOOR((MATCH(BG19,BG:BG,0) + MATCH(BG19, BG:BG))/2,1), INDIRECT(\"E\"&(MATCH(BG19,BG:BG))) + INDIRECT(\"F\"&(MATCH(BG19,BG:BG)))  - INDIRECT(\"E\"&(MATCH(BG19,BG:BG,0))) - INDIRECT(\"F\"&(MATCH(BG19,BG:BG,0))),\"\")))","v":""},{"$f":" IF(EN18 = \"\", \"\",  IF(IF(ROW(BG19) = FLOOR((MATCH(BG19, BG:BG, 0) + MATCH(BG19, BG:BG))/2,1), MIN(INDIRECT(\"BE\"&(MATCH(BG19,BG:BG,0))&\":BE\"&MATCH(BG19,BG:BG))),\"\") = 0, \"\", IF(ROW(BG19) = FLOOR((MATCH(BG19, BG:BG, 0) + MATCH(BG19, BG:BG))/2,1), MIN(INDIRECT(\"BE\"&(MATCH(BG19,BG:BG,0))&\":BE\"&MATCH(BG19,BG:BG))),\"\")))","v":""},{"$f":" IF(EN18 = \"\", \"\",  IF(IF(ROW(BG19) = FLOOR((MATCH(BG19, BG:BG, 0) + MATCH(BG19, BG:BG))/2,1), MIN(INDIRECT(\"BF\"&(MATCH(BG19,BG:BG,0))&\":BF\"&MATCH(BG19,BG:BG))),\"\") = 0, \"\", IF(ROW(BG19) = FLOOR((MATCH(BG19, BG:BG, 0) + MATCH(BG19, BG:BG))/2,1), MIN(INDIRECT(\"BF\"&(MATCH(BG19,BG:BG,0))&\":BF\"&MATCH(BG19,BG:BG))),\"\")))","v":""},{"$f":" MAX(BU18, BL18)","v":0},{"$f":"IF(H19=\"\",\"\",IF(H19=\"Win\",IF(BN19=1,BN19 & \" \" & \"Win\",BN19 & \" \" & \"Wins\"),IF(H19=\"Loss\",IF(BN19=1,BN19 & \" \" & \"Loss\",BN19 & \" \" & \"Losses\"), IF(H19 = \"BE\",IF(BN19=1,BN19 & \" \" & \"BE\",BN19 & \" \" & \"BE's\")))))","v":""},{"$f":" IF(H18=\"\",\"\",IF(H18=H19, BN18+1,1))","v":""},{"$f":" IF(H19 = \"\", \"\", IF(H18 <> H19, (LOOKUP(9E+307,$BO$5:$BO18) + 1), \"\"))","v":""},{"$f":" IF(EN18 = \"\", \"\", IF(BN19 = 1, \"\",IF(BN19<BN20, \"\", \"S\")))","v":""},{"$f":" IF(BP19 = \"\", \"\", IF(H19 = \"Win\",BN19,\"\"))","v":""},{"$f":" IF(BP19 = \"\", \"\", IF(H19 = \"Loss\",BN19,\"\"))","v":""},{"$f":" IF(BP19 = \"\", \"\", IF(H19 = \"BE\",BN19,\"\"))","v":""},{"$f":" IF(EN19 = \"\", \"\", DB19 +CZ19)","v":""},{"$f":" IF(EN19 = \"\", \"\", BU18 + BT19)","v":""},{"$f":" IF(BU19 = \"\",\"\", BV18 + 1)","v":""},{"$f":" IF(BU19 = \"\", \"\", $FN$13*BV19 + $FM$13)","v":""},{"$f":" IF(EN19 = \"\", \"\", (BT19)/BU18)","v":""},{"$f":" IF(EN19 = \"\", \"\",'Overall Performance'!$C$22)","v":""},{"$f":" IF(EN19 = \"\", \"\", IF(BX19=0,\"\",BX19 + 1))","v":""},{"$f":" IF(H19 = \"Win\", BZ19, \"\")","v":""},{"$f":" IF(H19 = \"Loss\", BZ19, \"\")","v":""},{"$f":"IFERROR(INDEX($Y:$Y,SMALL(IF($Y:$Y<>\"\",ROW($Y:$Y)),ROW(14:14))),\"\")","v":""},{"$f":" IFERROR(IF(ULCERINDEX(CC6:CC19) = 0, \"\", ULCERINDEX(CC6:CC19)),\"\")","v":""},{"$f":" IF(Z19 = \"\", \"\", IF(Z19>0, 0, CH19))","v":""},{"$f":" IF(Z19 = \"\", \"\", IF(Z19>0, 0, W19))","v":""},{"$f":" IF(Z19 = \"\", \"\", Z19 - $FJ$10 + 1)","v":""},{"$f":" IF(Z19 = \"\", \"\", Z19 - $FJ$10)","v":""},{"$f":" IF(AN19 = \"\", \"\", IF(AN19 > 0, 0, CL19))","v":""},{"$f":" IF(AN19 = \"\", \"\", IF(AN19 > 0, 0, AK19))","v":""},{"$f":"IF(AN19=\"\", \"\",AN19-$FJ$14 + 1)","v":""},{"$f":"IF(AN19=\"\", \"\",AN19-$FJ$14)","v":""},{"$f":" IF(EN19 = \"\",\"\",(ES19 - EQ19)/(EQ19 - ER19))","v":""},{"$f":" IF(EN19=\"\",\"\", DA19*ABS((ET19-EQ19)/(EQ19-ER19)))","v":""},{"$f":" IF(CN19 > 0, CN19, \"\")","v":""},{"$f":" IF(CN19 < 0, CN19, \"\")","v":""},{"$f":" IF(EN19 = \"\", \"\", IF(OR(BX19 > AVERAGE(BX:BX) + 3*_xlfn.STDEV.P(BX:BX), BX19 < AVERAGE(BX:BX) - 3*_xlfn.STDEV.P(BX:BX)), BX19, 0))","v":""},{"$f":" IF(EN19= \"\", \"\", SUM(INDIRECT(\"BT\"&(MATCH(U19,U:U,0))&\":BT\"&DC19)))","v":""},{"$f":" IF(EN19= \"\", \"\", SUM(INDIRECT(\"ET\"&(MATCH(U19,U:U,0))&\":ET\"&DC19)))","v":""},{"$f":" IF(EN19= \"\", \"\", (INDIRECT(\"BU\"&DC19)))","v":""},{"$f":" IF(EN19= \"\", \"\", SUM(INDIRECT(\"O\"&(MATCH(U19,U:U,0))&\":T\"&DC19)))","v":""},{"$f":"IF(EN19=\"\",\"\",IF(LEN(RIGHT(EQ19,LEN(EQ19)-FIND(\".\",EQ19)))=2,((-1*ABS(EU19-EQ19))*100),IF(LEN(RIGHT(EQ19,LEN(EQ19)-FIND(\".\",EQ19)))=4,((-1*ABS(EU19-EQ19))*10000),IF(LEN(RIGHT(EQ19,LEN(EQ19)-FIND(\".\",EQ19)))=3,((-1*ABS(EU19-EQ19))*100),IF(LEN(RIGHT(EQ19,LEN(EQ19)-FIND(\".\",EQ19)))=5,((-1*ABS(EU19-EQ19))*10000))))))","v":""},{"$f":" IF(EN19 = \"\", \"\", (((EU19-EQ19)/(ET19-EQ19))*CZ19) + DB19)","v":""},{"$f":"IF(EN19=\"\",\"\",IF(LEN(RIGHT(EQ19,LEN(EQ19)-FIND(\".\",EQ19)))=2,((ABS(EV19-EQ19))*100),IF(LEN(RIGHT(EQ19,LEN(EQ19)-FIND(\".\",EQ19)))=4,((ABS(EV19-EQ19))*10000),IF(LEN(RIGHT(EQ19,LEN(EQ19)-FIND(\".\",EQ19)))=3,((ABS(EV19-EQ19))*100),IF(LEN(RIGHT(EQ19,LEN(EQ19)-FIND(\".\",EQ19)))=5,((ABS(EV19-EQ19))*10000))))))","v":""},{"$f":" IF(EN19 = \"\", \"\", (((EV19-EQ19)/(ET19-EQ19))*CZ19) + DB19)","v":""},{"$f":" IF(EN19 = \"\", \"\", EL19)","v":""},{"$f":" IF(EN19 = \"\", \"\", IF(EN19 = \"Buy\", IF(EQ19 > ET19, -1, 1), IF(EQ19 > ET19, 1, -1)))","v":""},{"$f":"IF(EN19=\"\", \"\",EZ19+FA19)","v":""},{"$f":" IF(EN19 = \"\", \"\", LOOKUP(2,1/(U:U = U19), ROW(U:U)))","v":""},{"$f":" IF(EN19 = \"\", \"\", LOOKUP(2,1/(AB:AB = AB19), ROW(AB:AB)))","v":""},{"$f":" IF(EN19 = \"\", \"\", LOOKUP(2,1/(AI:AI = AI19), ROW(AI:AI)))","v":""},null,null,{"$f":" IF(CO19 = \"\", \"\", CO19*EY19)","v":""},{"$f":" IF(CP19 = \"\", \"\", CP19*EY19)","v":""},{"$f":" IF(EN19 = \"\", \"\",BF19)","v":""},{"$f":" DJ19","v":""},{"$f":" IF(EL20 = \"\", \"\", DL18 + 1)","v":""},{"$f":" IF(EN19 <> \"\", K19*24,#N/A)","v":{"$error":"#N/A"}},{"$f":" IF(EN19 <> \"\", CW19,#N/A)","v":{"$error":"#N/A"}},{"$f":" IF(EN19 <> \"\", CY19,#N/A)","v":{"$error":"#N/A"}},{"$f":" IF(EN19 <> \"\", CM19,#N/A)","v":{"$error":"#N/A"}},{"$f":" IF(EN19 <> \"\", CN19,#N/A)","v":{"$error":"#N/A"}},{"$f":" IF(CN19 > 0, CM19, -1)","v":""},{"$f":" IF(CN19 > 0, CM19, \"\")","v":""},{"$f":" IF(CN19 < 0, CM19, \"\")","v":""},{"$f":" IF(AQ19 = \"\",\"\",LOOKUP(9E+307,$DU$5:$DU18) + 1)","v":""},{"$f":" IF(EN19 = \"\", \"\", (CZ19)/BU18)","v":""},{"$f":" IF(EN19 = \"\", \"\", WEEKDAY(C19,1))","v":""},{"$f":" IF(EN19=\"\", \"\", MONTH(C19))","v":""},{"$f":" IF(EN19 = \"\", \"\", YEAR(E19))","v":""},{"$f":" IF(EB19 = \"\", \"\", MAX(((EA19-EB19)/EA19), ((EB19-EC19)/EB19)))","v":""},{"$f":" IF(EB19=\"\", \"\", MAX($EB$6:EB19))","v":""},{"$f":" AM19","v":""},{"$f":" IF(EB19=\"\",\"\", MIN(EB19:$EB$1048576))","v":""},{"$f":" IF(EN19 = \"\", \"\", LOOKUP(2,1/(AP:AP = AP19), ROW(AP:AP)))","v":""},{"$f":" IFERROR(_xlfn.IFS(FE19 = \"1-Minute\", 1, FE19 = \"5-Minute\", 2, FE19 = \"15-Minute\", 3, FE19 = \"30-Minute\", 4, FE19 = \"1-Hour\", 5, FE19 = \"4-Hour\", 6, FE19 = \"Daily\", 7, FE19 = \"Weekly\", 8, FE19 = \"Monthly\", 9), \"\")","v":""},{"$f":" IFERROR(_xlfn.IFS(FF19 = \"Very Low\", 1, FF19 = \"Low\", 2, FF19 = \"Medium\", 3, FF19 = \"High\", 4, FF19 = \"Very High\", 5),\"\")","v":""},null,{"$f":" TEXT(CM19, \"#,###0.000\") & \" : 1\"","v":" : 1"},{"$f":" IF(EN19 = \"\", \"\", IF(N19 = \"Buy\", (ET19-EQ19)/(EV19-EU19), (EQ19-ET19)/(EU19-EV19)))","v":""},{"$f":"IF(EN19=\"\",\"\",IF(N19 = \"Buy\", (EV19 - EQ19)/(EV19-EU19), (EQ19-EV19)/(EU19-EV19)))","v":""},{"$f":"IF(EN19=\"\",\"\",IF(N19 = \"Buy\", (ET19-EU19)/(EV19-EU19), (EU19-ET19)/(EU19-EV19)))","v":""},null,null,null,null,null,null,null,null,null,null,null,{"$f":" IF(EQ19=\"\",\"\",IF(LEN(RIGHT(EQ19,LEN(EQ19)-FIND(\".\",EQ19)))=2,((IF(EN19 = \"Buy\", IF(DF19 = EQ19, IF(DG19 = ET19, 0, ET19 - DG19),IF(DG19 = ET19, DF19-EQ19, (DF19 - EQ19) + (ET19 - DG19))), IF(DF19 = EQ19, IF(DG19 = ET19, 0, DG19-ET19),IF(DG19 = ET19, EQ19-DF19, (EQ19-DF19) + (DG19-ET19)))))*100),IF(LEN(RIGHT(EQ19,LEN(EQ19)-FIND(\".\",EQ19)))=4,((IF(EN19 = \"Buy\", IF(DF19 = EQ19, IF(DG19 = ET19, 0, ET19 - DG19),IF(DG19 = ET19, DF19-EQ19, (DF19 - EQ19) + (ET19 - DG19))), IF(DF19 = EQ19, IF(DG19 = ET19, 0, DG19-ET19),IF(DG19 = ET19, EQ19-DF19, (EQ19-DF19) + (DG19-ET19)))))*10000),IF(LEN(RIGHT(EQ19,LEN(EQ19)-FIND(\".\",EQ19)))=3,((IF(EN19 = \"Buy\", IF(DF19 = EQ19, IF(DG19 = ET19, 0, ET19 - DG19),IF(DG19 = ET19, DF19-EQ19, (DF19 - EQ19) + (ET19 - DG19))), IF(DF19 = EQ19, IF(DG19 = ET19, 0, DG19-ET19),IF(DG19 = ET19, EQ19-DF19, (EQ19-DF19) + (DG19-ET19)))))*100),IF(LEN(RIGHT(EQ19,LEN(EQ19)-FIND(\".\",EQ19)))=5,((IF(EN19 = \"Buy\", IF(DF19 = EQ19, IF(DG19 = ET19, 0, ET19 - DG19),IF(DG19 = ET19, DF19-EQ19, (DF19 - EQ19) + (ET19 - DG19))), IF(DF19 = EQ19, IF(DG19 = ET19, 0, DG19-ET19),IF(DG19 = ET19, EQ19-DF19, (EQ19-DF19) + (DG19-ET19)))))*10000))))))","v":""},{"$f":"IF(EN19=\"\",\"\",IF(LEN(RIGHT(EQ19,LEN(EQ19)-FIND(\".\",EQ19)))=2,((DA19*ABS(ET19-EQ19))*100),IF(LEN(RIGHT(EQ19,LEN(EQ19)-FIND(\".\",EQ19)))=4,((DA19*ABS(ET19-EQ19))*10000),IF(LEN(RIGHT(EQ19,LEN(EQ19)-FIND(\".\",EQ19)))=3,((DA19*ABS(ET19-EQ19))*100),IF(LEN(RIGHT(EQ19,LEN(EQ19)-FIND(\".\",EQ19)))=5,((DA19*ABS(ET19-EQ19))*10000))))))","v":""},{"$f":"IF(EN19=\"\",\"\",ABS(DV19/ABS(CN19)))","v":""},null,null,null,null,null,null,null,null,null,null,{"$f":"(SUMSQ(CE:CE)/COUNT(CE:CE))^0.5","v":{"$error":"#DIV/0!"}},{"$f":" SUMIF(BX:BX, \">0\")","v":0},null,{"$f":" INDIRECT(\"E\"&MATCH(MIN('Trade Log'!BJ:BJ),'Trade Log'!BJ:BJ))","v":{"$error":"#N/A"}}]
[null,{"$f":" B19+ 1","v":15},null,null,null,null,{"$f":" IF(EN20 = \"\", \"\", INT(K20)&\" d,\"&\" \"&HOUR(K20)&\" h,\"&\" \"&MINUTE(K20)&\" m,\"&\" \"&SECOND(K20)&\" s\")","v":""},{"$f":" IF(EN20 = \"\",\"\",IF(CZ20 +DB20 = 0, \"BE\", IF(CZ20 > 0, \"Win\",\"Loss\")))","v":""},{"$f":" IF(EN20=\"\", \"\",VALUE(C20 + D20))","v":""},{"$f":" IF(EN20 = \"\", \"\", VALUE(E20 + F20))","v":""},{"$f":"IF(EN20=\"\",\"\",IF(C20=\"\",0,IF(D20=\"\",0,(E20+F20-D20-C20))))","v":""},{"$f":" IFERROR(IF(VALUE(E20&F20) > VALUE(C21&D21), IF(VALUE(C21+D21) < VALUE(C22 + D22), E20 + F20 - C21 - D21 - (C20 + D20 - C21 - D21),E20 + F20 - C21 - D21), \"\"), \"\")","v":""},{"$f":"IFERROR(IF(EN20=\"\",\"\",IF(VALUE(E19+F19)<VALUE(C20+D20),C20+D20-E19-F19,\"\")),\"\")","v":""},{"$f":" TRIM(EN20)","v":""},{"$f":" IF(AND(N20 = \"Buy\", H20 = \"Win\"), 1, 0)","v":0},{"$f":" IF(AND(N20 = \"Sell\", H20 = \"Win\"), 1, 0)","v":0},{"$f":" IF(AND(N20 = \"Buy\", H20 = \"Loss\"), 1, 0)","v":0},{"$f":" IF(AND(N20 = \"Sell\", H20 = \"Loss\"), 1, 0)","v":0},{"$f":" IF(AND(N20 = \"Buy\", H20 = \"BE\"), 1, 0)","v":0},{"$f":" IF(AND(N20 = \"Sell\", H20 = \"BE\"), 1, 0)","v":0},{"$f":" IF(EN20 = \"\", 0, (E20 - DATE(YEAR(E20),1,0)) & YEAR(E20)&\"\")","v":0},{"$f":"IFERROR( IF(SUM(INDIRECT(\"O\"&(MATCH(U20,U:U,0))&\":T\"&DC20)) = 0, \"\", IF(ROW(U20) = FLOOR((MATCH(U20, U:U, 0) +DC20)/2,1),SUM(INDIRECT(\"O\"&(MATCH(U20,U:U,0))&\":T\"&DC20)),\"\")),\"\")","v":""},{"$f":" IFERROR(IF(EN20 = \"\", \"\", IF(ROW(U20) = FLOOR((MATCH(U20, U:U, 0) + DC20)/2,1),SUM(INDIRECT(\"BT\"&(MATCH(U20,U:U,0))&\":BT\"&DC20)),\"\")),\"\")","v":""},{"$f":"  IFERROR(IF(W20 = \"\",\"\",W20/(Y20-W20)),\"\")","v":""},{"$f":" IFERROR(IF(ROW(U20) = FLOOR((MATCH(U20, U:U, 0) + DC20)/2,1),INDIRECT(\"BU\"&DC20),\"\"),\"\")","v":""},{"$f":"  IF(V20= 0,\"\",X20)","v":""},{"$f":"IF(Z20=\"\",\"\",Z20+1)","v":""},{"$f":" IF(EN20 = \"\", 0, WEEKNUM(E20) & YEAR(E20) & \"\")","v":0},{"$f":" IFERROR(IF(SUM(INDIRECT(\"O\"&(MATCH(AB20,AB:AB,0))&\":T\"&DD20)) = 0, \"\", IF(ROW(AB20) = FLOOR((MATCH(AB20, AB:AB, 0) + DD20)/2,1),SUM(INDIRECT(\"O\"&(MATCH(AB20,AB:AB,0))&\":T\"&DD20)),\"\")),\"\")","v":""},{"$f":" IFERROR(IF(EN20 = \"\", \"\", IF(ROW(AB20) = FLOOR((MATCH(AB20, AB:AB, 0) +DD20)/2,1),SUM(INDIRECT(\"BT\"&(MATCH(AB20,AB:AB,0))&\":BT\"&DD20)),\"\")),\"\")","v":""},{"$f":" IFERROR( IF(AD20 = \"\",\"\",AD20/(AF20-AD20)),\"\")","v":""},{"$f":" IFERROR(IF(ROW(AB20) = FLOOR((MATCH(AB20, AB:AB, 0) + DD20)/2,1),INDIRECT(\"BU\"&DD20),\"\"),\"\")","v":""},{"$f":"  IF(AC20= 0,\"\",AE20)","v":""},{"$f":"IF(AG20=\"\",\"\",AG20+1)","v":""},{"$f":" IF(EN20 = \"\", 0, MONTH(E20)&YEAR(E20)&\"\")","v":0},{"$f":"IFERROR( IF(SUM(INDIRECT(\"O\"&(MATCH(AI20,AI:AI,0))&\":T\"&DE20)) = 0, \"\", IF(ROW(AI20) = FLOOR((MATCH(AI20, AI:AI, 0) + DE20)/2,1),SUM(INDIRECT(\"O\"&(MATCH(AI20,AI:AI,0))&\":T\"&DE20)),\"\")),\"\")","v":""},{"$f":" IFERROR(IF(EN20 = \"\", \"\", IF(ROW(AI20) = FLOOR((MATCH(AI20, AI:AI, 0) + DE20)/2,1),SUM(INDIRECT(\"BT\"&(MATCH(AI20,AI:AI,0))&\":BT\"&DE20)),\"\")),\"\")","v":""},{"$f":" IFERROR( IF(AK20 = \"\",\"\",AK20/(AM20-AK20)),\"\")","v":""},{"$f":" IFERROR(IF(ROW(AI20) = FLOOR((MATCH(AI20, AI:AI, 0) + DE20)/2,1),INDIRECT(\"BU\"&DE20),\"\"),\"\")","v":""},{"$f":"  IF(AJ20= 0,\"\",AL20)","v":""},{"$f":"IF(AN20=\"\",\"\",AN20+1)","v":""},{"$f":" IF(EN20 = \"\", 0, YEAR(E20)&\"\")","v":0},{"$f":" IFERROR(IF(SUM(INDIRECT(\"O\"&(MATCH(AP20,AP:AP,0))&\":T\"&ED20)) = 0, \"\", IF(ROW(AP20) = FLOOR((MATCH(AP20, AP:AP, 0) + ED20)/2,1),SUM(INDIRECT(\"O\"&(MATCH(AP20,AP:AP,0))&\":T\"&ED20)),\"\")), \"\")","v":""},{"$f":" IF(EN20 = \"\", \"\", IF(ROW(AP20) = FLOOR((MATCH(AP20, AP:AP, 0) + ED20)/2,1),SUM(INDIRECT(\"BT\"&(MATCH(AP20,AP:AP,0))&\":BT\"&ED20)),\"\"))","v":""},{"$f":" IFERROR( IF(AR20 = \"\",\"\",AR20/(AT20-AR20)),\"\")","v":""},{"$f":" IFERROR(IF(ROW(AP20) = FLOOR((MATCH(AP20, AP:AP, 0) + ED20)/2,1),INDIRECT(\"BU\"&ED20),\"\"), \"\")","v":""},{"$f":"  IF(AQ20= 0,\"\",AS20)","v":""},{"$f":"IF(AU20=\"\",\"\",AU20+1)","v":""},{"$f":" IF(BX20=\"\",0,IF(IF(BU20 = \"\",0,-1*((MIN(BU$5:$BU20)-BU20)))=0,0,IF(BU20 = \"\",0,-1*((MIN(BU$5:$BU20)-BU20)))))","v":0},{"$f":"  IF(BX20=\"\",0,IF(IF(BU20 = \"\",0,-1*((MIN(BU$5:$BU20)-BU20)))/MIN((BU$5:BU20))=0,0,IF(BU20 = \"\",0,-1*((MIN(BU$5:$BU20)-BU20)))/MIN((BU$5:BU20))))","v":0},{"$f":" IF(EN20 = \"\", \"\", IF(BD19 = BD20, AY19, AY19 + 1))","v":""},{"$f":" IF(EN20 = \"\", \"\", IF(BD19 = BD20, AZ19 + 1,1))","v":""},{"$f":" IF(AX20 = 0, \"\", IF( IF(ROW(AY20) = FLOOR((MATCH(AY20, AY:AY, 0) + MATCH(AY20, AY:AY))/2,1), INDIRECT(\"E\"&(MATCH(AY20,AY:AY))) + INDIRECT(\"F\"&(MATCH(AY20,AY:AY)))  - INDIRECT(\"E\"&(MATCH(AY20,AY:AY,0))) - INDIRECT(\"F\"&(MATCH(AY20,AY:AY,0))),\"\") = 0, \"\", IF(ROW(AY20) = FLOOR((MATCH(AY20, AY:AY, 0) + MATCH(AY20, AY:AY))/2,1), INDIRECT(\"E\"&(MATCH(AY20,AY:AY))) + INDIRECT(\"F\"&(MATCH(AY20,AY:AY)))  - INDIRECT(\"E\"&(MATCH(AY20,AY:AY,0))) - INDIRECT(\"F\"&(MATCH(AY20,AY:AY,0))),\"\")))","v":""},{"$f":" IF(EN19 = \"\", \"\", IF(IF(ROW(AY20) = FLOOR((MATCH(AY20, AY:AY, 0) + MATCH(AY20, AY:AY))/2,1), MAX(INDIRECT(\"AW\"&(MATCH(AY20,AY:AY,0))&\":AW\"&MATCH(AY20,AY:AY))),\"\") = 0, \"\",  IF(ROW(AY20) = FLOOR((MATCH(AY20, AY:AY, 0) + MATCH(AY20, AY:AY))/2,1), MAX(INDIRECT(\"AW\"&(MATCH(AY20,AY:AY,0))&\":AW\"&MATCH(AY20,AY:AY))),\"\")))","v":""},{"$f":" IF(EN19 = \"\", \"\", IF(IF(ROW(AY20) = FLOOR((MATCH(AY20, AY:AY, 0) + MATCH(AY20, AY:AY))/2,1), MAX(INDIRECT(\"AX\"&(MATCH(AY20,AY:AY,0))&\":AX\"&MATCH(AY20,AY:AY))),\"\") = 0, \"\",  IF(ROW(AY20) = FLOOR((MATCH(AY20, AY:AY, 0) + MATCH(AY20, AY:AY))/2,1), MAX(INDIRECT(\"AX\"&(MATCH(AY20,AY:AY,0))&\":AX\"&MATCH(AY20,AY:AY))),\"\")))","v":""},{"$f":" MIN(BU19, BD19)","v":0},{"$f":" IF(BX20=\"\",0,IF(IF(BU20 = \"\",0,(-1*(MAX(BU$5:$BU20)-BU20)))=0,0,IF(BU20 = \"\",0,(-1*(MAX(BU$5:$BU20)-BU20)))))","v":0},{"$f":" IF(BX20=\"\",0,IF(IF(BU20=\"\",0,(-1*(MAX(BU$5:$BU20)-BU20)))/MAX($BU$5:BU20) = 0,0,IF(BU20=\"\",0,(-1*(MAX(BU$5:$BU20)-BU20)))/MAX($BU$5:BU20)))","v":0},{"$f":" IF(EN20 = \"\", \"\", IF(BL19 = BL20, BG19, BG19 + 1))","v":""},{"$f":" IF(EN20 = \"\", \"\", IF(BL19 = BL20, BH19 + 1,1))","v":""},{"$f":" IF(BF20 = 0, \"\", IF( IF(ROW(BG20) = FLOOR((MATCH(BG20, BG:BG, 0) + MATCH(BG20, BG:BG))/2,1), INDIRECT(\"E\"&(MATCH(BG20,BG:BG))) + INDIRECT(\"F\"&(MATCH(BG20,BG:BG)))  - INDIRECT(\"E\"&(MATCH(BG20,BG:BG,0))) - INDIRECT(\"F\"&(MATCH(BG20,BG:BG,0))),\"\") = 0, \"\", IF(ROW(BG20) = FLOOR((MATCH(BG20,BG:BG,0) + MATCH(BG20, BG:BG))/2,1), INDIRECT(\"E\"&(MATCH(BG20,BG:BG))) + INDIRECT(\"F\"&(MATCH(BG20,BG:BG)))  - INDIRECT(\"E\"&(MATCH(BG20,BG:BG,0))) - INDIRECT(\"F\"&(MATCH(BG20,BG:BG,0))),\"\")))","v":""},{"$f":" IF(EN19 = \"\", \"\",  IF(IF(ROW(BG20) = FLOOR((MATCH(BG20, BG:BG, 0) + MATCH(BG20, BG:BG))/2,1), MIN(INDIRECT(\"BE\"&(MATCH(BG20,BG:BG,0))&\":BE\"&MATCH(BG20,BG:BG))),\"\") = 0, \"\", IF(ROW(BG20) = FLOOR((MATCH(BG20, BG:BG, 0) + MATCH(BG20, BG:BG))/2,1), MIN(INDIRECT(\"BE\"&(MATCH(BG20,BG:BG,0))&\":BE\"&MATCH(BG20,BG:BG))),\"\")))","v":""},{"$f":" IF(EN19 = \"\", \"\",  IF(IF(ROW(BG20) = FLOOR((MATCH(BG20, BG:BG, 0) + MATCH(BG20, BG:BG))/2,1), MIN(INDIRECT(\"BF\"&(MATCH(BG20,BG:BG,0))&\":BF\"&MATCH(BG20,BG:BG))),\"\") = 0, \"\", IF(ROW(BG20) = FLOOR((MATCH(BG20, BG:BG, 0) + MATCH(BG20, BG:BG))/2,1), MIN(INDIRECT(\"BF\"&(MATCH(BG20,BG:BG,0))&\":BF\"&MATCH(BG20,BG:BG))),\"\")))","v":""},{"$f":" MAX(BU19, BL19)","v":0},{"$f":"IF(H20=\"\",\"\",IF(H20=\"Win\",IF(BN20=1,BN20 & \" \" & \"Win\",BN20 & \" \" & \"Wins\"),IF(H20=\"Loss\",IF(BN20=1,BN20 & \" \" & \"Loss\",BN20 & \" \" & \"Losses\"), IF(H20 = \"BE\",IF(BN20=1,BN20 & \" \" & \"BE\",BN20 & \" \" & \"BE's\")))))","v":""},{"$f":" IF(H19=\"\",\"\",IF(H19=H20, BN19+1,1))","v":""},{"$f":" IF(H20 = \"\", \"\", IF(H19 <> H20, (LOOKUP(9E+307,$BO$5:$BO19) + 1), \"\"))","v":""},{"$f":" IF(EN19 = \"\", \"\", IF(BN20 = 1, \"\",IF(BN20<BN21, \"\", \"S\")))","v":""},{"$f":" IF(BP20 = \"\", \"\", IF(H20 = \"Win\",BN20,\"\"))","v":""},{"$f":" IF(BP20 = \"\", \"\", IF(H20 = \"Loss\",BN20,\"\"))","v":""},{"$f":" IF(BP20 = \"\", \"\", IF(H20 = \"BE\",BN20,\"\"))","v":""},{"$f":" IF(EN20 = \"\", \"\", DB20 +CZ20)","v":""},{"$f":" IF(EN20 = \"\", \"\", BU19 + BT20)","v":""},{"$f":" IF(BU20 = \"\",\"\", BV19 + 1)","v":""},{"$f":" IF(BU20 = \"\", \"\", $FN$13*BV20 + $FM$13)","v":""},{"$f":" IF(EN20 = \"\", \"\", (BT20)/BU19)","v":""},{"$f":" IF(EN20 = \"\", \"\",'Overall Performance'!$C$22)","v":""},{"$f":" IF(EN20 = \"\", \"\", IF(BX20=0,\"\",BX20 + 1))","v":""},{"$f":" IF(H20 = \"Win\", BZ20, \"\")","v":""},{"$f":" IF(H20 = \"Loss\", BZ20, \"\")","v":""},{"$f":"IFERROR(INDEX($Y:$Y,SMALL(IF($Y:$Y<>\"\",ROW($Y:$Y)),ROW(15:15))),\"\")","v":""},{"$f":" IFERROR(IF(ULCERINDEX(CC7:CC20) = 0, \"\", ULCERINDEX(CC7:CC20)),\"\")","v":""},{"$f":" IF(Z20 = \"\", \"\", IF(Z20>0, 0, CH20))","v":""},{"$f":" IF(Z20 = \"\", \"\", IF(Z20>0, 0, W20))","v":""},{"$f":" IF(Z20 = \"\", \"\", Z20 - $FJ$10 + 1)","v":""},{"$f":" IF(Z20 = \"\", \"\", Z20 - $FJ$10)","v":""},{"$f":" IF(AN20 = \"\", \"\", IF(AN20 > 0, 0, CL20))","v":""},{"$f":" IF(AN20 = \"\", \"\", IF(AN20 > 0, 0, AK20))","v":""},{"$f":"IF(AN20=\"\", \"\",AN20-$FJ$14 + 1)","v":""},{"$f":"IF(AN20=\"\", \"\",AN20-$FJ$14)","v":""},{"$f":" IF(EN20 = \"\",\"\",(ES20 - EQ20)/(EQ20 - ER20))","v":""},{"$f":" IF(EN20=\"\",\"\", DA20*ABS((ET20-EQ20)/(EQ20-ER20)))","v":""},{"$f":" IF(CN20 > 0, CN20, \"\")","v":""},{"$f":" IF(CN20 < 0, CN20, \"\")","v":""},{"$f":" IF(EN20 = \"\", \"\", IF(OR(BX20 > AVERAGE(BX:BX) + 3*_xlfn.STDEV.P(BX:BX), BX20 < AVERAGE(BX:BX) - 3*_xlfn.STDEV.P(BX:BX)), BX20, 0))","v":""},{"$f":" IF(EN20= \"\", \"\", SUM(INDIRECT(\"BT\"&(MATCH(U20,U:U,0))&\":BT\"&DC20)))","v":""},{"$f":" IF(EN20= \"\", \"\", SUM(INDIRECT(\"ET\"&(MATCH(U20,U:U,0))&\":ET\"&DC20)))","v":""},{"$f":" IF(EN20= \"\", \"\", (INDIRECT(\"BU\"&DC20)))","v":""},{"$f":" IF(EN20= \"\", \"\", SUM(INDIRECT(\"O\"&(MATCH(U20,U:U,0))&\":T\"&DC20)))","v":""},{"$f":"IF(EN20=\"\",\"\",IF(LEN(RIGHT(EQ20,LEN(EQ20)-FIND(\".\",EQ20)))=2,((-1*ABS(EU20-EQ20))*100),IF(LEN(RIGHT(EQ20,LEN(EQ20)-FIND(\".\",EQ20)))=4,((-1*ABS(EU20-EQ20))*10000),IF(LEN(RIGHT(EQ20,LEN(EQ20)-FIND(\".\",EQ20)))=3,((-1*ABS(EU20-EQ20))*100),IF(LEN(RIGHT(EQ20,LEN(EQ20)-FIND(\".\",EQ20)))=5,((-1*ABS(EU20-EQ20))*10000))))))","v":""},{"$f":" IF(EN20 = \"\", \"\", (((EU20-EQ20)/(ET20-EQ20))*CZ20) + DB20)","v":""},{"$f":"IF(EN20=\"\",\"\",IF(LEN(RIGHT(EQ20,LEN(EQ20)-FIND(\".\",EQ20)))=2,((ABS(EV20-EQ20))*100),IF(LEN(RIGHT(EQ20,LEN(EQ20)-FIND(\".\",EQ20)))=4,((ABS(EV20-EQ20))*10000),IF(LEN(RIGHT(EQ20,LEN(EQ20)-FIND(\".\",EQ20)))=3,((ABS(EV20-EQ20))*100),IF(LEN(RIGHT(EQ20,LEN(EQ20)-FIND(\".\",EQ20)))=5,((ABS(EV20-EQ20))*10000))))))","v":""},{"$f":" IF(EN20 = \"\", \"\", (((EV20-EQ20)/(ET20-EQ20))*CZ20) + DB20)","v":""},{"$f":" IF(EN20 = \"\", \"\", EL20)","v":""},{"$f":" IF(EN20 = \"\", \"\", IF(EN20 = \"Buy\", IF(EQ20 > ET20, -1, 1), IF(EQ20 > ET20, 1, -1)))","v":""},{"$f":"IF(EN20=\"\", \"\",EZ20+FA20)","v":""},{"$f":" IF(EN20 = \"\", \"\", LOOKUP(2,1/(U:U = U20), ROW(U:U)))","v":""},{"$f":" IF(EN20 = \"\", \"\", LOOKUP(2,1/(AB:AB = AB20), ROW(AB:AB)))","v":""},{"$f":" IF(EN20 = \"\", \"\", LOOKUP(2,1/(AI:AI = AI20), ROW(AI:AI)))","v":""},null,null,{"$f":" IF(CO20 = \"\", \"\", CO20*EY20)","v":""},{"$f":" IF(CP20 = \"\", \"\", CP20*EY20)","v":""},{"$f":" IF(EN20 = \"\", \"\",BF20)","v":""},{"$f":" DJ20","v":""},{"$f":" IF(EL21 = \"\", \"\", DL19 + 1)","v":""},{"$f":" IF(EN20 <> \"\", K20*24,#N/A)","v":{"$error":"#N/A"}},{"$f":" IF(EN20 <> \"\", CW20,#N/A)","v":{"$error":"#N/A"}},{"$f":" IF(EN20 <> \"\", CY20,#N/A)","v":{"$error":"#N/A"}},{"$f":" IF(EN20 <> \"\", CM20,#N/A)","v":{"$error":"#N/A"}},{"$f":" IF(EN20 <> \"\", CN20,#N/A)","v":{"$error":"#N/A"}},{"$f":" IF(CN20 > 0, CM20, -1)","v":""},{"$f":" IF(CN20 > 0, CM20, \"\")","v":""},{"$f":" IF(CN20 < 0, CM20, \"\")","v":""},{"$f":" IF(AQ20 = \"\",\"\",LOOKUP(9E+307,$DU$5:$DU19) + 1)","v":""},{"$f":" IF(EN20 = \"\", \"\", (CZ20)/BU19)","v":""},{"$f":" IF(EN20 = \"\", \"\", WEEKDAY(C20,1))","v":""},{"$f":" IF(EN20=\"\", \"\", MONTH(C20))","v":""},{"$f":" IF(EN20 = \"\", \"\", YEAR(E20))","v":""},{"$f":" IF(EB20 = \"\", \"\", MAX(((EA20-EB20)/EA20), ((EB20-EC20)/EB20)))","v":""},{"$f":" IF(EB20=\"\", \"\", MAX($EB$6:EB20))","v":""},{"$f":" AM20","v":""},{"$f":" IF(EB20=\"\",\"\", MIN(EB20:$EB$1048576))","v":""},{"$f":" IF(EN20 = \"\", \"\", LOOKUP(2,1/(AP:AP = AP20), ROW(AP:AP)))","v":""},{"$f":" IFERROR(_xlfn.IFS(FE20 = \"1-Minute\", 1, FE20 = \"5-Minute\", 2, FE20 = \"15-Minute\", 3, FE20 = \"30-Minute\", 4, FE20 = \"1-Hour\", 5, FE20 = \"4-Hour\", 6, FE20 = \"Daily\", 7, FE20 = \"Weekly\", 8, FE20 = \"Monthly\", 9), \"\")","v":""},{"$f":" IFERROR(_xlfn.IFS(FF20 = \"Very Low\", 1, FF20 = \"Low\", 2, FF20 = \"Medium\", 3, FF20 = \"High\", 4, FF20 = \"Very High\", 5),\"\")","v":""},null,{"$f":" TEXT(CM20, \"#,###0.000\") & \" : 1\"","v":" : 1"},{"$f":" IF(EN20 = \"\", \"\", IF(N20 = \"Buy\", (ET20-EQ20)/(EV20-EU20), (EQ20-ET20)/(EU20-EV20)))","v":""},{"$f":"IF(EN20=\"\",\"\",IF(N20 = \"Buy\", (EV20 - EQ20)/(EV20-EU20), (EQ20-EV20)/(EU20-EV20)))","v":""},{"$f":"IF(EN20=\"\",\"\",IF(N20 = \"Buy\", (ET20-EU20)/(EV20-EU20), (EU20-ET20)/(EU20-EV20)))","v":""},null,null,null,null,null,null,null,null,null,null,null,{"$f":" IF(EQ20=\"\",\"\",IF(LEN(RIGHT(EQ20,LEN(EQ20)-FIND(\".\",EQ20)))=2,((IF(EN20 = \"Buy\", IF(DF20 = EQ20, IF(DG20 = ET20, 0, ET20 - DG20),IF(DG20 = ET20, DF20-EQ20, (DF20 - EQ20) + (ET20 - DG20))), IF(DF20 = EQ20, IF(DG20 = ET20, 0, DG20-ET20),IF(DG20 = ET20, EQ20-DF20, (EQ20-DF20) + (DG20-ET20)))))*100),IF(LEN(RIGHT(EQ20,LEN(EQ20)-FIND(\".\",EQ20)))=4,((IF(EN20 = \"Buy\", IF(DF20 = EQ20, IF(DG20 = ET20, 0, ET20 - DG20),IF(DG20 = ET20, DF20-EQ20, (DF20 - EQ20) + (ET20 - DG20))), IF(DF20 = EQ20, IF(DG20 = ET20, 0, DG20-ET20),IF(DG20 = ET20, EQ20-DF20, (EQ20-DF20) + (DG20-ET20)))))*10000),IF(LEN(RIGHT(EQ20,LEN(EQ20)-FIND(\".\",EQ20)))=3,((IF(EN20 = \"Buy\", IF(DF20 = EQ20, IF(DG20 = ET20, 0, ET20 - DG20),IF(DG20 = ET20, DF20-EQ20, (DF20 - EQ20) + (ET20 - DG20))), IF(DF20 = EQ20, IF(DG20 = ET20, 0, DG20-ET20),IF(DG20 = ET20, EQ20-DF20, (EQ20-DF20) + (DG20-ET20)))))*100),IF(LEN(RIGHT(EQ20,LEN(EQ20)-FIND(\".\",EQ20)))=5,((IF(EN20 = \"Buy\", IF(DF20 = EQ20, IF(DG20 = ET20, 0, ET20 - DG20),IF(DG20 = ET20, DF20-EQ20, (DF20 - EQ20) + (ET20 - DG20))), IF(DF20 = EQ20, IF(DG20 = ET20, 0, DG20-ET20),IF(DG20 = ET20, EQ20-DF20, (EQ20-DF20) + (DG20-ET20)))))*10000))))))","v":""},{"$f":"IF(EN20=\"\",\"\",IF(LEN(RIGHT(EQ20,LEN(EQ20)-FIND(\".\",EQ20)))=2,((DA20*ABS(ET20-EQ20))*100),IF(LEN(RIGHT(EQ20,LEN(EQ20)-FIND(\".\",EQ20)))=4,((DA20*ABS(ET20-EQ20))*10000),IF(LEN(RIGHT(EQ20,LEN(EQ20)-FIND(\".\",EQ20)))=3,((DA20*ABS(ET20-EQ20))*100),IF(LEN(RIGHT(EQ20,LEN(EQ20)-FIND(\".\",EQ20)))=5,((DA20*ABS(ET20-EQ20))*10000))))))","v":""},{"$f":"IF(EN20=\"\",\"\",ABS(DV20/ABS(CN20)))","v":""},null,null,null,null,null,null,null,null,null,null,null,{"$f":" SUMIF(BX:BX, \"<0\")","v":0},null,{"$f":"  IF(IFERROR(LARGE(BC:BC, 1),\"\") = 0, \"\",IFERROR(LARGE(BC:BC, 1),\"\"))","v":""},{"$f":"  IF(IFERROR(SMALL(BK:BK, 1),\"\")=0, \"\", IFERROR(SMALL(BK:BK, 1),\"\"))","v":""}]
[null,{"$f":" B20+ 1","v":16},null,null,null,null,{"$f":" IF(EN21 = \"\", \"\", INT(K21)&\" d,\"&\" \"&HOUR(K21)&\" h,\"&\" \"&MINUTE(K21)&\" m,\"&\" \"&SECOND(K21)&\" s\")","v":""},{"$f":" IF(EN21 = \"\",\"\",IF(CZ21 +DB21 = 0, \"BE\", IF(CZ21 > 0, \"Win\",\"Loss\")))","v":""},{"$f":" IF(EN21=\"\", \"\",VALUE(C21 + D21))","v":""},{"$f":" IF(EN21 = \"\", \"\", VALUE(E21 + F21))","v":""},{"$f":"IF(EN21=\"\",\"\",IF(C21=\"\",0,IF(D21=\"\",0,(E21+F21-D21-C21))))","v":""},{"$f":" IFERROR(IF(VALUE(E21&F21) > VALUE(C22&D22), IF(VALUE(C22+D22) < VALUE(C23 + D23), E21 + F21 - C22 - D22 - (C21 + D21 - C22 - D22),E21 + F21 - C22 - D22), \"\"), \"\")","v":""},{"$f":"IFERROR(IF(EN21=\"\",\"\",IF(VALUE(E20+F20)<VALUE(C21+D21),C21+D21-E20-F20,\"\")),\"\")","v":""},{"$f":" TRIM(EN21)","v":""},{"$f":" IF(AND(N21 = \"Buy\", H21 = \"Win\"), 1, 0)","v":0},{"$f":" IF(AND(N21 = \"Sell\", H21 = \"Win\"), 1, 0)","v":0},{"$f":" IF(AND(N21 = \"Buy\", H21 = \"Loss\"), 1, 0)","v":0},{"$f":" IF(AND(N21 = \"Sell\", H21 = \"Loss\"), 1, 0)","v":0},{"$f":" IF(AND(N21 = \"Buy\", H21 = \"BE\"), 1, 0)","v":0},{"$f":" IF(AND(N21 = \"Sell\", H21 = \"BE\"), 1, 0)","v":0},{"$f":" IF(EN21 = \"\", 0, (E21 - DATE(YEAR(E21),1,0)) & YEAR(E21)&\"\")","v":0},{"$f":"IFERROR( IF(SUM(INDIRECT(\"O\"&(MATCH(U21,U:U,0))&\":T\"&DC21)) = 0, \"\", IF(ROW(U21) = FLOOR((MATCH(U21, U:U, 0) +DC21)/2,1),SUM(INDIRECT(\"O\"&(MATCH(U21,U:U,0))&\":T\"&DC21)),\"\")),\"\")","v":""},{"$f":" IFERROR(IF(EN21 = \"\", \"\", IF(ROW(U21) = FLOOR((MATCH(U21, U:U, 0) + DC21)/2,1),SUM(INDIRECT(\"BT\"&(MATCH(U21,U:U,0))&\":BT\"&DC21)),\"\")),\"\")","v":""},{"$f":"  IFERROR(IF(W21 = \"\",\"\",W21/(Y21-W21)),\"\")","v":""},{"$f":" IFERROR(IF(ROW(U21) = FLOOR((MATCH(U21, U:U, 0) + DC21)/2,1),INDIRECT(\"BU\"&DC21),\"\"),\"\")","v":""},{"$f":"  IF(V21= 0,\"\",X21)","v":""},{"$f":"IF(Z21=\"\",\"\",Z21+1)","v":""},{"$f":" IF(EN21 = \"\", 0, WEEKNUM(E21) & YEAR(E21) & \"\")","v":0},{"$f":" IFERROR(IF(SUM(INDIRECT(\"O\"&(MATCH(AB21,AB:AB,0))&\":T\"&DD21)) = 0, \"\", IF(ROW(AB21) = FLOOR((MATCH(AB21, AB:AB, 0) + DD21)/2,1),SUM(INDIRECT(\"O\"&(MATCH(AB21,AB:AB,0))&\":T\"&DD21)),\"\")),\"\")","v":""},{"$f":" IFERROR(IF(EN21 = \"\", \"\", IF(ROW(AB21) = FLOOR((MATCH(AB21, AB:AB, 0) +DD21)/2,1),SUM(INDIRECT(\"BT\"&(MATCH(AB21,AB:AB,0))&\":BT\"&DD21)),\"\")),\"\")","v":""},{"$f":" IFERROR( IF(AD21 = \"\",\"\",AD21/(AF21-AD21)),\"\")","v":""},{"$f":" IFERROR(IF(ROW(AB21) = FLOOR((MATCH(AB21, AB:AB, 0) + DD21)/2,1),INDIRECT(\"BU\"&DD21),\"\"),\"\")","v":""},{"$f":"  IF(AC21= 0,\"\",AE21)","v":""},{"$f":"IF(AG21=\"\",\"\",AG21+1)","v":""},{"$f":" IF(EN21 = \"\", 0, MONTH(E21)&YEAR(E21)&\"\")","v":0},{"$f":"IFERROR( IF(SUM(INDIRECT(\"O\"&(MATCH(AI21,AI:AI,0))&\":T\"&DE21)) = 0, \"\", IF(ROW(AI21) = FLOOR((MATCH(AI21, AI:AI, 0) + DE21)/2,1),SUM(INDIRECT(\"O\"&(MATCH(AI21,AI:AI,0))&\":T\"&DE21)),\"\")),\"\")","v":""},{"$f":" IFERROR(IF(EN21 = \"\", \"\", IF(ROW(AI21) = FLOOR((MATCH(AI21, AI:AI, 0) + DE21)/2,1),SUM(INDIRECT(\"BT\"&(MATCH(AI21,AI:AI,0))&\":BT\"&DE21)),\"\")),\"\")","v":""},{"$f":" IFERROR( IF(AK21 = \"\",\"\",AK21/(AM21-AK21)),\"\")","v":""},{"$f":" IFERROR(IF(ROW(AI21) = FLOOR((MATCH(AI21, AI:AI, 0) + DE21)/2,1),INDIRECT(\"BU\"&DE21),\"\"),\"\")","v":""},{"$f":"  IF(AJ21= 0,\"\",AL21)","v":""},{"$f":"IF(AN21=\"\",\"\",AN21+1)","v":""},{"$f":" IF(EN21 = \"\", 0, YEAR(E21)&\"\")","v":0},{"$f":" IFERROR(IF(SUM(INDIRECT(\"O\"&(MATCH(AP21,AP:AP,0))&\":T\"&ED21)) = 0, \"\", IF(ROW(AP21) = FLOOR((MATCH(AP21, AP:AP, 0) + ED21)/2,1),SUM(INDIRECT(\"O\"&(MATCH(AP21,AP:AP,0))&\":T\"&ED21)),\"\")), \"\")","v":""},{"$f":" IF(EN21 = \"\", \"\", IF(ROW(AP21) = FLOOR((MATCH(AP21, AP:AP, 0) + ED21)/2,1),SUM(INDIRECT(\"BT\"&(MATCH(AP21,AP:AP,0))&\":BT\"&ED21)),\"\"))","v":""},{"$f":" IFERROR( IF(AR21 = \"\",\"\",AR21/(AT21-AR21)),\"\")","v":""},{"$f":" IFERROR(IF(ROW(AP21) = FLOOR((MATCH(AP21, AP:AP, 0) + ED21)/2,1),INDIRECT(\"BU\"&ED21),\"\"), \"\")","v":""},{"$f":"  IF(AQ21= 0,\"\",AS21)","v":""},{"$f":"IF(AU21=\"\",\"\",AU21+1)","v":""},{"$f":" IF(BX21=\"\",0,IF(IF(BU21 = \"\",0,-1*((MIN(BU$5:$BU21)-BU21)))=0,0,IF(BU21 = \"\",0,-1*((MIN(BU$5:$BU21)-BU21)))))","v":0},{"$f":"  IF(BX21=\"\",0,IF(IF(BU21 = \"\",0,-1*((MIN(BU$5:$BU21)-BU21)))/MIN((BU$5:BU21))=0,0,IF(BU21 = \"\",0,-1*((MIN(BU$5:$BU21)-BU21)))/MIN((BU$5:BU21))))","v":0},{"$f":" IF(EN21 = \"\", \"\", IF(BD20 = BD21, AY20, AY20 + 1))","v":""},{"$f":" IF(EN21 = \"\", \"\", IF(BD20 = BD21, AZ20 + 1,1))","v":""},{"$f":" IF(AX21 = 0, \"\", IF( IF(ROW(AY21) = FLOOR((MATCH(AY21, AY:AY, 0) + MATCH(AY21, AY:AY))/2,1), INDIRECT(\"E\"&(MATCH(AY21,AY:AY))) + INDIRECT(\"F\"&(MATCH(AY21,AY:AY)))  - INDIRECT(\"E\"&(MATCH(AY21,AY:AY,0))) - INDIRECT(\"F\"&(MATCH(AY21,AY:AY,0))),\"\") = 0, \"\", IF(ROW(AY21) = FLOOR((MATCH(AY21, AY:AY, 0) + MATCH(AY21, AY:AY))/2,1), INDIRECT(\"E\"&(MATCH(AY21,AY:AY))) + INDIRECT(\"F\"&(MATCH(AY21,AY:AY)))  - INDIRECT(\"E\"&(MATCH(AY21,AY:AY,0))) - INDIRECT(\"F\"&(MATCH(AY21,AY:AY,0))),\"\")))","v":""},{"$f":" IF(EN20 = \"\", \"\", IF(IF(ROW(AY21) = FLOOR((MATCH(AY21, AY:AY, 0) + MATCH(AY21, AY:AY))/2,1), MAX(INDIRECT(\"AW\"&(MATCH(AY21,AY:AY,0))&\":AW\"&MATCH(AY21,AY:AY))),\"\") = 0, \"\",  IF(ROW(AY21) = FLOOR((MATCH(AY21, AY:AY, 0) + MATCH(AY21, AY:AY))/2,1), MAX(INDIRECT(\"AW\"&(MATCH(AY21,AY:AY,0))&\":AW\"&MATCH(AY21,AY:AY))),\"\")))","v":""},{"$f":" IF(EN20 = \"\", \"\", IF(IF(ROW(AY21) = FLOOR((MATCH(AY21, AY:AY, 0) + MATCH(AY21, AY:AY))/2,1), MAX(INDIRECT(\"AX\"&(MATCH(AY21,AY:AY,0))&\":AX\"&MATCH(AY21,AY:AY))),\"\") = 0, \"\",  IF(ROW(AY21) = FLOOR((MATCH(AY21, AY:AY, 0) + MATCH(AY21, AY:AY))/2,1), MAX(INDIRECT(\"AX\"&(MATCH(AY21,AY:AY,0))&\":AX\"&MATCH(AY21,AY:AY))),\"\")))","v":""},{"$f":" MIN(BU20, BD20)","v":0},{"$f":" IF(BX21=\"\",0,IF(IF(BU21 = \"\",0,(-1*(MAX(BU$5:$BU21)-BU21)))=0,0,IF(BU21 = \"\",0,(-1*(MAX(BU$5:$BU21)-BU21)))))","v":0},{"$f":" IF(BX21=\"\",0,IF(IF(BU21=\"\",0,(-1*(MAX(BU$5:$BU21)-BU21)))/MAX($BU$5:BU21) = 0,0,IF(BU21=\"\",0,(-1*(MAX(BU$5:$BU21)-BU21)))/MAX($BU$5:BU21)))","v":0},{"$f":" IF(EN21 = \"\", \"\", IF(BL20 = BL21, BG20, BG20 + 1))","v":""},{"$f":" IF(EN21 = \"\", \"\", IF(BL20 = BL21, BH20 + 1,1))","v":""},{"$f":" IF(BF21 = 0, \"\", IF( IF(ROW(BG21) = FLOOR((MATCH(BG21, BG:BG, 0) + MATCH(BG21, BG:BG))/2,1), INDIRECT(\"E\"&(MATCH(BG21,BG:BG))) + INDIRECT(\"F\"&(MATCH(BG21,BG:BG)))  - INDIRECT(\"E\"&(MATCH(BG21,BG:BG,0))) - INDIRECT(\"F\"&(MATCH(BG21,BG:BG,0))),\"\") = 0, \"\", IF(ROW(BG21) = FLOOR((MATCH(BG21,BG:BG,0) + MATCH(BG21, BG:BG))/2,1), INDIRECT(\"E\"&(MATCH(BG21,BG:BG))) + INDIRECT(\"F\"&(MATCH(BG21,BG:BG)))  - INDIRECT(\"E\"&(MATCH(BG21,BG:BG,0))) - INDIRECT(\"F\"&(MATCH(BG21,BG:BG,0))),\"\")))","v":""},{"$f":" IF(EN20 = \"\", \"\",  IF(IF(ROW(BG21) = FLOOR((MATCH(BG21, BG:BG, 0) + MATCH(BG21, BG:BG))/2,1), MIN(INDIRECT(\"BE\"&(MATCH(BG21,BG:BG,0))&\":BE\"&MATCH(BG21,BG:BG))),\"\") = 0, \"\", IF(ROW(BG21) = FLOOR((MATCH(BG21, BG:BG, 0) + MATCH(BG21, BG:BG))/2,1), MIN(INDIRECT(\"BE\"&(MATCH(BG21,BG:BG,0))&\":BE\"&MATCH(BG21,BG:BG))),\"\")))","v":""},{"$f":" IF(EN20 = \"\", \"\",  IF(IF(ROW(BG21) = FLOOR((MATCH(BG21, BG:BG, 0) + MATCH(BG21, BG:BG))/2,1), MIN(INDIRECT(\"BF\"&(MATCH(BG21,BG:BG,0))&\":BF\"&MATCH(BG21,BG:BG))),\"\") = 0, \"\", IF(ROW(BG21) = FLOOR((MATCH(BG21, BG:BG, 0) + MATCH(BG21, BG:BG))/2,1), MIN(INDIRECT(\"BF\"&(MATCH(BG21,BG:BG,0))&\":BF\"&MATCH(BG21,BG:BG))),\"\")))","v":""},{"$f":" MAX(BU20, BL20)","v":0},{"$f":"IF(H21=\"\",\"\",IF(H21=\"Win\",IF(BN21=1,BN21 & \" \" & \"Win\",BN21 & \" \" & \"Wins\"),IF(H21=\"Loss\",IF(BN21=1,BN21 & \" \" & \"Loss\",BN21 & \" \" & \"Losses\"), IF(H21 = \"BE\",IF(BN21=1,BN21 & \" \" & \"BE\",BN21 & \" \" & \"BE's\")))))","v":""},{"$f":" IF(H20=\"\",\"\",IF(H20=H21, BN20+1,1))","v":""},{"$f":" IF(H21 = \"\", \"\", IF(H20 <> H21, (LOOKUP(9E+307,$BO$5:$BO20) + 1), \"\"))","v":""},{"$f":" IF(EN20 = \"\", \"\", IF(BN21 = 1, \"\",IF(BN21<BN22, \"\", \"S\")))","v":""},{"$f":" IF(BP21 = \"\", \"\", IF(H21 = \"Win\",BN21,\"\"))","v":""},{"$f":" IF(BP21 = \"\", \"\", IF(H21 = \"Loss\",BN21,\"\"))","v":""},{"$f":" IF(BP21 = \"\", \"\", IF(H21 = \"BE\",BN21,\"\"))","v":""},{"$f":" IF(EN21 = \"\", \"\", DB21 +CZ21)","v":""},{"$f":" IF(EN21 = \"\", \"\", BU20 + BT21)","v":""},{"$f":" IF(BU21 = \"\",\"\", BV20 + 1)","v":""},{"$f":" IF(BU21 = \"\", \"\", $FN$13*BV21 + $FM$13)","v":""},{"$f":" IF(EN21 = \"\", \"\", (BT21)/BU20)","v":""},{"$f":" IF(EN21 = \"\", \"\",'Overall Performance'!$C$22)","v":""},{"$f":" IF(EN21 = \"\", \"\", IF(BX21=0,\"\",BX21 + 1))","v":""},{"$f":" IF(H21 = \"Win\", BZ21, \"\")","v":""},{"$f":" IF(H21 = \"Loss\", BZ21, \"\")","v":""},{"$f":"IFERROR(INDEX($Y:$Y,SMALL(IF($Y:$Y<>\"\",ROW($Y:$Y)),ROW(16:16))),\"\")","v":""},{"$f":" IFERROR(IF(ULCERINDEX(CC8:CC21) = 0, \"\", ULCERINDEX(CC8:CC21)),\"\")","v":""},{"$f":" IF(Z21 = \"\", \"\", IF(Z21>0, 0, CH21))","v":""},{"$f":" IF(Z21 = \"\", \"\", IF(Z21>0, 0, W21))","v":""},{"$f":" IF(Z21 = \"\", \"\", Z21 - $FJ$10 + 1)","v":""},{"$f":" IF(Z21 = \"\", \"\", Z21 - $FJ$10)","v":""},{"$f":" IF(AN21 = \"\", \"\", IF(AN21 > 0, 0, CL21))","v":""},{"$f":" IF(AN21 = \"\", \"\", IF(AN21 > 0, 0, AK21))","v":""},{"$f":"IF(AN21=\"\", \"\",AN21-$FJ$14 + 1)","v":""},{"$f":"IF(AN21=\"\", \"\",AN21-$FJ$14)","v":""},{"$f":" IF(EN21 = \"\",\"\",(ES21 - EQ21)/(EQ21 - ER21))","v":""},{"$f":" IF(EN21=\"\",\"\", DA21*ABS((ET21-EQ21)/(EQ21-ER21)))","v":""},{"$f":" IF(CN21 > 0, CN21, \"\")","v":""},{"$f":" IF(CN21 < 0, CN21, \"\")","v":""},{"$f":" IF(EN21 = \"\", \"\", IF(OR(BX21 > AVERAGE(BX:BX) + 3*_xlfn.STDEV.P(BX:BX), BX21 < AVERAGE(BX:BX) - 3*_xlfn.STDEV.P(BX:BX)), BX21, 0))","v":""},{"$f":" IF(EN21= \"\", \"\", SUM(INDIRECT(\"BT\"&(MATCH(U21,U:U,0))&\":BT\"&DC21)))","v":""},{"$f":" IF(EN21= \"\", \"\", SUM(INDIRECT(\"ET\"&(MATCH(U21,U:U,0))&\":ET\"&DC21)))","v":""},{"$f":" IF(EN21= \"\", \"\", (INDIRECT(\"BU\"&DC21)))","v":""},{"$f":" IF(EN21= \"\", \"\", SUM(INDIRECT(\"O\"&(MATCH(U21,U:U,0))&\":T\"&DC21)))","v":""},{"$f":"IF(EN21=\"\",\"\",IF(LEN(RIGHT(EQ21,LEN(EQ21)-FIND(\".\",EQ21)))=2,((-1*ABS(EU21-EQ21))*100),IF(LEN(RIGHT(EQ21,LEN(EQ21)-FIND(\".\",EQ21)))=4,((-1*ABS(EU21-EQ21))*10000),IF(LEN(RIGHT(EQ21,LEN(EQ21)-FIND(\".\",EQ21)))=3,((-1*ABS(EU21-EQ21))*100),IF(LEN(RIGHT(EQ21,LEN(EQ21)-FIND(\".\",EQ21)))=5,((-1*ABS(EU21-EQ21))*10000))))))","v":""},{"$f":" IF(EN21 = \"\", \"\", (((EU21-EQ21)/(ET21-EQ21))*CZ21) + DB21)","v":""},{"$f":"IF(EN21=\"\",\"\",IF(LEN(RIGHT(EQ21,LEN(EQ21)-FIND(\".\",EQ21)))=2,((ABS(EV21-EQ21))*100),IF(LEN(RIGHT(EQ21,LEN(EQ21)-FIND(\".\",EQ21)))=4,((ABS(EV21-EQ21))*10000),IF(LEN(RIGHT(EQ21,LEN(EQ21)-FIND(\".\",EQ21)))=3,((ABS(EV21-EQ21))*100),IF(LEN(RIGHT(EQ21,LEN(EQ21)-FIND(\".\",EQ21)))=5,((ABS(EV21-EQ21))*10000))))))","v":""},{"$f":" IF(EN21 = \"\", \"\", (((EV21-EQ21)/(ET21-EQ21))*CZ21) + DB21)","v":""},{"$f":" IF(EN21 = \"\", \"\", EL21)","v":""},{"$f":" IF(EN21 = \"\", \"\", IF(EN21 = \"Buy\", IF(EQ21 > ET21, -1, 1), IF(EQ21 > ET21, 1, -1)))","v":""},{"$f":"IF(EN21=\"\", \"\",EZ21+FA21)","v":""},{"$f":" IF(EN21 = \"\", \"\", LOOKUP(2,1/(U:U = U21), ROW(U:U)))","v":""},{"$f":" IF(EN21 = \"\", \"\", LOOKUP(2,1/(AB:AB = AB21), ROW(AB:AB)))","v":""},{"$f":" IF(EN21 = \"\", \"\", LOOKUP(2,1/(AI:AI = AI21), ROW(AI:AI)))","v":""},null,null,{"$f":" IF(CO21 = \"\", \"\", CO21*EY21)","v":""},{"$f":" IF(CP21 = \"\", \"\", CP21*EY21)","v":""},{"$f":" IF(EN21 = \"\", \"\",BF21)","v":""},{"$f":" DJ21","v":""},{"$f":" IF(EL22 = \"\", \"\", DL20 + 1)","v":""},{"$f":" IF(EN21 <> \"\", K21*24,#N/A)","v":{"$error":"#N/A"}},{"$f":" IF(EN21 <> \"\", CW21,#N/A)","v":{"$error":"#N/A"}},{"$f":" IF(EN21 <> \"\", CY21,#N/A)","v":{"$error":"#N/A"}},{"$f":" IF(EN21 <> \"\", CM21,#N/A)","v":{"$error":"#N/A"}},{"$f":" IF(EN21 <> \"\", CN21,#N/A)","v":{"$error":"#N/A"}},{"$f":" IF(CN21 > 0, CM21, -1)","v":""},{"$f":" IF(CN21 > 0, CM21, \"\")","v":""},{"$f":" IF(CN21 < 0, CM21, \"\")","v":""},{"$f":" IF(AQ21 = \"\",\"\",LOOKUP(9E+307,$DU$5:$DU20) + 1)","v":""},{"$f":" IF(EN21 = \"\", \"\", (CZ21)/BU20)","v":""},{"$f":" IF(EN21 = \"\", \"\", WEEKDAY(C21,1))","v":""},{"$f":" IF(EN21=\"\", \"\", MONTH(C21))","v":""},{"$f":" IF(EN21 = \"\", \"\", YEAR(E21))","v":""},{"$f":" IF(EB21 = \"\", \"\", MAX(((EA21-EB21)/EA21), ((EB21-EC21)/EB21)))","v":""},{"$f":" IF(EB21=\"\", \"\", MAX($EB$6:EB21))","v":""},{"$f":" AM21","v":""},{"$f":" IF(EB21=\"\",\"\", MIN(EB21:$EB$1048576))","v":""},{"$f":" IF(EN21 = \"\", \"\", LOOKUP(2,1/(AP:AP = AP21), ROW(AP:AP)))","v":""},{"$f":" IFERROR(_xlfn.IFS(FE21 = \"1-Minute\", 1, FE21 = \"5-Minute\", 2, FE21 = \"15-Minute\", 3, FE21 = \"30-Minute\", 4, FE21 = \"1-Hour\", 5, FE21 = \"4-Hour\", 6, FE21 = \"Daily\", 7, FE21 = \"Weekly\", 8, FE21 = \"Monthly\", 9), \"\")","v":""},{"$f":" IFERROR(_xlfn.IFS(FF21 = \"Very Low\", 1, FF21 = \"Low\", 2, FF21 = \"Medium\", 3, FF21 = \"High\", 4, FF21 = \"Very High\", 5),\"\")","v":""},null,{"$f":" TEXT(CM21, \"#,###0.000\") & \" : 1\"","v":" : 1"},{"$f":" IF(EN21 = \"\", \"\", IF(N21 = \"Buy\", (ET21-EQ21)/(EV21-EU21), (EQ21-ET21)/(EU21-EV21)))","v":""},{"$f":"IF(EN21=\"\",\"\",IF(N21 = \"Buy\", (EV21 - EQ21)/(EV21-EU21), (EQ21-EV21)/(EU21-EV21)))","v":""},{"$f":"IF(EN21=\"\",\"\",IF(N21 = \"Buy\", (ET21-EU21)/(EV21-EU21), (EU21-ET21)/(EU21-EV21)))","v":""},null,null,null,null,null,null,null,null,null,null,null,{"$f":" IF(EQ21=\"\",\"\",IF(LEN(RIGHT(EQ21,LEN(EQ21)-FIND(\".\",EQ21)))=2,((IF(EN21 = \"Buy\", IF(DF21 = EQ21, IF(DG21 = ET21, 0, ET21 - DG21),IF(DG21 = ET21, DF21-EQ21, (DF21 - EQ21) + (ET21 - DG21))), IF(DF21 = EQ21, IF(DG21 = ET21, 0, DG21-ET21),IF(DG21 = ET21, EQ21-DF21, (EQ21-DF21) + (DG21-ET21)))))*100),IF(LEN(RIGHT(EQ21,LEN(EQ21)-FIND(\".\",EQ21)))=4,((IF(EN21 = \"Buy\", IF(DF21 = EQ21, IF(DG21 = ET21, 0, ET21 - DG21),IF(DG21 = ET21, DF21-EQ21, (DF21 - EQ21) + (ET21 - DG21))), IF(DF21 = EQ21, IF(DG21 = ET21, 0, DG21-ET21),IF(DG21 = ET21, EQ21-DF21, (EQ21-DF21) + (DG21-ET21)))))*10000),IF(LEN(RIGHT(EQ21,LEN(EQ21)-FIND(\".\",EQ21)))=3,((IF(EN21 = \"Buy\", IF(DF21 = EQ21, IF(DG21 = ET21, 0, ET21 - DG21),IF(DG21 = ET21, DF21-EQ21, (DF21 - EQ21) + (ET21 - DG21))), IF(DF21 = EQ21, IF(DG21 = ET21, 0, DG21-ET21),IF(DG21 = ET21, EQ21-DF21, (EQ21-DF21) + (DG21-ET21)))))*100),IF(LEN(RIGHT(EQ21,LEN(EQ21)-FIND(\".\",EQ21)))=5,((IF(EN21 = \"Buy\", IF(DF21 = EQ21, IF(DG21 = ET21, 0, ET21 - DG21),IF(DG21 = ET21, DF21-EQ21, (DF21 - EQ21) + (ET21 - DG21))), IF(DF21 = EQ21, IF(DG21 = ET21, 0, DG21-ET21),IF(DG21 = ET21, EQ21-DF21, (EQ21-DF21) + (DG21-ET21)))))*10000))))))","v":""},{"$f":"IF(EN21=\"\",\"\",IF(LEN(RIGHT(EQ21,LEN(EQ21)-FIND(\".\",EQ21)))=2,((DA21*ABS(ET21-EQ21))*100),IF(LEN(RIGHT(EQ21,LEN(EQ21)-FIND(\".\",EQ21)))=4,((DA21*ABS(ET21-EQ21))*10000),IF(LEN(RIGHT(EQ21,LEN(EQ21)-FIND(\".\",EQ21)))=3,((DA21*ABS(ET21-EQ21))*100),IF(LEN(RIGHT(EQ21,LEN(EQ21)-FIND(\".\",EQ21)))=5,((DA21*ABS(ET21-EQ21))*10000))))))","v":""},{"$f":"IF(EN21=\"\",\"\",ABS(DV21/ABS(CN21)))","v":""},null,null,null,null,null,null,null,null,null,null,{"$f":" SUM(IF(FREQUENCY(IF(LEN(FC:FC)>0,MATCH(FC:FC,FC:FC,0),\"\"), IF(LEN(FC:FC)>0,MATCH(FC:FC,FC:FC,0),\"\"))>0,1)) - 1","v":0},null,null,{"$f":"  IF(IFERROR(LARGE(BC:BC, 2),\"\") = 0, \"\",IFERROR(LARGE(BC:BC, 2),\"\"))","v":""},{"$f":"  IF(IFERROR(SMALL(BK:BK, 2),\"\")=0, \"\",   IFERROR(SMALL(BK:BK, 2),\"\"))","v":""}]
[null,{"$f":" B21+ 1","v":17},null,null,null,null,{"$f":" IF(EN22 = \"\", \"\", INT(K22)&\" d,\"&\" \"&HOUR(K22)&\" h,\"&\" \"&MINUTE(K22)&\" m,\"&\" \"&SECOND(K22)&\" s\")","v":""},{"$f":" IF(EN22 = \"\",\"\",IF(CZ22 +DB22 = 0, \"BE\", IF(CZ22 > 0, \"Win\",\"Loss\")))","v":""},{"$f":" IF(EN22=\"\", \"\",VALUE(C22 + D22))","v":""},{"$f":" IF(EN22 = \"\", \"\", VALUE(E22 + F22))","v":""},{"$f":"IF(EN22=\"\",\"\",IF(C22=\"\",0,IF(D22=\"\",0,(E22+F22-D22-C22))))","v":""},{"$f":" IFERROR(IF(VALUE(E22&F22) > VALUE(C23&D23), IF(VALUE(C23+D23) < VALUE(C24 + D24), E22 + F22 - C23 - D23 - (C22 + D22 - C23 - D23),E22 + F22 - C23 - D23), \"\"), \"\")","v":""},{"$f":"IFERROR(IF(EN22=\"\",\"\",IF(VALUE(E21+F21)<VALUE(C22+D22),C22+D22-E21-F21,\"\")),\"\")","v":""},{"$f":" TRIM(EN22)","v":""},{"$f":" IF(AND(N22 = \"Buy\", H22 = \"Win\"), 1, 0)","v":0},{"$f":" IF(AND(N22 = \"Sell\", H22 = \"Win\"), 1, 0)","v":0},{"$f":" IF(AND(N22 = \"Buy\", H22 = \"Loss\"), 1, 0)","v":0},{"$f":" IF(AND(N22 = \"Sell\", H22 = \"Loss\"), 1, 0)","v":0},{"$f":" IF(AND(N22 = \"Buy\", H22 = \"BE\"), 1, 0)","v":0},{"$f":" IF(AND(N22 = \"Sell\", H22 = \"BE\"), 1, 0)","v":0},{"$f":" IF(EN22 = \"\", 0, (E22 - DATE(YEAR(E22),1,0)) & YEAR(E22)&\"\")","v":0},{"$f":"IFERROR( IF(SUM(INDIRECT(\"O\"&(MATCH(U22,U:U,0))&\":T\"&DC22)) = 0, \"\", IF(ROW(U22) = FLOOR((MATCH(U22, U:U, 0) +DC22)/2,1),SUM(INDIRECT(\"O\"&(MATCH(U22,U:U,0))&\":T\"&DC22)),\"\")),\"\")","v":""},{"$f":" IFERROR(IF(EN22 = \"\", \"\", IF(ROW(U22) = FLOOR((MATCH(U22, U:U, 0) + DC22)/2,1),SUM(INDIRECT(\"BT\"&(MATCH(U22,U:U,0))&\":BT\"&DC22)),\"\")),\"\")","v":""},{"$f":"  IFERROR(IF(W22 = \"\",\"\",W22/(Y22-W22)),\"\")","v":""},{"$f":" IFERROR(IF(ROW(U22) = FLOOR((MATCH(U22, U:U, 0) + DC22)/2,1),INDIRECT(\"BU\"&DC22),\"\"),\"\")","v":""},{"$f":"  IF(V22= 0,\"\",X22)","v":""},{"$f":"IF(Z22=\"\",\"\",Z22+1)","v":""},{"$f":" IF(EN22 = \"\", 0, WEEKNUM(E22) & YEAR(E22) & \"\")","v":0},{"$f":" IFERROR(IF(SUM(INDIRECT(\"O\"&(MATCH(AB22,AB:AB,0))&\":T\"&DD22)) = 0, \"\", IF(ROW(AB22) = FLOOR((MATCH(AB22, AB:AB, 0) + DD22)/2,1),SUM(INDIRECT(\"O\"&(MATCH(AB22,AB:AB,0))&\":T\"&DD22)),\"\")),\"\")","v":""},{"$f":" IFERROR(IF(EN22 = \"\", \"\", IF(ROW(AB22) = FLOOR((MATCH(AB22, AB:AB, 0) +DD22)/2,1),SUM(INDIRECT(\"BT\"&(MATCH(AB22,AB:AB,0))&\":BT\"&DD22)),\"\")),\"\")","v":""},{"$f":" IFERROR( IF(AD22 = \"\",\"\",AD22/(AF22-AD22)),\"\")","v":""},{"$f":" IFERROR(IF(ROW(AB22) = FLOOR((MATCH(AB22, AB:AB, 0) + DD22)/2,1),INDIRECT(\"BU\"&DD22),\"\"),\"\")","v":""},{"$f":"  IF(AC22= 0,\"\",AE22)","v":""},{"$f":"IF(AG22=\"\",\"\",AG22+1)","v":""},{"$f":" IF(EN22 = \"\", 0, MONTH(E22)&YEAR(E22)&\"\")","v":0},{"$f":"IFERROR( IF(SUM(INDIRECT(\"O\"&(MATCH(AI22,AI:AI,0))&\":T\"&DE22)) = 0, \"\", IF(ROW(AI22) = FLOOR((MATCH(AI22, AI:AI, 0) + DE22)/2,1),SUM(INDIRECT(\"O\"&(MATCH(AI22,AI:AI,0))&\":T\"&DE22)),\"\")),\"\")","v":""},{"$f":" IFERROR(IF(EN22 = \"\", \"\", IF(ROW(AI22) = FLOOR((MATCH(AI22, AI:AI, 0) + DE22)/2,1),SUM(INDIRECT(\"BT\"&(MATCH(AI22,AI:AI,0))&\":BT\"&DE22)),\"\")),\"\")","v":""},{"$f":" IFERROR( IF(AK22 = \"\",\"\",AK22/(AM22-AK22)),\"\")","v":""},{"$f":" IFERROR(IF(ROW(AI22) = FLOOR((MATCH(AI22, AI:AI, 0) + DE22)/2,1),INDIRECT(\"BU\"&DE22),\"\"),\"\")","v":""},{"$f":"  IF(AJ22= 0,\"\",AL22)","v":""},{"$f":"IF(AN22=\"\",\"\",AN22+1)","v":""},{"$f":" IF(EN22 = \"\", 0, YEAR(E22)&\"\")","v":0},{"$f":" IFERROR(IF(SUM(INDIRECT(\"O\"&(MATCH(AP22,AP:AP,0))&\":T\"&ED22)) = 0, \"\", IF(ROW(AP22) = FLOOR((MATCH(AP22, AP:AP, 0) + ED22)/2,1),SUM(INDIRECT(\"O\"&(MATCH(AP22,AP:AP,0))&\":T\"&ED22)),\"\")), \"\")","v":""},{"$f":" IF(EN22 = \"\", \"\", IF(ROW(AP22) = FLOOR((MATCH(AP22, AP:AP, 0) + ED22)/2,1),SUM(INDIRECT(\"BT\"&(MATCH(AP22,AP:AP,0))&\":BT\"&ED22)),\"\"))","v":""},{"$f":" IFERROR( IF(AR22 = \"\",\"\",AR22/(AT22-AR22)),\"\")","v":""},{"$f":" IFERROR(IF(ROW(AP22) = FLOOR((MATCH(AP22, AP:AP, 0) + ED22)/2,1),INDIRECT(\"BU\"&ED22),\"\"), \"\")","v":""},{"$f":"  IF(AQ22= 0,\"\",AS22)","v":""},{"$f":"IF(AU22=\"\",\"\",AU22+1)","v":""},{"$f":" IF(BX22=\"\",0,IF(IF(BU22 = \"\",0,-1*((MIN(BU$5:$BU22)-BU22)))=0,0,IF(BU22 = \"\",0,-1*((MIN(BU$5:$BU22)-BU22)))))","v":0},{"$f":"  IF(BX22=\"\",0,IF(IF(BU22 = \"\",0,-1*((MIN(BU$5:$BU22)-BU22)))/MIN((BU$5:BU22))=0,0,IF(BU22 = \"\",0,-1*((MIN(BU$5:$BU22)-BU22)))/MIN((BU$5:BU22))))","v":0},{"$f":" IF(EN22 = \"\", \"\", IF(BD21 = BD22, AY21, AY21 + 1))","v":""},{"$f":" IF(EN22 = \"\", \"\", IF(BD21 = BD22, AZ21 + 1,1))","v":""},{"$f":" IF(AX22 = 0, \"\", IF( IF(ROW(AY22) = FLOOR((MATCH(AY22, AY:AY, 0) + MATCH(AY22, AY:AY))/2,1), INDIRECT(\"E\"&(MATCH(AY22,AY:AY))) + INDIRECT(\"F\"&(MATCH(AY22,AY:AY)))  - INDIRECT(\"E\"&(MATCH(AY22,AY:AY,0))) - INDIRECT(\"F\"&(MATCH(AY22,AY:AY,0))),\"\") = 0, \"\", IF(ROW(AY22) = FLOOR((MATCH(AY22, AY:AY, 0) + MATCH(AY22, AY:AY))/2,1), INDIRECT(\"E\"&(MATCH(AY22,AY:AY))) + INDIRECT(\"F\"&(MATCH(AY22,AY:AY)))  - INDIRECT(\"E\"&(MATCH(AY22,AY:AY,0))) - INDIRECT(\"F\"&(MATCH(AY22,AY:AY,0))),\"\")))","v":""},{"$f":" IF(EN21 = \"\", \"\", IF(IF(ROW(AY22) = FLOOR((MATCH(AY22, AY:AY, 0) + MATCH(AY22, AY:AY))/2,1), MAX(INDIRECT(\"AW\"&(MATCH(AY22,AY:AY,0))&\":AW\"&MATCH(AY22,AY:AY))),\"\") = 0, \"\",  IF(ROW(AY22) = FLOOR((MATCH(AY22, AY:AY, 0) + MATCH(AY22, AY:AY))/2,1), MAX(INDIRECT(\"AW\"&(MATCH(AY22,AY:AY,0))&\":AW\"&MATCH(AY22,AY:AY))),\"\")))","v":""},{"$f":" IF(EN21 = \"\", \"\", IF(IF(ROW(AY22) = FLOOR((MATCH(AY22, AY:AY, 0) + MATCH(AY22, AY:AY))/2,1), MAX(INDIRECT(\"AX\"&(MATCH(AY22,AY:AY,0))&\":AX\"&MATCH(AY22,AY:AY))),\"\") = 0, \"\",  IF(ROW(AY22) = FLOOR((MATCH(AY22, AY:AY, 0) + MATCH(AY22, AY:AY))/2,1), MAX(INDIRECT(\"AX\"&(MATCH(AY22,AY:AY,0))&\":AX\"&MATCH(AY22,AY:AY))),\"\")))","v":""},{"$f":" MIN(BU21, BD21)","v":0},{"$f":" IF(BX22=\"\",0,IF(IF(BU22 = \"\",0,(-1*(MAX(BU$5:$BU22)-BU22)))=0,0,IF(BU22 = \"\",0,(-1*(MAX(BU$5:$BU22)-BU22)))))","v":0},{"$f":" IF(BX22=\"\",0,IF(IF(BU22=\"\",0,(-1*(MAX(BU$5:$BU22)-BU22)))/MAX($BU$5:BU22) = 0,0,IF(BU22=\"\",0,(-1*(MAX(BU$5:$BU22)-BU22)))/MAX($BU$5:BU22)))","v":0},{"$f":" IF(EN22 = \"\", \"\", IF(BL21 = BL22, BG21, BG21 + 1))","v":""},{"$f":" IF(EN22 = \"\", \"\", IF(BL21 = BL22, BH21 + 1,1))","v":""},{"$f":" IF(BF22 = 0, \"\", IF( IF(ROW(BG22) = FLOOR((MATCH(BG22, BG:BG, 0) + MATCH(BG22, BG:BG))/2,1), INDIRECT(\"E\"&(MATCH(BG22,BG:BG))) + INDIRECT(\"F\"&(MATCH(BG22,BG:BG)))  - INDIRECT(\"E\"&(MATCH(BG22,BG:BG,0))) - INDIRECT(\"F\"&(MATCH(BG22,BG:BG,0))),\"\") = 0, \"\", IF(ROW(BG22) = FLOOR((MATCH(BG22,BG:BG,0) + MATCH(BG22, BG:BG))/2,1), INDIRECT(\"E\"&(MATCH(BG22,BG:BG))) + INDIRECT(\"F\"&(MATCH(BG22,BG:BG)))  - INDIRECT(\"E\"&(MATCH(BG22,BG:BG,0))) - INDIRECT(\"F\"&(MATCH(BG22,BG:BG,0))),\"\")))","v":""},{"$f":" IF(EN21 = \"\", \"\",  IF(IF(ROW(BG22) = FLOOR((MATCH(BG22, BG:BG, 0) + MATCH(BG22, BG:BG))/2,1), MIN(INDIRECT(\"BE\"&(MATCH(BG22,BG:BG,0))&\":BE\"&MATCH(BG22,BG:BG))),\"\") = 0, \"\", IF(ROW(BG22) = FLOOR((MATCH(BG22, BG:BG, 0) + MATCH(BG22, BG:BG))/2,1), MIN(INDIRECT(\"BE\"&(MATCH(BG22,BG:BG,0))&\":BE\"&MATCH(BG22,BG:BG))),\"\")))","v":""},{"$f":" IF(EN21 = \"\", \"\",  IF(IF(ROW(BG22) = FLOOR((MATCH(BG22, BG:BG, 0) + MATCH(BG22, BG:BG))/2,1), MIN(INDIRECT(\"BF\"&(MATCH(BG22,BG:BG,0))&\":BF\"&MATCH(BG22,BG:BG))),\"\") = 0, \"\", IF(ROW(BG22) = FLOOR((MATCH(BG22, BG:BG, 0) + MATCH(BG22, BG:BG))/2,1), MIN(INDIRECT(\"BF\"&(MATCH(BG22,BG:BG,0))&\":BF\"&MATCH(BG22,BG:BG))),\"\")))","v":""},{"$f":" MAX(BU21, BL21)","v":0},{"$f":"IF(H22=\"\",\"\",IF(H22=\"Win\",IF(BN22=1,BN22 & \" \" & \"Win\",BN22 & \" \" & \"Wins\"),IF(H22=\"Loss\",IF(BN22=1,BN22 & \" \" & \"Loss\",BN22 & \" \" & \"Losses\"), IF(H22 = \"BE\",IF(BN22=1,BN22 & \" \" & \"BE\",BN22 & \" \" & \"BE's\")))))","v":""},{"$f":" IF(H21=\"\",\"\",IF(H21=H22, BN21+1,1))","v":""},{"$f":" IF(H22 = \"\", \"\", IF(H21 <> H22, (LOOKUP(9E+307,$BO$5:$BO21) + 1), \"\"))","v":""},{"$f":" IF(EN21 = \"\", \"\", IF(BN22 = 1, \"\",IF(BN22<BN23, \"\", \"S\")))","v":""},{"$f":" IF(BP22 = \"\", \"\", IF(H22 = \"Win\",BN22,\"\"))","v":""},{"$f":" IF(BP22 = \"\", \"\", IF(H22 = \"Loss\",BN22,\"\"))","v":""},{"$f":" IF(BP22 = \"\", \"\", IF(H22 = \"BE\",BN22,\"\"))","v":""},{"$f":" IF(EN22 = \"\", \"\", DB22 +CZ22)","v":""},{"$f":" IF(EN22 = \"\", \"\", BU21 + BT22)","v":""},{"$f":" IF(BU22 = \"\",\"\", BV21 + 1)","v":""},{"$f":" IF(BU22 = \"\", \"\", $FN$13*BV22 + $FM$13)","v":""},{"$f":" IF(EN22 = \"\", \"\", (BT22)/BU21)","v":""},{"$f":" IF(EN22 = \"\", \"\",'Overall Performance'!$C$22)","v":""},{"$f":" IF(EN22 = \"\", \"\", IF(BX22=0,\"\",BX22 + 1))","v":""},{"$f":" IF(H22 = \"Win\", BZ22, \"\")","v":""},{"$f":" IF(H22 = \"Loss\", BZ22, \"\")","v":""},{"$f":"IFERROR(INDEX($Y:$Y,SMALL(IF($Y:$Y<>\"\",ROW($Y:$Y)),ROW(17:17))),\"\")","v":""},{"$f":" IFERROR(IF(ULCERINDEX(CC9:CC22) = 0, \"\", ULCERINDEX(CC9:CC22)),\"\")","v":""},{"$f":" IF(Z22 = \"\", \"\", IF(Z22>0, 0, CH22))","v":""},{"$f":" IF(Z22 = \"\", \"\", IF(Z22>0, 0, W22))","v":""},{"$f":" IF(Z22 = \"\", \"\", Z22 - $FJ$10 + 1)","v":""},{"$f":" IF(Z22 = \"\", \"\", Z22 - $FJ$10)","v":""},{"$f":" IF(AN22 = \"\", \"\", IF(AN22 > 0, 0, CL22))","v":""},{"$f":" IF(AN22 = \"\", \"\", IF(AN22 > 0, 0, AK22))","v":""},{"$f":"IF(AN22=\"\", \"\",AN22-$FJ$14 + 1)","v":""},{"$f":"IF(AN22=\"\", \"\",AN22-$FJ$14)","v":""},{"$f":" IF(EN22 = \"\",\"\",(ES22 - EQ22)/(EQ22 - ER22))","v":""},{"$f":" IF(EN22=\"\",\"\", DA22*ABS((ET22-EQ22)/(EQ22-ER22)))","v":""},{"$f":" IF(CN22 > 0, CN22, \"\")","v":""},{"$f":" IF(CN22 < 0, CN22, \"\")","v":""},{"$f":" IF(EN22 = \"\", \"\", IF(OR(BX22 > AVERAGE(BX:BX) + 3*_xlfn.STDEV.P(BX:BX), BX22 < AVERAGE(BX:BX) - 3*_xlfn.STDEV.P(BX:BX)), BX22, 0))","v":""},{"$f":" IF(EN22= \"\", \"\", SUM(INDIRECT(\"BT\"&(MATCH(U22,U:U,0))&\":BT\"&DC22)))","v":""},{"$f":" IF(EN22= \"\", \"\", SUM(INDIRECT(\"ET\"&(MATCH(U22,U:U,0))&\":ET\"&DC22)))","v":""},{"$f":" IF(EN22= \"\", \"\", (INDIRECT(\"BU\"&DC22)))","v":""},{"$f":" IF(EN22= \"\", \"\", SUM(INDIRECT(\"O\"&(MATCH(U22,U:U,0))&\":T\"&DC22)))","v":""},{"$f":"IF(EN22=\"\",\"\",IF(LEN(RIGHT(EQ22,LEN(EQ22)-FIND(\".\",EQ22)))=2,((-1*ABS(EU22-EQ22))*100),IF(LEN(RIGHT(EQ22,LEN(EQ22)-FIND(\".\",EQ22)))=4,((-1*ABS(EU22-EQ22))*10000),IF(LEN(RIGHT(EQ22,LEN(EQ22)-FIND(\".\",EQ22)))=3,((-1*ABS(EU22-EQ22))*100),IF(LEN(RIGHT(EQ22,LEN(EQ22)-FIND(\".\",EQ22)))=5,((-1*ABS(EU22-EQ22))*10000))))))","v":""},{"$f":" IF(EN22 = \"\", \"\", (((EU22-EQ22)/(ET22-EQ22))*CZ22) + DB22)","v":""},{"$f":"IF(EN22=\"\",\"\",IF(LEN(RIGHT(EQ22,LEN(EQ22)-FIND(\".\",EQ22)))=2,((ABS(EV22-EQ22))*100),IF(LEN(RIGHT(EQ22,LEN(EQ22)-FIND(\".\",EQ22)))=4,((ABS(EV22-EQ22))*10000),IF(LEN(RIGHT(EQ22,LEN(EQ22)-FIND(\".\",EQ22)))=3,((ABS(EV22-EQ22))*100),IF(LEN(RIGHT(EQ22,LEN(EQ22)-FIND(\".\",EQ22)))=5,((ABS(EV22-EQ22))*10000))))))","v":""},{"$f":" IF(EN22 = \"\", \"\", (((EV22-EQ22)/(ET22-EQ22))*CZ22) + DB22)","v":""},{"$f":" IF(EN22 = \"\", \"\", EL22)","v":""},{"$f":" IF(EN22 = \"\", \"\", IF(EN22 = \"Buy\", IF(EQ22 > ET22, -1, 1), IF(EQ22 > ET22, 1, -1)))","v":""},{"$f":"IF(EN22=\"\", \"\",EZ22+FA22)","v":""},{"$f":" IF(EN22 = \"\", \"\", LOOKUP(2,1/(U:U = U22), ROW(U:U)))","v":""},{"$f":" IF(EN22 = \"\", \"\", LOOKUP(2,1/(AB:AB = AB22), ROW(AB:AB)))","v":""},{"$f":" IF(EN22 = \"\", \"\", LOOKUP(2,1/(AI:AI = AI22), ROW(AI:AI)))","v":""},null,null,{"$f":" IF(CO22 = \"\", \"\", CO22*EY22)","v":""},{"$f":" IF(CP22 = \"\", \"\", CP22*EY22)","v":""},{"$f":" IF(EN22 = \"\", \"\",BF22)","v":""},{"$f":" DJ22","v":""},{"$f":" IF(EL23 = \"\", \"\", DL21 + 1)","v":""},{"$f":" IF(EN22 <> \"\", K22*24,#N/A)","v":{"$error":"#N/A"}},{"$f":" IF(EN22 <> \"\", CW22,#N/A)","v":{"$error":"#N/A"}},{"$f":" IF(EN22 <> \"\", CY22,#N/A)","v":{"$error":"#N/A"}},{"$f":" IF(EN22 <> \"\", CM22,#N/A)","v":{"$error":"#N/A"}},{"$f":" IF(EN22 <> \"\", CN22,#N/A)","v":{"$error":"#N/A"}},{"$f":" IF(CN22 > 0, CM22, -1)","v":""},{"$f":" IF(CN22 > 0, CM22, \"\")","v":""},{"$f":" IF(CN22 < 0, CM22, \"\")","v":""},{"$f":" IF(AQ22 = \"\",\"\",LOOKUP(9E+307,$DU$5:$DU21) + 1)","v":""},{"$f":" IF(EN22 = \"\", \"\", (CZ22)/BU21)","v":""},{"$f":" IF(EN22 = \"\", \"\", WEEKDAY(C22,1))","v":""},{"$f":" IF(EN22=\"\", \"\", MONTH(C22))","v":""},{"$f":" IF(EN22 = \"\", \"\", YEAR(E22))","v":""},{"$f":" IF(EB22 = \"\", \"\", MAX(((EA22-EB22)/EA22), ((EB22-EC22)/EB22)))","v":""},{"$f":" IF(EB22=\"\", \"\", MAX($EB$6:EB22))","v":""},{"$f":" AM22","v":""},{"$f":" IF(EB22=\"\",\"\", MIN(EB22:$EB$1048576))","v":""},{"$f":" IF(EN22 = \"\", \"\", LOOKUP(2,1/(AP:AP = AP22), ROW(AP:AP)))","v":""},{"$f":" IFERROR(_xlfn.IFS(FE22 = \"1-Minute\", 1, FE22 = \"5-Minute\", 2, FE22 = \"15-Minute\", 3, FE22 = \"30-Minute\", 4, FE22 = \"1-Hour\", 5, FE22 = \"4-Hour\", 6, FE22 = \"Daily\", 7, FE22 = \"Weekly\", 8, FE22 = \"Monthly\", 9), \"\")","v":""},{"$f":" IFERROR(_xlfn.IFS(FF22 = \"Very Low\", 1, FF22 = \"Low\", 2, FF22 = \"Medium\", 3, FF22 = \"High\", 4, FF22 = \"Very High\", 5),\"\")","v":""},null,{"$f":" TEXT(CM22, \"#,###0.000\") & \" : 1\"","v":" : 1"},{"$f":" IF(EN22 = \"\", \"\", IF(N22 = \"Buy\", (ET22-EQ22)/(EV22-EU22), (EQ22-ET22)/(EU22-EV22)))","v":""},{"$f":"IF(EN22=\"\",\"\",IF(N22 = \"Buy\", (EV22 - EQ22)/(EV22-EU22), (EQ22-EV22)/(EU22-EV22)))","v":""},{"$f":"IF(EN22=\"\",\"\",IF(N22 = \"Buy\", (ET22-EU22)/(EV22-EU22), (EU22-ET22)/(EU22-EV22)))","v":""},null,null,null,null,null,null,null,null,null,null,null,{"$f":" IF(EQ22=\"\",\"\",IF(LEN(RIGHT(EQ22,LEN(EQ22)-FIND(\".\",EQ22)))=2,((IF(EN22 = \"Buy\", IF(DF22 = EQ22, IF(DG22 = ET22, 0, ET22 - DG22),IF(DG22 = ET22, DF22-EQ22, (DF22 - EQ22) + (ET22 - DG22))), IF(DF22 = EQ22, IF(DG22 = ET22, 0, DG22-ET22),IF(DG22 = ET22, EQ22-DF22, (EQ22-DF22) + (DG22-ET22)))))*100),IF(LEN(RIGHT(EQ22,LEN(EQ22)-FIND(\".\",EQ22)))=4,((IF(EN22 = \"Buy\", IF(DF22 = EQ22, IF(DG22 = ET22, 0, ET22 - DG22),IF(DG22 = ET22, DF22-EQ22, (DF22 - EQ22) + (ET22 - DG22))), IF(DF22 = EQ22, IF(DG22 = ET22, 0, DG22-ET22),IF(DG22 = ET22, EQ22-DF22, (EQ22-DF22) + (DG22-ET22)))))*10000),IF(LEN(RIGHT(EQ22,LEN(EQ22)-FIND(\".\",EQ22)))=3,((IF(EN22 = \"Buy\", IF(DF22 = EQ22, IF(DG22 = ET22, 0, ET22 - DG22),IF(DG22 = ET22, DF22-EQ22, (DF22 - EQ22) + (ET22 - DG22))), IF(DF22 = EQ22, IF(DG22 = ET22, 0, DG22-ET22),IF(DG22 = ET22, EQ22-DF22, (EQ22-DF22) + (DG22-ET22)))))*100),IF(LEN(RIGHT(EQ22,LEN(EQ22)-FIND(\".\",EQ22)))=5,((IF(EN22 = \"Buy\", IF(DF22 = EQ22, IF(DG22 = ET22, 0, ET22 - DG22),IF(DG22 = ET22, DF22-EQ22, (DF22 - EQ22) + (ET22 - DG22))), IF(DF22 = EQ22, IF(DG22 = ET22, 0, DG22-ET22),IF(DG22 = ET22, EQ22-DF22, (EQ22-DF22) + (DG22-ET22)))))*10000))))))","v":""},{"$f":"IF(EN22=\"\",\"\",IF(LEN(RIGHT(EQ22,LEN(EQ22)-FIND(\".\",EQ22)))=2,((DA22*ABS(ET22-EQ22))*100),IF(LEN(RIGHT(EQ22,LEN(EQ22)-FIND(\".\",EQ22)))=4,((DA22*ABS(ET22-EQ22))*10000),IF(LEN(RIGHT(EQ22,LEN(EQ22)-FIND(\".\",EQ22)))=3,((DA22*ABS(ET22-EQ22))*100),IF(LEN(RIGHT(EQ22,LEN(EQ22)-FIND(\".\",EQ22)))=5,((DA22*ABS(ET22-EQ22))*10000))))))","v":""},{"$f":"IF(EN22=\"\",\"\",ABS(DV22/ABS(CN22)))","v":""},null,null,null,null,null,null,null,null,null,null,{"$f":" SUM(IF(FREQUENCY(IF(LEN(EO:EO)>0,MATCH(EO:EO,EO:EO,0),\"\"), IF(LEN(EO:EO)>0,MATCH(EO:EO,EO:EO,0),\"\"))>0,1)) - 1","v":0},{"$f":"  MAX(J:J) - MIN(I:I)","v":0},null,{"$f":"  IF(IFERROR(LARGE(BC:BC, 3),\"\") = 0, \"\",  IFERROR(LARGE(BC:BC, 3),\"\"))","v":""},{"$f":" IF( IFERROR(SMALL(BK:BK, 3),\"\")=0, \"\", IFERROR(SMALL(BK:BK, 3),\"\"))","v":""}]
[null,{"$f":" B22+ 1","v":18},null,null,null,null,{"$f":" IF(EN23 = \"\", \"\", INT(K23)&\" d,\"&\" \"&HOUR(K23)&\" h,\"&\" \"&MINUTE(K23)&\" m,\"&\" \"&SECOND(K23)&\" s\")","v":""},{"$f":" IF(EN23 = \"\",\"\",IF(CZ23 +DB23 = 0, \"BE\", IF(CZ23 > 0, \"Win\",\"Loss\")))","v":""},{"$f":" IF(EN23=\"\", \"\",VALUE(C23 + D23))","v":""},{"$f":" IF(EN23 = \"\", \"\", VALUE(E23 + F23))","v":""},{"$f":"IF(EN23=\"\",\"\",IF(C23=\"\",0,IF(D23=\"\",0,(E23+F23-D23-C23))))","v":""},{"$f":" IFERROR(IF(VALUE(E23&F23) > VALUE(C24&D24), IF(VALUE(C24+D24) < VALUE(C25 + D25), E23 + F23 - C24 - D24 - (C23 + D23 - C24 - D24),E23 + F23 - C24 - D24), \"\"), \"\")","v":""},{"$f":"IFERROR(IF(EN23=\"\",\"\",IF(VALUE(E22+F22)<VALUE(C23+D23),C23+D23-E22-F22,\"\")),\"\")","v":""},{"$f":" TRIM(EN23)","v":""},{"$f":" IF(AND(N23 = \"Buy\", H23 = \"Win\"), 1, 0)","v":0},{"$f":" IF(AND(N23 = \"Sell\", H23 = \"Win\"), 1, 0)","v":0},{"$f":" IF(AND(N23 = \"Buy\", H23 = \"Loss\"), 1, 0)","v":0},{"$f":" IF(AND(N23 = \"Sell\", H23 = \"Loss\"), 1, 0)","v":0},{"$f":" IF(AND(N23 = \"Buy\", H23 = \"BE\"), 1, 0)","v":0},{"$f":" IF(AND(N23 = \"Sell\", H23 = \"BE\"), 1, 0)","v":0},{"$f":" IF(EN23 = \"\", 0, (E23 - DATE(YEAR(E23),1,0)) & YEAR(E23)&\"\")","v":0},{"$f":"IFERROR( IF(SUM(INDIRECT(\"O\"&(MATCH(U23,U:U,0))&\":T\"&DC23)) = 0, \"\", IF(ROW(U23) = FLOOR((MATCH(U23, U:U, 0) +DC23)/2,1),SUM(INDIRECT(\"O\"&(MATCH(U23,U:U,0))&\":T\"&DC23)),\"\")),\"\")","v":""},{"$f":" IFERROR(IF(EN23 = \"\", \"\", IF(ROW(U23) = FLOOR((MATCH(U23, U:U, 0) + DC23)/2,1),SUM(INDIRECT(\"BT\"&(MATCH(U23,U:U,0))&\":BT\"&DC23)),\"\")),\"\")","v":""},{"$f":"  IFERROR(IF(W23 = \"\",\"\",W23/(Y23-W23)),\"\")","v":""},{"$f":" IFERROR(IF(ROW(U23) = FLOOR((MATCH(U23, U:U, 0) + DC23)/2,1),INDIRECT(\"BU\"&DC23),\"\"),\"\")","v":""},{"$f":"  IF(V23= 0,\"\",X23)","v":""},{"$f":"IF(Z23=\"\",\"\",Z23+1)","v":""},{"$f":" IF(EN23 = \"\", 0, WEEKNUM(E23) & YEAR(E23) & \"\")","v":0},{"$f":" IFERROR(IF(SUM(INDIRECT(\"O\"&(MATCH(AB23,AB:AB,0))&\":T\"&DD23)) = 0, \"\", IF(ROW(AB23) = FLOOR((MATCH(AB23, AB:AB, 0) + DD23)/2,1),SUM(INDIRECT(\"O\"&(MATCH(AB23,AB:AB,0))&\":T\"&DD23)),\"\")),\"\")","v":""},{"$f":" IFERROR(IF(EN23 = \"\", \"\", IF(ROW(AB23) = FLOOR((MATCH(AB23, AB:AB, 0) +DD23)/2,1),SUM(INDIRECT(\"BT\"&(MATCH(AB23,AB:AB,0))&\":BT\"&DD23)),\"\")),\"\")","v":""},{"$f":" IFERROR( IF(AD23 = \"\",\"\",AD23/(AF23-AD23)),\"\")","v":""},{"$f":" IFERROR(IF(ROW(AB23) = FLOOR((MATCH(AB23, AB:AB, 0) + DD23)/2,1),INDIRECT(\"BU\"&DD23),\"\"),\"\")","v":""},{"$f":"  IF(AC23= 0,\"\",AE23)","v":""},{"$f":"IF(AG23=\"\",\"\",AG23+1)","v":""},{"$f":" IF(EN23 = \"\", 0, MONTH(E23)&YEAR(E23)&\"\")","v":0},{"$f":"IFERROR( IF(SUM(INDIRECT(\"O\"&(MATCH(AI23,AI:AI,0))&\":T\"&DE23)) = 0, \"\", IF(ROW(AI23) = FLOOR((MATCH(AI23, AI:AI, 0) + DE23)/2,1),SUM(INDIRECT(\"O\"&(MATCH(AI23,AI:AI,0))&\":T\"&DE23)),\"\")),\"\")","v":""},{"$f":" IFERROR(IF(EN23 = \"\", \"\", IF(ROW(AI23) = FLOOR((MATCH(AI23, AI:AI, 0) + DE23)/2,1),SUM(INDIRECT(\"BT\"&(MATCH(AI23,AI:AI,0))&\":BT\"&DE23)),\"\")),\"\")","v":""},{"$f":" IFERROR( IF(AK23 = \"\",\"\",AK23/(AM23-AK23)),\"\")","v":""},{"$f":" IFERROR(IF(ROW(AI23) = FLOOR((MATCH(AI23, AI:AI, 0) + DE23)/2,1),INDIRECT(\"BU\"&DE23),\"\"),\"\")","v":""},{"$f":"  IF(AJ23= 0,\"\",AL23)","v":""},{"$f":"IF(AN23=\"\",\"\",AN23+1)","v":""},{"$f":" IF(EN23 = \"\", 0, YEAR(E23)&\"\")","v":0},{"$f":" IFERROR(IF(SUM(INDIRECT(\"O\"&(MATCH(AP23,AP:AP,0))&\":T\"&ED23)) = 0, \"\", IF(ROW(AP23) = FLOOR((MATCH(AP23, AP:AP, 0) + ED23)/2,1),SUM(INDIRECT(\"O\"&(MATCH(AP23,AP:AP,0))&\":T\"&ED23)),\"\")), \"\")","v":""},{"$f":" IF(EN23 = \"\", \"\", IF(ROW(AP23) = FLOOR((MATCH(AP23, AP:AP, 0) + ED23)/2,1),SUM(INDIRECT(\"BT\"&(MATCH(AP23,AP:AP,0))&\":BT\"&ED23)),\"\"))","v":""},{"$f":" IFERROR( IF(AR23 = \"\",\"\",AR23/(AT23-AR23)),\"\")","v":""},{"$f":" IFERROR(IF(ROW(AP23) = FLOOR((MATCH(AP23, AP:AP, 0) + ED23)/2,1),INDIRECT(\"BU\"&ED23),\"\"), \"\")","v":""},{"$f":"  IF(AQ23= 0,\"\",AS23)","v":""},{"$f":"IF(AU23=\"\",\"\",AU23+1)","v":""},{"$f":" IF(BX23=\"\",0,IF(IF(BU23 = \"\",0,-1*((MIN(BU$5:$BU23)-BU23)))=0,0,IF(BU23 = \"\",0,-1*((MIN(BU$5:$BU23)-BU23)))))","v":0},{"$f":"  IF(BX23=\"\",0,IF(IF(BU23 = \"\",0,-1*((MIN(BU$5:$BU23)-BU23)))/MIN((BU$5:BU23))=0,0,IF(BU23 = \"\",0,-1*((MIN(BU$5:$BU23)-BU23)))/MIN((BU$5:BU23))))","v":0},{"$f":" IF(EN23 = \"\", \"\", IF(BD22 = BD23, AY22, AY22 + 1))","v":""},{"$f":" IF(EN23 = \"\", \"\", IF(BD22 = BD23, AZ22 + 1,1))","v":""},{"$f":" IF(AX23 = 0, \"\", IF( IF(ROW(AY23) = FLOOR((MATCH(AY23, AY:AY, 0) + MATCH(AY23, AY:AY))/2,1), INDIRECT(\"E\"&(MATCH(AY23,AY:AY))) + INDIRECT(\"F\"&(MATCH(AY23,AY:AY)))  - INDIRECT(\"E\"&(MATCH(AY23,AY:AY,0))) - INDIRECT(\"F\"&(MATCH(AY23,AY:AY,0))),\"\") = 0, \"\", IF(ROW(AY23) = FLOOR((MATCH(AY23, AY:AY, 0) + MATCH(AY23, AY:AY))/2,1), INDIRECT(\"E\"&(MATCH(AY23,AY:AY))) + INDIRECT(\"F\"&(MATCH(AY23,AY:AY)))  - INDIRECT(\"E\"&(MATCH(AY23,AY:AY,0))) - INDIRECT(\"F\"&(MATCH(AY23,AY:AY,0))),\"\")))","v":""},{"$f":" IF(EN22 = \"\", \"\", IF(IF(ROW(AY23) = FLOOR((MATCH(AY23, AY:AY, 0) + MATCH(AY23, AY:AY))/2,1), MAX(INDIRECT(\"AW\"&(MATCH(AY23,AY:AY,0))&\":AW\"&MATCH(AY23,AY:AY))),\"\") = 0, \"\",  IF(ROW(AY23) = FLOOR((MATCH(AY23, AY:AY, 0) + MATCH(AY23, AY:AY))/2,1), MAX(INDIRECT(\"AW\"&(MATCH(AY23,AY:AY,0))&\":AW\"&MATCH(AY23,AY:AY))),\"\")))","v":""},{"$f":" IF(EN22 = \"\", \"\", IF(IF(ROW(AY23) = FLOOR((MATCH(AY23, AY:AY, 0) + MATCH(AY23, AY:AY))/2,1), MAX(INDIRECT(\"AX\"&(MATCH(AY23,AY:AY,0))&\":AX\"&MATCH(AY23,AY:AY))),\"\") = 0, \"\",  IF(ROW(AY23) = FLOOR((MATCH(AY23, AY:AY, 0) + MATCH(AY23, AY:AY))/2,1), MAX(INDIRECT(\"AX\"&(MATCH(AY23,AY:AY,0))&\":AX\"&MATCH(AY23,AY:AY))),\"\")))","v":""},{"$f":" MIN(BU22, BD22)","v":0},{"$f":" IF(BX23=\"\",0,IF(IF(BU23 = \"\",0,(-1*(MAX(BU$5:$BU23)-BU23)))=0,0,IF(BU23 = \"\",0,(-1*(MAX(BU$5:$BU23)-BU23)))))","v":0},{"$f":" IF(BX23=\"\",0,IF(IF(BU23=\"\",0,(-1*(MAX(BU$5:$BU23)-BU23)))/MAX($BU$5:BU23) = 0,0,IF(BU23=\"\",0,(-1*(MAX(BU$5:$BU23)-BU23)))/MAX($BU$5:BU23)))","v":0},{"$f":" IF(EN23 = \"\", \"\", IF(BL22 = BL23, BG22, BG22 + 1))","v":""},{"$f":" IF(EN23 = \"\", \"\", IF(BL22 = BL23, BH22 + 1,1))","v":""},{"$f":" IF(BF23 = 0, \"\", IF( IF(ROW(BG23) = FLOOR((MATCH(BG23, BG:BG, 0) + MATCH(BG23, BG:BG))/2,1), INDIRECT(\"E\"&(MATCH(BG23,BG:BG))) + INDIRECT(\"F\"&(MATCH(BG23,BG:BG)))  - INDIRECT(\"E\"&(MATCH(BG23,BG:BG,0))) - INDIRECT(\"F\"&(MATCH(BG23,BG:BG,0))),\"\") = 0, \"\", IF(ROW(BG23) = FLOOR((MATCH(BG23,BG:BG,0) + MATCH(BG23, BG:BG))/2,1), INDIRECT(\"E\"&(MATCH(BG23,BG:BG))) + INDIRECT(\"F\"&(MATCH(BG23,BG:BG)))  - INDIRECT(\"E\"&(MATCH(BG23,BG:BG,0))) - INDIRECT(\"F\"&(MATCH(BG23,BG:BG,0))),\"\")))","v":""},{"$f":" IF(EN22 = \"\", \"\",  IF(IF(ROW(BG23) = FLOOR((MATCH(BG23, BG:BG, 0) + MATCH(BG23, BG:BG))/2,1), MIN(INDIRECT(\"BE\"&(MATCH(BG23,BG:BG,0))&\":BE\"&MATCH(BG23,BG:BG))),\"\") = 0, \"\", IF(ROW(BG23) = FLOOR((MATCH(BG23, BG:BG, 0) + MATCH(BG23, BG:BG))/2,1), MIN(INDIRECT(\"BE\"&(MATCH(BG23,BG:BG,0))&\":BE\"&MATCH(BG23,BG:BG))),\"\")))","v":""},{"$f":" IF(EN22 = \"\", \"\",  IF(IF(ROW(BG23) = FLOOR((MATCH(BG23, BG:BG, 0) + MATCH(BG23, BG:BG))/2,1), MIN(INDIRECT(\"BF\"&(MATCH(BG23,BG:BG,0))&\":BF\"&MATCH(BG23,BG:BG))),\"\") = 0, \"\", IF(ROW(BG23) = FLOOR((MATCH(BG23, BG:BG, 0) + MATCH(BG23, BG:BG))/2,1), MIN(INDIRECT(\"BF\"&(MATCH(BG23,BG:BG,0))&\":BF\"&MATCH(BG23,BG:BG))),\"\")))","v":""},{"$f":" MAX(BU22, BL22)","v":0},{"$f":"IF(H23=\"\",\"\",IF(H23=\"Win\",IF(BN23=1,BN23 & \" \" & \"Win\",BN23 & \" \" & \"Wins\"),IF(H23=\"Loss\",IF(BN23=1,BN23 & \" \" & \"Loss\",BN23 & \" \" & \"Losses\"), IF(H23 = \"BE\",IF(BN23=1,BN23 & \" \" & \"BE\",BN23 & \" \" & \"BE's\")))))","v":""},{"$f":" IF(H22=\"\",\"\",IF(H22=H23, BN22+1,1))","v":""},{"$f":" IF(H23 = \"\", \"\", IF(H22 <> H23, (LOOKUP(9E+307,$BO$5:$BO22) + 1), \"\"))","v":""},{"$f":" IF(EN22 = \"\", \"\", IF(BN23 = 1, \"\",IF(BN23<BN24, \"\", \"S\")))","v":""},{"$f":" IF(BP23 = \"\", \"\", IF(H23 = \"Win\",BN23,\"\"))","v":""},{"$f":" IF(BP23 = \"\", \"\", IF(H23 = \"Loss\",BN23,\"\"))","v":""},{"$f":" IF(BP23 = \"\", \"\", IF(H23 = \"BE\",BN23,\"\"))","v":""},{"$f":" IF(EN23 = \"\", \"\", DB23 +CZ23)","v":""},{"$f":" IF(EN23 = \"\", \"\", BU22 + BT23)","v":""},{"$f":" IF(BU23 = \"\",\"\", BV22 + 1)","v":""},{"$f":" IF(BU23 = \"\", \"\", $FN$13*BV23 + $FM$13)","v":""},{"$f":" IF(EN23 = \"\", \"\", (BT23)/BU22)","v":""},{"$f":" IF(EN23 = \"\", \"\",'Overall Performance'!$C$22)","v":""},{"$f":" IF(EN23 = \"\", \"\", IF(BX23=0,\"\",BX23 + 1))","v":""},{"$f":" IF(H23 = \"Win\", BZ23, \"\")","v":""},{"$f":" IF(H23 = \"Loss\", BZ23, \"\")","v":""},{"$f":"IFERROR(INDEX($Y:$Y,SMALL(IF($Y:$Y<>\"\",ROW($Y:$Y)),ROW(18:18))),\"\")","v":""},{"$f":" IFERROR(IF(ULCERINDEX(CC10:CC23) = 0, \"\", ULCERINDEX(CC10:CC23)),\"\")","v":""},{"$f":" IF(Z23 = \"\", \"\", IF(Z23>0, 0, CH23))","v":""},{"$f":" IF(Z23 = \"\", \"\", IF(Z23>0, 0, W23))","v":""},{"$f":" IF(Z23 = \"\", \"\", Z23 - $FJ$10 + 1)","v":""},{"$f":" IF(Z23 = \"\", \"\", Z23 - $FJ$10)","v":""},{"$f":" IF(AN23 = \"\", \"\", IF(AN23 > 0, 0, CL23))","v":""},{"$f":" IF(AN23 = \"\", \"\", IF(AN23 > 0, 0, AK23))","v":""},{"$f":"IF(AN23=\"\", \"\",AN23-$FJ$14 + 1)","v":""},{"$f":"IF(AN23=\"\", \"\",AN23-$FJ$14)","v":""},{"$f":" IF(EN23 = \"\",\"\",(ES23 - EQ23)/(EQ23 - ER23))","v":""},{"$f":" IF(EN23=\"\",\"\", DA23*ABS((ET23-EQ23)/(EQ23-ER23)))","v":""},{"$f":" IF(CN23 > 0, CN23, \"\")","v":""},{"$f":" IF(CN23 < 0, CN23, \"\")","v":""},{"$f":" IF(EN23 = \"\", \"\", IF(OR(BX23 > AVERAGE(BX:BX) + 3*_xlfn.STDEV.P(BX:BX), BX23 < AVERAGE(BX:BX) - 3*_xlfn.STDEV.P(BX:BX)), BX23, 0))","v":""},{"$f":" IF(EN23= \"\", \"\", SUM(INDIRECT(\"BT\"&(MATCH(U23,U:U,0))&\":BT\"&DC23)))","v":""},{"$f":" IF(EN23= \"\", \"\", SUM(INDIRECT(\"ET\"&(MATCH(U23,U:U,0))&\":ET\"&DC23)))","v":""},{"$f":" IF(EN23= \"\", \"\", (INDIRECT(\"BU\"&DC23)))","v":""},{"$f":" IF(EN23= \"\", \"\", SUM(INDIRECT(\"O\"&(MATCH(U23,U:U,0))&\":T\"&DC23)))","v":""},{"$f":"IF(EN23=\"\",\"\",IF(LEN(RIGHT(EQ23,LEN(EQ23)-FIND(\".\",EQ23)))=2,((-1*ABS(EU23-EQ23))*100),IF(LEN(RIGHT(EQ23,LEN(EQ23)-FIND(\".\",EQ23)))=4,((-1*ABS(EU23-EQ23))*10000),IF(LEN(RIGHT(EQ23,LEN(EQ23)-FIND(\".\",EQ23)))=3,((-1*ABS(EU23-EQ23))*100),IF(LEN(RIGHT(EQ23,LEN(EQ23)-FIND(\".\",EQ23)))=5,((-1*ABS(EU23-EQ23))*10000))))))","v":""},{"$f":" IF(EN23 = \"\", \"\", (((EU23-EQ23)/(ET23-EQ23))*CZ23) + DB23)","v":""},{"$f":"IF(EN23=\"\",\"\",IF(LEN(RIGHT(EQ23,LEN(EQ23)-FIND(\".\",EQ23)))=2,((ABS(EV23-EQ23))*100),IF(LEN(RIGHT(EQ23,LEN(EQ23)-FIND(\".\",EQ23)))=4,((ABS(EV23-EQ23))*10000),IF(LEN(RIGHT(EQ23,LEN(EQ23)-FIND(\".\",EQ23)))=3,((ABS(EV23-EQ23))*100),IF(LEN(RIGHT(EQ23,LEN(EQ23)-FIND(\".\",EQ23)))=5,((ABS(EV23-EQ23))*10000))))))","v":""},{"$f":" IF(EN23 = \"\", \"\", (((EV23-EQ23)/(ET23-EQ23))*CZ23) + DB23)","v":""},{"$f":" IF(EN23 = \"\", \"\", EL23)","v":""},{"$f":" IF(EN23 = \"\", \"\", IF(EN23 = \"Buy\", IF(EQ23 > ET23, -1, 1), IF(EQ23 > ET23, 1, -1)))","v":""},{"$f":"IF(EN23=\"\", \"\",EZ23+FA23)","v":""},{"$f":" IF(EN23 = \"\", \"\", LOOKUP(2,1/(U:U = U23), ROW(U:U)))","v":""},{"$f":" IF(EN23 = \"\", \"\", LOOKUP(2,1/(AB:AB = AB23), ROW(AB:AB)))","v":""},{"$f":" IF(EN23 = \"\", \"\", LOOKUP(2,1/(AI:AI = AI23), ROW(AI:AI)))","v":""},null,null,{"$f":" IF(CO23 = \"\", \"\", CO23*EY23)","v":""},{"$f":" IF(CP23 = \"\", \"\", CP23*EY23)","v":""},{"$f":" IF(EN23 = \"\", \"\",BF23)","v":""},{"$f":" DJ23","v":""},{"$f":" IF(EL24 = \"\", \"\", DL22 + 1)","v":""},{"$f":" IF(EN23 <> \"\", K23*24,#N/A)","v":{"$error":"#N/A"}},{"$f":" IF(EN23 <> \"\", CW23,#N/A)","v":{"$error":"#N/A"}},{"$f":" IF(EN23 <> \"\", CY23,#N/A)","v":{"$error":"#N/A"}},{"$f":" IF(EN23 <> \"\", CM23,#N/A)","v":{"$error":"#N/A"}},{"$f":" IF(EN23 <> \"\", CN23,#N/A)","v":{"$error":"#N/A"}},{"$f":" IF(CN23 > 0, CM23, -1)","v":""},{"$f":" IF(CN23 > 0, CM23, \"\")","v":""},{"$f":" IF(CN23 < 0, CM23, \"\")","v":""},{"$f":" IF(AQ23 = \"\",\"\",LOOKUP(9E+307,$DU$5:$DU22) + 1)","v":""},{"$f":" IF(EN23 = \"\", \"\", (CZ23)/BU22)","v":""},{"$f":" IF(EN23 = \"\", \"\", WEEKDAY(C23,1))","v":""},{"$f":" IF(EN23=\"\", \"\", MONTH(C23))","v":""},{"$f":" IF(EN23 = \"\", \"\", YEAR(E23))","v":""},{"$f":" IF(EB23 = \"\", \"\", MAX(((EA23-EB23)/EA23), ((EB23-EC23)/EB23)))","v":""},{"$f":" IF(EB23=\"\", \"\", MAX($EB$6:EB23))","v":""},{"$f":" AM23","v":""},{"$f":" IF(EB23=\"\",\"\", MIN(EB23:$EB$1048576))","v":""},{"$f":" IF(EN23 = \"\", \"\", LOOKUP(2,1/(AP:AP = AP23), ROW(AP:AP)))","v":""},{"$f":" IFERROR(_xlfn.IFS(FE23 = \"1-Minute\", 1, FE23 = \"5-Minute\", 2, FE23 = \"15-Minute\", 3, FE23 = \"30-Minute\", 4, FE23 = \"1-Hour\", 5, FE23 = \"4-Hour\", 6, FE23 = \"Daily\", 7, FE23 = \"Weekly\", 8, FE23 = \"Monthly\", 9), \"\")","v":""},{"$f":" IFERROR(_xlfn.IFS(FF23 = \"Very Low\", 1, FF23 = \"Low\", 2, FF23 = \"Medium\", 3, FF23 = \"High\", 4, FF23 = \"Very High\", 5),\"\")","v":""},null,{"$f":" TEXT(CM23, \"#,###0.000\") & \" : 1\"","v":" : 1"},{"$f":" IF(EN23 = \"\", \"\", IF(N23 = \"Buy\", (ET23-EQ23)/(EV23-EU23), (EQ23-ET23)/(EU23-EV23)))","v":""},{"$f":"IF(EN23=\"\",\"\",IF(N23 = \"Buy\", (EV23 - EQ23)/(EV23-EU23), (EQ23-EV23)/(EU23-EV23)))","v":""},{"$f":"IF(EN23=\"\",\"\",IF(N23 = \"Buy\", (ET23-EU23)/(EV23-EU23), (EU23-ET23)/(EU23-EV23)))","v":""},null,null,null,null,null,null,null,null,null,null,null,{"$f":" IF(EQ23=\"\",\"\",IF(LEN(RIGHT(EQ23,LEN(EQ23)-FIND(\".\",EQ23)))=2,((IF(EN23 = \"Buy\", IF(DF23 = EQ23, IF(DG23 = ET23, 0, ET23 - DG23),IF(DG23 = ET23, DF23-EQ23, (DF23 - EQ23) + (ET23 - DG23))), IF(DF23 = EQ23, IF(DG23 = ET23, 0, DG23-ET23),IF(DG23 = ET23, EQ23-DF23, (EQ23-DF23) + (DG23-ET23)))))*100),IF(LEN(RIGHT(EQ23,LEN(EQ23)-FIND(\".\",EQ23)))=4,((IF(EN23 = \"Buy\", IF(DF23 = EQ23, IF(DG23 = ET23, 0, ET23 - DG23),IF(DG23 = ET23, DF23-EQ23, (DF23 - EQ23) + (ET23 - DG23))), IF(DF23 = EQ23, IF(DG23 = ET23, 0, DG23-ET23),IF(DG23 = ET23, EQ23-DF23, (EQ23-DF23) + (DG23-ET23)))))*10000),IF(LEN(RIGHT(EQ23,LEN(EQ23)-FIND(\".\",EQ23)))=3,((IF(EN23 = \"Buy\", IF(DF23 = EQ23, IF(DG23 = ET23, 0, ET23 - DG23),IF(DG23 = ET23, DF23-EQ23, (DF23 - EQ23) + (ET23 - DG23))), IF(DF23 = EQ23, IF(DG23 = ET23, 0, DG23-ET23),IF(DG23 = ET23, EQ23-DF23, (EQ23-DF23) + (DG23-ET23)))))*100),IF(LEN(RIGHT(EQ23,LEN(EQ23)-FIND(\".\",EQ23)))=5,((IF(EN23 = \"Buy\", IF(DF23 = EQ23, IF(DG23 = ET23, 0, ET23 - DG23),IF(DG23 = ET23, DF23-EQ23, (DF23 - EQ23) + (ET23 - DG23))), IF(DF23 = EQ23, IF(DG23 = ET23, 0, DG23-ET23),IF(DG23 = ET23, EQ23-DF23, (EQ23-DF23) + (DG23-ET23)))))*10000))))))","v":""},{"$f":"IF(EN23=\"\",\"\",IF(LEN(RIGHT(EQ23,LEN(EQ23)-FIND(\".\",EQ23)))=2,((DA23*ABS(ET23-EQ23))*100),IF(LEN(RIGHT(EQ23,LEN(EQ23)-FIND(\".\",EQ23)))=4,((DA23*ABS(ET23-EQ23))*10000),IF(LEN(RIGHT(EQ23,LEN(EQ23)-FIND(\".\",EQ23)))=3,((DA23*ABS(ET23-EQ23))*100),IF(LEN(RIGHT(EQ23,LEN(EQ23)-FIND(\".\",EQ23)))=5,((DA23*ABS(ET23-EQ23))*10000))))))","v":""},{"$f":"IF(EN23=\"\",\"\",ABS(DV23/ABS(CN23)))","v":""},null,null,null,null,null,null,null,null,null,null,{"$f":"(SUMSQ(CJ:CJ)/COUNT(CJ:CJ))^0.5","v":{"$error":"#DIV/0!"}},{"$f":" SUM(K:K) - SUM(L:L)","v":0},null,{"$f":"  IF(IFERROR(LARGE(BC:BC, 4),\"\")=0, \"\", IFERROR(LARGE(BC:BC, 4),\"\"))","v":""},{"$f":" IF( IFERROR(SMALL(BK:BK, 4),\"\")=0, \"\",  IFERROR(SMALL(BK:BK, 4),\"\"))","v":""}]
[null,{"$f":" B23+ 1","v":19},null,null,null,null,{"$f":" IF(EN24 = \"\", \"\", INT(K24)&\" d,\"&\" \"&HOUR(K24)&\" h,\"&\" \"&MINUTE(K24)&\" m,\"&\" \"&SECOND(K24)&\" s\")","v":""},{"$f":" IF(EN24 = \"\",\"\",IF(CZ24 +DB24 = 0, \"BE\", IF(CZ24 > 0, \"Win\",\"Loss\")))","v":""},{"$f":" IF(EN24=\"\", \"\",VALUE(C24 + D24))","v":""},{"$f":" IF(EN24 = \"\", \"\", VALUE(E24 + F24))","v":""},{"$f":"IF(EN24=\"\",\"\",IF(C24=\"\",0,IF(D24=\"\",0,(E24+F24-D24-C24))))","v":""},{"$f":" IFERROR(IF(VALUE(E24&F24) > VALUE(C25&D25), IF(VALUE(C25+D25) < VALUE(C26 + D26), E24 + F24 - C25 - D25 - (C24 + D24 - C25 - D25),E24 + F24 - C25 - D25), \"\"), \"\")","v":""},{"$f":"IFERROR(IF(EN24=\"\",\"\",IF(VALUE(E23+F23)<VALUE(C24+D24),C24+D24-E23-F23,\"\")),\"\")","v":""},{"$f":" TRIM(EN24)","v":""},{"$f":" IF(AND(N24 = \"Buy\", H24 = \"Win\"), 1, 0)","v":0},{"$f":" IF(AND(N24 = \"Sell\", H24 = \"Win\"), 1, 0)","v":0},{"$f":" IF(AND(N24 = \"Buy\", H24 = \"Loss\"), 1, 0)","v":0},{"$f":" IF(AND(N24 = \"Sell\", H24 = \"Loss\"), 1, 0)","v":0},{"$f":" IF(AND(N24 = \"Buy\", H24 = \"BE\"), 1, 0)","v":0},{"$f":" IF(AND(N24 = \"Sell\", H24 = \"BE\"), 1, 0)","v":0},{"$f":" IF(EN24 = \"\", 0, (E24 - DATE(YEAR(E24),1,0)) & YEAR(E24)&\"\")","v":0},{"$f":"IFERROR( IF(SUM(INDIRECT(\"O\"&(MATCH(U24,U:U,0))&\":T\"&DC24)) = 0, \"\", IF(ROW(U24) = FLOOR((MATCH(U24, U:U, 0) +DC24)/2,1),SUM(INDIRECT(\"O\"&(MATCH(U24,U:U,0))&\":T\"&DC24)),\"\")),\"\")","v":""},{"$f":" IFERROR(IF(EN24 = \"\", \"\", IF(ROW(U24) = FLOOR((MATCH(U24, U:U, 0) + DC24)/2,1),SUM(INDIRECT(\"BT\"&(MATCH(U24,U:U,0))&\":BT\"&DC24)),\"\")),\"\")","v":""},{"$f":"  IFERROR(IF(W24 = \"\",\"\",W24/(Y24-W24)),\"\")","v":""},{"$f":" IFERROR(IF(ROW(U24) = FLOOR((MATCH(U24, U:U, 0) + DC24)/2,1),INDIRECT(\"BU\"&DC24),\"\"),\"\")","v":""},{"$f":"  IF(V24= 0,\"\",X24)","v":""},{"$f":"IF(Z24=\"\",\"\",Z24+1)","v":""},{"$f":" IF(EN24 = \"\", 0, WEEKNUM(E24) & YEAR(E24) & \"\")","v":0},{"$f":" IFERROR(IF(SUM(INDIRECT(\"O\"&(MATCH(AB24,AB:AB,0))&\":T\"&DD24)) = 0, \"\", IF(ROW(AB24) = FLOOR((MATCH(AB24, AB:AB, 0) + DD24)/2,1),SUM(INDIRECT(\"O\"&(MATCH(AB24,AB:AB,0))&\":T\"&DD24)),\"\")),\"\")","v":""},{"$f":" IFERROR(IF(EN24 = \"\", \"\", IF(ROW(AB24) = FLOOR((MATCH(AB24, AB:AB, 0) +DD24)/2,1),SUM(INDIRECT(\"BT\"&(MATCH(AB24,AB:AB,0))&\":BT\"&DD24)),\"\")),\"\")","v":""},{"$f":" IFERROR( IF(AD24 = \"\",\"\",AD24/(AF24-AD24)),\"\")","v":""},{"$f":" IFERROR(IF(ROW(AB24) = FLOOR((MATCH(AB24, AB:AB, 0) + DD24)/2,1),INDIRECT(\"BU\"&DD24),\"\"),\"\")","v":""},{"$f":"  IF(AC24= 0,\"\",AE24)","v":""},{"$f":"IF(AG24=\"\",\"\",AG24+1)","v":""},{"$f":" IF(EN24 = \"\", 0, MONTH(E24)&YEAR(E24)&\"\")","v":0},{"$f":"IFERROR( IF(SUM(INDIRECT(\"O\"&(MATCH(AI24,AI:AI,0))&\":T\"&DE24)) = 0, \"\", IF(ROW(AI24) = FLOOR((MATCH(AI24, AI:AI, 0) + DE24)/2,1),SUM(INDIRECT(\"O\"&(MATCH(AI24,AI:AI,0))&\":T\"&DE24)),\"\")),\"\")","v":""},{"$f":" IFERROR(IF(EN24 = \"\", \"\", IF(ROW(AI24) = FLOOR((MATCH(AI24, AI:AI, 0) + DE24)/2,1),SUM(INDIRECT(\"BT\"&(MATCH(AI24,AI:AI,0))&\":BT\"&DE24)),\"\")),\"\")","v":""},{"$f":" IFERROR( IF(AK24 = \"\",\"\",AK24/(AM24-AK24)),\"\")","v":""},{"$f":" IFERROR(IF(ROW(AI24) = FLOOR((MATCH(AI24, AI:AI, 0) + DE24)/2,1),INDIRECT(\"BU\"&DE24),\"\"),\"\")","v":""},{"$f":"  IF(AJ24= 0,\"\",AL24)","v":""},{"$f":"IF(AN24=\"\",\"\",AN24+1)","v":""},{"$f":" IF(EN24 = \"\", 0, YEAR(E24)&\"\")","v":0},{"$f":" IFERROR(IF(SUM(INDIRECT(\"O\"&(MATCH(AP24,AP:AP,0))&\":T\"&ED24)) = 0, \"\", IF(ROW(AP24) = FLOOR((MATCH(AP24, AP:AP, 0) + ED24)/2,1),SUM(INDIRECT(\"O\"&(MATCH(AP24,AP:AP,0))&\":T\"&ED24)),\"\")), \"\")","v":""},{"$f":" IF(EN24 = \"\", \"\", IF(ROW(AP24) = FLOOR((MATCH(AP24, AP:AP, 0) + ED24)/2,1),SUM(INDIRECT(\"BT\"&(MATCH(AP24,AP:AP,0))&\":BT\"&ED24)),\"\"))","v":""},{"$f":" IFERROR( IF(AR24 = \"\",\"\",AR24/(AT24-AR24)),\"\")","v":""},{"$f":" IFERROR(IF(ROW(AP24) = FLOOR((MATCH(AP24, AP:AP, 0) + ED24)/2,1),INDIRECT(\"BU\"&ED24),\"\"), \"\")","v":""},{"$f":"  IF(AQ24= 0,\"\",AS24)","v":""},{"$f":"IF(AU24=\"\",\"\",AU24+1)","v":""},{"$f":" IF(BX24=\"\",0,IF(IF(BU24 = \"\",0,-1*((MIN(BU$5:$BU24)-BU24)))=0,0,IF(BU24 = \"\",0,-1*((MIN(BU$5:$BU24)-BU24)))))","v":0},{"$f":"  IF(BX24=\"\",0,IF(IF(BU24 = \"\",0,-1*((MIN(BU$5:$BU24)-BU24)))/MIN((BU$5:BU24))=0,0,IF(BU24 = \"\",0,-1*((MIN(BU$5:$BU24)-BU24)))/MIN((BU$5:BU24))))","v":0},{"$f":" IF(EN24 = \"\", \"\", IF(BD23 = BD24, AY23, AY23 + 1))","v":""},{"$f":" IF(EN24 = \"\", \"\", IF(BD23 = BD24, AZ23 + 1,1))","v":""},{"$f":" IF(AX24 = 0, \"\", IF( IF(ROW(AY24) = FLOOR((MATCH(AY24, AY:AY, 0) + MATCH(AY24, AY:AY))/2,1), INDIRECT(\"E\"&(MATCH(AY24,AY:AY))) + INDIRECT(\"F\"&(MATCH(AY24,AY:AY)))  - INDIRECT(\"E\"&(MATCH(AY24,AY:AY,0))) - INDIRECT(\"F\"&(MATCH(AY24,AY:AY,0))),\"\") = 0, \"\", IF(ROW(AY24) = FLOOR((MATCH(AY24, AY:AY, 0) + MATCH(AY24, AY:AY))/2,1), INDIRECT(\"E\"&(MATCH(AY24,AY:AY))) + INDIRECT(\"F\"&(MATCH(AY24,AY:AY)))  - INDIRECT(\"E\"&(MATCH(AY24,AY:AY,0))) - INDIRECT(\"F\"&(MATCH(AY24,AY:AY,0))),\"\")))","v":""},{"$f":" IF(EN23 = \"\", \"\", IF(IF(ROW(AY24) = FLOOR((MATCH(AY24, AY:AY, 0) + MATCH(AY24, AY:AY))/2,1), MAX(INDIRECT(\"AW\"&(MATCH(AY24,AY:AY,0))&\":AW\"&MATCH(AY24,AY:AY))),\"\") = 0, \"\",  IF(ROW(AY24) = FLOOR((MATCH(AY24, AY:AY, 0) + MATCH(AY24, AY:AY))/2,1), MAX(INDIRECT(\"AW\"&(MATCH(AY24,AY:AY,0))&\":AW\"&MATCH(AY24,AY:AY))),\"\")))","v":""},{"$f":" IF(EN23 = \"\", \"\", IF(IF(ROW(AY24) = FLOOR((MATCH(AY24, AY:AY, 0) + MATCH(AY24, AY:AY))/2,1), MAX(INDIRECT(\"AX\"&(MATCH(AY24,AY:AY,0))&\":AX\"&MATCH(AY24,AY:AY))),\"\") = 0, \"\",  IF(ROW(AY24) = FLOOR((MATCH(AY24, AY:AY, 0) + MATCH(AY24, AY:AY))/2,1), MAX(INDIRECT(\"AX\"&(MATCH(AY24,AY:AY,0))&\":AX\"&MATCH(AY24,AY:AY))),\"\")))","v":""},{"$f":" MIN(BU23, BD23)","v":0},{"$f":" IF(BX24=\"\",0,IF(IF(BU24 = \"\",0,(-1*(MAX(BU$5:$BU24)-BU24)))=0,0,IF(BU24 = \"\",0,(-1*(MAX(BU$5:$BU24)-BU24)))))","v":0},{"$f":" IF(BX24=\"\",0,IF(IF(BU24=\"\",0,(-1*(MAX(BU$5:$BU24)-BU24)))/MAX($BU$5:BU24) = 0,0,IF(BU24=\"\",0,(-1*(MAX(BU$5:$BU24)-BU24)))/MAX($BU$5:BU24)))","v":0},{"$f":" IF(EN24 = \"\", \"\", IF(BL23 = BL24, BG23, BG23 + 1))","v":""},{"$f":" IF(EN24 = \"\", \"\", IF(BL23 = BL24, BH23 + 1,1))","v":""},{"$f":" IF(BF24 = 0, \"\", IF( IF(ROW(BG24) = FLOOR((MATCH(BG24, BG:BG, 0) + MATCH(BG24, BG:BG))/2,1), INDIRECT(\"E\"&(MATCH(BG24,BG:BG))) + INDIRECT(\"F\"&(MATCH(BG24,BG:BG)))  - INDIRECT(\"E\"&(MATCH(BG24,BG:BG,0))) - INDIRECT(\"F\"&(MATCH(BG24,BG:BG,0))),\"\") = 0, \"\", IF(ROW(BG24) = FLOOR((MATCH(BG24,BG:BG,0) + MATCH(BG24, BG:BG))/2,1), INDIRECT(\"E\"&(MATCH(BG24,BG:BG))) + INDIRECT(\"F\"&(MATCH(BG24,BG:BG)))  - INDIRECT(\"E\"&(MATCH(BG24,BG:BG,0))) - INDIRECT(\"F\"&(MATCH(BG24,BG:BG,0))),\"\")))","v":""},{"$f":" IF(EN23 = \"\", \"\",  IF(IF(ROW(BG24) = FLOOR((MATCH(BG24, BG:BG, 0) + MATCH(BG24, BG:BG))/2,1), MIN(INDIRECT(\"BE\"&(MATCH(BG24,BG:BG,0))&\":BE\"&MATCH(BG24,BG:BG))),\"\") = 0, \"\", IF(ROW(BG24) = FLOOR((MATCH(BG24, BG:BG, 0) + MATCH(BG24, BG:BG))/2,1), MIN(INDIRECT(\"BE\"&(MATCH(BG24,BG:BG,0))&\":BE\"&MATCH(BG24,BG:BG))),\"\")))","v":""},{"$f":" IF(EN23 = \"\", \"\",  IF(IF(ROW(BG24) = FLOOR((MATCH(BG24, BG:BG, 0) + MATCH(BG24, BG:BG))/2,1), MIN(INDIRECT(\"BF\"&(MATCH(BG24,BG:BG,0))&\":BF\"&MATCH(BG24,BG:BG))),\"\") = 0, \"\", IF(ROW(BG24) = FLOOR((MATCH(BG24, BG:BG, 0) + MATCH(BG24, BG:BG))/2,1), MIN(INDIRECT(\"BF\"&(MATCH(BG24,BG:BG,0))&\":BF\"&MATCH(BG24,BG:BG))),\"\")))","v":""},{"$f":" MAX(BU23, BL23)","v":0},{"$f":"IF(H24=\"\",\"\",IF(H24=\"Win\",IF(BN24=1,BN24 & \" \" & \"Win\",BN24 & \" \" & \"Wins\"),IF(H24=\"Loss\",IF(BN24=1,BN24 & \" \" & \"Loss\",BN24 & \" \" & \"Losses\"), IF(H24 = \"BE\",IF(BN24=1,BN24 & \" \" & \"BE\",BN24 & \" \" & \"BE's\")))))","v":""},{"$f":" IF(H23=\"\",\"\",IF(H23=H24, BN23+1,1))","v":""},{"$f":" IF(H24 = \"\", \"\", IF(H23 <> H24, (LOOKUP(9E+307,$BO$5:$BO23) + 1), \"\"))","v":""},{"$f":" IF(EN23 = \"\", \"\", IF(BN24 = 1, \"\",IF(BN24<BN25, \"\", \"S\")))","v":""},{"$f":" IF(BP24 = \"\", \"\", IF(H24 = \"Win\",BN24,\"\"))","v":""},{"$f":" IF(BP24 = \"\", \"\", IF(H24 = \"Loss\",BN24,\"\"))","v":""},{"$f":" IF(BP24 = \"\", \"\", IF(H24 = \"BE\",BN24,\"\"))","v":""},{"$f":" IF(EN24 = \"\", \"\", DB24 +CZ24)","v":""},{"$f":" IF(EN24 = \"\", \"\", BU23 + BT24)","v":""},{"$f":" IF(BU24 = \"\",\"\", BV23 + 1)","v":""},{"$f":" IF(BU24 = \"\", \"\", $FN$13*BV24 + $FM$13)","v":""},{"$f":" IF(EN24 = \"\", \"\", (BT24)/BU23)","v":""},{"$f":" IF(EN24 = \"\", \"\",'Overall Performance'!$C$22)","v":""},{"$f":" IF(EN24 = \"\", \"\", IF(BX24=0,\"\",BX24 + 1))","v":""},{"$f":" IF(H24 = \"Win\", BZ24, \"\")","v":""},{"$f":" IF(H24 = \"Loss\", BZ24, \"\")","v":""},{"$f":"IFERROR(INDEX($Y:$Y,SMALL(IF($Y:$Y<>\"\",ROW($Y:$Y)),ROW(19:19))),\"\")","v":""},{"$f":" IFERROR(IF(ULCERINDEX(CC11:CC24) = 0, \"\", ULCERINDEX(CC11:CC24)),\"\")","v":""},{"$f":" IF(Z24 = \"\", \"\", IF(Z24>0, 0, CH24))","v":""},{"$f":" IF(Z24 = \"\", \"\", IF(Z24>0, 0, W24))","v":""},{"$f":" IF(Z24 = \"\", \"\", Z24 - $FJ$10 + 1)","v":""},{"$f":" IF(Z24 = \"\", \"\", Z24 - $FJ$10)","v":""},{"$f":" IF(AN24 = \"\", \"\", IF(AN24 > 0, 0, CL24))","v":""},{"$f":" IF(AN24 = \"\", \"\", IF(AN24 > 0, 0, AK24))","v":""},{"$f":"IF(AN24=\"\", \"\",AN24-$FJ$14 + 1)","v":""},{"$f":"IF(AN24=\"\", \"\",AN24-$FJ$14)","v":""},{"$f":" IF(EN24 = \"\",\"\",(ES24 - EQ24)/(EQ24 - ER24))","v":""},{"$f":" IF(EN24=\"\",\"\", DA24*ABS((ET24-EQ24)/(EQ24-ER24)))","v":""},{"$f":" IF(CN24 > 0, CN24, \"\")","v":""},{"$f":" IF(CN24 < 0, CN24, \"\")","v":""},{"$f":" IF(EN24 = \"\", \"\", IF(OR(BX24 > AVERAGE(BX:BX) + 3*_xlfn.STDEV.P(BX:BX), BX24 < AVERAGE(BX:BX) - 3*_xlfn.STDEV.P(BX:BX)), BX24, 0))","v":""},{"$f":" IF(EN24= \"\", \"\", SUM(INDIRECT(\"BT\"&(MATCH(U24,U:U,0))&\":BT\"&DC24)))","v":""},{"$f":" IF(EN24= \"\", \"\", SUM(INDIRECT(\"ET\"&(MATCH(U24,U:U,0))&\":ET\"&DC24)))","v":""},{"$f":" IF(EN24= \"\", \"\", (INDIRECT(\"BU\"&DC24)))","v":""},{"$f":" IF(EN24= \"\", \"\", SUM(INDIRECT(\"O\"&(MATCH(U24,U:U,0))&\":T\"&DC24)))","v":""},{"$f":"IF(EN24=\"\",\"\",IF(LEN(RIGHT(EQ24,LEN(EQ24)-FIND(\".\",EQ24)))=2,((-1*ABS(EU24-EQ24))*100),IF(LEN(RIGHT(EQ24,LEN(EQ24)-FIND(\".\",EQ24)))=4,((-1*ABS(EU24-EQ24))*10000),IF(LEN(RIGHT(EQ24,LEN(EQ24)-FIND(\".\",EQ24)))=3,((-1*ABS(EU24-EQ24))*100),IF(LEN(RIGHT(EQ24,LEN(EQ24)-FIND(\".\",EQ24)))=5,((-1*ABS(EU24-EQ24))*10000))))))","v":""},{"$f":" IF(EN24 = \"\", \"\", (((EU24-EQ24)/(ET24-EQ24))*CZ24) + DB24)","v":""},{"$f":"IF(EN24=\"\",\"\",IF(LEN(RIGHT(EQ24,LEN(EQ24)-FIND(\".\",EQ24)))=2,((ABS(EV24-EQ24))*100),IF(LEN(RIGHT(EQ24,LEN(EQ24)-FIND(\".\",EQ24)))=4,((ABS(EV24-EQ24))*10000),IF(LEN(RIGHT(EQ24,LEN(EQ24)-FIND(\".\",EQ24)))=3,((ABS(EV24-EQ24))*100),IF(LEN(RIGHT(EQ24,LEN(EQ24)-FIND(\".\",EQ24)))=5,((ABS(EV24-EQ24))*10000))))))","v":""},{"$f":" IF(EN24 = \"\", \"\", (((EV24-EQ24)/(ET24-EQ24))*CZ24) + DB24)","v":""},{"$f":" IF(EN24 = \"\", \"\", EL24)","v":""},{"$f":" IF(EN24 = \"\", \"\", IF(EN24 = \"Buy\", IF(EQ24 > ET24, -1, 1), IF(EQ24 > ET24, 1, -1)))","v":""},{"$f":"IF(EN24=\"\", \"\",EZ24+FA24)","v":""},{"$f":" IF(EN24 = \"\", \"\", LOOKUP(2,1/(U:U = U24), ROW(U:U)))","v":""},{"$f":" IF(EN24 = \"\", \"\", LOOKUP(2,1/(AB:AB = AB24), ROW(AB:AB)))","v":""},{"$f":" IF(EN24 = \"\", \"\", LOOKUP(2,1/(AI:AI = AI24), ROW(AI:AI)))","v":""},null,null,{"$f":" IF(CO24 = \"\", \"\", CO24*EY24)","v":""},{"$f":" IF(CP24 = \"\", \"\", CP24*EY24)","v":""},{"$f":" IF(EN24 = \"\", \"\",BF24)","v":""},{"$f":" DJ24","v":""},{"$f":" IF(EL25 = \"\", \"\", DL23 + 1)","v":""},{"$f":" IF(EN24 <> \"\", K24*24,#N/A)","v":{"$error":"#N/A"}},{"$f":" IF(EN24 <> \"\", CW24,#N/A)","v":{"$error":"#N/A"}},{"$f":" IF(EN24 <> \"\", CY24,#N/A)","v":{"$error":"#N/A"}},{"$f":" IF(EN24 <> \"\", CM24,#N/A)","v":{"$error":"#N/A"}},{"$f":" IF(EN24 <> \"\", CN24,#N/A)","v":{"$error":"#N/A"}},{"$f":" IF(CN24 > 0, CM24, -1)","v":""},{"$f":" IF(CN24 > 0, CM24, \"\")","v":""},{"$f":" IF(CN24 < 0, CM24, \"\")","v":""},{"$f":" IF(AQ24 = \"\",\"\",LOOKUP(9E+307,$DU$5:$DU23) + 1)","v":""},{"$f":" IF(EN24 = \"\", \"\", (CZ24)/BU23)","v":""},{"$f":" IF(EN24 = \"\", \"\", WEEKDAY(C24,1))","v":""},{"$f":" IF(EN24=\"\", \"\", MONTH(C24))","v":""},{"$f":" IF(EN24 = \"\", \"\", YEAR(E24))","v":""},{"$f":" IF(EB24 = \"\", \"\", MAX(((EA24-EB24)/EA24), ((EB24-EC24)/EB24)))","v":""},{"$f":" IF(EB24=\"\", \"\", MAX($EB$6:EB24))","v":""},{"$f":" AM24","v":""},{"$f":" IF(EB24=\"\",\"\", MIN(EB24:$EB$1048576))","v":""},{"$f":" IF(EN24 = \"\", \"\", LOOKUP(2,1/(AP:AP = AP24), ROW(AP:AP)))","v":""},{"$f":" IFERROR(_xlfn.IFS(FE24 = \"1-Minute\", 1, FE24 = \"5-Minute\", 2, FE24 = \"15-Minute\", 3, FE24 = \"30-Minute\", 4, FE24 = \"1-Hour\", 5, FE24 = \"4-Hour\", 6, FE24 = \"Daily\", 7, FE24 = \"Weekly\", 8, FE24 = \"Monthly\", 9), \"\")","v":""},{"$f":" IFERROR(_xlfn.IFS(FF24 = \"Very Low\", 1, FF24 = \"Low\", 2, FF24 = \"Medium\", 3, FF24 = \"High\", 4, FF24 = \"Very High\", 5),\"\")","v":""},null,{"$f":" TEXT(CM24, \"#,###0.000\") & \" : 1\"","v":" : 1"},{"$f":" IF(EN24 = \"\", \"\", IF(N24 = \"Buy\", (ET24-EQ24)/(EV24-EU24), (EQ24-ET24)/(EU24-EV24)))","v":""},{"$f":"IF(EN24=\"\",\"\",IF(N24 = \"Buy\", (EV24 - EQ24)/(EV24-EU24), (EQ24-EV24)/(EU24-EV24)))","v":""},{"$f":"IF(EN24=\"\",\"\",IF(N24 = \"Buy\", (ET24-EU24)/(EV24-EU24), (EU24-ET24)/(EU24-EV24)))","v":""},null,null,null,null,null,null,null,null,null,null,null,{"$f":" IF(EQ24=\"\",\"\",IF(LEN(RIGHT(EQ24,LEN(EQ24)-FIND(\".\",EQ24)))=2,((IF(EN24 = \"Buy\", IF(DF24 = EQ24, IF(DG24 = ET24, 0, ET24 - DG24),IF(DG24 = ET24, DF24-EQ24, (DF24 - EQ24) + (ET24 - DG24))), IF(DF24 = EQ24, IF(DG24 = ET24, 0, DG24-ET24),IF(DG24 = ET24, EQ24-DF24, (EQ24-DF24) + (DG24-ET24)))))*100),IF(LEN(RIGHT(EQ24,LEN(EQ24)-FIND(\".\",EQ24)))=4,((IF(EN24 = \"Buy\", IF(DF24 = EQ24, IF(DG24 = ET24, 0, ET24 - DG24),IF(DG24 = ET24, DF24-EQ24, (DF24 - EQ24) + (ET24 - DG24))), IF(DF24 = EQ24, IF(DG24 = ET24, 0, DG24-ET24),IF(DG24 = ET24, EQ24-DF24, (EQ24-DF24) + (DG24-ET24)))))*10000),IF(LEN(RIGHT(EQ24,LEN(EQ24)-FIND(\".\",EQ24)))=3,((IF(EN24 = \"Buy\", IF(DF24 = EQ24, IF(DG24 = ET24, 0, ET24 - DG24),IF(DG24 = ET24, DF24-EQ24, (DF24 - EQ24) + (ET24 - DG24))), IF(DF24 = EQ24, IF(DG24 = ET24, 0, DG24-ET24),IF(DG24 = ET24, EQ24-DF24, (EQ24-DF24) + (DG24-ET24)))))*100),IF(LEN(RIGHT(EQ24,LEN(EQ24)-FIND(\".\",EQ24)))=5,((IF(EN24 = \"Buy\", IF(DF24 = EQ24, IF(DG24 = ET24, 0, ET24 - DG24),IF(DG24 = ET24, DF24-EQ24, (DF24 - EQ24) + (ET24 - DG24))), IF(DF24 = EQ24, IF(DG24 = ET24, 0, DG24-ET24),IF(DG24 = ET24, EQ24-DF24, (EQ24-DF24) + (DG24-ET24)))))*10000))))))","v":""},{"$f":"IF(EN24=\"\",\"\",IF(LEN(RIGHT(EQ24,LEN(EQ24)-FIND(\".\",EQ24)))=2,((DA24*ABS(ET24-EQ24))*100),IF(LEN(RIGHT(EQ24,LEN(EQ24)-FIND(\".\",EQ24)))=4,((DA24*ABS(ET24-EQ24))*10000),IF(LEN(RIGHT(EQ24,LEN(EQ24)-FIND(\".\",EQ24)))=3,((DA24*ABS(ET24-EQ24))*100),IF(LEN(RIGHT(EQ24,LEN(EQ24)-FIND(\".\",EQ24)))=5,((DA24*ABS(ET24-EQ24))*10000))))))","v":""},{"$f":"IF(EN24=\"\",\"\",ABS(DV24/ABS(CN24)))","v":""},null,null,null,null,null,null,null,null,null,null,{"$f":"(SUMSQ(CF:CF)/COUNT(CF:CF))^0.5","v":{"$error":"#DIV/0!"}},null,null,{"$f":"  IF(IFERROR(LARGE(BC:BC, 5),\"\")=0, \"\", IFERROR(LARGE(BC:BC, 5),\"\"))","v":""},{"$f":" IF( IFERROR(SMALL(BK:BK, 5),\"\")=0, \"\", IFERROR(SMALL(BK:BK, 5),\"\"))","v":""}]
[null,{"$f":" B24+ 1","v":20},null,null,null,null,{"$f":" IF(EN25 = \"\", \"\", INT(K25)&\" d,\"&\" \"&HOUR(K25)&\" h,\"&\" \"&MINUTE(K25)&\" m,\"&\" \"&SECOND(K25)&\" s\")","v":""},{"$f":" IF(EN25 = \"\",\"\",IF(CZ25 +DB25 = 0, \"BE\", IF(CZ25 > 0, \"Win\",\"Loss\")))","v":""},{"$f":" IF(EN25=\"\", \"\",VALUE(C25 + D25))","v":""},{"$f":" IF(EN25 = \"\", \"\", VALUE(E25 + F25))","v":""},{"$f":"IF(EN25=\"\",\"\",IF(C25=\"\",0,IF(D25=\"\",0,(E25+F25-D25-C25))))","v":""},{"$f":" IFERROR(IF(VALUE(E25&F25) > VALUE(C26&D26), IF(VALUE(C26+D26) < VALUE(C27 + D27), E25 + F25 - C26 - D26 - (C25 + D25 - C26 - D26),E25 + F25 - C26 - D26), \"\"), \"\")","v":""},{"$f":"IFERROR(IF(EN25=\"\",\"\",IF(VALUE(E24+F24)<VALUE(C25+D25),C25+D25-E24-F24,\"\")),\"\")","v":""},{"$f":" TRIM(EN25)","v":""},{"$f":" IF(AND(N25 = \"Buy\", H25 = \"Win\"), 1, 0)","v":0},{"$f":" IF(AND(N25 = \"Sell\", H25 = \"Win\"), 1, 0)","v":0},{"$f":" IF(AND(N25 = \"Buy\", H25 = \"Loss\"), 1, 0)","v":0},{"$f":" IF(AND(N25 = \"Sell\", H25 = \"Loss\"), 1, 0)","v":0},{"$f":" IF(AND(N25 = \"Buy\", H25 = \"BE\"), 1, 0)","v":0},{"$f":" IF(AND(N25 = \"Sell\", H25 = \"BE\"), 1, 0)","v":0},{"$f":" IF(EN25 = \"\", 0, (E25 - DATE(YEAR(E25),1,0)) & YEAR(E25)&\"\")","v":0},{"$f":"IFERROR( IF(SUM(INDIRECT(\"O\"&(MATCH(U25,U:U,0))&\":T\"&DC25)) = 0, \"\", IF(ROW(U25) = FLOOR((MATCH(U25, U:U, 0) +DC25)/2,1),SUM(INDIRECT(\"O\"&(MATCH(U25,U:U,0))&\":T\"&DC25)),\"\")),\"\")","v":""},{"$f":" IFERROR(IF(EN25 = \"\", \"\", IF(ROW(U25) = FLOOR((MATCH(U25, U:U, 0) + DC25)/2,1),SUM(INDIRECT(\"BT\"&(MATCH(U25,U:U,0))&\":BT\"&DC25)),\"\")),\"\")","v":""},{"$f":"  IFERROR(IF(W25 = \"\",\"\",W25/(Y25-W25)),\"\")","v":""},{"$f":" IFERROR(IF(ROW(U25) = FLOOR((MATCH(U25, U:U, 0) + DC25)/2,1),INDIRECT(\"BU\"&DC25),\"\"),\"\")","v":""},{"$f":"  IF(V25= 0,\"\",X25)","v":""},{"$f":"IF(Z25=\"\",\"\",Z25+1)","v":""},{"$f":" IF(EN25 = \"\", 0, WEEKNUM(E25) & YEAR(E25) & \"\")","v":0},{"$f":" IFERROR(IF(SUM(INDIRECT(\"O\"&(MATCH(AB25,AB:AB,0))&\":T\"&DD25)) = 0, \"\", IF(ROW(AB25) = FLOOR((MATCH(AB25, AB:AB, 0) + DD25)/2,1),SUM(INDIRECT(\"O\"&(MATCH(AB25,AB:AB,0))&\":T\"&DD25)),\"\")),\"\")","v":""},{"$f":" IFERROR(IF(EN25 = \"\", \"\", IF(ROW(AB25) = FLOOR((MATCH(AB25, AB:AB, 0) +DD25)/2,1),SUM(INDIRECT(\"BT\"&(MATCH(AB25,AB:AB,0))&\":BT\"&DD25)),\"\")),\"\")","v":""},{"$f":" IFERROR( IF(AD25 = \"\",\"\",AD25/(AF25-AD25)),\"\")","v":""},{"$f":" IFERROR(IF(ROW(AB25) = FLOOR((MATCH(AB25, AB:AB, 0) + DD25)/2,1),INDIRECT(\"BU\"&DD25),\"\"),\"\")","v":""},{"$f":"  IF(AC25= 0,\"\",AE25)","v":""},{"$f":"IF(AG25=\"\",\"\",AG25+1)","v":""},{"$f":" IF(EN25 = \"\", 0, MONTH(E25)&YEAR(E25)&\"\")","v":0},{"$f":"IFERROR( IF(SUM(INDIRECT(\"O\"&(MATCH(AI25,AI:AI,0))&\":T\"&DE25)) = 0, \"\", IF(ROW(AI25) = FLOOR((MATCH(AI25, AI:AI, 0) + DE25)/2,1),SUM(INDIRECT(\"O\"&(MATCH(AI25,AI:AI,0))&\":T\"&DE25)),\"\")),\"\")","v":""},{"$f":" IFERROR(IF(EN25 = \"\", \"\", IF(ROW(AI25) = FLOOR((MATCH(AI25, AI:AI, 0) + DE25)/2,1),SUM(INDIRECT(\"BT\"&(MATCH(AI25,AI:AI,0))&\":BT\"&DE25)),\"\")),\"\")","v":""},{"$f":" IFERROR( IF(AK25 = \"\",\"\",AK25/(AM25-AK25)),\"\")","v":""},{"$f":" IFERROR(IF(ROW(AI25) = FLOOR((MATCH(AI25, AI:AI, 0) + DE25)/2,1),INDIRECT(\"BU\"&DE25),\"\"),\"\")","v":""},{"$f":"  IF(AJ25= 0,\"\",AL25)","v":""},{"$f":"IF(AN25=\"\",\"\",AN25+1)","v":""},{"$f":" IF(EN25 = \"\", 0, YEAR(E25)&\"\")","v":0},{"$f":" IFERROR(IF(SUM(INDIRECT(\"O\"&(MATCH(AP25,AP:AP,0))&\":T\"&ED25)) = 0, \"\", IF(ROW(AP25) = FLOOR((MATCH(AP25, AP:AP, 0) + ED25)/2,1),SUM(INDIRECT(\"O\"&(MATCH(AP25,AP:AP,0))&\":T\"&ED25)),\"\")), \"\")","v":""},{"$f":" IF(EN25 = \"\", \"\", IF(ROW(AP25) = FLOOR((MATCH(AP25, AP:AP, 0) + ED25)/2,1),SUM(INDIRECT(\"BT\"&(MATCH(AP25,AP:AP,0))&\":BT\"&ED25)),\"\"))","v":""},{"$f":" IFERROR( IF(AR25 = \"\",\"\",AR25/(AT25-AR25)),\"\")","v":""},{"$f":" IFERROR(IF(ROW(AP25) = FLOOR((MATCH(AP25, AP:AP, 0) + ED25)/2,1),INDIRECT(\"BU\"&ED25),\"\"), \"\")","v":""},{"$f":"  IF(AQ25= 0,\"\",AS25)","v":""},{"$f":"IF(AU25=\"\",\"\",AU25+1)","v":""},{"$f":" IF(BX25=\"\",0,IF(IF(BU25 = \"\",0,-1*((MIN(BU$5:$BU25)-BU25)))=0,0,IF(BU25 = \"\",0,-1*((MIN(BU$5:$BU25)-BU25)))))","v":0},{"$f":"  IF(BX25=\"\",0,IF(IF(BU25 = \"\",0,-1*((MIN(BU$5:$BU25)-BU25)))/MIN((BU$5:BU25))=0,0,IF(BU25 = \"\",0,-1*((MIN(BU$5:$BU25)-BU25)))/MIN((BU$5:BU25))))","v":0},{"$f":" IF(EN25 = \"\", \"\", IF(BD24 = BD25, AY24, AY24 + 1))","v":""},{"$f":" IF(EN25 = \"\", \"\", IF(BD24 = BD25, AZ24 + 1,1))","v":""},{"$f":" IF(AX25 = 0, \"\", IF( IF(ROW(AY25) = FLOOR((MATCH(AY25, AY:AY, 0) + MATCH(AY25, AY:AY))/2,1), INDIRECT(\"E\"&(MATCH(AY25,AY:AY))) + INDIRECT(\"F\"&(MATCH(AY25,AY:AY)))  - INDIRECT(\"E\"&(MATCH(AY25,AY:AY,0))) - INDIRECT(\"F\"&(MATCH(AY25,AY:AY,0))),\"\") = 0, \"\", IF(ROW(AY25) = FLOOR((MATCH(AY25, AY:AY, 0) + MATCH(AY25, AY:AY))/2,1), INDIRECT(\"E\"&(MATCH(AY25,AY:AY))) + INDIRECT(\"F\"&(MATCH(AY25,AY:AY)))  - INDIRECT(\"E\"&(MATCH(AY25,AY:AY,0))) - INDIRECT(\"F\"&(MATCH(AY25,AY:AY,0))),\"\")))","v":""},{"$f":" IF(EN24 = \"\", \"\", IF(IF(ROW(AY25) = FLOOR((MATCH(AY25, AY:AY, 0) + MATCH(AY25, AY:AY))/2,1), MAX(INDIRECT(\"AW\"&(MATCH(AY25,AY:AY,0))&\":AW\"&MATCH(AY25,AY:AY))),\"\") = 0, \"\",  IF(ROW(AY25) = FLOOR((MATCH(AY25, AY:AY, 0) + MATCH(AY25, AY:AY))/2,1), MAX(INDIRECT(\"AW\"&(MATCH(AY25,AY:AY,0))&\":AW\"&MATCH(AY25,AY:AY))),\"\")))","v":""},{"$f":" IF(EN24 = \"\", \"\", IF(IF(ROW(AY25) = FLOOR((MATCH(AY25, AY:AY, 0) + MATCH(AY25, AY:AY))/2,1), MAX(INDIRECT(\"AX\"&(MATCH(AY25,AY:AY,0))&\":AX\"&MATCH(AY25,AY:AY))),\"\") = 0, \"\",  IF(ROW(AY25) = FLOOR((MATCH(AY25, AY:AY, 0) + MATCH(AY25, AY:AY))/2,1), MAX(INDIRECT(\"AX\"&(MATCH(AY25,AY:AY,0))&\":AX\"&MATCH(AY25,AY:AY))),\"\")))","v":""},{"$f":" MIN(BU24, BD24)","v":0},{"$f":" IF(BX25=\"\",0,IF(IF(BU25 = \"\",0,(-1*(MAX(BU$5:$BU25)-BU25)))=0,0,IF(BU25 = \"\",0,(-1*(MAX(BU$5:$BU25)-BU25)))))","v":0},{"$f":" IF(BX25=\"\",0,IF(IF(BU25=\"\",0,(-1*(MAX(BU$5:$BU25)-BU25)))/MAX($BU$5:BU25) = 0,0,IF(BU25=\"\",0,(-1*(MAX(BU$5:$BU25)-BU25)))/MAX($BU$5:BU25)))","v":0},{"$f":" IF(EN25 = \"\", \"\", IF(BL24 = BL25, BG24, BG24 + 1))","v":""},{"$f":" IF(EN25 = \"\", \"\", IF(BL24 = BL25, BH24 + 1,1))","v":""},{"$f":" IF(BF25 = 0, \"\", IF( IF(ROW(BG25) = FLOOR((MATCH(BG25, BG:BG, 0) + MATCH(BG25, BG:BG))/2,1), INDIRECT(\"E\"&(MATCH(BG25,BG:BG))) + INDIRECT(\"F\"&(MATCH(BG25,BG:BG)))  - INDIRECT(\"E\"&(MATCH(BG25,BG:BG,0))) - INDIRECT(\"F\"&(MATCH(BG25,BG:BG,0))),\"\") = 0, \"\", IF(ROW(BG25) = FLOOR((MATCH(BG25,BG:BG,0) + MATCH(BG25, BG:BG))/2,1), INDIRECT(\"E\"&(MATCH(BG25,BG:BG))) + INDIRECT(\"F\"&(MATCH(BG25,BG:BG)))  - INDIRECT(\"E\"&(MATCH(BG25,BG:BG,0))) - INDIRECT(\"F\"&(MATCH(BG25,BG:BG,0))),\"\")))","v":""},{"$f":" IF(EN24 = \"\", \"\",  IF(IF(ROW(BG25) = FLOOR((MATCH(BG25, BG:BG, 0) + MATCH(BG25, BG:BG))/2,1), MIN(INDIRECT(\"BE\"&(MATCH(BG25,BG:BG,0))&\":BE\"&MATCH(BG25,BG:BG))),\"\") = 0, \"\", IF(ROW(BG25) = FLOOR((MATCH(BG25, BG:BG, 0) + MATCH(BG25, BG:BG))/2,1), MIN(INDIRECT(\"BE\"&(MATCH(BG25,BG:BG,0))&\":BE\"&MATCH(BG25,BG:BG))),\"\")))","v":""},{"$f":" IF(EN24 = \"\", \"\",  IF(IF(ROW(BG25) = FLOOR((MATCH(BG25, BG:BG, 0) + MATCH(BG25, BG:BG))/2,1), MIN(INDIRECT(\"BF\"&(MATCH(BG25,BG:BG,0))&\":BF\"&MATCH(BG25,BG:BG))),\"\") = 0, \"\", IF(ROW(BG25) = FLOOR((MATCH(BG25, BG:BG, 0) + MATCH(BG25, BG:BG))/2,1), MIN(INDIRECT(\"BF\"&(MATCH(BG25,BG:BG,0))&\":BF\"&MATCH(BG25,BG:BG))),\"\")))","v":""},{"$f":" MAX(BU24, BL24)","v":0},{"$f":"IF(H25=\"\",\"\",IF(H25=\"Win\",IF(BN25=1,BN25 & \" \" & \"Win\",BN25 & \" \" & \"Wins\"),IF(H25=\"Loss\",IF(BN25=1,BN25 & \" \" & \"Loss\",BN25 & \" \" & \"Losses\"), IF(H25 = \"BE\",IF(BN25=1,BN25 & \" \" & \"BE\",BN25 & \" \" & \"BE's\")))))","v":""},{"$f":" IF(H24=\"\",\"\",IF(H24=H25, BN24+1,1))","v":""},{"$f":" IF(H25 = \"\", \"\", IF(H24 <> H25, (LOOKUP(9E+307,$BO$5:$BO24) + 1), \"\"))","v":""},{"$f":" IF(EN24 = \"\", \"\", IF(BN25 = 1, \"\",IF(BN25<BN26, \"\", \"S\")))","v":""},{"$f":" IF(BP25 = \"\", \"\", IF(H25 = \"Win\",BN25,\"\"))","v":""},{"$f":" IF(BP25 = \"\", \"\", IF(H25 = \"Loss\",BN25,\"\"))","v":""},{"$f":" IF(BP25 = \"\", \"\", IF(H25 = \"BE\",BN25,\"\"))","v":""},{"$f":" IF(EN25 = \"\", \"\", DB25 +CZ25)","v":""},{"$f":" IF(EN25 = \"\", \"\", BU24 + BT25)","v":""},{"$f":" IF(BU25 = \"\",\"\", BV24 + 1)","v":""},{"$f":" IF(BU25 = \"\", \"\", $FN$13*BV25 + $FM$13)","v":""},{"$f":" IF(EN25 = \"\", \"\", (BT25)/BU24)","v":""},{"$f":" IF(EN25 = \"\", \"\",'Overall Performance'!$C$22)","v":""},{"$f":" IF(EN25 = \"\", \"\", IF(BX25=0,\"\",BX25 + 1))","v":""},{"$f":" IF(H25 = \"Win\", BZ25, \"\")","v":""},{"$f":" IF(H25 = \"Loss\", BZ25, \"\")","v":""},{"$f":"IFERROR(INDEX($Y:$Y,SMALL(IF($Y:$Y<>\"\",ROW($Y:$Y)),ROW(20:20))),\"\")","v":""},{"$f":" IFERROR(IF(ULCERINDEX(CC12:CC25) = 0, \"\", ULCERINDEX(CC12:CC25)),\"\")","v":""},{"$f":" IF(Z25 = \"\", \"\", IF(Z25>0, 0, CH25))","v":""},{"$f":" IF(Z25 = \"\", \"\", IF(Z25>0, 0, W25))","v":""},{"$f":" IF(Z25 = \"\", \"\", Z25 - $FJ$10 + 1)","v":""},{"$f":" IF(Z25 = \"\", \"\", Z25 - $FJ$10)","v":""},{"$f":" IF(AN25 = \"\", \"\", IF(AN25 > 0, 0, CL25))","v":""},{"$f":" IF(AN25 = \"\", \"\", IF(AN25 > 0, 0, AK25))","v":""},{"$f":"IF(AN25=\"\", \"\",AN25-$FJ$14 + 1)","v":""},{"$f":"IF(AN25=\"\", \"\",AN25-$FJ$14)","v":""},{"$f":" IF(EN25 = \"\",\"\",(ES25 - EQ25)/(EQ25 - ER25))","v":""},{"$f":" IF(EN25=\"\",\"\", DA25*ABS((ET25-EQ25)/(EQ25-ER25)))","v":""},{"$f":" IF(CN25 > 0, CN25, \"\")","v":""},{"$f":" IF(CN25 < 0, CN25, \"\")","v":""},{"$f":" IF(EN25 = \"\", \"\", IF(OR(BX25 > AVERAGE(BX:BX) + 3*_xlfn.STDEV.P(BX:BX), BX25 < AVERAGE(BX:BX) - 3*_xlfn.STDEV.P(BX:BX)), BX25, 0))","v":""},{"$f":" IF(EN25= \"\", \"\", SUM(INDIRECT(\"BT\"&(MATCH(U25,U:U,0))&\":BT\"&DC25)))","v":""},{"$f":" IF(EN25= \"\", \"\", SUM(INDIRECT(\"ET\"&(MATCH(U25,U:U,0))&\":ET\"&DC25)))","v":""},{"$f":" IF(EN25= \"\", \"\", (INDIRECT(\"BU\"&DC25)))","v":""},{"$f":" IF(EN25= \"\", \"\", SUM(INDIRECT(\"O\"&(MATCH(U25,U:U,0))&\":T\"&DC25)))","v":""},{"$f":"IF(EN25=\"\",\"\",IF(LEN(RIGHT(EQ25,LEN(EQ25)-FIND(\".\",EQ25)))=2,((-1*ABS(EU25-EQ25))*100),IF(LEN(RIGHT(EQ25,LEN(EQ25)-FIND(\".\",EQ25)))=4,((-1*ABS(EU25-EQ25))*10000),IF(LEN(RIGHT(EQ25,LEN(EQ25)-FIND(\".\",EQ25)))=3,((-1*ABS(EU25-EQ25))*100),IF(LEN(RIGHT(EQ25,LEN(EQ25)-FIND(\".\",EQ25)))=5,((-1*ABS(EU25-EQ25))*10000))))))","v":""},{"$f":" IF(EN25 = \"\", \"\", (((EU25-EQ25)/(ET25-EQ25))*CZ25) + DB25)","v":""},{"$f":"IF(EN25=\"\",\"\",IF(LEN(RIGHT(EQ25,LEN(EQ25)-FIND(\".\",EQ25)))=2,((ABS(EV25-EQ25))*100),IF(LEN(RIGHT(EQ25,LEN(EQ25)-FIND(\".\",EQ25)))=4,((ABS(EV25-EQ25))*10000),IF(LEN(RIGHT(EQ25,LEN(EQ25)-FIND(\".\",EQ25)))=3,((ABS(EV25-EQ25))*100),IF(LEN(RIGHT(EQ25,LEN(EQ25)-FIND(\".\",EQ25)))=5,((ABS(EV25-EQ25))*10000))))))","v":""},{"$f":" IF(EN25 = \"\", \"\", (((EV25-EQ25)/(ET25-EQ25))*CZ25) + DB25)","v":""},{"$f":" IF(EN25 = \"\", \"\", EL25)","v":""},{"$f":" IF(EN25 = \"\", \"\", IF(EN25 = \"Buy\", IF(EQ25 > ET25, -1, 1), IF(EQ25 > ET25, 1, -1)))","v":""},{"$f":"IF(EN25=\"\", \"\",EZ25+#REF!)","v":""},{"$f":" IF(EN25 = \"\", \"\", LOOKUP(2,1/(U:U = U25), ROW(U:U)))","v":""},{"$f":" IF(EN25 = \"\", \"\", LOOKUP(2,1/(AB:AB = AB25), ROW(AB:AB)))","v":""},{"$f":" IF(EN25 = \"\", \"\", LOOKUP(2,1/(AI:AI = AI25), ROW(AI:AI)))","v":""},null,null,{"$f":" IF(CO25 = \"\", \"\", CO25*EY25)","v":""},{"$f":" IF(CP25 = \"\", \"\", CP25*EY25)","v":""},{"$f":" IF(EN25 = \"\", \"\",BF25)","v":""},{"$f":" DJ25","v":""},{"$f":" IF(EL26 = \"\", \"\", DL24 + 1)","v":""},{"$f":" IF(EN25 <> \"\", K25*24,#N/A)","v":{"$error":"#N/A"}},{"$f":" IF(EN25 <> \"\", CW25,#N/A)","v":{"$error":"#N/A"}},{"$f":" IF(EN25 <> \"\", CY25,#N/A)","v":{"$error":"#N/A"}},{"$f":" IF(EN25 <> \"\", CM25,#N/A)","v":{"$error":"#N/A"}},{"$f":" IF(EN25 <> \"\", CN25,#N/A)","v":{"$error":"#N/A"}},{"$f":" IF(CN25 > 0, CM25, -1)","v":""},{"$f":" IF(CN25 > 0, CM25, \"\")","v":""},{"$f":" IF(CN25 < 0, CM25, \"\")","v":""},{"$f":" IF(AQ25 = \"\",\"\",LOOKUP(9E+307,$DU$5:$DU24) + 1)","v":""},{"$f":" IF(EN25 = \"\", \"\", (CZ25)/BU24)","v":""},{"$f":" IF(EN25 = \"\", \"\", WEEKDAY(C25,1))","v":""},{"$f":" IF(EN25=\"\", \"\", MONTH(C25))","v":""},{"$f":" IF(EN25 = \"\", \"\", YEAR(E25))","v":""},{"$f":" IF(EB25 = \"\", \"\", MAX(((EA25-EB25)/EA25), ((EB25-EC25)/EB25)))","v":""},{"$f":" IF(EB25=\"\", \"\", MAX($EB$6:EB25))","v":""},{"$f":" AM25","v":""},{"$f":" IF(EB25=\"\",\"\", MIN(EB25:$EB$1048576))","v":""},{"$f":" IF(EN25 = \"\", \"\", LOOKUP(2,1/(AP:AP = AP25), ROW(AP:AP)))","v":""},{"$f":" IFERROR(_xlfn.IFS(FE25 = \"1-Minute\", 1, FE25 = \"5-Minute\", 2, FE25 = \"15-Minute\", 3, FE25 = \"30-Minute\", 4, FE25 = \"1-Hour\", 5, FE25 = \"4-Hour\", 6, FE25 = \"Daily\", 7, FE25 = \"Weekly\", 8, FE25 = \"Monthly\", 9), \"\")","v":""},{"$f":" IFERROR(_xlfn.IFS(FF25 = \"Very Low\", 1, FF25 = \"Low\", 2, FF25 = \"Medium\", 3, FF25 = \"High\", 4, FF25 = \"Very High\", 5),\"\")","v":""},null,{"$f":" TEXT(CM25, \"#,###0.000\") & \" : 1\"","v":" : 1"},{"$f":" IF(EN25 = \"\", \"\", IF(N25 = \"Buy\", (ET25-EQ25)/(EV25-EU25), (EQ25-ET25)/(EU25-EV25)))","v":""},{"$f":"IF(EN25=\"\",\"\",IF(N25 = \"Buy\", (EV25 - EQ25)/(EV25-EU25), (EQ25-EV25)/(EU25-EV25)))","v":""},{"$f":"IF(EN25=\"\",\"\",IF(N25 = \"Buy\", (ET25-EU25)/(EV25-EU25), (EU25-ET25)/(EU25-EV25)))","v":""},null,null,null,null,null,null,null,null,null,null,null,{"$f":" IF(EQ25=\"\",\"\",IF(LEN(RIGHT(EQ25,LEN(EQ25)-FIND(\".\",EQ25)))=2,((IF(EN25 = \"Buy\", IF(DF25 = EQ25, IF(DG25 = ET25, 0, ET25 - DG25),IF(DG25 = ET25, DF25-EQ25, (DF25 - EQ25) + (ET25 - DG25))), IF(DF25 = EQ25, IF(DG25 = ET25, 0, DG25-ET25),IF(DG25 = ET25, EQ25-DF25, (EQ25-DF25) + (DG25-ET25)))))*100),IF(LEN(RIGHT(EQ25,LEN(EQ25)-FIND(\".\",EQ25)))=4,((IF(EN25 = \"Buy\", IF(DF25 = EQ25, IF(DG25 = ET25, 0, ET25 - DG25),IF(DG25 = ET25, DF25-EQ25, (DF25 - EQ25) + (ET25 - DG25))), IF(DF25 = EQ25, IF(DG25 = ET25, 0, DG25-ET25),IF(DG25 = ET25, EQ25-DF25, (EQ25-DF25) + (DG25-ET25)))))*10000),IF(LEN(RIGHT(EQ25,LEN(EQ25)-FIND(\".\",EQ25)))=3,((IF(EN25 = \"Buy\", IF(DF25 = EQ25, IF(DG25 = ET25, 0, ET25 - DG25),IF(DG25 = ET25, DF25-EQ25, (DF25 - EQ25) + (ET25 - DG25))), IF(DF25 = EQ25, IF(DG25 = ET25, 0, DG25-ET25),IF(DG25 = ET25, EQ25-DF25, (EQ25-DF25) + (DG25-ET25)))))*100),IF(LEN(RIGHT(EQ25,LEN(EQ25)-FIND(\".\",EQ25)))=5,((IF(EN25 = \"Buy\", IF(DF25 = EQ25, IF(DG25 = ET25, 0, ET25 - DG25),IF(DG25 = ET25, DF25-EQ25, (DF25 - EQ25) + (ET25 - DG25))), IF(DF25 = EQ25, IF(DG25 = ET25, 0, DG25-ET25),IF(DG25 = ET25, EQ25-DF25, (EQ25-DF25) + (DG25-ET25)))))*10000))))))","v":""},{"$f":"IF(EN25=\"\",\"\",IF(LEN(RIGHT(EQ25,LEN(EQ25)-FIND(\".\",EQ25)))=2,((DA25*ABS(ET25-EQ25))*100),IF(LEN(RIGHT(EQ25,LEN(EQ25)-FIND(\".\",EQ25)))=4,((DA25*ABS(ET25-EQ25))*10000),IF(LEN(RIGHT(EQ25,LEN(EQ25)-FIND(\".\",EQ25)))=3,((DA25*ABS(ET25-EQ25))*100),IF(LEN(RIGHT(EQ25,LEN(EQ25)-FIND(\".\",EQ25)))=5,((DA25*ABS(ET25-EQ25))*10000))))))","v":""},{"$f":"IF(EN25=\"\",\"\",ABS(DV25/ABS(CN25)))","v":""},null,null,null,null,null,null,null,null,null,null,null,"Start Date","End Date",""]
[null,{"$f":" B25+ 1","v":21},null,null,null,null,{"$f":" IF(EN26 = \"\", \"\", INT(K26)&\" d,\"&\" \"&HOUR(K26)&\" h,\"&\" \"&MINUTE(K26)&\" m,\"&\" \"&SECOND(K26)&\" s\")","v":""},{"$f":" IF(EN26 = \"\",\"\",IF(CZ26 +DB26 = 0, \"BE\", IF(CZ26 > 0, \"Win\",\"Loss\")))","v":""},{"$f":" IF(EN26=\"\", \"\",VALUE(C26 + D26))","v":""},{"$f":" IF(EN26 = \"\", \"\", VALUE(E26 + F26))","v":""},{"$f":"IF(EN26=\"\",\"\",IF(C26=\"\",0,IF(D26=\"\",0,(E26+F26-D26-C26))))","v":""},{"$f":" IFERROR(IF(VALUE(E26&F26) > VALUE(C27&D27), IF(VALUE(C27+D27) < VALUE(C28 + D28), E26 + F26 - C27 - D27 - (C26 + D26 - C27 - D27),E26 + F26 - C27 - D27), \"\"), \"\")","v":""},{"$f":"IFERROR(IF(EN26=\"\",\"\",IF(VALUE(E25+F25)<VALUE(C26+D26),C26+D26-E25-F25,\"\")),\"\")","v":""},{"$f":" TRIM(EN26)","v":""},{"$f":" IF(AND(N26 = \"Buy\", H26 = \"Win\"), 1, 0)","v":0},{"$f":" IF(AND(N26 = \"Sell\", H26 = \"Win\"), 1, 0)","v":0},{"$f":" IF(AND(N26 = \"Buy\", H26 = \"Loss\"), 1, 0)","v":0},{"$f":" IF(AND(N26 = \"Sell\", H26 = \"Loss\"), 1, 0)","v":0},{"$f":" IF(AND(N26 = \"Buy\", H26 = \"BE\"), 1, 0)","v":0},{"$f":" IF(AND(N26 = \"Sell\", H26 = \"BE\"), 1, 0)","v":0},{"$f":" IF(EN26 = \"\", 0, (E26 - DATE(YEAR(E26),1,0)) & YEAR(E26)&\"\")","v":0},{"$f":"IFERROR( IF(SUM(INDIRECT(\"O\"&(MATCH(U26,U:U,0))&\":T\"&DC26)) = 0, \"\", IF(ROW(U26) = FLOOR((MATCH(U26, U:U, 0) +DC26)/2,1),SUM(INDIRECT(\"O\"&(MATCH(U26,U:U,0))&\":T\"&DC26)),\"\")),\"\")","v":""},{"$f":" IFERROR(IF(EN26 = \"\", \"\", IF(ROW(U26) = FLOOR((MATCH(U26, U:U, 0) + DC26)/2,1),SUM(INDIRECT(\"BT\"&(MATCH(U26,U:U,0))&\":BT\"&DC26)),\"\")),\"\")","v":""},{"$f":"  IFERROR(IF(W26 = \"\",\"\",W26/(Y26-W26)),\"\")","v":""},{"$f":" IFERROR(IF(ROW(U26) = FLOOR((MATCH(U26, U:U, 0) + DC26)/2,1),INDIRECT(\"BU\"&DC26),\"\"),\"\")","v":""},{"$f":"  IF(V26= 0,\"\",X26)","v":""},{"$f":"IF(Z26=\"\",\"\",Z26+1)","v":""},{"$f":" IF(EN26 = \"\", 0, WEEKNUM(E26) & YEAR(E26) & \"\")","v":0},{"$f":" IFERROR(IF(SUM(INDIRECT(\"O\"&(MATCH(AB26,AB:AB,0))&\":T\"&DD26)) = 0, \"\", IF(ROW(AB26) = FLOOR((MATCH(AB26, AB:AB, 0) + DD26)/2,1),SUM(INDIRECT(\"O\"&(MATCH(AB26,AB:AB,0))&\":T\"&DD26)),\"\")),\"\")","v":""},{"$f":" IFERROR(IF(EN26 = \"\", \"\", IF(ROW(AB26) = FLOOR((MATCH(AB26, AB:AB, 0) +DD26)/2,1),SUM(INDIRECT(\"BT\"&(MATCH(AB26,AB:AB,0))&\":BT\"&DD26)),\"\")),\"\")","v":""},{"$f":" IFERROR( IF(AD26 = \"\",\"\",AD26/(AF26-AD26)),\"\")","v":""},{"$f":" IFERROR(IF(ROW(AB26) = FLOOR((MATCH(AB26, AB:AB, 0) + DD26)/2,1),INDIRECT(\"BU\"&DD26),\"\"),\"\")","v":""},{"$f":"  IF(AC26= 0,\"\",AE26)","v":""},{"$f":"IF(AG26=\"\",\"\",AG26+1)","v":""},{"$f":" IF(EN26 = \"\", 0, MONTH(E26)&YEAR(E26)&\"\")","v":0},{"$f":"IFERROR( IF(SUM(INDIRECT(\"O\"&(MATCH(AI26,AI:AI,0))&\":T\"&DE26)) = 0, \"\", IF(ROW(AI26) = FLOOR((MATCH(AI26, AI:AI, 0) + DE26)/2,1),SUM(INDIRECT(\"O\"&(MATCH(AI26,AI:AI,0))&\":T\"&DE26)),\"\")),\"\")","v":""},{"$f":" IFERROR(IF(EN26 = \"\", \"\", IF(ROW(AI26) = FLOOR((MATCH(AI26, AI:AI, 0) + DE26)/2,1),SUM(INDIRECT(\"BT\"&(MATCH(AI26,AI:AI,0))&\":BT\"&DE26)),\"\")),\"\")","v":""},{"$f":" IFERROR( IF(AK26 = \"\",\"\",AK26/(AM26-AK26)),\"\")","v":""},{"$f":" IFERROR(IF(ROW(AI26) = FLOOR((MATCH(AI26, AI:AI, 0) + DE26)/2,1),INDIRECT(\"BU\"&DE26),\"\"),\"\")","v":""},{"$f":"  IF(AJ26= 0,\"\",AL26)","v":""},{"$f":"IF(AN26=\"\",\"\",AN26+1)","v":""},{"$f":" IF(EN26 = \"\", 0, YEAR(E26)&\"\")","v":0},{"$f":" IFERROR(IF(SUM(INDIRECT(\"O\"&(MATCH(AP26,AP:AP,0))&\":T\"&ED26)) = 0, \"\", IF(ROW(AP26) = FLOOR((MATCH(AP26, AP:AP, 0) + ED26)/2,1),SUM(INDIRECT(\"O\"&(MATCH(AP26,AP:AP,0))&\":T\"&ED26)),\"\")), \"\")","v":""},{"$f":" IF(EN26 = \"\", \"\", IF(ROW(AP26) = FLOOR((MATCH(AP26, AP:AP, 0) + ED26)/2,1),SUM(INDIRECT(\"BT\"&(MATCH(AP26,AP:AP,0))&\":BT\"&ED26)),\"\"))","v":""},{"$f":" IFERROR( IF(AR26 = \"\",\"\",AR26/(AT26-AR26)),\"\")","v":""},{"$f":" IFERROR(IF(ROW(AP26) = FLOOR((MATCH(AP26, AP:AP, 0) + ED26)/2,1),INDIRECT(\"BU\"&ED26),\"\"), \"\")","v":""},{"$f":"  IF(AQ26= 0,\"\",AS26)","v":""},{"$f":"IF(AU26=\"\",\"\",AU26+1)","v":""},{"$f":" IF(BX26=\"\",0,IF(IF(BU26 = \"\",0,-1*((MIN(BU$5:$BU26)-BU26)))=0,0,IF(BU26 = \"\",0,-1*((MIN(BU$5:$BU26)-BU26)))))","v":0},{"$f":"  IF(BX26=\"\",0,IF(IF(BU26 = \"\",0,-1*((MIN(BU$5:$BU26)-BU26)))/MIN((BU$5:BU26))=0,0,IF(BU26 = \"\",0,-1*((MIN(BU$5:$BU26)-BU26)))/MIN((BU$5:BU26))))","v":0},{"$f":" IF(EN26 = \"\", \"\", IF(BD25 = BD26, AY25, AY25 + 1))","v":""},{"$f":" IF(EN26 = \"\", \"\", IF(BD25 = BD26, AZ25 + 1,1))","v":""},{"$f":" IF(AX26 = 0, \"\", IF( IF(ROW(AY26) = FLOOR((MATCH(AY26, AY:AY, 0) + MATCH(AY26, AY:AY))/2,1), INDIRECT(\"E\"&(MATCH(AY26,AY:AY))) + INDIRECT(\"F\"&(MATCH(AY26,AY:AY)))  - INDIRECT(\"E\"&(MATCH(AY26,AY:AY,0))) - INDIRECT(\"F\"&(MATCH(AY26,AY:AY,0))),\"\") = 0, \"\", IF(ROW(AY26) = FLOOR((MATCH(AY26, AY:AY, 0) + MATCH(AY26, AY:AY))/2,1), INDIRECT(\"E\"&(MATCH(AY26,AY:AY))) + INDIRECT(\"F\"&(MATCH(AY26,AY:AY)))  - INDIRECT(\"E\"&(MATCH(AY26,AY:AY,0))) - INDIRECT(\"F\"&(MATCH(AY26,AY:AY,0))),\"\")))","v":""},{"$f":" IF(EN25 = \"\", \"\", IF(IF(ROW(AY26) = FLOOR((MATCH(AY26, AY:AY, 0) + MATCH(AY26, AY:AY))/2,1), MAX(INDIRECT(\"AW\"&(MATCH(AY26,AY:AY,0))&\":AW\"&MATCH(AY26,AY:AY))),\"\") = 0, \"\",  IF(ROW(AY26) = FLOOR((MATCH(AY26, AY:AY, 0) + MATCH(AY26, AY:AY))/2,1), MAX(INDIRECT(\"AW\"&(MATCH(AY26,AY:AY,0))&\":AW\"&MATCH(AY26,AY:AY))),\"\")))","v":""},{"$f":" IF(EN25 = \"\", \"\", IF(IF(ROW(AY26) = FLOOR((MATCH(AY26, AY:AY, 0) + MATCH(AY26, AY:AY))/2,1), MAX(INDIRECT(\"AX\"&(MATCH(AY26,AY:AY,0))&\":AX\"&MATCH(AY26,AY:AY))),\"\") = 0, \"\",  IF(ROW(AY26) = FLOOR((MATCH(AY26, AY:AY, 0) + MATCH(AY26, AY:AY))/2,1), MAX(INDIRECT(\"AX\"&(MATCH(AY26,AY:AY,0))&\":AX\"&MATCH(AY26,AY:AY))),\"\")))","v":""},{"$f":" MIN(BU25, BD25)","v":0},{"$f":" IF(BX26=\"\",0,IF(IF(BU26 = \"\",0,(-1*(MAX(BU$5:$BU26)-BU26)))=0,0,IF(BU26 = \"\",0,(-1*(MAX(BU$5:$BU26)-BU26)))))","v":0},{"$f":" IF(BX26=\"\",0,IF(IF(BU26=\"\",0,(-1*(MAX(BU$5:$BU26)-BU26)))/MAX($BU$5:BU26) = 0,0,IF(BU26=\"\",0,(-1*(MAX(BU$5:$BU26)-BU26)))/MAX($BU$5:BU26)))","v":0},{"$f":" IF(EN26 = \"\", \"\", IF(BL25 = BL26, BG25, BG25 + 1))","v":""},{"$f":" IF(EN26 = \"\", \"\", IF(BL25 = BL26, BH25 + 1,1))","v":""},{"$f":" IF(BF26 = 0, \"\", IF( IF(ROW(BG26) = FLOOR((MATCH(BG26, BG:BG, 0) + MATCH(BG26, BG:BG))/2,1), INDIRECT(\"E\"&(MATCH(BG26,BG:BG))) + INDIRECT(\"F\"&(MATCH(BG26,BG:BG)))  - INDIRECT(\"E\"&(MATCH(BG26,BG:BG,0))) - INDIRECT(\"F\"&(MATCH(BG26,BG:BG,0))),\"\") = 0, \"\", IF(ROW(BG26) = FLOOR((MATCH(BG26,BG:BG,0) + MATCH(BG26, BG:BG))/2,1), INDIRECT(\"E\"&(MATCH(BG26,BG:BG))) + INDIRECT(\"F\"&(MATCH(BG26,BG:BG)))  - INDIRECT(\"E\"&(MATCH(BG26,BG:BG,0))) - INDIRECT(\"F\"&(MATCH(BG26,BG:BG,0))),\"\")))","v":""},{"$f":" IF(EN25 = \"\", \"\",  IF(IF(ROW(BG26) = FLOOR((MATCH(BG26, BG:BG, 0) + MATCH(BG26, BG:BG))/2,1), MIN(INDIRECT(\"BE\"&(MATCH(BG26,BG:BG,0))&\":BE\"&MATCH(BG26,BG:BG))),\"\") = 0, \"\", IF(ROW(BG26) = FLOOR((MATCH(BG26, BG:BG, 0) + MATCH(BG26, BG:BG))/2,1), MIN(INDIRECT(\"BE\"&(MATCH(BG26,BG:BG,0))&\":BE\"&MATCH(BG26,BG:BG))),\"\")))","v":""},{"$f":" IF(EN25 = \"\", \"\",  IF(IF(ROW(BG26) = FLOOR((MATCH(BG26, BG:BG, 0) + MATCH(BG26, BG:BG))/2,1), MIN(INDIRECT(\"BF\"&(MATCH(BG26,BG:BG,0))&\":BF\"&MATCH(BG26,BG:BG))),\"\") = 0, \"\", IF(ROW(BG26) = FLOOR((MATCH(BG26, BG:BG, 0) + MATCH(BG26, BG:BG))/2,1), MIN(INDIRECT(\"BF\"&(MATCH(BG26,BG:BG,0))&\":BF\"&MATCH(BG26,BG:BG))),\"\")))","v":""},{"$f":" MAX(BU25, BL25)","v":0},{"$f":"IF(H26=\"\",\"\",IF(H26=\"Win\",IF(BN26=1,BN26 & \" \" & \"Win\",BN26 & \" \" & \"Wins\"),IF(H26=\"Loss\",IF(BN26=1,BN26 & \" \" & \"Loss\",BN26 & \" \" & \"Losses\"), IF(H26 = \"BE\",IF(BN26=1,BN26 & \" \" & \"BE\",BN26 & \" \" & \"BE's\")))))","v":""},{"$f":" IF(H25=\"\",\"\",IF(H25=H26, BN25+1,1))","v":""},{"$f":" IF(H26 = \"\", \"\", IF(H25 <> H26, (LOOKUP(9E+307,$BO$5:$BO25) + 1), \"\"))","v":""},{"$f":" IF(EN25 = \"\", \"\", IF(BN26 = 1, \"\",IF(BN26<BN27, \"\", \"S\")))","v":""},{"$f":" IF(BP26 = \"\", \"\", IF(H26 = \"Win\",BN26,\"\"))","v":""},{"$f":" IF(BP26 = \"\", \"\", IF(H26 = \"Loss\",BN26,\"\"))","v":""},{"$f":" IF(BP26 = \"\", \"\", IF(H26 = \"BE\",BN26,\"\"))","v":""},{"$f":" IF(EN26 = \"\", \"\", DB26 +CZ26)","v":""},{"$f":" IF(EN26 = \"\", \"\", BU25 + BT26)","v":""},{"$f":" IF(BU26 = \"\",\"\", BV25 + 1)","v":""},{"$f":" IF(BU26 = \"\", \"\", $FN$13*BV26 + $FM$13)","v":""},{"$f":" IF(EN26 = \"\", \"\", (BT26)/BU25)","v":""},{"$f":" IF(EN26 = \"\", \"\",'Overall Performance'!$C$22)","v":""},{"$f":" IF(EN26 = \"\", \"\", IF(BX26=0,\"\",BX26 + 1))","v":""},{"$f":" IF(H26 = \"Win\", BZ26, \"\")","v":""},{"$f":" IF(H26 = \"Loss\", BZ26, \"\")","v":""},{"$f":"IFERROR(INDEX($Y:$Y,SMALL(IF($Y:$Y<>\"\",ROW($Y:$Y)),ROW(21:21))),\"\")","v":""},{"$f":" IFERROR(IF(ULCERINDEX(CC13:CC26) = 0, \"\", ULCERINDEX(CC13:CC26)),\"\")","v":""},{"$f":" IF(Z26 = \"\", \"\", IF(Z26>0, 0, CH26))","v":""},{"$f":" IF(Z26 = \"\", \"\", IF(Z26>0, 0, W26))","v":""},{"$f":" IF(Z26 = \"\", \"\", Z26 - $FJ$10 + 1)","v":""},{"$f":" IF(Z26 = \"\", \"\", Z26 - $FJ$10)","v":""},{"$f":" IF(AN26 = \"\", \"\", IF(AN26 > 0, 0, CL26))","v":""},{"$f":" IF(AN26 = \"\", \"\", IF(AN26 > 0, 0, AK26))","v":""},{"$f":"IF(AN26=\"\", \"\",AN26-$FJ$14 + 1)","v":""},{"$f":"IF(AN26=\"\", \"\",AN26-$FJ$14)","v":""},{"$f":" IF(EN26 = \"\",\"\",(ES26 - EQ26)/(EQ26 - ER26))","v":""},{"$f":" IF(EN26=\"\",\"\", DA26*ABS((ET26-EQ26)/(EQ26-ER26)))","v":""},{"$f":" IF(CN26 > 0, CN26, \"\")","v":""},{"$f":" IF(CN26 < 0, CN26, \"\")","v":""},{"$f":" IF(EN26 = \"\", \"\", IF(OR(BX26 > AVERAGE(BX:BX) + 3*_xlfn.STDEV.P(BX:BX), BX26 < AVERAGE(BX:BX) - 3*_xlfn.STDEV.P(BX:BX)), BX26, 0))","v":""},{"$f":" IF(EN26= \"\", \"\", SUM(INDIRECT(\"BT\"&(MATCH(U26,U:U,0))&\":BT\"&DC26)))","v":""},{"$f":" IF(EN26= \"\", \"\", SUM(INDIRECT(\"ET\"&(MATCH(U26,U:U,0))&\":ET\"&DC26)))","v":""},{"$f":" IF(EN26= \"\", \"\", (INDIRECT(\"BU\"&DC26)))","v":""},{"$f":" IF(EN26= \"\", \"\", SUM(INDIRECT(\"O\"&(MATCH(U26,U:U,0))&\":T\"&DC26)))","v":""},{"$f":"IF(EN26=\"\",\"\",IF(LEN(RIGHT(EQ26,LEN(EQ26)-FIND(\".\",EQ26)))=2,((-1*ABS(EU26-EQ26))*100),IF(LEN(RIGHT(EQ26,LEN(EQ26)-FIND(\".\",EQ26)))=4,((-1*ABS(EU26-EQ26))*10000),IF(LEN(RIGHT(EQ26,LEN(EQ26)-FIND(\".\",EQ26)))=3,((-1*ABS(EU26-EQ26))*100),IF(LEN(RIGHT(EQ26,LEN(EQ26)-FIND(\".\",EQ26)))=5,((-1*ABS(EU26-EQ26))*10000))))))","v":""},{"$f":" IF(EN26 = \"\", \"\", (((EU26-EQ26)/(ET26-EQ26))*CZ26) + DB26)","v":""},{"$f":"IF(EN26=\"\",\"\",IF(LEN(RIGHT(EQ26,LEN(EQ26)-FIND(\".\",EQ26)))=2,((ABS(EV26-EQ26))*100),IF(LEN(RIGHT(EQ26,LEN(EQ26)-FIND(\".\",EQ26)))=4,((ABS(EV26-EQ26))*10000),IF(LEN(RIGHT(EQ26,LEN(EQ26)-FIND(\".\",EQ26)))=3,((ABS(EV26-EQ26))*100),IF(LEN(RIGHT(EQ26,LEN(EQ26)-FIND(\".\",EQ26)))=5,((ABS(EV26-EQ26))*10000))))))","v":""},{"$f":" IF(EN26 = \"\", \"\", (((EV26-EQ26)/(ET26-EQ26))*CZ26) + DB26)","v":""},{"$f":" IF(EN26 = \"\", \"\", EL26)","v":""},{"$f":" IF(EN26 = \"\", \"\", IF(EN26 = \"Buy\", IF(EQ26 > ET26, -1, 1), IF(EQ26 > ET26, 1, -1)))","v":""},{"$f":"IF(EN26=\"\", \"\",EZ26+FA25)","v":""},{"$f":" IF(EN26 = \"\", \"\", LOOKUP(2,1/(U:U = U26), ROW(U:U)))","v":""},{"$f":" IF(EN26 = \"\", \"\", LOOKUP(2,1/(AB:AB = AB26), ROW(AB:AB)))","v":""},{"$f":" IF(EN26 = \"\", \"\", LOOKUP(2,1/(AI:AI = AI26), ROW(AI:AI)))","v":""},null,null,{"$f":" IF(CO26 = \"\", \"\", CO26*EY26)","v":""},{"$f":" IF(CP26 = \"\", \"\", CP26*EY26)","v":""},{"$f":" IF(EN26 = \"\", \"\",BF26)","v":""},{"$f":" DJ26","v":""},{"$f":" IF(EL27 = \"\", \"\", DL25 + 1)","v":""},{"$f":" IF(EN26 <> \"\", K26*24,#N/A)","v":{"$error":"#N/A"}},{"$f":" IF(EN26 <> \"\", CW26,#N/A)","v":{"$error":"#N/A"}},{"$f":" IF(EN26 <> \"\", CY26,#N/A)","v":{"$error":"#N/A"}},{"$f":" IF(EN26 <> \"\", CM26,#N/A)","v":{"$error":"#N/A"}},{"$f":" IF(EN26 <> \"\", CN26,#N/A)","v":{"$error":"#N/A"}},{"$f":" IF(CN26 > 0, CM26, -1)","v":""},{"$f":" IF(CN26 > 0, CM26, \"\")","v":""},{"$f":" IF(CN26 < 0, CM26, \"\")","v":""},{"$f":" IF(AQ26 = \"\",\"\",LOOKUP(9E+307,$DU$5:$DU25) + 1)","v":""},{"$f":" IF(EN26 = \"\", \"\", (CZ26)/BU25)","v":""},{"$f":" IF(EN26 = \"\", \"\", WEEKDAY(C26,1))","v":""},{"$f":" IF(EN26=\"\", \"\", MONTH(C26))","v":""},{"$f":" IF(EN26 = \"\", \"\", YEAR(E26))","v":""},{"$f":" IF(EB26 = \"\", \"\", MAX(((EA26-EB26)/EA26), ((EB26-EC26)/EB26)))","v":""},{"$f":" IF(EB26=\"\", \"\", MAX($EB$6:EB26))","v":""},{"$f":" AM26","v":""},{"$f":" IF(EB26=\"\",\"\", MIN(EB26:$EB$1048576))","v":""},{"$f":" IF(EN26 = \"\", \"\", LOOKUP(2,1/(AP:AP = AP26), ROW(AP:AP)))","v":""},{"$f":" IFERROR(_xlfn.IFS(FE26 = \"1-Minute\", 1, FE26 = \"5-Minute\", 2, FE26 = \"15-Minute\", 3, FE26 = \"30-Minute\", 4, FE26 = \"1-Hour\", 5, FE26 = \"4-Hour\", 6, FE26 = \"Daily\", 7, FE26 = \"Weekly\", 8, FE26 = \"Monthly\", 9), \"\")","v":""},{"$f":" IFERROR(_xlfn.IFS(FF26 = \"Very Low\", 1, FF26 = \"Low\", 2, FF26 = \"Medium\", 3, FF26 = \"High\", 4, FF26 = \"Very High\", 5),\"\")","v":""},null,{"$f":" TEXT(CM26, \"#,###0.000\") & \" : 1\"","v":" : 1"},{"$f":" IF(EN26 = \"\", \"\", IF(N26 = \"Buy\", (ET26-EQ26)/(EV26-EU26), (EQ26-ET26)/(EU26-EV26)))","v":""},{"$f":"IF(EN26=\"\",\"\",IF(N26 = \"Buy\", (EV26 - EQ26)/(EV26-EU26), (EQ26-EV26)/(EU26-EV26)))","v":""},{"$f":"IF(EN26=\"\",\"\",IF(N26 = \"Buy\", (ET26-EU26)/(EV26-EU26), (EU26-ET26)/(EU26-EV26)))","v":""},null,null,null,null,null,null,null,null,null,null,null,{"$f":" IF(EQ26=\"\",\"\",IF(LEN(RIGHT(EQ26,LEN(EQ26)-FIND(\".\",EQ26)))=2,((IF(EN26 = \"Buy\", IF(DF26 = EQ26, IF(DG26 = ET26, 0, ET26 - DG26),IF(DG26 = ET26, DF26-EQ26, (DF26 - EQ26) + (ET26 - DG26))), IF(DF26 = EQ26, IF(DG26 = ET26, 0, DG26-ET26),IF(DG26 = ET26, EQ26-DF26, (EQ26-DF26) + (DG26-ET26)))))*100),IF(LEN(RIGHT(EQ26,LEN(EQ26)-FIND(\".\",EQ26)))=4,((IF(EN26 = \"Buy\", IF(DF26 = EQ26, IF(DG26 = ET26, 0, ET26 - DG26),IF(DG26 = ET26, DF26-EQ26, (DF26 - EQ26) + (ET26 - DG26))), IF(DF26 = EQ26, IF(DG26 = ET26, 0, DG26-ET26),IF(DG26 = ET26, EQ26-DF26, (EQ26-DF26) + (DG26-ET26)))))*10000),IF(LEN(RIGHT(EQ26,LEN(EQ26)-FIND(\".\",EQ26)))=3,((IF(EN26 = \"Buy\", IF(DF26 = EQ26, IF(DG26 = ET26, 0, ET26 - DG26),IF(DG26 = ET26, DF26-EQ26, (DF26 - EQ26) + (ET26 - DG26))), IF(DF26 = EQ26, IF(DG26 = ET26, 0, DG26-ET26),IF(DG26 = ET26, EQ26-DF26, (EQ26-DF26) + (DG26-ET26)))))*100),IF(LEN(RIGHT(EQ26,LEN(EQ26)-FIND(\".\",EQ26)))=5,((IF(EN26 = \"Buy\", IF(DF26 = EQ26, IF(DG26 = ET26, 0, ET26 - DG26),IF(DG26 = ET26, DF26-EQ26, (DF26 - EQ26) + (ET26 - DG26))), IF(DF26 = EQ26, IF(DG26 = ET26, 0, DG26-ET26),IF(DG26 = ET26, EQ26-DF26, (EQ26-DF26) + (DG26-ET26)))))*10000))))))","v":""},{"$f":"IF(EN26=\"\",\"\",IF(LEN(RIGHT(EQ26,LEN(EQ26)-FIND(\".\",EQ26)))=2,((DA26*ABS(ET26-EQ26))*100),IF(LEN(RIGHT(EQ26,LEN(EQ26)-FIND(\".\",EQ26)))=4,((DA26*ABS(ET26-EQ26))*10000),IF(LEN(RIGHT(EQ26,LEN(EQ26)-FIND(\".\",EQ26)))=3,((DA26*ABS(ET26-EQ26))*100),IF(LEN(RIGHT(EQ26,LEN(EQ26)-FIND(\".\",EQ26)))=5,((DA26*ABS(ET26-EQ26))*10000))))))","v":""},{"$f":"IF(EN26=\"\",\"\",ABS(DV26/ABS(CN26)))","v":""},null,null,null,null,null,null,null,null,null,null,"Custom Period","2019-11-28","2020-03-24",{"$f":" 1/(COUNTA(AJ:AJ)*SUM(DZ:DZ))","v":{"$error":"#DIV/0!"}}]
[null,{"$f":" B26+ 1","v":22},null,null,null,null,{"$f":" IF(EN27 = \"\", \"\", INT(K27)&\" d,\"&\" \"&HOUR(K27)&\" h,\"&\" \"&MINUTE(K27)&\" m,\"&\" \"&SECOND(K27)&\" s\")","v":""},{"$f":" IF(EN27 = \"\",\"\",IF(CZ27 +DB27 = 0, \"BE\", IF(CZ27 > 0, \"Win\",\"Loss\")))","v":""},{"$f":" IF(EN27=\"\", \"\",VALUE(C27 + D27))","v":""},{"$f":" IF(EN27 = \"\", \"\", VALUE(E27 + F27))","v":""},{"$f":"IF(EN27=\"\",\"\",IF(C27=\"\",0,IF(D27=\"\",0,(E27+F27-D27-C27))))","v":""},{"$f":" IFERROR(IF(VALUE(E27&F27) > VALUE(C28&D28), IF(VALUE(C28+D28) < VALUE(C29 + D29), E27 + F27 - C28 - D28 - (C27 + D27 - C28 - D28),E27 + F27 - C28 - D28), \"\"), \"\")","v":""},{"$f":"IFERROR(IF(EN27=\"\",\"\",IF(VALUE(E26+F26)<VALUE(C27+D27),C27+D27-E26-F26,\"\")),\"\")","v":""},{"$f":" TRIM(EN27)","v":""},{"$f":" IF(AND(N27 = \"Buy\", H27 = \"Win\"), 1, 0)","v":0},{"$f":" IF(AND(N27 = \"Sell\", H27 = \"Win\"), 1, 0)","v":0},{"$f":" IF(AND(N27 = \"Buy\", H27 = \"Loss\"), 1, 0)","v":0},{"$f":" IF(AND(N27 = \"Sell\", H27 = \"Loss\"), 1, 0)","v":0},{"$f":" IF(AND(N27 = \"Buy\", H27 = \"BE\"), 1, 0)","v":0},{"$f":" IF(AND(N27 = \"Sell\", H27 = \"BE\"), 1, 0)","v":0},{"$f":" IF(EN27 = \"\", 0, (E27 - DATE(YEAR(E27),1,0)) & YEAR(E27)&\"\")","v":0},{"$f":"IFERROR( IF(SUM(INDIRECT(\"O\"&(MATCH(U27,U:U,0))&\":T\"&DC27)) = 0, \"\", IF(ROW(U27) = FLOOR((MATCH(U27, U:U, 0) +DC27)/2,1),SUM(INDIRECT(\"O\"&(MATCH(U27,U:U,0))&\":T\"&DC27)),\"\")),\"\")","v":""},{"$f":" IFERROR(IF(EN27 = \"\", \"\", IF(ROW(U27) = FLOOR((MATCH(U27, U:U, 0) + DC27)/2,1),SUM(INDIRECT(\"BT\"&(MATCH(U27,U:U,0))&\":BT\"&DC27)),\"\")),\"\")","v":""},{"$f":"  IFERROR(IF(W27 = \"\",\"\",W27/(Y27-W27)),\"\")","v":""},{"$f":" IFERROR(IF(ROW(U27) = FLOOR((MATCH(U27, U:U, 0) + DC27)/2,1),INDIRECT(\"BU\"&DC27),\"\"),\"\")","v":""},{"$f":"  IF(V27= 0,\"\",X27)","v":""},{"$f":"IF(Z27=\"\",\"\",Z27+1)","v":""},{"$f":" IF(EN27 = \"\", 0, WEEKNUM(E27) & YEAR(E27) & \"\")","v":0},{"$f":" IFERROR(IF(SUM(INDIRECT(\"O\"&(MATCH(AB27,AB:AB,0))&\":T\"&DD27)) = 0, \"\", IF(ROW(AB27) = FLOOR((MATCH(AB27, AB:AB, 0) + DD27)/2,1),SUM(INDIRECT(\"O\"&(MATCH(AB27,AB:AB,0))&\":T\"&DD27)),\"\")),\"\")","v":""},{"$f":" IFERROR(IF(EN27 = \"\", \"\", IF(ROW(AB27) = FLOOR((MATCH(AB27, AB:AB, 0) +DD27)/2,1),SUM(INDIRECT(\"BT\"&(MATCH(AB27,AB:AB,0))&\":BT\"&DD27)),\"\")),\"\")","v":""},{"$f":" IFERROR( IF(AD27 = \"\",\"\",AD27/(AF27-AD27)),\"\")","v":""},{"$f":" IFERROR(IF(ROW(AB27) = FLOOR((MATCH(AB27, AB:AB, 0) + DD27)/2,1),INDIRECT(\"BU\"&DD27),\"\"),\"\")","v":""},{"$f":"  IF(AC27= 0,\"\",AE27)","v":""},{"$f":"IF(AG27=\"\",\"\",AG27+1)","v":""},{"$f":" IF(EN27 = \"\", 0, MONTH(E27)&YEAR(E27)&\"\")","v":0},{"$f":"IFERROR( IF(SUM(INDIRECT(\"O\"&(MATCH(AI27,AI:AI,0))&\":T\"&DE27)) = 0, \"\", IF(ROW(AI27) = FLOOR((MATCH(AI27, AI:AI, 0) + DE27)/2,1),SUM(INDIRECT(\"O\"&(MATCH(AI27,AI:AI,0))&\":T\"&DE27)),\"\")),\"\")","v":""},{"$f":" IFERROR(IF(EN27 = \"\", \"\", IF(ROW(AI27) = FLOOR((MATCH(AI27, AI:AI, 0) + DE27)/2,1),SUM(INDIRECT(\"BT\"&(MATCH(AI27,AI:AI,0))&\":BT\"&DE27)),\"\")),\"\")","v":""},{"$f":" IFERROR( IF(AK27 = \"\",\"\",AK27/(AM27-AK27)),\"\")","v":""},{"$f":" IFERROR(IF(ROW(AI27) = FLOOR((MATCH(AI27, AI:AI, 0) + DE27)/2,1),INDIRECT(\"BU\"&DE27),\"\"),\"\")","v":""},{"$f":"  IF(AJ27= 0,\"\",AL27)","v":""},{"$f":"IF(AN27=\"\",\"\",AN27+1)","v":""},{"$f":" IF(EN27 = \"\", 0, YEAR(E27)&\"\")","v":0},{"$f":" IFERROR(IF(SUM(INDIRECT(\"O\"&(MATCH(AP27,AP:AP,0))&\":T\"&ED27)) = 0, \"\", IF(ROW(AP27) = FLOOR((MATCH(AP27, AP:AP, 0) + ED27)/2,1),SUM(INDIRECT(\"O\"&(MATCH(AP27,AP:AP,0))&\":T\"&ED27)),\"\")), \"\")","v":""},{"$f":" IF(EN27 = \"\", \"\", IF(ROW(AP27) = FLOOR((MATCH(AP27, AP:AP, 0) + ED27)/2,1),SUM(INDIRECT(\"BT\"&(MATCH(AP27,AP:AP,0))&\":BT\"&ED27)),\"\"))","v":""},{"$f":" IFERROR( IF(AR27 = \"\",\"\",AR27/(AT27-AR27)),\"\")","v":""},{"$f":" IFERROR(IF(ROW(AP27) = FLOOR((MATCH(AP27, AP:AP, 0) + ED27)/2,1),INDIRECT(\"BU\"&ED27),\"\"), \"\")","v":""},{"$f":"  IF(AQ27= 0,\"\",AS27)","v":""},{"$f":"IF(AU27=\"\",\"\",AU27+1)","v":""},{"$f":" IF(BX27=\"\",0,IF(IF(BU27 = \"\",0,-1*((MIN(BU$5:$BU27)-BU27)))=0,0,IF(BU27 = \"\",0,-1*((MIN(BU$5:$BU27)-BU27)))))","v":0},{"$f":"  IF(BX27=\"\",0,IF(IF(BU27 = \"\",0,-1*((MIN(BU$5:$BU27)-BU27)))/MIN((BU$5:BU27))=0,0,IF(BU27 = \"\",0,-1*((MIN(BU$5:$BU27)-BU27)))/MIN((BU$5:BU27))))","v":0},{"$f":" IF(EN27 = \"\", \"\", IF(BD26 = BD27, AY26, AY26 + 1))","v":""},{"$f":" IF(EN27 = \"\", \"\", IF(BD26 = BD27, AZ26 + 1,1))","v":""},{"$f":" IF(AX27 = 0, \"\", IF( IF(ROW(AY27) = FLOOR((MATCH(AY27, AY:AY, 0) + MATCH(AY27, AY:AY))/2,1), INDIRECT(\"E\"&(MATCH(AY27,AY:AY))) + INDIRECT(\"F\"&(MATCH(AY27,AY:AY)))  - INDIRECT(\"E\"&(MATCH(AY27,AY:AY,0))) - INDIRECT(\"F\"&(MATCH(AY27,AY:AY,0))),\"\") = 0, \"\", IF(ROW(AY27) = FLOOR((MATCH(AY27, AY:AY, 0) + MATCH(AY27, AY:AY))/2,1), INDIRECT(\"E\"&(MATCH(AY27,AY:AY))) + INDIRECT(\"F\"&(MATCH(AY27,AY:AY)))  - INDIRECT(\"E\"&(MATCH(AY27,AY:AY,0))) - INDIRECT(\"F\"&(MATCH(AY27,AY:AY,0))),\"\")))","v":""},{"$f":" IF(EN26 = \"\", \"\", IF(IF(ROW(AY27) = FLOOR((MATCH(AY27, AY:AY, 0) + MATCH(AY27, AY:AY))/2,1), MAX(INDIRECT(\"AW\"&(MATCH(AY27,AY:AY,0))&\":AW\"&MATCH(AY27,AY:AY))),\"\") = 0, \"\",  IF(ROW(AY27) = FLOOR((MATCH(AY27, AY:AY, 0) + MATCH(AY27, AY:AY))/2,1), MAX(INDIRECT(\"AW\"&(MATCH(AY27,AY:AY,0))&\":AW\"&MATCH(AY27,AY:AY))),\"\")))","v":""},{"$f":" IF(EN26 = \"\", \"\", IF(IF(ROW(AY27) = FLOOR((MATCH(AY27, AY:AY, 0) + MATCH(AY27, AY:AY))/2,1), MAX(INDIRECT(\"AX\"&(MATCH(AY27,AY:AY,0))&\":AX\"&MATCH(AY27,AY:AY))),\"\") = 0, \"\",  IF(ROW(AY27) = FLOOR((MATCH(AY27, AY:AY, 0) + MATCH(AY27, AY:AY))/2,1), MAX(INDIRECT(\"AX\"&(MATCH(AY27,AY:AY,0))&\":AX\"&MATCH(AY27,AY:AY))),\"\")))","v":""},{"$f":" MIN(BU26, BD26)","v":0},{"$f":" IF(BX27=\"\",0,IF(IF(BU27 = \"\",0,(-1*(MAX(BU$5:$BU27)-BU27)))=0,0,IF(BU27 = \"\",0,(-1*(MAX(BU$5:$BU27)-BU27)))))","v":0},{"$f":" IF(BX27=\"\",0,IF(IF(BU27=\"\",0,(-1*(MAX(BU$5:$BU27)-BU27)))/MAX($BU$5:BU27) = 0,0,IF(BU27=\"\",0,(-1*(MAX(BU$5:$BU27)-BU27)))/MAX($BU$5:BU27)))","v":0},{"$f":" IF(EN27 = \"\", \"\", IF(BL26 = BL27, BG26, BG26 + 1))","v":""},{"$f":" IF(EN27 = \"\", \"\", IF(BL26 = BL27, BH26 + 1,1))","v":""},{"$f":" IF(BF27 = 0, \"\", IF( IF(ROW(BG27) = FLOOR((MATCH(BG27, BG:BG, 0) + MATCH(BG27, BG:BG))/2,1), INDIRECT(\"E\"&(MATCH(BG27,BG:BG))) + INDIRECT(\"F\"&(MATCH(BG27,BG:BG)))  - INDIRECT(\"E\"&(MATCH(BG27,BG:BG,0))) - INDIRECT(\"F\"&(MATCH(BG27,BG:BG,0))),\"\") = 0, \"\", IF(ROW(BG27) = FLOOR((MATCH(BG27,BG:BG,0) + MATCH(BG27, BG:BG))/2,1), INDIRECT(\"E\"&(MATCH(BG27,BG:BG))) + INDIRECT(\"F\"&(MATCH(BG27,BG:BG)))  - INDIRECT(\"E\"&(MATCH(BG27,BG:BG,0))) - INDIRECT(\"F\"&(MATCH(BG27,BG:BG,0))),\"\")))","v":""},{"$f":" IF(EN26 = \"\", \"\",  IF(IF(ROW(BG27) = FLOOR((MATCH(BG27, BG:BG, 0) + MATCH(BG27, BG:BG))/2,1), MIN(INDIRECT(\"BE\"&(MATCH(BG27,BG:BG,0))&\":BE\"&MATCH(BG27,BG:BG))),\"\") = 0, \"\", IF(ROW(BG27) = FLOOR((MATCH(BG27, BG:BG, 0) + MATCH(BG27, BG:BG))/2,1), MIN(INDIRECT(\"BE\"&(MATCH(BG27,BG:BG,0))&\":BE\"&MATCH(BG27,BG:BG))),\"\")))","v":""},{"$f":" IF(EN26 = \"\", \"\",  IF(IF(ROW(BG27) = FLOOR((MATCH(BG27, BG:BG, 0) + MATCH(BG27, BG:BG))/2,1), MIN(INDIRECT(\"BF\"&(MATCH(BG27,BG:BG,0))&\":BF\"&MATCH(BG27,BG:BG))),\"\") = 0, \"\", IF(ROW(BG27) = FLOOR((MATCH(BG27, BG:BG, 0) + MATCH(BG27, BG:BG))/2,1), MIN(INDIRECT(\"BF\"&(MATCH(BG27,BG:BG,0))&\":BF\"&MATCH(BG27,BG:BG))),\"\")))","v":""},{"$f":" MAX(BU26, BL26)","v":0},{"$f":"IF(H27=\"\",\"\",IF(H27=\"Win\",IF(BN27=1,BN27 & \" \" & \"Win\",BN27 & \" \" & \"Wins\"),IF(H27=\"Loss\",IF(BN27=1,BN27 & \" \" & \"Loss\",BN27 & \" \" & \"Losses\"), IF(H27 = \"BE\",IF(BN27=1,BN27 & \" \" & \"BE\",BN27 & \" \" & \"BE's\")))))","v":""},{"$f":" IF(H26=\"\",\"\",IF(H26=H27, BN26+1,1))","v":""},{"$f":" IF(H27 = \"\", \"\", IF(H26 <> H27, (LOOKUP(9E+307,$BO$5:$BO26) + 1), \"\"))","v":""},{"$f":" IF(EN26 = \"\", \"\", IF(BN27 = 1, \"\",IF(BN27<BN28, \"\", \"S\")))","v":""},{"$f":" IF(BP27 = \"\", \"\", IF(H27 = \"Win\",BN27,\"\"))","v":""},{"$f":" IF(BP27 = \"\", \"\", IF(H27 = \"Loss\",BN27,\"\"))","v":""},{"$f":" IF(BP27 = \"\", \"\", IF(H27 = \"BE\",BN27,\"\"))","v":""},{"$f":" IF(EN27 = \"\", \"\", DB27 +CZ27)","v":""},{"$f":" IF(EN27 = \"\", \"\", BU26 + BT27)","v":""},{"$f":" IF(BU27 = \"\",\"\", BV26 + 1)","v":""},{"$f":" IF(BU27 = \"\", \"\", $FN$13*BV27 + $FM$13)","v":""},{"$f":" IF(EN27 = \"\", \"\", (BT27)/BU26)","v":""},{"$f":" IF(EN27 = \"\", \"\",'Overall Performance'!$C$22)","v":""},{"$f":" IF(EN27 = \"\", \"\", IF(BX27=0,\"\",BX27 + 1))","v":""},{"$f":" IF(H27 = \"Win\", BZ27, \"\")","v":""},{"$f":" IF(H27 = \"Loss\", BZ27, \"\")","v":""},{"$f":"IFERROR(INDEX($Y:$Y,SMALL(IF($Y:$Y<>\"\",ROW($Y:$Y)),ROW(22:22))),\"\")","v":""},{"$f":" IFERROR(IF(ULCERINDEX(CC14:CC27) = 0, \"\", ULCERINDEX(CC14:CC27)),\"\")","v":""},{"$f":" IF(Z27 = \"\", \"\", IF(Z27>0, 0, CH27))","v":""},{"$f":" IF(Z27 = \"\", \"\", IF(Z27>0, 0, W27))","v":""},{"$f":" IF(Z27 = \"\", \"\", Z27 - $FJ$10 + 1)","v":""},{"$f":" IF(Z27 = \"\", \"\", Z27 - $FJ$10)","v":""},{"$f":" IF(AN27 = \"\", \"\", IF(AN27 > 0, 0, CL27))","v":""},{"$f":" IF(AN27 = \"\", \"\", IF(AN27 > 0, 0, AK27))","v":""},{"$f":"IF(AN27=\"\", \"\",AN27-$FJ$14 + 1)","v":""},{"$f":"IF(AN27=\"\", \"\",AN27-$FJ$14)","v":""},{"$f":" IF(EN27 = \"\",\"\",(ES27 - EQ27)/(EQ27 - ER27))","v":""},{"$f":" IF(EN27=\"\",\"\", DA27*ABS((ET27-EQ27)/(EQ27-ER27)))","v":""},{"$f":" IF(CN27 > 0, CN27, \"\")","v":""},{"$f":" IF(CN27 < 0, CN27, \"\")","v":""},{"$f":" IF(EN27 = \"\", \"\", IF(OR(BX27 > AVERAGE(BX:BX) + 3*_xlfn.STDEV.P(BX:BX), BX27 < AVERAGE(BX:BX) - 3*_xlfn.STDEV.P(BX:BX)), BX27, 0))","v":""},{"$f":" IF(EN27= \"\", \"\", SUM(INDIRECT(\"BT\"&(MATCH(U27,U:U,0))&\":BT\"&DC27)))","v":""},{"$f":" IF(EN27= \"\", \"\", SUM(INDIRECT(\"ET\"&(MATCH(U27,U:U,0))&\":ET\"&DC27)))","v":""},{"$f":" IF(EN27= \"\", \"\", (INDIRECT(\"BU\"&DC27)))","v":""},{"$f":" IF(EN27= \"\", \"\", SUM(INDIRECT(\"O\"&(MATCH(U27,U:U,0))&\":T\"&DC27)))","v":""},{"$f":"IF(EN27=\"\",\"\",IF(LEN(RIGHT(EQ27,LEN(EQ27)-FIND(\".\",EQ27)))=2,((-1*ABS(EU27-EQ27))*100),IF(LEN(RIGHT(EQ27,LEN(EQ27)-FIND(\".\",EQ27)))=4,((-1*ABS(EU27-EQ27))*10000),IF(LEN(RIGHT(EQ27,LEN(EQ27)-FIND(\".\",EQ27)))=3,((-1*ABS(EU27-EQ27))*100),IF(LEN(RIGHT(EQ27,LEN(EQ27)-FIND(\".\",EQ27)))=5,((-1*ABS(EU27-EQ27))*10000))))))","v":""},{"$f":" IF(EN27 = \"\", \"\", (((EU27-EQ27)/(ET27-EQ27))*CZ27) + DB27)","v":""},{"$f":"IF(EN27=\"\",\"\",IF(LEN(RIGHT(EQ27,LEN(EQ27)-FIND(\".\",EQ27)))=2,((ABS(EV27-EQ27))*100),IF(LEN(RIGHT(EQ27,LEN(EQ27)-FIND(\".\",EQ27)))=4,((ABS(EV27-EQ27))*10000),IF(LEN(RIGHT(EQ27,LEN(EQ27)-FIND(\".\",EQ27)))=3,((ABS(EV27-EQ27))*100),IF(LEN(RIGHT(EQ27,LEN(EQ27)-FIND(\".\",EQ27)))=5,((ABS(EV27-EQ27))*10000))))))","v":""},{"$f":" IF(EN27 = \"\", \"\", (((EV27-EQ27)/(ET27-EQ27))*CZ27) + DB27)","v":""},{"$f":" IF(EN27 = \"\", \"\", EL27)","v":""},{"$f":" IF(EN27 = \"\", \"\", IF(EN27 = \"Buy\", IF(EQ27 > ET27, -1, 1), IF(EQ27 > ET27, 1, -1)))","v":""},{"$f":"IF(EN27=\"\", \"\",EZ27+FA27)","v":""},{"$f":" IF(EN27 = \"\", \"\", LOOKUP(2,1/(U:U = U27), ROW(U:U)))","v":""},{"$f":" IF(EN27 = \"\", \"\", LOOKUP(2,1/(AB:AB = AB27), ROW(AB:AB)))","v":""},{"$f":" IF(EN27 = \"\", \"\", LOOKUP(2,1/(AI:AI = AI27), ROW(AI:AI)))","v":""},null,null,{"$f":" IF(CO27 = \"\", \"\", CO27*EY27)","v":""},{"$f":" IF(CP27 = \"\", \"\", CP27*EY27)","v":""},{"$f":" IF(EN27 = \"\", \"\",BF27)","v":""},{"$f":" DJ27","v":""},{"$f":" IF(EL28 = \"\", \"\", DL26 + 1)","v":""},{"$f":" IF(EN27 <> \"\", K27*24,#N/A)","v":{"$error":"#N/A"}},{"$f":" IF(EN27 <> \"\", CW27,#N/A)","v":{"$error":"#N/A"}},{"$f":" IF(EN27 <> \"\", CY27,#N/A)","v":{"$error":"#N/A"}},{"$f":" IF(EN27 <> \"\", CM27,#N/A)","v":{"$error":"#N/A"}},{"$f":" IF(EN27 <> \"\", CN27,#N/A)","v":{"$error":"#N/A"}},{"$f":" IF(CN27 > 0, CM27, -1)","v":""},{"$f":" IF(CN27 > 0, CM27, \"\")","v":""},{"$f":" IF(CN27 < 0, CM27, \"\")","v":""},{"$f":" IF(AQ27 = \"\",\"\",LOOKUP(9E+307,$DU$5:$DU26) + 1)","v":""},{"$f":" IF(EN27 = \"\", \"\", (CZ27)/BU26)","v":""},{"$f":" IF(EN27 = \"\", \"\", WEEKDAY(C27,1))","v":""},{"$f":" IF(EN27=\"\", \"\", MONTH(C27))","v":""},{"$f":" IF(EN27 = \"\", \"\", YEAR(E27))","v":""},{"$f":" IF(EB27 = \"\", \"\", MAX(((EA27-EB27)/EA27), ((EB27-EC27)/EB27)))","v":""},{"$f":" IF(EB27=\"\", \"\", MAX($EB$6:EB27))","v":""},{"$f":" AM27","v":""},{"$f":" IF(EB27=\"\",\"\", MIN(EB27:$EB$1048576))","v":""},{"$f":" IF(EN27 = \"\", \"\", LOOKUP(2,1/(AP:AP = AP27), ROW(AP:AP)))","v":""},{"$f":" IFERROR(_xlfn.IFS(FE27 = \"1-Minute\", 1, FE27 = \"5-Minute\", 2, FE27 = \"15-Minute\", 3, FE27 = \"30-Minute\", 4, FE27 = \"1-Hour\", 5, FE27 = \"4-Hour\", 6, FE27 = \"Daily\", 7, FE27 = \"Weekly\", 8, FE27 = \"Monthly\", 9), \"\")","v":""},{"$f":" IFERROR(_xlfn.IFS(FF27 = \"Very Low\", 1, FF27 = \"Low\", 2, FF27 = \"Medium\", 3, FF27 = \"High\", 4, FF27 = \"Very High\", 5),\"\")","v":""},null,{"$f":" TEXT(CM27, \"#,###0.000\") & \" : 1\"","v":" : 1"},{"$f":" IF(EN27 = \"\", \"\", IF(N27 = \"Buy\", (ET27-EQ27)/(EV27-EU27), (EQ27-ET27)/(EU27-EV27)))","v":""},{"$f":"IF(EN27=\"\",\"\",IF(N27 = \"Buy\", (EV27 - EQ27)/(EV27-EU27), (EQ27-EV27)/(EU27-EV27)))","v":""},{"$f":"IF(EN27=\"\",\"\",IF(N27 = \"Buy\", (ET27-EU27)/(EV27-EU27), (EU27-ET27)/(EU27-EV27)))","v":""},null,null,null,null,null,null,null,null,null,null,null,{"$f":" IF(EQ27=\"\",\"\",IF(LEN(RIGHT(EQ27,LEN(EQ27)-FIND(\".\",EQ27)))=2,((IF(EN27 = \"Buy\", IF(DF27 = EQ27, IF(DG27 = ET27, 0, ET27 - DG27),IF(DG27 = ET27, DF27-EQ27, (DF27 - EQ27) + (ET27 - DG27))), IF(DF27 = EQ27, IF(DG27 = ET27, 0, DG27-ET27),IF(DG27 = ET27, EQ27-DF27, (EQ27-DF27) + (DG27-ET27)))))*100),IF(LEN(RIGHT(EQ27,LEN(EQ27)-FIND(\".\",EQ27)))=4,((IF(EN27 = \"Buy\", IF(DF27 = EQ27, IF(DG27 = ET27, 0, ET27 - DG27),IF(DG27 = ET27, DF27-EQ27, (DF27 - EQ27) + (ET27 - DG27))), IF(DF27 = EQ27, IF(DG27 = ET27, 0, DG27-ET27),IF(DG27 = ET27, EQ27-DF27, (EQ27-DF27) + (DG27-ET27)))))*10000),IF(LEN(RIGHT(EQ27,LEN(EQ27)-FIND(\".\",EQ27)))=3,((IF(EN27 = \"Buy\", IF(DF27 = EQ27, IF(DG27 = ET27, 0, ET27 - DG27),IF(DG27 = ET27, DF27-EQ27, (DF27 - EQ27) + (ET27 - DG27))), IF(DF27 = EQ27, IF(DG27 = ET27, 0, DG27-ET27),IF(DG27 = ET27, EQ27-DF27, (EQ27-DF27) + (DG27-ET27)))))*100),IF(LEN(RIGHT(EQ27,LEN(EQ27)-FIND(\".\",EQ27)))=5,((IF(EN27 = \"Buy\", IF(DF27 = EQ27, IF(DG27 = ET27, 0, ET27 - DG27),IF(DG27 = ET27, DF27-EQ27, (DF27 - EQ27) + (ET27 - DG27))), IF(DF27 = EQ27, IF(DG27 = ET27, 0, DG27-ET27),IF(DG27 = ET27, EQ27-DF27, (EQ27-DF27) + (DG27-ET27)))))*10000))))))","v":""},{"$f":"IF(EN27=\"\",\"\",IF(LEN(RIGHT(EQ27,LEN(EQ27)-FIND(\".\",EQ27)))=2,((DA27*ABS(ET27-EQ27))*100),IF(LEN(RIGHT(EQ27,LEN(EQ27)-FIND(\".\",EQ27)))=4,((DA27*ABS(ET27-EQ27))*10000),IF(LEN(RIGHT(EQ27,LEN(EQ27)-FIND(\".\",EQ27)))=3,((DA27*ABS(ET27-EQ27))*100),IF(LEN(RIGHT(EQ27,LEN(EQ27)-FIND(\".\",EQ27)))=5,((DA27*ABS(ET27-EQ27))*10000))))))","v":""},{"$f":"IF(EN27=\"\",\"\",ABS(DV27/ABS(CN27)))","v":""},null,null,null,null,null,null,null,null,null,null,"Today","2020-03-24","2020-03-24"]
[null,{"$f":" B27+ 1","v":23},null,null,null,null,{"$f":" IF(EN28 = \"\", \"\", INT(K28)&\" d,\"&\" \"&HOUR(K28)&\" h,\"&\" \"&MINUTE(K28)&\" m,\"&\" \"&SECOND(K28)&\" s\")","v":""},{"$f":" IF(EN28 = \"\",\"\",IF(CZ28 +DB28 = 0, \"BE\", IF(CZ28 > 0, \"Win\",\"Loss\")))","v":""},{"$f":" IF(EN28=\"\", \"\",VALUE(C28 + D28))","v":""},{"$f":" IF(EN28 = \"\", \"\", VALUE(E28 + F28))","v":""},{"$f":"IF(EN28=\"\",\"\",IF(C28=\"\",0,IF(D28=\"\",0,(E28+F28-D28-C28))))","v":""},{"$f":" IFERROR(IF(VALUE(E28&F28) > VALUE(C29&D29), IF(VALUE(C29+D29) < VALUE(C30 + D30), E28 + F28 - C29 - D29 - (C28 + D28 - C29 - D29),E28 + F28 - C29 - D29), \"\"), \"\")","v":""},{"$f":"IFERROR(IF(EN28=\"\",\"\",IF(VALUE(E27+F27)<VALUE(C28+D28),C28+D28-E27-F27,\"\")),\"\")","v":""},{"$f":" TRIM(EN28)","v":""},{"$f":" IF(AND(N28 = \"Buy\", H28 = \"Win\"), 1, 0)","v":0},{"$f":" IF(AND(N28 = \"Sell\", H28 = \"Win\"), 1, 0)","v":0},{"$f":" IF(AND(N28 = \"Buy\", H28 = \"Loss\"), 1, 0)","v":0},{"$f":" IF(AND(N28 = \"Sell\", H28 = \"Loss\"), 1, 0)","v":0},{"$f":" IF(AND(N28 = \"Buy\", H28 = \"BE\"), 1, 0)","v":0},{"$f":" IF(AND(N28 = \"Sell\", H28 = \"BE\"), 1, 0)","v":0},{"$f":" IF(EN28 = \"\", 0, (E28 - DATE(YEAR(E28),1,0)) & YEAR(E28)&\"\")","v":0},{"$f":"IFERROR( IF(SUM(INDIRECT(\"O\"&(MATCH(U28,U:U,0))&\":T\"&DC28)) = 0, \"\", IF(ROW(U28) = FLOOR((MATCH(U28, U:U, 0) +DC28)/2,1),SUM(INDIRECT(\"O\"&(MATCH(U28,U:U,0))&\":T\"&DC28)),\"\")),\"\")","v":""},{"$f":" IFERROR(IF(EN28 = \"\", \"\", IF(ROW(U28) = FLOOR((MATCH(U28, U:U, 0) + DC28)/2,1),SUM(INDIRECT(\"BT\"&(MATCH(U28,U:U,0))&\":BT\"&DC28)),\"\")),\"\")","v":""},{"$f":"  IFERROR(IF(W28 = \"\",\"\",W28/(Y28-W28)),\"\")","v":""},{"$f":" IFERROR(IF(ROW(U28) = FLOOR((MATCH(U28, U:U, 0) + DC28)/2,1),INDIRECT(\"BU\"&DC28),\"\"),\"\")","v":""},{"$f":"  IF(V28= 0,\"\",X28)","v":""},{"$f":"IF(Z28=\"\",\"\",Z28+1)","v":""},{"$f":" IF(EN28 = \"\", 0, WEEKNUM(E28) & YEAR(E28) & \"\")","v":0},{"$f":" IFERROR(IF(SUM(INDIRECT(\"O\"&(MATCH(AB28,AB:AB,0))&\":T\"&DD28)) = 0, \"\", IF(ROW(AB28) = FLOOR((MATCH(AB28, AB:AB, 0) + DD28)/2,1),SUM(INDIRECT(\"O\"&(MATCH(AB28,AB:AB,0))&\":T\"&DD28)),\"\")),\"\")","v":""},{"$f":" IFERROR(IF(EN28 = \"\", \"\", IF(ROW(AB28) = FLOOR((MATCH(AB28, AB:AB, 0) +DD28)/2,1),SUM(INDIRECT(\"BT\"&(MATCH(AB28,AB:AB,0))&\":BT\"&DD28)),\"\")),\"\")","v":""},{"$f":" IFERROR( IF(AD28 = \"\",\"\",AD28/(AF28-AD28)),\"\")","v":""},{"$f":" IFERROR(IF(ROW(AB28) = FLOOR((MATCH(AB28, AB:AB, 0) + DD28)/2,1),INDIRECT(\"BU\"&DD28),\"\"),\"\")","v":""},{"$f":"  IF(AC28= 0,\"\",AE28)","v":""},{"$f":"IF(AG28=\"\",\"\",AG28+1)","v":""},{"$f":" IF(EN28 = \"\", 0, MONTH(E28)&YEAR(E28)&\"\")","v":0},{"$f":"IFERROR( IF(SUM(INDIRECT(\"O\"&(MATCH(AI28,AI:AI,0))&\":T\"&DE28)) = 0, \"\", IF(ROW(AI28) = FLOOR((MATCH(AI28, AI:AI, 0) + DE28)/2,1),SUM(INDIRECT(\"O\"&(MATCH(AI28,AI:AI,0))&\":T\"&DE28)),\"\")),\"\")","v":""},{"$f":" IFERROR(IF(EN28 = \"\", \"\", IF(ROW(AI28) = FLOOR((MATCH(AI28, AI:AI, 0) + DE28)/2,1),SUM(INDIRECT(\"BT\"&(MATCH(AI28,AI:AI,0))&\":BT\"&DE28)),\"\")),\"\")","v":""},{"$f":" IFERROR( IF(AK28 = \"\",\"\",AK28/(AM28-AK28)),\"\")","v":""},{"$f":" IFERROR(IF(ROW(AI28) = FLOOR((MATCH(AI28, AI:AI, 0) + DE28)/2,1),INDIRECT(\"BU\"&DE28),\"\"),\"\")","v":""},{"$f":"  IF(AJ28= 0,\"\",AL28)","v":""},{"$f":"IF(AN28=\"\",\"\",AN28+1)","v":""},{"$f":" IF(EN28 = \"\", 0, YEAR(E28)&\"\")","v":0},{"$f":" IFERROR(IF(SUM(INDIRECT(\"O\"&(MATCH(AP28,AP:AP,0))&\":T\"&ED28)) = 0, \"\", IF(ROW(AP28) = FLOOR((MATCH(AP28, AP:AP, 0) + ED28)/2,1),SUM(INDIRECT(\"O\"&(MATCH(AP28,AP:AP,0))&\":T\"&ED28)),\"\")), \"\")","v":""},{"$f":" IF(EN28 = \"\", \"\", IF(ROW(AP28) = FLOOR((MATCH(AP28, AP:AP, 0) + ED28)/2,1),SUM(INDIRECT(\"BT\"&(MATCH(AP28,AP:AP,0))&\":BT\"&ED28)),\"\"))","v":""},{"$f":" IFERROR( IF(AR28 = \"\",\"\",AR28/(AT28-AR28)),\"\")","v":""},{"$f":" IFERROR(IF(ROW(AP28) = FLOOR((MATCH(AP28, AP:AP, 0) + ED28)/2,1),INDIRECT(\"BU\"&ED28),\"\"), \"\")","v":""},{"$f":"  IF(AQ28= 0,\"\",AS28)","v":""},{"$f":"IF(AU28=\"\",\"\",AU28+1)","v":""},{"$f":" IF(BX28=\"\",0,IF(IF(BU28 = \"\",0,-1*((MIN(BU$5:$BU28)-BU28)))=0,0,IF(BU28 = \"\",0,-1*((MIN(BU$5:$BU28)-BU28)))))","v":0},{"$f":"  IF(BX28=\"\",0,IF(IF(BU28 = \"\",0,-1*((MIN(BU$5:$BU28)-BU28)))/MIN((BU$5:BU28))=0,0,IF(BU28 = \"\",0,-1*((MIN(BU$5:$BU28)-BU28)))/MIN((BU$5:BU28))))","v":0},{"$f":" IF(EN28 = \"\", \"\", IF(BD27 = BD28, AY27, AY27 + 1))","v":""},{"$f":" IF(EN28 = \"\", \"\", IF(BD27 = BD28, AZ27 + 1,1))","v":""},{"$f":" IF(AX28 = 0, \"\", IF( IF(ROW(AY28) = FLOOR((MATCH(AY28, AY:AY, 0) + MATCH(AY28, AY:AY))/2,1), INDIRECT(\"E\"&(MATCH(AY28,AY:AY))) + INDIRECT(\"F\"&(MATCH(AY28,AY:AY)))  - INDIRECT(\"E\"&(MATCH(AY28,AY:AY,0))) - INDIRECT(\"F\"&(MATCH(AY28,AY:AY,0))),\"\") = 0, \"\", IF(ROW(AY28) = FLOOR((MATCH(AY28, AY:AY, 0) + MATCH(AY28, AY:AY))/2,1), INDIRECT(\"E\"&(MATCH(AY28,AY:AY))) + INDIRECT(\"F\"&(MATCH(AY28,AY:AY)))  - INDIRECT(\"E\"&(MATCH(AY28,AY:AY,0))) - INDIRECT(\"F\"&(MATCH(AY28,AY:AY,0))),\"\")))","v":""},{"$f":" IF(EN27 = \"\", \"\", IF(IF(ROW(AY28) = FLOOR((MATCH(AY28, AY:AY, 0) + MATCH(AY28, AY:AY))/2,1), MAX(INDIRECT(\"AW\"&(MATCH(AY28,AY:AY,0))&\":AW\"&MATCH(AY28,AY:AY))),\"\") = 0, \"\",  IF(ROW(AY28) = FLOOR((MATCH(AY28, AY:AY, 0) + MATCH(AY28, AY:AY))/2,1), MAX(INDIRECT(\"AW\"&(MATCH(AY28,AY:AY,0))&\":AW\"&MATCH(AY28,AY:AY))),\"\")))","v":""},{"$f":" IF(EN27 = \"\", \"\", IF(IF(ROW(AY28) = FLOOR((MATCH(AY28, AY:AY, 0) + MATCH(AY28, AY:AY))/2,1), MAX(INDIRECT(\"AX\"&(MATCH(AY28,AY:AY,0))&\":AX\"&MATCH(AY28,AY:AY))),\"\") = 0, \"\",  IF(ROW(AY28) = FLOOR((MATCH(AY28, AY:AY, 0) + MATCH(AY28, AY:AY))/2,1), MAX(INDIRECT(\"AX\"&(MATCH(AY28,AY:AY,0))&\":AX\"&MATCH(AY28,AY:AY))),\"\")))","v":""},{"$f":" MIN(BU27, BD27)","v":0},{"$f":" IF(BX28=\"\",0,IF(IF(BU28 = \"\",0,(-1*(MAX(BU$5:$BU28)-BU28)))=0,0,IF(BU28 = \"\",0,(-1*(MAX(BU$5:$BU28)-BU28)))))","v":0},{"$f":" IF(BX28=\"\",0,IF(IF(BU28=\"\",0,(-1*(MAX(BU$5:$BU28)-BU28)))/MAX($BU$5:BU28) = 0,0,IF(BU28=\"\",0,(-1*(MAX(BU$5:$BU28)-BU28)))/MAX($BU$5:BU28)))","v":0},{"$f":" IF(EN28 = \"\", \"\", IF(BL27 = BL28, BG27, BG27 + 1))","v":""},{"$f":" IF(EN28 = \"\", \"\", IF(BL27 = BL28, BH27 + 1,1))","v":""},{"$f":" IF(BF28 = 0, \"\", IF( IF(ROW(BG28) = FLOOR((MATCH(BG28, BG:BG, 0) + MATCH(BG28, BG:BG))/2,1), INDIRECT(\"E\"&(MATCH(BG28,BG:BG))) + INDIRECT(\"F\"&(MATCH(BG28,BG:BG)))  - INDIRECT(\"E\"&(MATCH(BG28,BG:BG,0))) - INDIRECT(\"F\"&(MATCH(BG28,BG:BG,0))),\"\") = 0, \"\", IF(ROW(BG28) = FLOOR((MATCH(BG28,BG:BG,0) + MATCH(BG28, BG:BG))/2,1), INDIRECT(\"E\"&(MATCH(BG28,BG:BG))) + INDIRECT(\"F\"&(MATCH(BG28,BG:BG)))  - INDIRECT(\"E\"&(MATCH(BG28,BG:BG,0))) - INDIRECT(\"F\"&(MATCH(BG28,BG:BG,0))),\"\")))","v":""},{"$f":" IF(EN27 = \"\", \"\",  IF(IF(ROW(BG28) = FLOOR((MATCH(BG28, BG:BG, 0) + MATCH(BG28, BG:BG))/2,1), MIN(INDIRECT(\"BE\"&(MATCH(BG28,BG:BG,0))&\":BE\"&MATCH(BG28,BG:BG))),\"\") = 0, \"\", IF(ROW(BG28) = FLOOR((MATCH(BG28, BG:BG, 0) + MATCH(BG28, BG:BG))/2,1), MIN(INDIRECT(\"BE\"&(MATCH(BG28,BG:BG,0))&\":BE\"&MATCH(BG28,BG:BG))),\"\")))","v":""},{"$f":" IF(EN27 = \"\", \"\",  IF(IF(ROW(BG28) = FLOOR((MATCH(BG28, BG:BG, 0) + MATCH(BG28, BG:BG))/2,1), MIN(INDIRECT(\"BF\"&(MATCH(BG28,BG:BG,0))&\":BF\"&MATCH(BG28,BG:BG))),\"\") = 0, \"\", IF(ROW(BG28) = FLOOR((MATCH(BG28, BG:BG, 0) + MATCH(BG28, BG:BG))/2,1), MIN(INDIRECT(\"BF\"&(MATCH(BG28,BG:BG,0))&\":BF\"&MATCH(BG28,BG:BG))),\"\")))","v":""},{"$f":" MAX(BU27, BL27)","v":0},{"$f":"IF(H28=\"\",\"\",IF(H28=\"Win\",IF(BN28=1,BN28 & \" \" & \"Win\",BN28 & \" \" & \"Wins\"),IF(H28=\"Loss\",IF(BN28=1,BN28 & \" \" & \"Loss\",BN28 & \" \" & \"Losses\"), IF(H28 = \"BE\",IF(BN28=1,BN28 & \" \" & \"BE\",BN28 & \" \" & \"BE's\")))))","v":""},{"$f":" IF(H27=\"\",\"\",IF(H27=H28, BN27+1,1))","v":""},{"$f":" IF(H28 = \"\", \"\", IF(H27 <> H28, (LOOKUP(9E+307,$BO$5:$BO27) + 1), \"\"))","v":""},{"$f":" IF(EN27 = \"\", \"\", IF(BN28 = 1, \"\",IF(BN28<BN29, \"\", \"S\")))","v":""},{"$f":" IF(BP28 = \"\", \"\", IF(H28 = \"Win\",BN28,\"\"))","v":""},{"$f":" IF(BP28 = \"\", \"\", IF(H28 = \"Loss\",BN28,\"\"))","v":""},{"$f":" IF(BP28 = \"\", \"\", IF(H28 = \"BE\",BN28,\"\"))","v":""},{"$f":" IF(EN28 = \"\", \"\", DB28 +CZ28)","v":""},{"$f":" IF(EN28 = \"\", \"\", BU27 + BT28)","v":""},{"$f":" IF(BU28 = \"\",\"\", BV27 + 1)","v":""},{"$f":" IF(BU28 = \"\", \"\", $FN$13*BV28 + $FM$13)","v":""},{"$f":" IF(EN28 = \"\", \"\", (BT28)/BU27)","v":""},{"$f":" IF(EN28 = \"\", \"\",'Overall Performance'!$C$22)","v":""},{"$f":" IF(EN28 = \"\", \"\", IF(BX28=0,\"\",BX28 + 1))","v":""},{"$f":" IF(H28 = \"Win\", BZ28, \"\")","v":""},{"$f":" IF(H28 = \"Loss\", BZ28, \"\")","v":""},{"$f":"IFERROR(INDEX($Y:$Y,SMALL(IF($Y:$Y<>\"\",ROW($Y:$Y)),ROW(23:23))),\"\")","v":""},{"$f":" IFERROR(IF(ULCERINDEX(CC15:CC28) = 0, \"\", ULCERINDEX(CC15:CC28)),\"\")","v":""},{"$f":" IF(Z28 = \"\", \"\", IF(Z28>0, 0, CH28))","v":""},{"$f":" IF(Z28 = \"\", \"\", IF(Z28>0, 0, W28))","v":""},{"$f":" IF(Z28 = \"\", \"\", Z28 - $FJ$10 + 1)","v":""},{"$f":" IF(Z28 = \"\", \"\", Z28 - $FJ$10)","v":""},{"$f":" IF(AN28 = \"\", \"\", IF(AN28 > 0, 0, CL28))","v":""},{"$f":" IF(AN28 = \"\", \"\", IF(AN28 > 0, 0, AK28))","v":""},{"$f":"IF(AN28=\"\", \"\",AN28-$FJ$14 + 1)","v":""},{"$f":"IF(AN28=\"\", \"\",AN28-$FJ$14)","v":""},{"$f":" IF(EN28 = \"\",\"\",(ES28 - EQ28)/(EQ28 - ER28))","v":""},{"$f":" IF(EN28=\"\",\"\", DA28*ABS((ET28-EQ28)/(EQ28-ER28)))","v":""},{"$f":" IF(CN28 > 0, CN28, \"\")","v":""},{"$f":" IF(CN28 < 0, CN28, \"\")","v":""},{"$f":" IF(EN28 = \"\", \"\", IF(OR(BX28 > AVERAGE(BX:BX) + 3*_xlfn.STDEV.P(BX:BX), BX28 < AVERAGE(BX:BX) - 3*_xlfn.STDEV.P(BX:BX)), BX28, 0))","v":""},{"$f":" IF(EN28= \"\", \"\", SUM(INDIRECT(\"BT\"&(MATCH(U28,U:U,0))&\":BT\"&DC28)))","v":""},{"$f":" IF(EN28= \"\", \"\", SUM(INDIRECT(\"ET\"&(MATCH(U28,U:U,0))&\":ET\"&DC28)))","v":""},{"$f":" IF(EN28= \"\", \"\", (INDIRECT(\"BU\"&DC28)))","v":""},{"$f":" IF(EN28= \"\", \"\", SUM(INDIRECT(\"O\"&(MATCH(U28,U:U,0))&\":T\"&DC28)))","v":""},{"$f":"IF(EN28=\"\",\"\",IF(LEN(RIGHT(EQ28,LEN(EQ28)-FIND(\".\",EQ28)))=2,((-1*ABS(EU28-EQ28))*100),IF(LEN(RIGHT(EQ28,LEN(EQ28)-FIND(\".\",EQ28)))=4,((-1*ABS(EU28-EQ28))*10000),IF(LEN(RIGHT(EQ28,LEN(EQ28)-FIND(\".\",EQ28)))=3,((-1*ABS(EU28-EQ28))*100),IF(LEN(RIGHT(EQ28,LEN(EQ28)-FIND(\".\",EQ28)))=5,((-1*ABS(EU28-EQ28))*10000))))))","v":""},{"$f":" IF(EN28 = \"\", \"\", (((EU28-EQ28)/(ET28-EQ28))*CZ28) + DB28)","v":""},{"$f":"IF(EN28=\"\",\"\",IF(LEN(RIGHT(EQ28,LEN(EQ28)-FIND(\".\",EQ28)))=2,((ABS(EV28-EQ28))*100),IF(LEN(RIGHT(EQ28,LEN(EQ28)-FIND(\".\",EQ28)))=4,((ABS(EV28-EQ28))*10000),IF(LEN(RIGHT(EQ28,LEN(EQ28)-FIND(\".\",EQ28)))=3,((ABS(EV28-EQ28))*100),IF(LEN(RIGHT(EQ28,LEN(EQ28)-FIND(\".\",EQ28)))=5,((ABS(EV28-EQ28))*10000))))))","v":""},{"$f":" IF(EN28 = \"\", \"\", (((EV28-EQ28)/(ET28-EQ28))*CZ28) + DB28)","v":""},{"$f":" IF(EN28 = \"\", \"\", EL28)","v":""},{"$f":" IF(EN28 = \"\", \"\", IF(EN28 = \"Buy\", IF(EQ28 > ET28, -1, 1), IF(EQ28 > ET28, 1, -1)))","v":""},{"$f":"IF(EN28=\"\", \"\",EZ28+FA28)","v":""},{"$f":" IF(EN28 = \"\", \"\", LOOKUP(2,1/(U:U = U28), ROW(U:U)))","v":""},{"$f":" IF(EN28 = \"\", \"\", LOOKUP(2,1/(AB:AB = AB28), ROW(AB:AB)))","v":""},{"$f":" IF(EN28 = \"\", \"\", LOOKUP(2,1/(AI:AI = AI28), ROW(AI:AI)))","v":""},null,null,{"$f":" IF(CO28 = \"\", \"\", CO28*EY28)","v":""},{"$f":" IF(CP28 = \"\", \"\", CP28*EY28)","v":""},{"$f":" IF(EN28 = \"\", \"\",BF28)","v":""},{"$f":" DJ28","v":""},{"$f":" IF(EL29 = \"\", \"\", DL27 + 1)","v":""},{"$f":" IF(EN28 <> \"\", K28*24,#N/A)","v":{"$error":"#N/A"}},{"$f":" IF(EN28 <> \"\", CW28,#N/A)","v":{"$error":"#N/A"}},{"$f":" IF(EN28 <> \"\", CY28,#N/A)","v":{"$error":"#N/A"}},{"$f":" IF(EN28 <> \"\", CM28,#N/A)","v":{"$error":"#N/A"}},{"$f":" IF(EN28 <> \"\", CN28,#N/A)","v":{"$error":"#N/A"}},{"$f":" IF(CN28 > 0, CM28, -1)","v":""},{"$f":" IF(CN28 > 0, CM28, \"\")","v":""},{"$f":" IF(CN28 < 0, CM28, \"\")","v":""},{"$f":" IF(AQ28 = \"\",\"\",LOOKUP(9E+307,$DU$5:$DU27) + 1)","v":""},{"$f":" IF(EN28 = \"\", \"\", (CZ28)/BU27)","v":""},{"$f":" IF(EN28 = \"\", \"\", WEEKDAY(C28,1))","v":""},{"$f":" IF(EN28=\"\", \"\", MONTH(C28))","v":""},{"$f":" IF(EN28 = \"\", \"\", YEAR(E28))","v":""},{"$f":" IF(EB28 = \"\", \"\", MAX(((EA28-EB28)/EA28), ((EB28-EC28)/EB28)))","v":""},{"$f":" IF(EB28=\"\", \"\", MAX($EB$6:EB28))","v":""},{"$f":" AM28","v":""},{"$f":" IF(EB28=\"\",\"\", MIN(EB28:$EB$1048576))","v":""},{"$f":" IF(EN28 = \"\", \"\", LOOKUP(2,1/(AP:AP = AP28), ROW(AP:AP)))","v":""},{"$f":" IFERROR(_xlfn.IFS(FE28 = \"1-Minute\", 1, FE28 = \"5-Minute\", 2, FE28 = \"15-Minute\", 3, FE28 = \"30-Minute\", 4, FE28 = \"1-Hour\", 5, FE28 = \"4-Hour\", 6, FE28 = \"Daily\", 7, FE28 = \"Weekly\", 8, FE28 = \"Monthly\", 9), \"\")","v":""},{"$f":" IFERROR(_xlfn.IFS(FF28 = \"Very Low\", 1, FF28 = \"Low\", 2, FF28 = \"Medium\", 3, FF28 = \"High\", 4, FF28 = \"Very High\", 5),\"\")","v":""},null,{"$f":" TEXT(CM28, \"#,###0.000\") & \" : 1\"","v":" : 1"},{"$f":" IF(EN28 = \"\", \"\", IF(N28 = \"Buy\", (ET28-EQ28)/(EV28-EU28), (EQ28-ET28)/(EU28-EV28)))","v":""},{"$f":"IF(EN28=\"\",\"\",IF(N28 = \"Buy\", (EV28 - EQ28)/(EV28-EU28), (EQ28-EV28)/(EU28-EV28)))","v":""},{"$f":"IF(EN28=\"\",\"\",IF(N28 = \"Buy\", (ET28-EU28)/(EV28-EU28), (EU28-ET28)/(EU28-EV28)))","v":""},null,null,null,null,null,null,null,null,null,null,null,{"$f":" IF(EQ28=\"\",\"\",IF(LEN(RIGHT(EQ28,LEN(EQ28)-FIND(\".\",EQ28)))=2,((IF(EN28 = \"Buy\", IF(DF28 = EQ28, IF(DG28 = ET28, 0, ET28 - DG28),IF(DG28 = ET28, DF28-EQ28, (DF28 - EQ28) + (ET28 - DG28))), IF(DF28 = EQ28, IF(DG28 = ET28, 0, DG28-ET28),IF(DG28 = ET28, EQ28-DF28, (EQ28-DF28) + (DG28-ET28)))))*100),IF(LEN(RIGHT(EQ28,LEN(EQ28)-FIND(\".\",EQ28)))=4,((IF(EN28 = \"Buy\", IF(DF28 = EQ28, IF(DG28 = ET28, 0, ET28 - DG28),IF(DG28 = ET28, DF28-EQ28, (DF28 - EQ28) + (ET28 - DG28))), IF(DF28 = EQ28, IF(DG28 = ET28, 0, DG28-ET28),IF(DG28 = ET28, EQ28-DF28, (EQ28-DF28) + (DG28-ET28)))))*10000),IF(LEN(RIGHT(EQ28,LEN(EQ28)-FIND(\".\",EQ28)))=3,((IF(EN28 = \"Buy\", IF(DF28 = EQ28, IF(DG28 = ET28, 0, ET28 - DG28),IF(DG28 = ET28, DF28-EQ28, (DF28 - EQ28) + (ET28 - DG28))), IF(DF28 = EQ28, IF(DG28 = ET28, 0, DG28-ET28),IF(DG28 = ET28, EQ28-DF28, (EQ28-DF28) + (DG28-ET28)))))*100),IF(LEN(RIGHT(EQ28,LEN(EQ28)-FIND(\".\",EQ28)))=5,((IF(EN28 = \"Buy\", IF(DF28 = EQ28, IF(DG28 = ET28, 0, ET28 - DG28),IF(DG28 = ET28, DF28-EQ28, (DF28 - EQ28) + (ET28 - DG28))), IF(DF28 = EQ28, IF(DG28 = ET28, 0, DG28-ET28),IF(DG28 = ET28, EQ28-DF28, (EQ28-DF28) + (DG28-ET28)))))*10000))))))","v":""},{"$f":"IF(EN28=\"\",\"\",IF(LEN(RIGHT(EQ28,LEN(EQ28)-FIND(\".\",EQ28)))=2,((DA28*ABS(ET28-EQ28))*100),IF(LEN(RIGHT(EQ28,LEN(EQ28)-FIND(\".\",EQ28)))=4,((DA28*ABS(ET28-EQ28))*10000),IF(LEN(RIGHT(EQ28,LEN(EQ28)-FIND(\".\",EQ28)))=3,((DA28*ABS(ET28-EQ28))*100),IF(LEN(RIGHT(EQ28,LEN(EQ28)-FIND(\".\",EQ28)))=5,((DA28*ABS(ET28-EQ28))*10000))))))","v":""},{"$f":"IF(EN28=\"\",\"\",ABS(DV28/ABS(CN28)))","v":""},null,null,null,null,null,null,null,null,null,null,"Last Week","2020-02-09","2020-02-16"]
[null,{"$f":" B28+ 1","v":24},null,null,null,null,{"$f":" IF(EN29 = \"\", \"\", INT(K29)&\" d,\"&\" \"&HOUR(K29)&\" h,\"&\" \"&MINUTE(K29)&\" m,\"&\" \"&SECOND(K29)&\" s\")","v":""},{"$f":" IF(EN29 = \"\",\"\",IF(CZ29 +DB29 = 0, \"BE\", IF(CZ29 > 0, \"Win\",\"Loss\")))","v":""},{"$f":" IF(EN29=\"\", \"\",VALUE(C29 + D29))","v":""},{"$f":" IF(EN29 = \"\", \"\", VALUE(E29 + F29))","v":""},{"$f":"IF(EN29=\"\",\"\",IF(C29=\"\",0,IF(D29=\"\",0,(E29+F29-D29-C29))))","v":""},{"$f":" IFERROR(IF(VALUE(E29&F29) > VALUE(C30&D30), IF(VALUE(C30+D30) < VALUE(#REF! +#REF!), E29 + F29 - C30 - D30 - (C29 + D29 - C30 - D30),E29 + F29 - C30 - D30), \"\"), \"\")","v":""},{"$f":"IFERROR(IF(EN29=\"\",\"\",IF(VALUE(E28+F28)<VALUE(C29+D29),C29+D29-E28-F28,\"\")),\"\")","v":""},{"$f":" TRIM(EN29)","v":""},{"$f":" IF(AND(N29 = \"Buy\", H29 = \"Win\"), 1, 0)","v":0},{"$f":" IF(AND(N29 = \"Sell\", H29 = \"Win\"), 1, 0)","v":0},{"$f":" IF(AND(N29 = \"Buy\", H29 = \"Loss\"), 1, 0)","v":0},{"$f":" IF(AND(N29 = \"Sell\", H29 = \"Loss\"), 1, 0)","v":0},{"$f":" IF(AND(N29 = \"Buy\", H29 = \"BE\"), 1, 0)","v":0},{"$f":" IF(AND(N29 = \"Sell\", H29 = \"BE\"), 1, 0)","v":0},{"$f":" IF(EN29 = \"\", 0, (E29 - DATE(YEAR(E29),1,0)) & YEAR(E29)&\"\")","v":0},{"$f":"IFERROR( IF(SUM(INDIRECT(\"O\"&(MATCH(U29,U:U,0))&\":T\"&DC29)) = 0, \"\", IF(ROW(U29) = FLOOR((MATCH(U29, U:U, 0) +DC29)/2,1),SUM(INDIRECT(\"O\"&(MATCH(U29,U:U,0))&\":T\"&DC29)),\"\")),\"\")","v":""},{"$f":" IFERROR(IF(EN29 = \"\", \"\", IF(ROW(U29) = FLOOR((MATCH(U29, U:U, 0) + DC29)/2,1),SUM(INDIRECT(\"BT\"&(MATCH(U29,U:U,0))&\":BT\"&DC29)),\"\")),\"\")","v":""},{"$f":"  IFERROR(IF(W29 = \"\",\"\",W29/(Y29-W29)),\"\")","v":""},{"$f":" IFERROR(IF(ROW(U29) = FLOOR((MATCH(U29, U:U, 0) + DC29)/2,1),INDIRECT(\"BU\"&DC29),\"\"),\"\")","v":""},{"$f":"  IF(V29= 0,\"\",X29)","v":""},{"$f":"IF(Z29=\"\",\"\",Z29+1)","v":""},{"$f":" IF(EN29 = \"\", 0, WEEKNUM(E29) & YEAR(E29) & \"\")","v":0},{"$f":" IFERROR(IF(SUM(INDIRECT(\"O\"&(MATCH(AB29,AB:AB,0))&\":T\"&DD29)) = 0, \"\", IF(ROW(AB29) = FLOOR((MATCH(AB29, AB:AB, 0) + DD29)/2,1),SUM(INDIRECT(\"O\"&(MATCH(AB29,AB:AB,0))&\":T\"&DD29)),\"\")),\"\")","v":""},{"$f":" IFERROR(IF(EN29 = \"\", \"\", IF(ROW(AB29) = FLOOR((MATCH(AB29, AB:AB, 0) +DD29)/2,1),SUM(INDIRECT(\"BT\"&(MATCH(AB29,AB:AB,0))&\":BT\"&DD29)),\"\")),\"\")","v":""},{"$f":" IFERROR( IF(AD29 = \"\",\"\",AD29/(AF29-AD29)),\"\")","v":""},{"$f":" IFERROR(IF(ROW(AB29) = FLOOR((MATCH(AB29, AB:AB, 0) + DD29)/2,1),INDIRECT(\"BU\"&DD29),\"\"),\"\")","v":""},{"$f":"  IF(AC29= 0,\"\",AE29)","v":""},{"$f":"IF(AG29=\"\",\"\",AG29+1)","v":""},{"$f":" IF(EN29 = \"\", 0, MONTH(E29)&YEAR(E29)&\"\")","v":0},{"$f":"IFERROR( IF(SUM(INDIRECT(\"O\"&(MATCH(AI29,AI:AI,0))&\":T\"&DE29)) = 0, \"\", IF(ROW(AI29) = FLOOR((MATCH(AI29, AI:AI, 0) + DE29)/2,1),SUM(INDIRECT(\"O\"&(MATCH(AI29,AI:AI,0))&\":T\"&DE29)),\"\")),\"\")","v":""},{"$f":" IFERROR(IF(EN29 = \"\", \"\", IF(ROW(AI29) = FLOOR((MATCH(AI29, AI:AI, 0) + DE29)/2,1),SUM(INDIRECT(\"BT\"&(MATCH(AI29,AI:AI,0))&\":BT\"&DE29)),\"\")),\"\")","v":""},{"$f":" IFERROR( IF(AK29 = \"\",\"\",AK29/(AM29-AK29)),\"\")","v":""},{"$f":" IFERROR(IF(ROW(AI29) = FLOOR((MATCH(AI29, AI:AI, 0) + DE29)/2,1),INDIRECT(\"BU\"&DE29),\"\"),\"\")","v":""},{"$f":"  IF(AJ29= 0,\"\",AL29)","v":""},{"$f":"IF(AN29=\"\",\"\",AN29+1)","v":""},{"$f":" IF(EN29 = \"\", 0, YEAR(E29)&\"\")","v":0},{"$f":" IFERROR(IF(SUM(INDIRECT(\"O\"&(MATCH(AP29,AP:AP,0))&\":T\"&ED29)) = 0, \"\", IF(ROW(AP29) = FLOOR((MATCH(AP29, AP:AP, 0) + ED29)/2,1),SUM(INDIRECT(\"O\"&(MATCH(AP29,AP:AP,0))&\":T\"&ED29)),\"\")), \"\")","v":""},{"$f":" IF(EN29 = \"\", \"\", IF(ROW(AP29) = FLOOR((MATCH(AP29, AP:AP, 0) + ED29)/2,1),SUM(INDIRECT(\"BT\"&(MATCH(AP29,AP:AP,0))&\":BT\"&ED29)),\"\"))","v":""},{"$f":" IFERROR( IF(AR29 = \"\",\"\",AR29/(AT29-AR29)),\"\")","v":""},{"$f":" IFERROR(IF(ROW(AP29) = FLOOR((MATCH(AP29, AP:AP, 0) + ED29)/2,1),INDIRECT(\"BU\"&ED29),\"\"), \"\")","v":""},{"$f":"  IF(AQ29= 0,\"\",AS29)","v":""},{"$f":"IF(AU29=\"\",\"\",AU29+1)","v":""},{"$f":" IF(BX29=\"\",0,IF(IF(BU29 = \"\",0,-1*((MIN(BU$5:$BU29)-BU29)))=0,0,IF(BU29 = \"\",0,-1*((MIN(BU$5:$BU29)-BU29)))))","v":0},{"$f":"  IF(BX29=\"\",0,IF(IF(BU29 = \"\",0,-1*((MIN(BU$5:$BU29)-BU29)))/MIN((BU$5:BU29))=0,0,IF(BU29 = \"\",0,-1*((MIN(BU$5:$BU29)-BU29)))/MIN((BU$5:BU29))))","v":0},{"$f":" IF(EN29 = \"\", \"\", IF(BD28 = BD29, AY28, AY28 + 1))","v":""},{"$f":" IF(EN29 = \"\", \"\", IF(BD28 = BD29, AZ28 + 1,1))","v":""},{"$f":" IF(AX29 = 0, \"\", IF( IF(ROW(AY29) = FLOOR((MATCH(AY29, AY:AY, 0) + MATCH(AY29, AY:AY))/2,1), INDIRECT(\"E\"&(MATCH(AY29,AY:AY))) + INDIRECT(\"F\"&(MATCH(AY29,AY:AY)))  - INDIRECT(\"E\"&(MATCH(AY29,AY:AY,0))) - INDIRECT(\"F\"&(MATCH(AY29,AY:AY,0))),\"\") = 0, \"\", IF(ROW(AY29) = FLOOR((MATCH(AY29, AY:AY, 0) + MATCH(AY29, AY:AY))/2,1), INDIRECT(\"E\"&(MATCH(AY29,AY:AY))) + INDIRECT(\"F\"&(MATCH(AY29,AY:AY)))  - INDIRECT(\"E\"&(MATCH(AY29,AY:AY,0))) - INDIRECT(\"F\"&(MATCH(AY29,AY:AY,0))),\"\")))","v":""},{"$f":" IF(EN28 = \"\", \"\", IF(IF(ROW(AY29) = FLOOR((MATCH(AY29, AY:AY, 0) + MATCH(AY29, AY:AY))/2,1), MAX(INDIRECT(\"AW\"&(MATCH(AY29,AY:AY,0))&\":AW\"&MATCH(AY29,AY:AY))),\"\") = 0, \"\",  IF(ROW(AY29) = FLOOR((MATCH(AY29, AY:AY, 0) + MATCH(AY29, AY:AY))/2,1), MAX(INDIRECT(\"AW\"&(MATCH(AY29,AY:AY,0))&\":AW\"&MATCH(AY29,AY:AY))),\"\")))","v":""},{"$f":" IF(EN28 = \"\", \"\", IF(IF(ROW(AY29) = FLOOR((MATCH(AY29, AY:AY, 0) + MATCH(AY29, AY:AY))/2,1), MAX(INDIRECT(\"AX\"&(MATCH(AY29,AY:AY,0))&\":AX\"&MATCH(AY29,AY:AY))),\"\") = 0, \"\",  IF(ROW(AY29) = FLOOR((MATCH(AY29, AY:AY, 0) + MATCH(AY29, AY:AY))/2,1), MAX(INDIRECT(\"AX\"&(MATCH(AY29,AY:AY,0))&\":AX\"&MATCH(AY29,AY:AY))),\"\")))","v":""},{"$f":" MIN(BU28, BD28)","v":0},{"$f":" IF(BX29=\"\",0,IF(IF(BU29 = \"\",0,(-1*(MAX(BU$5:$BU29)-BU29)))=0,0,IF(BU29 = \"\",0,(-1*(MAX(BU$5:$BU29)-BU29)))))","v":0},{"$f":" IF(BX29=\"\",0,IF(IF(BU29=\"\",0,(-1*(MAX(BU$5:$BU29)-BU29)))/MAX($BU$5:BU29) = 0,0,IF(BU29=\"\",0,(-1*(MAX(BU$5:$BU29)-BU29)))/MAX($BU$5:BU29)))","v":0},{"$f":" IF(EN29 = \"\", \"\", IF(BL28 = BL29, BG28, BG28 + 1))","v":""},{"$f":" IF(EN29 = \"\", \"\", IF(BL28 = BL29, BH28 + 1,1))","v":""},{"$f":" IF(BF29 = 0, \"\", IF( IF(ROW(BG29) = FLOOR((MATCH(BG29, BG:BG, 0) + MATCH(BG29, BG:BG))/2,1), INDIRECT(\"E\"&(MATCH(BG29,BG:BG))) + INDIRECT(\"F\"&(MATCH(BG29,BG:BG)))  - INDIRECT(\"E\"&(MATCH(BG29,BG:BG,0))) - INDIRECT(\"F\"&(MATCH(BG29,BG:BG,0))),\"\") = 0, \"\", IF(ROW(BG29) = FLOOR((MATCH(BG29,BG:BG,0) + MATCH(BG29, BG:BG))/2,1), INDIRECT(\"E\"&(MATCH(BG29,BG:BG))) + INDIRECT(\"F\"&(MATCH(BG29,BG:BG)))  - INDIRECT(\"E\"&(MATCH(BG29,BG:BG,0))) - INDIRECT(\"F\"&(MATCH(BG29,BG:BG,0))),\"\")))","v":""},{"$f":" IF(EN28 = \"\", \"\",  IF(IF(ROW(BG29) = FLOOR((MATCH(BG29, BG:BG, 0) + MATCH(BG29, BG:BG))/2,1), MIN(INDIRECT(\"BE\"&(MATCH(BG29,BG:BG,0))&\":BE\"&MATCH(BG29,BG:BG))),\"\") = 0, \"\", IF(ROW(BG29) = FLOOR((MATCH(BG29, BG:BG, 0) + MATCH(BG29, BG:BG))/2,1), MIN(INDIRECT(\"BE\"&(MATCH(BG29,BG:BG,0))&\":BE\"&MATCH(BG29,BG:BG))),\"\")))","v":""},{"$f":" IF(EN28 = \"\", \"\",  IF(IF(ROW(BG29) = FLOOR((MATCH(BG29, BG:BG, 0) + MATCH(BG29, BG:BG))/2,1), MIN(INDIRECT(\"BF\"&(MATCH(BG29,BG:BG,0))&\":BF\"&MATCH(BG29,BG:BG))),\"\") = 0, \"\", IF(ROW(BG29) = FLOOR((MATCH(BG29, BG:BG, 0) + MATCH(BG29, BG:BG))/2,1), MIN(INDIRECT(\"BF\"&(MATCH(BG29,BG:BG,0))&\":BF\"&MATCH(BG29,BG:BG))),\"\")))","v":""},{"$f":" MAX(BU28, BL28)","v":0},{"$f":"IF(H29=\"\",\"\",IF(H29=\"Win\",IF(BN29=1,BN29 & \" \" & \"Win\",BN29 & \" \" & \"Wins\"),IF(H29=\"Loss\",IF(BN29=1,BN29 & \" \" & \"Loss\",BN29 & \" \" & \"Losses\"), IF(H29 = \"BE\",IF(BN29=1,BN29 & \" \" & \"BE\",BN29 & \" \" & \"BE's\")))))","v":""},{"$f":" IF(H28=\"\",\"\",IF(H28=H29, BN28+1,1))","v":""},{"$f":" IF(H29 = \"\", \"\", IF(H28 <> H29, (LOOKUP(9E+307,$BO$5:$BO28) + 1), \"\"))","v":""},{"$f":" IF(EN28 = \"\", \"\", IF(BN29 = 1, \"\",IF(BN29<BN30, \"\", \"S\")))","v":""},{"$f":" IF(BP29 = \"\", \"\", IF(H29 = \"Win\",BN29,\"\"))","v":""},{"$f":" IF(BP29 = \"\", \"\", IF(H29 = \"Loss\",BN29,\"\"))","v":""},{"$f":" IF(BP29 = \"\", \"\", IF(H29 = \"BE\",BN29,\"\"))","v":""},{"$f":" IF(EN29 = \"\", \"\", DB29 +CZ29)","v":""},{"$f":" IF(EN29 = \"\", \"\", BU28 + BT29)","v":""},{"$f":" IF(BU29 = \"\",\"\", BV28 + 1)","v":""},{"$f":" IF(BU29 = \"\", \"\", $FN$13*BV29 + $FM$13)","v":""},{"$f":" IF(EN29 = \"\", \"\", (BT29)/BU28)","v":""},{"$f":" IF(EN29 = \"\", \"\",'Overall Performance'!$C$22)","v":""},{"$f":" IF(EN29 = \"\", \"\", IF(BX29=0,\"\",BX29 + 1))","v":""},{"$f":" IF(H29 = \"Win\", BZ29, \"\")","v":""},{"$f":" IF(H29 = \"Loss\", BZ29, \"\")","v":""},{"$f":"IFERROR(INDEX($Y:$Y,SMALL(IF($Y:$Y<>\"\",ROW($Y:$Y)),ROW(24:24))),\"\")","v":""},{"$f":" IFERROR(IF(ULCERINDEX(CC16:CC29) = 0, \"\", ULCERINDEX(CC16:CC29)),\"\")","v":""},{"$f":" IF(Z29 = \"\", \"\", IF(Z29>0, 0, CH29))","v":""},{"$f":" IF(Z29 = \"\", \"\", IF(Z29>0, 0, W29))","v":""},{"$f":" IF(Z29 = \"\", \"\", Z29 - $FJ$10 + 1)","v":""},{"$f":" IF(Z29 = \"\", \"\", Z29 - $FJ$10)","v":""},{"$f":" IF(AN29 = \"\", \"\", IF(AN29 > 0, 0, CL29))","v":""},{"$f":" IF(AN29 = \"\", \"\", IF(AN29 > 0, 0, AK29))","v":""},{"$f":"IF(AN29=\"\", \"\",AN29-$FJ$14 + 1)","v":""},{"$f":"IF(AN29=\"\", \"\",AN29-$FJ$14)","v":""},{"$f":" IF(EN29 = \"\",\"\",(ES29 - EQ29)/(EQ29 - ER29))","v":""},{"$f":" IF(EN29=\"\",\"\", DA29*ABS((ET29-EQ29)/(EQ29-ER29)))","v":""},{"$f":" IF(CN29 > 0, CN29, \"\")","v":""},{"$f":" IF(CN29 < 0, CN29, \"\")","v":""},{"$f":" IF(EN29 = \"\", \"\", IF(OR(BX29 > AVERAGE(BX:BX) + 3*_xlfn.STDEV.P(BX:BX), BX29 < AVERAGE(BX:BX) - 3*_xlfn.STDEV.P(BX:BX)), BX29, 0))","v":""},{"$f":" IF(EN29= \"\", \"\", SUM(INDIRECT(\"BT\"&(MATCH(U29,U:U,0))&\":BT\"&DC29)))","v":""},{"$f":" IF(EN29= \"\", \"\", SUM(INDIRECT(\"ET\"&(MATCH(U29,U:U,0))&\":ET\"&DC29)))","v":""},{"$f":" IF(EN29= \"\", \"\", (INDIRECT(\"BU\"&DC29)))","v":""},{"$f":" IF(EN29= \"\", \"\", SUM(INDIRECT(\"O\"&(MATCH(U29,U:U,0))&\":T\"&DC29)))","v":""},{"$f":"IF(EN29=\"\",\"\",IF(LEN(RIGHT(EQ29,LEN(EQ29)-FIND(\".\",EQ29)))=2,((-1*ABS(EU29-EQ29))*100),IF(LEN(RIGHT(EQ29,LEN(EQ29)-FIND(\".\",EQ29)))=4,((-1*ABS(EU29-EQ29))*10000),IF(LEN(RIGHT(EQ29,LEN(EQ29)-FIND(\".\",EQ29)))=3,((-1*ABS(EU29-EQ29))*100),IF(LEN(RIGHT(EQ29,LEN(EQ29)-FIND(\".\",EQ29)))=5,((-1*ABS(EU29-EQ29))*10000))))))","v":""},{"$f":" IF(EN29 = \"\", \"\", (((EU29-EQ29)/(ET29-EQ29))*CZ29) + DB29)","v":""},{"$f":"IF(EN29=\"\",\"\",IF(LEN(RIGHT(EQ29,LEN(EQ29)-FIND(\".\",EQ29)))=2,((ABS(EV29-EQ29))*100),IF(LEN(RIGHT(EQ29,LEN(EQ29)-FIND(\".\",EQ29)))=4,((ABS(EV29-EQ29))*10000),IF(LEN(RIGHT(EQ29,LEN(EQ29)-FIND(\".\",EQ29)))=3,((ABS(EV29-EQ29))*100),IF(LEN(RIGHT(EQ29,LEN(EQ29)-FIND(\".\",EQ29)))=5,((ABS(EV29-EQ29))*10000))))))","v":""},{"$f":" IF(EN29 = \"\", \"\", (((EV29-EQ29)/(ET29-EQ29))*CZ29) + DB29)","v":""},{"$f":" IF(EN29 = \"\", \"\", EL29)","v":""},{"$f":" IF(EN29 = \"\", \"\", IF(EN29 = \"Buy\", IF(EQ29 > ET29, -1, 1), IF(EQ29 > ET29, 1, -1)))","v":""},{"$f":"IF(EN29=\"\", \"\",EZ29+FA29)","v":""},{"$f":" IF(EN29 = \"\", \"\", LOOKUP(2,1/(U:U = U29), ROW(U:U)))","v":""},{"$f":" IF(EN29 = \"\", \"\", LOOKUP(2,1/(AB:AB = AB29), ROW(AB:AB)))","v":""},{"$f":" IF(EN29 = \"\", \"\", LOOKUP(2,1/(AI:AI = AI29), ROW(AI:AI)))","v":""},null,null,{"$f":" IF(CO29 = \"\", \"\", CO29*EY29)","v":""},{"$f":" IF(CP29 = \"\", \"\", CP29*EY29)","v":""},{"$f":" IF(EN29 = \"\", \"\",BF29)","v":""},{"$f":" DJ29","v":""},{"$f":" IF(EL30 = \"\", \"\", DL28 + 1)","v":""},{"$f":" IF(EN29 <> \"\", K29*24,#N/A)","v":{"$error":"#N/A"}},{"$f":" IF(EN29 <> \"\", CW29,#N/A)","v":{"$error":"#N/A"}},{"$f":" IF(EN29 <> \"\", CY29,#N/A)","v":{"$error":"#N/A"}},{"$f":" IF(EN29 <> \"\", CM29,#N/A)","v":{"$error":"#N/A"}},{"$f":" IF(EN29 <> \"\", CN29,#N/A)","v":{"$error":"#N/A"}},{"$f":" IF(CN29 > 0, CM29, -1)","v":""},{"$f":" IF(CN29 > 0, CM29, \"\")","v":""},{"$f":" IF(CN29 < 0, CM29, \"\")","v":""},{"$f":" IF(AQ29 = \"\",\"\",LOOKUP(9E+307,$DU$5:$DU28) + 1)","v":""},{"$f":" IF(EN29 = \"\", \"\", (CZ29)/BU28)","v":""},{"$f":" IF(EN29 = \"\", \"\", WEEKDAY(C29,1))","v":""},{"$f":" IF(EN29=\"\", \"\", MONTH(C29))","v":""},{"$f":" IF(EN29 = \"\", \"\", YEAR(E29))","v":""},{"$f":" IF(EB29 = \"\", \"\", MAX(((EA29-EB29)/EA29), ((EB29-EC29)/EB29)))","v":""},{"$f":" IF(EB29=\"\", \"\", MAX($EB$6:EB29))","v":""},{"$f":" AM29","v":""},{"$f":" IF(EB29=\"\",\"\", MIN(EB29:$EB$1048576))","v":""},{"$f":" IF(EN29 = \"\", \"\", LOOKUP(2,1/(AP:AP = AP29), ROW(AP:AP)))","v":""},{"$f":" IFERROR(_xlfn.IFS(FE29 = \"1-Minute\", 1, FE29 = \"5-Minute\", 2, FE29 = \"15-Minute\", 3, FE29 = \"30-Minute\", 4, FE29 = \"1-Hour\", 5, FE29 = \"4-Hour\", 6, FE29 = \"Daily\", 7, FE29 = \"Weekly\", 8, FE29 = \"Monthly\", 9), \"\")","v":""},{"$f":" IFERROR(_xlfn.IFS(FF29 = \"Very Low\", 1, FF29 = \"Low\", 2, FF29 = \"Medium\", 3, FF29 = \"High\", 4, FF29 = \"Very High\", 5),\"\")","v":""},null,{"$f":" TEXT(CM29, \"#,###0.000\") & \" : 1\"","v":" : 1"},{"$f":" IF(EN29 = \"\", \"\", IF(N29 = \"Buy\", (ET29-EQ29)/(EV29-EU29), (EQ29-ET29)/(EU29-EV29)))","v":""},{"$f":"IF(EN29=\"\",\"\",IF(N29 = \"Buy\", (EV29 - EQ29)/(EV29-EU29), (EQ29-EV29)/(EU29-EV29)))","v":""},{"$f":"IF(EN29=\"\",\"\",IF(N29 = \"Buy\", (ET29-EU29)/(EV29-EU29), (EU29-ET29)/(EU29-EV29)))","v":""},null,null,null,null,null,null,null,null,null,null,null,{"$f":" IF(EQ29=\"\",\"\",IF(LEN(RIGHT(EQ29,LEN(EQ29)-FIND(\".\",EQ29)))=2,((IF(EN29 = \"Buy\", IF(DF29 = EQ29, IF(DG29 = ET29, 0, ET29 - DG29),IF(DG29 = ET29, DF29-EQ29, (DF29 - EQ29) + (ET29 - DG29))), IF(DF29 = EQ29, IF(DG29 = ET29, 0, DG29-ET29),IF(DG29 = ET29, EQ29-DF29, (EQ29-DF29) + (DG29-ET29)))))*100),IF(LEN(RIGHT(EQ29,LEN(EQ29)-FIND(\".\",EQ29)))=4,((IF(EN29 = \"Buy\", IF(DF29 = EQ29, IF(DG29 = ET29, 0, ET29 - DG29),IF(DG29 = ET29, DF29-EQ29, (DF29 - EQ29) + (ET29 - DG29))), IF(DF29 = EQ29, IF(DG29 = ET29, 0, DG29-ET29),IF(DG29 = ET29, EQ29-DF29, (EQ29-DF29) + (DG29-ET29)))))*10000),IF(LEN(RIGHT(EQ29,LEN(EQ29)-FIND(\".\",EQ29)))=3,((IF(EN29 = \"Buy\", IF(DF29 = EQ29, IF(DG29 = ET29, 0, ET29 - DG29),IF(DG29 = ET29, DF29-EQ29, (DF29 - EQ29) + (ET29 - DG29))), IF(DF29 = EQ29, IF(DG29 = ET29, 0, DG29-ET29),IF(DG29 = ET29, EQ29-DF29, (EQ29-DF29) + (DG29-ET29)))))*100),IF(LEN(RIGHT(EQ29,LEN(EQ29)-FIND(\".\",EQ29)))=5,((IF(EN29 = \"Buy\", IF(DF29 = EQ29, IF(DG29 = ET29, 0, ET29 - DG29),IF(DG29 = ET29, DF29-EQ29, (DF29 - EQ29) + (ET29 - DG29))), IF(DF29 = EQ29, IF(DG29 = ET29, 0, DG29-ET29),IF(DG29 = ET29, EQ29-DF29, (EQ29-DF29) + (DG29-ET29)))))*10000))))))","v":""},{"$f":"IF(EN29=\"\",\"\",IF(LEN(RIGHT(EQ29,LEN(EQ29)-FIND(\".\",EQ29)))=2,((DA29*ABS(ET29-EQ29))*100),IF(LEN(RIGHT(EQ29,LEN(EQ29)-FIND(\".\",EQ29)))=4,((DA29*ABS(ET29-EQ29))*10000),IF(LEN(RIGHT(EQ29,LEN(EQ29)-FIND(\".\",EQ29)))=3,((DA29*ABS(ET29-EQ29))*100),IF(LEN(RIGHT(EQ29,LEN(EQ29)-FIND(\".\",EQ29)))=5,((DA29*ABS(ET29-EQ29))*10000))))))","v":""},{"$f":"IF(EN29=\"\",\"\",ABS(DV29/ABS(CN29)))","v":""},null,null,null,null,null,null,null,null,null,null,"Last Month","2020-02-22","2020-03-23"]
[null,{"$f":" B29+ 1","v":25},null,null,null,null,{"$f":" IF(EN30 = \"\", \"\", INT(K30)&\" d,\"&\" \"&HOUR(K30)&\" h,\"&\" \"&MINUTE(K30)&\" m,\"&\" \"&SECOND(K30)&\" s\")","v":""},{"$f":" IF(EN30 = \"\",\"\",IF(CZ30 +DB30 = 0, \"BE\", IF(CZ30 > 0, \"Win\",\"Loss\")))","v":""},{"$f":" IF(EN30=\"\", \"\",VALUE(C30 + D30))","v":""},{"$f":" IF(EN30 = \"\", \"\", VALUE(E30 + F30))","v":""},{"$f":"IF(EN30=\"\",\"\",IF(C30=\"\",0,IF(D30=\"\",0,(E30+F30-D30-C30))))","v":""},{"$f":" IFERROR(IF(VALUE(E30&F30) > VALUE(#REF!&#REF!), IF(VALUE(#REF!+#REF!) < VALUE(#REF! +#REF!), E30 + F30 -#REF! -#REF! - (C30 + D30 -#REF! -#REF!),E30 + F30 -#REF! -#REF!), \"\"), \"\")","v":""},{"$f":"IFERROR(IF(EN30=\"\",\"\",IF(VALUE(E29+F29)<VALUE(C30+D30),C30+D30-E29-F29,\"\")),\"\")","v":""},{"$f":" TRIM(EN30)","v":""},{"$f":" IF(AND(N30 = \"Buy\", H30 = \"Win\"), 1, 0)","v":0},{"$f":" IF(AND(N30 = \"Sell\", H30 = \"Win\"), 1, 0)","v":0},{"$f":" IF(AND(N30 = \"Buy\", H30 = \"Loss\"), 1, 0)","v":0},{"$f":" IF(AND(N30 = \"Sell\", H30 = \"Loss\"), 1, 0)","v":0},{"$f":" IF(AND(N30 = \"Buy\", H30 = \"BE\"), 1, 0)","v":0},{"$f":" IF(AND(N30 = \"Sell\", H30 = \"BE\"), 1, 0)","v":0},{"$f":" IF(EN30 = \"\", 0, (E30 - DATE(YEAR(E30),1,0)) & YEAR(E30)&\"\")","v":0},{"$f":"IFERROR( IF(SUM(INDIRECT(\"O\"&(MATCH(U30,U:U,0))&\":T\"&DC30)) = 0, \"\", IF(ROW(U30) = FLOOR((MATCH(U30, U:U, 0) +DC30)/2,1),SUM(INDIRECT(\"O\"&(MATCH(U30,U:U,0))&\":T\"&DC30)),\"\")),\"\")","v":""},{"$f":" IFERROR(IF(EN30 = \"\", \"\", IF(ROW(U30) = FLOOR((MATCH(U30, U:U, 0) + DC30)/2,1),SUM(INDIRECT(\"BT\"&(MATCH(U30,U:U,0))&\":BT\"&DC30)),\"\")),\"\")","v":""},{"$f":"  IFERROR(IF(W30 = \"\",\"\",W30/(Y30-W30)),\"\")","v":""},{"$f":" IFERROR(IF(ROW(U30) = FLOOR((MATCH(U30, U:U, 0) + DC30)/2,1),INDIRECT(\"BU\"&DC30),\"\"),\"\")","v":""},{"$f":"  IF(V30= 0,\"\",X30)","v":""},{"$f":"IF(Z30=\"\",\"\",Z30+1)","v":""},{"$f":" IF(EN30 = \"\", 0, WEEKNUM(E30) & YEAR(E30) & \"\")","v":0},{"$f":" IFERROR(IF(SUM(INDIRECT(\"O\"&(MATCH(AB30,AB:AB,0))&\":T\"&DD30)) = 0, \"\", IF(ROW(AB30) = FLOOR((MATCH(AB30, AB:AB, 0) + DD30)/2,1),SUM(INDIRECT(\"O\"&(MATCH(AB30,AB:AB,0))&\":T\"&DD30)),\"\")),\"\")","v":""},{"$f":" IFERROR(IF(EN30 = \"\", \"\", IF(ROW(AB30) = FLOOR((MATCH(AB30, AB:AB, 0) +DD30)/2,1),SUM(INDIRECT(\"BT\"&(MATCH(AB30,AB:AB,0))&\":BT\"&DD30)),\"\")),\"\")","v":""},{"$f":" IFERROR( IF(AD30 = \"\",\"\",AD30/(AF30-AD30)),\"\")","v":""},{"$f":" IFERROR(IF(ROW(AB30) = FLOOR((MATCH(AB30, AB:AB, 0) + DD30)/2,1),INDIRECT(\"BU\"&DD30),\"\"),\"\")","v":""},{"$f":"  IF(AC30= 0,\"\",AE30)","v":""},{"$f":"IF(AG30=\"\",\"\",AG30+1)","v":""},{"$f":" IF(EN30 = \"\", 0, MONTH(E30)&YEAR(E30)&\"\")","v":0},{"$f":"IFERROR( IF(SUM(INDIRECT(\"O\"&(MATCH(AI30,AI:AI,0))&\":T\"&DE30)) = 0, \"\", IF(ROW(AI30) = FLOOR((MATCH(AI30, AI:AI, 0) + DE30)/2,1),SUM(INDIRECT(\"O\"&(MATCH(AI30,AI:AI,0))&\":T\"&DE30)),\"\")),\"\")","v":""},{"$f":" IFERROR(IF(EN30 = \"\", \"\", IF(ROW(AI30) = FLOOR((MATCH(AI30, AI:AI, 0) + DE30)/2,1),SUM(INDIRECT(\"BT\"&(MATCH(AI30,AI:AI,0))&\":BT\"&DE30)),\"\")),\"\")","v":""},{"$f":" IFERROR( IF(AK30 = \"\",\"\",AK30/(AM30-AK30)),\"\")","v":""},{"$f":" IFERROR(IF(ROW(AI30) = FLOOR((MATCH(AI30, AI:AI, 0) + DE30)/2,1),INDIRECT(\"BU\"&DE30),\"\"),\"\")","v":""},{"$f":"  IF(AJ30= 0,\"\",AL30)","v":""},{"$f":"IF(AN30=\"\",\"\",AN30+1)","v":""},{"$f":" IF(EN30 = \"\", 0, YEAR(E30)&\"\")","v":0},{"$f":" IFERROR(IF(SUM(INDIRECT(\"O\"&(MATCH(AP30,AP:AP,0))&\":T\"&ED30)) = 0, \"\", IF(ROW(AP30) = FLOOR((MATCH(AP30, AP:AP, 0) + ED30)/2,1),SUM(INDIRECT(\"O\"&(MATCH(AP30,AP:AP,0))&\":T\"&ED30)),\"\")), \"\")","v":""},{"$f":" IF(EN30 = \"\", \"\", IF(ROW(AP30) = FLOOR((MATCH(AP30, AP:AP, 0) + ED30)/2,1),SUM(INDIRECT(\"BT\"&(MATCH(AP30,AP:AP,0))&\":BT\"&ED30)),\"\"))","v":""},{"$f":" IFERROR( IF(AR30 = \"\",\"\",AR30/(AT30-AR30)),\"\")","v":""},{"$f":" IFERROR(IF(ROW(AP30) = FLOOR((MATCH(AP30, AP:AP, 0) + ED30)/2,1),INDIRECT(\"BU\"&ED30),\"\"), \"\")","v":""},{"$f":"  IF(AQ30= 0,\"\",AS30)","v":""},{"$f":"IF(AU30=\"\",\"\",AU30+1)","v":""},{"$f":" IF(BX30=\"\",0,IF(IF(BU30 = \"\",0,-1*((MIN(BU$5:$BU30)-BU30)))=0,0,IF(BU30 = \"\",0,-1*((MIN(BU$5:$BU30)-BU30)))))","v":0},{"$f":"  IF(BX30=\"\",0,IF(IF(BU30 = \"\",0,-1*((MIN(BU$5:$BU30)-BU30)))/MIN((BU$5:BU30))=0,0,IF(BU30 = \"\",0,-1*((MIN(BU$5:$BU30)-BU30)))/MIN((BU$5:BU30))))","v":0},{"$f":" IF(EN30 = \"\", \"\", IF(BD29 = BD30, AY29, AY29 + 1))","v":""},{"$f":" IF(EN30 = \"\", \"\", IF(BD29 = BD30, AZ29 + 1,1))","v":""},{"$f":" IF(AX30 = 0, \"\", IF( IF(ROW(AY30) = FLOOR((MATCH(AY30, AY:AY, 0) + MATCH(AY30, AY:AY))/2,1), INDIRECT(\"E\"&(MATCH(AY30,AY:AY))) + INDIRECT(\"F\"&(MATCH(AY30,AY:AY)))  - INDIRECT(\"E\"&(MATCH(AY30,AY:AY,0))) - INDIRECT(\"F\"&(MATCH(AY30,AY:AY,0))),\"\") = 0, \"\", IF(ROW(AY30) = FLOOR((MATCH(AY30, AY:AY, 0) + MATCH(AY30, AY:AY))/2,1), INDIRECT(\"E\"&(MATCH(AY30,AY:AY))) + INDIRECT(\"F\"&(MATCH(AY30,AY:AY)))  - INDIRECT(\"E\"&(MATCH(AY30,AY:AY,0))) - INDIRECT(\"F\"&(MATCH(AY30,AY:AY,0))),\"\")))","v":""},{"$f":" IF(EN29 = \"\", \"\", IF(IF(ROW(AY30) = FLOOR((MATCH(AY30, AY:AY, 0) + MATCH(AY30, AY:AY))/2,1), MAX(INDIRECT(\"AW\"&(MATCH(AY30,AY:AY,0))&\":AW\"&MATCH(AY30,AY:AY))),\"\") = 0, \"\",  IF(ROW(AY30) = FLOOR((MATCH(AY30, AY:AY, 0) + MATCH(AY30, AY:AY))/2,1), MAX(INDIRECT(\"AW\"&(MATCH(AY30,AY:AY,0))&\":AW\"&MATCH(AY30,AY:AY))),\"\")))","v":""},{"$f":" IF(EN29 = \"\", \"\", IF(IF(ROW(AY30) = FLOOR((MATCH(AY30, AY:AY, 0) + MATCH(AY30, AY:AY))/2,1), MAX(INDIRECT(\"AX\"&(MATCH(AY30,AY:AY,0))&\":AX\"&MATCH(AY30,AY:AY))),\"\") = 0, \"\",  IF(ROW(AY30) = FLOOR((MATCH(AY30, AY:AY, 0) + MATCH(AY30, AY:AY))/2,1), MAX(INDIRECT(\"AX\"&(MATCH(AY30,AY:AY,0))&\":AX\"&MATCH(AY30,AY:AY))),\"\")))","v":""},{"$f":" MIN(BU29, BD29)","v":0},{"$f":" IF(BX30=\"\",0,IF(IF(BU30 = \"\",0,(-1*(MAX(BU$5:$BU30)-BU30)))=0,0,IF(BU30 = \"\",0,(-1*(MAX(BU$5:$BU30)-BU30)))))","v":0},{"$f":" IF(BX30=\"\",0,IF(IF(BU30=\"\",0,(-1*(MAX(BU$5:$BU30)-BU30)))/MAX($BU$5:BU30) = 0,0,IF(BU30=\"\",0,(-1*(MAX(BU$5:$BU30)-BU30)))/MAX($BU$5:BU30)))","v":0},{"$f":" IF(EN30 = \"\", \"\", IF(BL29 = BL30, BG29, BG29 + 1))","v":""},{"$f":" IF(EN30 = \"\", \"\", IF(BL29 = BL30, BH29 + 1,1))","v":""},{"$f":" IF(BF30 = 0, \"\", IF( IF(ROW(BG30) = FLOOR((MATCH(BG30, BG:BG, 0) + MATCH(BG30, BG:BG))/2,1), INDIRECT(\"E\"&(MATCH(BG30,BG:BG))) + INDIRECT(\"F\"&(MATCH(BG30,BG:BG)))  - INDIRECT(\"E\"&(MATCH(BG30,BG:BG,0))) - INDIRECT(\"F\"&(MATCH(BG30,BG:BG,0))),\"\") = 0, \"\", IF(ROW(BG30) = FLOOR((MATCH(BG30,BG:BG,0) + MATCH(BG30, BG:BG))/2,1), INDIRECT(\"E\"&(MATCH(BG30,BG:BG))) + INDIRECT(\"F\"&(MATCH(BG30,BG:BG)))  - INDIRECT(\"E\"&(MATCH(BG30,BG:BG,0))) - INDIRECT(\"F\"&(MATCH(BG30,BG:BG,0))),\"\")))","v":""},{"$f":" IF(EN29 = \"\", \"\",  IF(IF(ROW(BG30) = FLOOR((MATCH(BG30, BG:BG, 0) + MATCH(BG30, BG:BG))/2,1), MIN(INDIRECT(\"BE\"&(MATCH(BG30,BG:BG,0))&\":BE\"&MATCH(BG30,BG:BG))),\"\") = 0, \"\", IF(ROW(BG30) = FLOOR((MATCH(BG30, BG:BG, 0) + MATCH(BG30, BG:BG))/2,1), MIN(INDIRECT(\"BE\"&(MATCH(BG30,BG:BG,0))&\":BE\"&MATCH(BG30,BG:BG))),\"\")))","v":""},{"$f":" IF(EN29 = \"\", \"\",  IF(IF(ROW(BG30) = FLOOR((MATCH(BG30, BG:BG, 0) + MATCH(BG30, BG:BG))/2,1), MIN(INDIRECT(\"BF\"&(MATCH(BG30,BG:BG,0))&\":BF\"&MATCH(BG30,BG:BG))),\"\") = 0, \"\", IF(ROW(BG30) = FLOOR((MATCH(BG30, BG:BG, 0) + MATCH(BG30, BG:BG))/2,1), MIN(INDIRECT(\"BF\"&(MATCH(BG30,BG:BG,0))&\":BF\"&MATCH(BG30,BG:BG))),\"\")))","v":""},{"$f":" MAX(BU29, BL29)","v":0},{"$f":"IF(H30=\"\",\"\",IF(H30=\"Win\",IF(BN30=1,BN30 & \" \" & \"Win\",BN30 & \" \" & \"Wins\"),IF(H30=\"Loss\",IF(BN30=1,BN30 & \" \" & \"Loss\",BN30 & \" \" & \"Losses\"), IF(H30 = \"BE\",IF(BN30=1,BN30 & \" \" & \"BE\",BN30 & \" \" & \"BE's\")))))","v":""},{"$f":" IF(H29=\"\",\"\",IF(H29=H30, BN29+1,1))","v":""},{"$f":" IF(H30 = \"\", \"\", IF(H29 <> H30, (LOOKUP(9E+307,$BO$5:$BO29) + 1), \"\"))","v":""},{"$f":" IF(EN29 = \"\", \"\", IF(BN30 = 1, \"\",IF(BN30<#REF!, \"\", \"S\")))","v":""},{"$f":" IF(BP30 = \"\", \"\", IF(H30 = \"Win\",BN30,\"\"))","v":""},{"$f":" IF(BP30 = \"\", \"\", IF(H30 = \"Loss\",BN30,\"\"))","v":""},{"$f":" IF(BP30 = \"\", \"\", IF(H30 = \"BE\",BN30,\"\"))","v":""},{"$f":" IF(EN30 = \"\", \"\", DB30 +CZ30)","v":""},{"$f":" IF(EN30 = \"\", \"\", BU29 + BT30)","v":""},{"$f":" IF(BU30 = \"\",\"\", BV29 + 1)","v":""},{"$f":" IF(BU30 = \"\", \"\", $FN$13*BV30 + $FM$13)","v":""},{"$f":" IF(EN30 = \"\", \"\", (BT30)/BU29)","v":""},{"$f":" IF(EN30 = \"\", \"\",'Overall Performance'!$C$22)","v":""},{"$f":" IF(EN30 = \"\", \"\", IF(BX30=0,\"\",BX30 + 1))","v":""},{"$f":" IF(H30 = \"Win\", BZ30, \"\")","v":""},{"$f":" IF(H30 = \"Loss\", BZ30, \"\")","v":""},{"$f":"IFERROR(INDEX($Y:$Y,SMALL(IF($Y:$Y<>\"\",ROW($Y:$Y)),ROW(25:25))),\"\")","v":""},{"$f":" IFERROR(IF(ULCERINDEX(CC17:CC30) = 0, \"\", ULCERINDEX(CC17:CC30)),\"\")","v":""},{"$f":" IF(Z30 = \"\", \"\", IF(Z30>0, 0, CH30))","v":""},{"$f":" IF(Z30 = \"\", \"\", IF(Z30>0, 0, W30))","v":""},{"$f":" IF(Z30 = \"\", \"\", Z30 - $FJ$10 + 1)","v":""},{"$f":" IF(Z30 = \"\", \"\", Z30 - $FJ$10)","v":""},{"$f":" IF(AN30 = \"\", \"\", IF(AN30 > 0, 0, CL30))","v":""},{"$f":" IF(AN30 = \"\", \"\", IF(AN30 > 0, 0, AK30))","v":""},{"$f":"IF(AN30=\"\", \"\",AN30-$FJ$14 + 1)","v":""},{"$f":"IF(AN30=\"\", \"\",AN30-$FJ$14)","v":""},{"$f":" IF(EN30 = \"\",\"\",(ES30 - EQ30)/(EQ30 - ER30))","v":""},{"$f":" IF(EN30=\"\",\"\", DA30*ABS((ET30-EQ30)/(EQ30-ER30)))","v":""},{"$f":" IF(CN30 > 0, CN30, \"\")","v":""},{"$f":" IF(CN30 < 0, CN30, \"\")","v":""},{"$f":" IF(EN30 = \"\", \"\", IF(OR(BX30 > AVERAGE(BX:BX) + 3*_xlfn.STDEV.P(BX:BX), BX30 < AVERAGE(BX:BX) - 3*_xlfn.STDEV.P(BX:BX)), BX30, 0))","v":""},{"$f":" IF(EN30= \"\", \"\", SUM(INDIRECT(\"BT\"&(MATCH(U30,U:U,0))&\":BT\"&DC30)))","v":""},{"$f":" IF(EN30= \"\", \"\", SUM(INDIRECT(\"ET\"&(MATCH(U30,U:U,0))&\":ET\"&DC30)))","v":""},{"$f":" IF(EN30= \"\", \"\", (INDIRECT(\"BU\"&DC30)))","v":""},{"$f":" IF(EN30= \"\", \"\", SUM(INDIRECT(\"O\"&(MATCH(U30,U:U,0))&\":T\"&DC30)))","v":""},{"$f":"IF(EN30=\"\",\"\",IF(LEN(RIGHT(EQ30,LEN(EQ30)-FIND(\".\",EQ30)))=2,((-1*ABS(EU30-EQ30))*100),IF(LEN(RIGHT(EQ30,LEN(EQ30)-FIND(\".\",EQ30)))=4,((-1*ABS(EU30-EQ30))*10000),IF(LEN(RIGHT(EQ30,LEN(EQ30)-FIND(\".\",EQ30)))=3,((-1*ABS(EU30-EQ30))*100),IF(LEN(RIGHT(EQ30,LEN(EQ30)-FIND(\".\",EQ30)))=5,((-1*ABS(EU30-EQ30))*10000))))))","v":""},{"$f":" IF(EN30 = \"\", \"\", (((EU30-EQ30)/(ET30-EQ30))*CZ30) + DB30)","v":""},{"$f":"IF(EN30=\"\",\"\",IF(LEN(RIGHT(EQ30,LEN(EQ30)-FIND(\".\",EQ30)))=2,((ABS(EV30-EQ30))*100),IF(LEN(RIGHT(EQ30,LEN(EQ30)-FIND(\".\",EQ30)))=4,((ABS(EV30-EQ30))*10000),IF(LEN(RIGHT(EQ30,LEN(EQ30)-FIND(\".\",EQ30)))=3,((ABS(EV30-EQ30))*100),IF(LEN(RIGHT(EQ30,LEN(EQ30)-FIND(\".\",EQ30)))=5,((ABS(EV30-EQ30))*10000))))))","v":""},{"$f":" IF(EN30 = \"\", \"\", (((EV30-EQ30)/(ET30-EQ30))*CZ30) + DB30)","v":""},{"$f":" IF(EN30 = \"\", \"\", EL30)","v":""},{"$f":" IF(EN30 = \"\", \"\", IF(EN30 = \"Buy\", IF(EQ30 > ET30, -1, 1), IF(EQ30 > ET30, 1, -1)))","v":""},{"$f":"IF(EN30=\"\", \"\",EZ30+FA30)","v":""},{"$f":" IF(EN30 = \"\", \"\", LOOKUP(2,1/(U:U = U30), ROW(U:U)))","v":""},{"$f":" IF(EN30 = \"\", \"\", LOOKUP(2,1/(AB:AB = AB30), ROW(AB:AB)))","v":""},{"$f":" IF(EN30 = \"\", \"\", LOOKUP(2,1/(AI:AI = AI30), ROW(AI:AI)))","v":""},null,null,{"$f":" IF(CO30 = \"\", \"\", CO30*EY30)","v":""},{"$f":" IF(CP30 = \"\", \"\", CP30*EY30)","v":""},{"$f":" IF(EN30 = \"\", \"\",BF30)","v":""},{"$f":" DJ30","v":""},{"$f":" IF(EL31 = \"\", \"\", DL29 + 1)","v":""},{"$f":" IF(EN30 <> \"\", K30*24,#N/A)","v":{"$error":"#N/A"}},{"$f":" IF(EN30 <> \"\", CW30,#N/A)","v":{"$error":"#N/A"}},{"$f":" IF(EN30 <> \"\", CY30,#N/A)","v":{"$error":"#N/A"}},{"$f":" IF(EN30 <> \"\", CM30,#N/A)","v":{"$error":"#N/A"}},{"$f":" IF(EN30 <> \"\", CN30,#N/A)","v":{"$error":"#N/A"}},{"$f":" IF(CN30 > 0, CM30, -1)","v":""},{"$f":" IF(CN30 > 0, CM30, \"\")","v":""},{"$f":" IF(CN30 < 0, CM30, \"\")","v":""},{"$f":" IF(AQ30 = \"\",\"\",LOOKUP(9E+307,$DU$5:$DU29) + 1)","v":""},{"$f":" IF(EN30 = \"\", \"\", (CZ30)/BU29)","v":""},{"$f":" IF(EN30 = \"\", \"\", WEEKDAY(C30,1))","v":""},{"$f":" IF(EN30=\"\", \"\", MONTH(C30))","v":""},{"$f":" IF(EN30 = \"\", \"\", YEAR(E30))","v":""},{"$f":" IF(EB30 = \"\", \"\", MAX(((EA30-EB30)/EA30), ((EB30-EC30)/EB30)))","v":""},{"$f":" IF(EB30=\"\", \"\", MAX($EB$6:EB30))","v":""},{"$f":" AM30","v":""},{"$f":" IF(EB30=\"\",\"\", MIN(EB30:$EB$1048576))","v":""},{"$f":" IF(EN30 = \"\", \"\", LOOKUP(2,1/(AP:AP = AP30), ROW(AP:AP)))","v":""},{"$f":" IFERROR(_xlfn.IFS(FE30 = \"1-Minute\", 1, FE30 = \"5-Minute\", 2, FE30 = \"15-Minute\", 3, FE30 = \"30-Minute\", 4, FE30 = \"1-Hour\", 5, FE30 = \"4-Hour\", 6, FE30 = \"Daily\", 7, FE30 = \"Weekly\", 8, FE30 = \"Monthly\", 9), \"\")","v":""},{"$f":" IFERROR(_xlfn.IFS(FF30 = \"Very Low\", 1, FF30 = \"Low\", 2, FF30 = \"Medium\", 3, FF30 = \"High\", 4, FF30 = \"Very High\", 5),\"\")","v":""},null,{"$f":" TEXT(CM30, \"#,###0.000\") & \" : 1\"","v":" : 1"},{"$f":" IF(EN30 = \"\", \"\", IF(N30 = \"Buy\", (ET30-EQ30)/(EV30-EU30), (EQ30-ET30)/(EU30-EV30)))","v":""},{"$f":"IF(EN30=\"\",\"\",IF(N30 = \"Buy\", (EV30 - EQ30)/(EV30-EU30), (EQ30-EV30)/(EU30-EV30)))","v":""},{"$f":"IF(EN30=\"\",\"\",IF(N30 = \"Buy\", (ET30-EU30)/(EV30-EU30), (EU30-ET30)/(EU30-EV30)))","v":""},null,null,null,null,null,null,null,null,null,null,null,{"$f":" IF(EQ30=\"\",\"\",IF(LEN(RIGHT(EQ30,LEN(EQ30)-FIND(\".\",EQ30)))=2,((IF(EN30 = \"Buy\", IF(DF30 = EQ30, IF(DG30 = ET30, 0, ET30 - DG30),IF(DG30 = ET30, DF30-EQ30, (DF30 - EQ30) + (ET30 - DG30))), IF(DF30 = EQ30, IF(DG30 = ET30, 0, DG30-ET30),IF(DG30 = ET30, EQ30-DF30, (EQ30-DF30) + (DG30-ET30)))))*100),IF(LEN(RIGHT(EQ30,LEN(EQ30)-FIND(\".\",EQ30)))=4,((IF(EN30 = \"Buy\", IF(DF30 = EQ30, IF(DG30 = ET30, 0, ET30 - DG30),IF(DG30 = ET30, DF30-EQ30, (DF30 - EQ30) + (ET30 - DG30))), IF(DF30 = EQ30, IF(DG30 = ET30, 0, DG30-ET30),IF(DG30 = ET30, EQ30-DF30, (EQ30-DF30) + (DG30-ET30)))))*10000),IF(LEN(RIGHT(EQ30,LEN(EQ30)-FIND(\".\",EQ30)))=3,((IF(EN30 = \"Buy\", IF(DF30 = EQ30, IF(DG30 = ET30, 0, ET30 - DG30),IF(DG30 = ET30, DF30-EQ30, (DF30 - EQ30) + (ET30 - DG30))), IF(DF30 = EQ30, IF(DG30 = ET30, 0, DG30-ET30),IF(DG30 = ET30, EQ30-DF30, (EQ30-DF30) + (DG30-ET30)))))*100),IF(LEN(RIGHT(EQ30,LEN(EQ30)-FIND(\".\",EQ30)))=5,((IF(EN30 = \"Buy\", IF(DF30 = EQ30, IF(DG30 = ET30, 0, ET30 - DG30),IF(DG30 = ET30, DF30-EQ30, (DF30 - EQ30) + (ET30 - DG30))), IF(DF30 = EQ30, IF(DG30 = ET30, 0, DG30-ET30),IF(DG30 = ET30, EQ30-DF30, (EQ30-DF30) + (DG30-ET30)))))*10000))))))","v":""},{"$f":"IF(EN30=\"\",\"\",IF(LEN(RIGHT(EQ30,LEN(EQ30)-FIND(\".\",EQ30)))=2,((DA30*ABS(ET30-EQ30))*100),IF(LEN(RIGHT(EQ30,LEN(EQ30)-FIND(\".\",EQ30)))=4,((DA30*ABS(ET30-EQ30))*10000),IF(LEN(RIGHT(EQ30,LEN(EQ30)-FIND(\".\",EQ30)))=3,((DA30*ABS(ET30-EQ30))*100),IF(LEN(RIGHT(EQ30,LEN(EQ30)-FIND(\".\",EQ30)))=5,((DA30*ABS(ET30-EQ30))*10000))))))","v":""},{"$f":"IF(EN30=\"\",\"\",ABS(DV30/ABS(CN30)))","v":""},null,null,null,null,null,null,null,null,null,null,"Last 3 Months","2019-12-25","2020-03-24"]

{"sheet":"This Year's Log","index":2,"n_rows":372,"n_cols":35,"rows_kept":372,"cut":false,"hidden":false,"merged":[[4,2,5,2],[4,3,4,6],[14,26,15,26],[8,13,9,13],[6,26,7,26],[12,13,13,13],[14,13,15,13],[18,13,19,13],[20,13,21,13],[10,13,11,13],[18,26,19,26],[4,14,5,14],[6,14,7,14],[8,14,9,14],[10,14,11,14],[12,14,13,14],[14,14,15,14],[16,14,17,14],[18,14,19,14],[20,14,21,14],[4,15,5,15],[4,17,5,17],[4,16,5,16],[4,19,5,19],[28,26,29,26],[28,27,29,27],[26,13,27,13],[24,13,25,13],[24,26,25,26],[22,26,23,26],[24,14,25,14],[26,14,27,14],[28,14,29,14],[22,14,23,14],[28,13,29,13],[24,27,25,27],[16,31,17,31],[4,13,5,13],[6,31,7,31],[6,30,7,30],[8,30,9,30],[10,30,11,30],[12,30,13,30],[14,30,15,30],[16,30,17,30],[16,13,17,13],[14,28,15,28],[4,18,5,18],[4,26,4,31],[14,31,15,31],[6,27,7,27],[6,28,7,28],[8,26,9,26],[10,29,11,29],[12,29,13,29],[14,29,15,29],[8,31,9,31],[10,31,11,31],[14,27,15,27],[12,26,13,26],[18,30,19,30],[18,28,19,28],[24,28,25,28],[12,28,13,28],[10,26,11,26],[4,20,4,25],[18,29,19,29],[16,26,17,26],[16,27,17,27],[16,28,17,28],[10,28,11,28],[8,27,9,27],[8,28,9,28],[12,27,13,27],[20,27,21,27],[22,30,23,30],[24,30,25,30],[28,30,29,30],[20,31,21,31],[22,27,23,27],[22,28,23,28],[26,27,27,27],[26,28,27,28],[26,31,27,31],[22,31,23,31],[26,30,27,30],[24,31,25,31],[26,29,27,29],[24,29,25,29],[20,29,21,29],[22,29,23,29],[20,28,21,28],[28,28,29,28],[30,33,30,34],[16,29,17,29],[3,1,3,31],[3,33,4,34],[28,31,29,31],[26,26,27,26],[1,1,1,34],[8,29,9,29],[22,13,23,13],[6,13,7,13],[4,1,5,1],[4,7,4,12],[12,31,13,31],[18,31,19,31],[18,27,19,27],[10,27,11,27],[6,29,7,29],[20,26,21,26],[7,33,7,34],[12,33,12,34],[18,33,18,34],[24,33,24,34],[28,29,29,29],[20,30,21,30]]}
[]
[null,"  "]
[]
[null,{"$f":" \"This Year's Log\" & \" \" & \"(\" & YEAR(TODAY()) &\")\"","v":"This Year's Log (2024)"},null,null,null,null,null,null,null,null,null,null,null,null,null,null,null,null,null,null,null,null,null,null,null,null,null,null,null,null,null,null,null,"YTD Statistics"]
[null,"Date","Date",null,null,null,null,"Daily Log",null,null,null,null,null,"Trades This \nMonth",null,"Month $","Month","Month %","Current \nMonth","Week #","Weekly Log",null,null,null,null,null,"Monthly Log"]
[null,null,null,"Net P/L $","Pips Gained/Lost","Balance","Trades","Day #","P/L $","P/L %","P/L in Pips","Trades","EOD Balance",null,null,null,null,null,null,null,"Week #"," P/L $","P/L %","P/L in Pips","Trades","EOW Balance","Month ","P/L $","P/L %","P/L in Pips","Trades","EOM Balance",null,"STARTING BALANCE",{"$f":" INDEX(M7:M372,MATCH(TRUE,INDEX((M7:M372<>\"\"),0),0)) -  INDIRECT(\"I\"&INDEX(ROW(M7:M372),MATCH(TRUE,INDEX((M7:M372<>\"\"),0),0)))","v":{"$error":"#N/A"}}]
[null,{"$f":" \"01/01/\"&YEAR(TODAY())","v":"01/01/2024"},{"$f":" IF(G7 = 0, \"\", B7)","v":""},{"$f":" IFERROR(INDIRECT(\"'Trade Log'!\" & \"CR\" & MATCH(B7,'Trade Log'!E:E,0)),0)","v":0},{"$f":" IFERROR(INDIRECT(\"'Trade Log'!\" & \"CS\" & MATCH(B7,'Trade Log'!E:E,0)),0)","v":0},{"$f":" IFERROR(INDIRECT(\"'Trade Log'!\" & \"CT\" & MATCH(B7,'Trade Log'!E:E,0)),\"\")","v":""},{"$f":" IFERROR(INDIRECT(\"'Trade Log'!\" & \"CU\" & MATCH(B7,'Trade Log'!E:E,0)),0)","v":0},1,{"$f":" D7","v":0},{"$f":"IFERROR(D7/(M7-D7),0)","v":0},{"$f":" E7","v":0},{"$f":" G7","v":0},{"$f":"F7","v":""},{"$f":" IFERROR(SUM(INDIRECT(\"G\"&(MATCH(MONTH(DATEVALUE(AA7&\"1\")),S:S,0))&\":G\"&O7)),0)","v":0},{"$f":" IFERROR((LOOKUP(2,1/(S:S = 1), ROW(S:S))),\"\")","v":""},{"$f":" AB7","v":0},{"$f":" IF(AE7 = 0, \"\", AA7)","v":""},{"$f":" AC7","v":0},{"$f":" IF(M7=\"\",\"\",MONTH(B7))","v":""},{"$f":" WEEKNUM(B7,1)","v":1},{"$f":" IF(ROW(T7) = FLOOR((MATCH(T7, T:T, 0) +  MATCH(T7, T:T))/2,1), WEEKNUM(B7,1), \"\")","v":""},{"$f":" IF(U7 = \"\", \"\", SUM(INDIRECT(\"I\"&(MATCH(T7,T:T,0))&\":I\"&(MATCH(T7,T:T)))))","v":""},{"$f":" IFERROR( IF(V7 = \"\",\"\",V7/(Z7-V7)),0)","v":""},{"$f":" IF(U7 = \"\", \"\",SUM(INDIRECT(\"K\"&(MATCH(T7,T:T,0))&\":K\"&(MATCH(T7,T:T)))))","v":""},{"$f":" IF(U7= \"\", \"\",SUM(INDIRECT(\"G\"&(MATCH(T7,T:T,0))&\":G\"&(MATCH(T7,T:T)))))","v":""},{"$f":" IFERROR(IF(U7 = \"\", \"\",LOOKUP(2,1/(INDIRECT(\"M\"&MATCH(T7,T:T,0)&\":\"&\"M\"&MATCH(T7,T:T))<>\"\"),INDIRECT(\"M\"&MATCH(T7,T:T,0)&\":\"&\"M\"&MATCH(T7,T:T)))),\"\")","v":""},"January",{"$f":" IFERROR(SUM(INDIRECT(\"I\"&(MATCH(MONTH(DATEVALUE(AA7&\"1\")),S:S,0))&\":I\"&O7)),0)","v":0},{"$f":" IFERROR(AB7/(AF7-AB7),0)","v":0},{"$f":" IFERROR(SUM(INDIRECT(\"K\"&(MATCH(MONTH(DATEVALUE(AA7&\"1\")),S:S,0))&\":K\"&O7)),0)","v":0},{"$f":" N7","v":0},{"$f":"IFERROR( INDIRECT(\"M\"&O7),\"\")","v":""},null,"ENDING BALANCE",{"$f":"LOOKUP(2,1/(M7:M372<>\"\"),M7:M372)","v":{"$error":"#N/A"}}]
[null,{"$f":" B7 + 1","v":"2024-01-02"},{"$f":" IF(G8 = 0, \"\", B8)","v":""},{"$f":" IFERROR(INDIRECT(\"'Trade Log'!\" & \"CR\" & MATCH(B8,'Trade Log'!E:E,0)),0)","v":0},{"$f":" IFERROR(INDIRECT(\"'Trade Log'!\" & \"CS\" & MATCH(B8,'Trade Log'!E:E,0)),0)","v":0},{"$f":" IFERROR(INDIRECT(\"'Trade Log'!\" & \"CT\" & MATCH(B8,'Trade Log'!E:E,0)),\"\")","v":""},{"$f":" IFERROR(INDIRECT(\"'Trade Log'!\" & \"CU\" & MATCH(B8,'Trade Log'!E:E,0)),0)","v":0},{"$f":" (H7) + 1","v":2},{"$f":" D8","v":0},{"$f":"IFERROR(D8/(M8-D8),0)","v":0},0,0,{"$f":"F8","v":""},null,null,{"$f":" AB9","v":0},{"$f":" IF(AE9 = 0, \"\", AA9)","v":""},{"$f":" AC9","v":0},"",{"$f":" WEEKNUM(B8,1)","v":1},{"$f":" IF(ROW(T8) = FLOOR((MATCH(T8, T:T, 0) +MATCH(T8, T:T))/2,1), WEEKNUM(B8,1), \"\")","v":""},"",{"$f":" IFERROR( IF(V8 = \"\",\"\",V8/(Z8-V8)),0)","v":""},"","","",null,null,null,null,null,null,null,"Totals"]
[null,"2024-01-03",{"$f":" IF(G9 = 0, \"\", B9)","v":""},{"$f":" IFERROR(INDIRECT(\"'Trade Log'!\" & \"CR\" & MATCH(B9,'Trade Log'!E:E,0)),0)","v":0},{"$f":" IFERROR(INDIRECT(\"'Trade Log'!\" & \"CS\" & MATCH(B9,'Trade Log'!E:E,0)),0)","v":0},{"$f":" IFERROR(INDIRECT(\"'Trade Log'!\" & \"CT\" & MATCH(B9,'Trade Log'!E:E,0)),\"\")","v":""},{"$f":" IFERROR(INDIRECT(\"'Trade Log'!\" & \"CU\" & MATCH(B9,'Trade Log'!E:E,0)),0)","v":0},3,0,0,0,0,"",{"$f":" IFERROR(SUM(INDIRECT(\"G\"&(MATCH(MONTH(DATEVALUE(AA9&\"1\")),S:S,0))&\":G\"&O9)),0)","v":0},{"$f":" IFERROR((LOOKUP(2,1/(S:S = 2), ROW(S:S))),\"\")","v":""},{"$f":" AB11","v":0},{"$f":" IF(AE11 = 0, \"\", AA11)","v":""},{"$f":" AC11","v":0},"",{"$f":" WEEKNUM(B9,1)","v":1},1,0,{"$f":" IFERROR( IF(V9 = \"\",\"\",V9/(Z9-V9)),0)","v":0},0,0,"","February",{"$f":" IFERROR(SUM(INDIRECT(\"I\"&(MATCH(MONTH(DATEVALUE(AA9&\"1\")),S:S,0))&\":I\"&O9)),0)","v":0},{"$f":" IFERROR(AB9/(AF9-AB9),0)","v":0},{"$f":" IFERROR(SUM(INDIRECT(\"K\"&(MATCH(MONTH(DATEVALUE(AA9&\"1\")),S:S,0))&\":K\"&O9)),0)","v":0},{"$f":" N9","v":0},{"$f":"IFERROR( INDIRECT(\"M\"&O9),\"\")","v":""},null,"Total P/L $",{"$f":" SUM(I:I)","v":0}]
[null,"2024-01-04","",{"$f":" IFERROR(INDIRECT(\"'Trade Log'!\" & \"CR\" & MATCH(B10,'Trade Log'!E:E,0)),0)","v":0},{"$f":" IFERROR(INDIRECT(\"'Trade Log'!\" & \"CS\" & MATCH(B10,'Trade Log'!E:E,0)),0)","v":0},{"$f":" IFERROR(INDIRECT(\"'Trade Log'!\" & \"CT\" & MATCH(B10,'Trade Log'!E:E,0)),\"\")","v":""},{"$f":" IFERROR(INDIRECT(\"'Trade Log'!\" & \"CU\" & MATCH(B10,'Trade Log'!E:E,0)),0)","v":0},4,0,0,0,0,{"$f":"F10","v":""},null,null,{"$f":" AB13","v":0},{"$f":" IF(AE13 = 0, \"\", AA13)","v":""},{"$f":" AC13","v":0},"",1,"","",{"$f":" IFERROR( IF(V10 = \"\",\"\",V10/(Z10-V10)),0)","v":""},"","","",null,null,null,null,null,null,null,"Total P/L %",{"$f":" (AI7 - AI6)/AI6","v":{"$error":"#N/A"}}]
[null,"2024-01-05","",{"$f":" IFERROR(INDIRECT(\"'Trade Log'!\" & \"CR\" & MATCH(B11,'Trade Log'!E:E,0)),0)","v":0},{"$f":" IFERROR(INDIRECT(\"'Trade Log'!\" & \"CS\" & MATCH(B11,'Trade Log'!E:E,0)),0)","v":0},{"$f":" IFERROR(INDIRECT(\"'Trade Log'!\" & \"CT\" & MATCH(B11,'Trade Log'!E:E,0)),\"\")","v":""},{"$f":" IFERROR(INDIRECT(\"'Trade Log'!\" & \"CU\" & MATCH(B11,'Trade Log'!E:E,0)),0)","v":0},5,0,0,0,0,"",{"$f":" IFERROR(SUM(INDIRECT(\"G\"&(MATCH(MONTH(DATEVALUE(AA11&\"1\")),S:S,0))&\":G\"&O11)),0)","v":0},{"$f":" IFERROR((LOOKUP(2,1/(S:S = 3), ROW(S:S))),\"\")","v":""},{"$f":" AB15","v":0},{"$f":" IF(AE15 = 0, \"\", AA15)","v":""},{"$f":" AC15","v":0},"",1,"","","","","","","March",{"$f":" IFERROR(SUM(INDIRECT(\"I\"&(MATCH(MONTH(DATEVALUE(AA11&\"1\")),S:S,0))&\":I\"&O11)),0)","v":0},{"$f":" IFERROR(AB11/(AF11-AB11),0)","v":0},{"$f":" IFERROR(SUM(INDIRECT(\"K\"&(MATCH(MONTH(DATEVALUE(AA11&\"1\")),S:S,0))&\":K\"&O11)),0)","v":0},{"$f":" N11","v":0},{"$f":"IFERROR( INDIRECT(\"M\"&O11),\"\")","v":""},null,"Total Pips Gained/Lost",{"$f":" SUM(K:K)","v":0}]
[null,"2024-01-06","",{"$f":" IFERROR(INDIRECT(\"'Trade Log'!\" & \"CR\" & MATCH(B12,'Trade Log'!E:E,0)),0)","v":0},{"$f":" IFERROR(INDIRECT(\"'Trade Log'!\" & \"CS\" & MATCH(B12,'Trade Log'!E:E,0)),0)","v":0},{"$f":" IFERROR(INDIRECT(\"'Trade Log'!\" & \"CT\" & MATCH(B12,'Trade Log'!E:E,0)),\"\")","v":""},{"$f":" IFERROR(INDIRECT(\"'Trade Log'!\" & \"CU\" & MATCH(B12,'Trade Log'!E:E,0)),0)","v":0},6,0,0,0,0,"",null,null,{"$f":" AB17","v":0},{"$f":" IF(AE17 = 0, \"\", AA17)","v":""},{"$f":" AC17","v":0},"",1,"","","","","","",null,null,null,null,null,null,null,"Total Number of Trades",{"$f":" SUM(AE:AE)","v":0}]
[null,"2024-01-07","",{"$f":" IFERROR(INDIRECT(\"'Trade Log'!\" & \"CR\" & MATCH(B13,'Trade Log'!E:E,0)),0)","v":0},{"$f":" IFERROR(INDIRECT(\"'Trade Log'!\" & \"CS\" & MATCH(B13,'Trade Log'!E:E,0)),0)","v":0},{"$f":" IFERROR(INDIRECT(\"'Trade Log'!\" & \"CT\" & MATCH(B13,'Trade Log'!E:E,0)),\"\")","v":""},{"$f":" IFERROR(INDIRECT(\"'Trade Log'!\" & \"CU\" & MATCH(B13,'Trade Log'!E:E,0)),0)","v":0},7,0,0,0,0,"",{"$f":" IFERROR(SUM(INDIRECT(\"G\"&(MATCH(MONTH(DATEVALUE(AA13&\"1\")),S:S,0))&\":G\"&O13)),0)","v":0},{"$f":" IFERROR((LOOKUP(2,1/(S:S = 4), ROW(S:S))),\"\")","v":""},{"$f":" AB19","v":0},{"$f":" IF(AE19 = 0, \"\", AA19)","v":""},{"$f":" AC19","v":0},"",2,"","","","","","","April",{"$f":" IFERROR(SUM(INDIRECT(\"I\"&(MATCH(MONTH(DATEVALUE(AA13&\"1\")),S:S,0))&\":I\"&O13)),0)","v":0},{"$f":" IFERROR(AB13/(AF13-AB13),0)","v":0},{"$f":" IFERROR(SUM(INDIRECT(\"K\"&(MATCH(MONTH(DATEVALUE(AA13&\"1\")),S:S,0))&\":K\"&O13)),0)","v":0},{"$f":" N13","v":0},{"$f":"IFERROR( INDIRECT(\"M\"&O13),\"\")","v":""},null,"Daily"]
[null,"2024-01-08","",{"$f":" IFERROR(INDIRECT(\"'Trade Log'!\" & \"CR\" & MATCH(B14,'Trade Log'!E:E,0)),0)","v":0},{"$f":" IFERROR(INDIRECT(\"'Trade Log'!\" & \"CS\" & MATCH(B14,'Trade Log'!E:E,0)),0)","v":0},{"$f":" IFERROR(INDIRECT(\"'Trade Log'!\" & \"CT\" & MATCH(B14,'Trade Log'!E:E,0)),\"\")","v":""},{"$f":" IFERROR(INDIRECT(\"'Trade Log'!\" & \"CU\" & MATCH(B14,'Trade Log'!E:E,0)),0)","v":0},8,0,0,0,0,"",null,null,{"$f":" AB21","v":0},{"$f":" IF(AE21 = 0, \"\", AA21)","v":""},{"$f":" AC21","v":0},"",2,"","","","","","",null,null,null,null,null,null,null,"Average P/L Per Day ($)",{"$f":" AVERAGEIF(L:L,\">0\",I:I)","v":{"$error":"#DIV/0!"}}]
[null,"2024-01-09","",{"$f":" IFERROR(INDIRECT(\"'Trade Log'!\" & \"CR\" & MATCH(B15,'Trade Log'!E:E,0)),0)","v":0},{"$f":" IFERROR(INDIRECT(\"'Trade Log'!\" & \"CS\" & MATCH(B15,'Trade Log'!E:E,0)),0)","v":0},{"$f":" IFERROR(INDIRECT(\"'Trade Log'!\" & \"CT\" & MATCH(B15,'Trade Log'!E:E,0)),\"\")","v":""},{"$f":" IFERROR(INDIRECT(\"'Trade Log'!\" & \"CU\" & MATCH(B15,'Trade Log'!E:E,0)),0)","v":0},9,0,0,0,0,"",{"$f":" IFERROR(SUM(INDIRECT(\"G\"&(MATCH(MONTH(DATEVALUE(AA15&\"1\")),S:S,0))&\":G\"&O15)),0)","v":0},{"$f":" IFERROR((LOOKUP(2,1/(S:S = 5), ROW(S:S))),\"\")","v":""},{"$f":" AB23","v":0},{"$f":" IF(AE23 = 0, \"\", AA23)","v":""},{"$f":" AC23","v":0},"",2,"","","","","","","May",{"$f":" IFERROR(SUM(INDIRECT(\"I\"&(MATCH(MONTH(DATEVALUE(AA15&\"1\")),S:S,0))&\":I\"&O15)),0)","v":0},{"$f":" IFERROR(AB15/(AF15-AB15),0)","v":0},{"$f":" IFERROR(SUM(INDIRECT(\"K\"&(MATCH(MONTH(DATEVALUE(AA15&\"1\")),S:S,0))&\":K\"&O15)),0)","v":0},{"$f":" N15","v":0},{"$f":"IFERROR( INDIRECT(\"M\"&O15),\"\")","v":""},null,"Average P/L Per Day (%)",{"$f":" AVERAGEIF(L:L,\">0\",J:J)","v":{"$error":"#DIV/0!"}}]
[null,"2024-01-10","",{"$f":" IFERROR(INDIRECT(\"'Trade Log'!\" & \"CR\" & MATCH(B16,'Trade Log'!E:E,0)),0)","v":0},{"$f":" IFERROR(INDIRECT(\"'Trade Log'!\" & \"CS\" & MATCH(B16,'Trade Log'!E:E,0)),0)","v":0},{"$f":" IFERROR(INDIRECT(\"'Trade Log'!\" & \"CT\" & MATCH(B16,'Trade Log'!E:E,0)),\"\")","v":""},{"$f":" IFERROR(INDIRECT(\"'Trade Log'!\" & \"CU\" & MATCH(B16,'Trade Log'!E:E,0)),0)","v":0},10,0,0,0,0,"",null,null,{"$f":" AB25","v":0},{"$f":" IF(AE25 = 0, \"\", AA25)","v":""},{"$f":" AC25","v":0},"",2,2,0,0,0,0,"",null,null,null,null,null,null,null,"Average Pips Gained/Lost Per Day",{"$f":" AVERAGEIF(L:L,\">0\",K:K)","v":{"$error":"#DIV/0!"}}]
[null,"2024-01-11","",{"$f":" IFERROR(INDIRECT(\"'Trade Log'!\" & \"CR\" & MATCH(B17,'Trade Log'!E:E,0)),0)","v":0},{"$f":" IFERROR(INDIRECT(\"'Trade Log'!\" & \"CS\" & MATCH(B17,'Trade Log'!E:E,0)),0)","v":0},{"$f":" IFERROR(INDIRECT(\"'Trade Log'!\" & \"CT\" & MATCH(B17,'Trade Log'!E:E,0)),\"\")","v":""},{"$f":" IFERROR(INDIRECT(\"'Trade Log'!\" & \"CU\" & MATCH(B17,'Trade Log'!E:E,0)),0)","v":0},11,0,0,0,0,"",{"$f":" IFERROR(SUM(INDIRECT(\"G\"&(MATCH(MONTH(DATEVALUE(AA17&\"1\")),S:S,0))&\":G\"&O17)),0)","v":0},{"$f":" IFERROR((LOOKUP(2,1/(S:S = 6), ROW(S:S))),\"\")","v":""},{"$f":" AB27","v":0},{"$f":" IF(AE27 = 0, \"\", AA27)","v":""},{"$f":" AC27","v":0},"",2,"","","","","","","June",{"$f":" IFERROR(SUM(INDIRECT(\"I\"&(MATCH(MONTH(DATEVALUE(AA17&\"1\")),S:S,0))&\":I\"&O17)),0)","v":0},{"$f":" IFERROR(AB17/(AF17-AB17),0)","v":0},{"$f":" IFERROR(SUM(INDIRECT(\"K\"&(MATCH(MONTH(DATEVALUE(AA17&\"1\")),S:S,0))&\":K\"&O17)),0)","v":0},{"$f":" N17","v":0},{"$f":"IFERROR( INDIRECT(\"M\"&O17),\"\")","v":""},null,"Average Number of Trades Per Day",{"$f":" AVERAGEIF(L:L,\">0\")","v":{"$error":"#DIV/0!"}}]
[null,"2024-01-12","",{"$f":" IFERROR(INDIRECT(\"'Trade Log'!\" & \"CR\" & MATCH(B18,'Trade Log'!E:E,0)),0)","v":0},{"$f":" IFERROR(INDIRECT(\"'Trade Log'!\" & \"CS\" & MATCH(B18,'Trade Log'!E:E,0)),0)","v":0},{"$f":" IFERROR(INDIRECT(\"'Trade Log'!\" & \"CT\" & MATCH(B18,'Trade Log'!E:E,0)),\"\")","v":""},{"$f":" IFERROR(INDIRECT(\"'Trade Log'!\" & \"CU\" & MATCH(B18,'Trade Log'!E:E,0)),0)","v":0},12,0,0,0,0,"",null,null,{"$f":" AB29","v":0},{"$f":" IF(AE29 = 0, \"\", AA29)","v":""},{"$f":" AC29","v":0},"",2,"","","","","","",null,null,null,null,null,null,null,"Number of Winning/Losing Days",{"$f":" COUNTIF(I:I,\">0\") & \" / \"& COUNTIF(I:I,\"<0\") & \" \"","v":"0 / 0 "}]
[null,"2024-01-13","",{"$f":" IFERROR(INDIRECT(\"'Trade Log'!\" & \"CR\" & MATCH(B19,'Trade Log'!E:E,0)),0)","v":0},{"$f":" IFERROR(INDIRECT(\"'Trade Log'!\" & \"CS\" & MATCH(B19,'Trade Log'!E:E,0)),0)","v":0},{"$f":" IFERROR(INDIRECT(\"'Trade Log'!\" & \"CT\" & MATCH(B19,'Trade Log'!E:E,0)),\"\")","v":""},{"$f":" IFERROR(INDIRECT(\"'Trade Log'!\" & \"CU\" & MATCH(B19,'Trade Log'!E:E,0)),0)","v":0},13,0,0,0,0,"",{"$f":" IFERROR(SUM(INDIRECT(\"G\"&(MATCH(MONTH(DATEVALUE(AA19&\"1\")),S:S,0))&\":G\"&O19)),0)","v":0},{"$f":" IFERROR((LOOKUP(2,1/(S:S = 7), ROW(S:S))),\"\")","v":""},null,null,null,"",2,"","","","","","","July",{"$f":" IFERROR(SUM(INDIRECT(\"I\"&(MATCH(MONTH(DATEVALUE(AA19&\"1\")),S:S,0))&\":I\"&O19)),0)","v":0},{"$f":" IFERROR(AB19/(AF19-AB19),0)","v":0},{"$f":" IFERROR(SUM(INDIRECT(\"K\"&(MATCH(MONTH(DATEVALUE(AA19&\"1\")),S:S,0))&\":K\"&O19)),0)","v":0},{"$f":" N19","v":0},{"$f":"IFERROR( INDIRECT(\"M\"&O19),\"\")","v":""},null,"Weekly"]
[null,"2024-01-14","",{"$f":" IFERROR(INDIRECT(\"'Trade Log'!\" & \"CR\" & MATCH(B20,'Trade Log'!E:E,0)),0)","v":0},{"$f":" IFERROR(INDIRECT(\"'Trade Log'!\" & \"CS\" & MATCH(B20,'Trade Log'!E:E,0)),0)","v":0},{"$f":" IFERROR(INDIRECT(\"'Trade Log'!\" & \"CT\" & MATCH(B20,'Trade Log'!E:E,0)),\"\")","v":""},{"$f":" IFERROR(INDIRECT(\"'Trade Log'!\" & \"CU\" & MATCH(B20,'Trade Log'!E:E,0)),0)","v":0},14,0,0,0,0,"",null,null,null,null,null,"",3,"","","","","","",null,null,null,null,null,null,null,"Average P/L Per Week $",{"$f":" AVERAGEIF(Y:Y,\">0\",V:V)","v":{"$error":"#DIV/0!"}}]
[null,"2024-01-15","",{"$f":" IFERROR(INDIRECT(\"'Trade Log'!\" & \"CR\" & MATCH(B21,'Trade Log'!E:E,0)),0)","v":0},{"$f":" IFERROR(INDIRECT(\"'Trade Log'!\" & \"CS\" & MATCH(B21,'Trade Log'!E:E,0)),0)","v":0},{"$f":" IFERROR(INDIRECT(\"'Trade Log'!\" & \"CT\" & MATCH(B21,'Trade Log'!E:E,0)),\"\")","v":""},{"$f":" IFERROR(INDIRECT(\"'Trade Log'!\" & \"CU\" & MATCH(B21,'Trade Log'!E:E,0)),0)","v":0},15,0,0,0,0,"",{"$f":" IFERROR(SUM(INDIRECT(\"G\"&(MATCH(MONTH(DATEVALUE(AA21&\"1\")),S:S,0))&\":G\"&O21)),0)","v":0},{"$f":" IFERROR((LOOKUP(2,1/(S:S = 8), ROW(S:S))),\"\")","v":""},null,null,null,"",3,"","","","","","","August",{"$f":" IFERROR(SUM(INDIRECT(\"I\"&(MATCH(MONTH(DATEVALUE(AA21&\"1\")),S:S,0))&\":I\"&O21)),0)","v":0},{"$f":" IFERROR(AB21/(AF21-AB21),0)","v":0},{"$f":" IFERROR(SUM(INDIRECT(\"K\"&(MATCH(MONTH(DATEVALUE(AA21&\"1\")),S:S,0))&\":K\"&O21)),0)","v":0},{"$f":" N21","v":0},{"$f":"IFERROR( INDIRECT(\"M\"&O21),\"\")","v":""},null,"Average P/L Per Week %",{"$f":" AVERAGEIF(Y:Y,\">0\",W:W)","v":{"$error":"#DIV/0!"}}]
[null,"2024-01-16","",{"$f":" IFERROR(INDIRECT(\"'Trade Log'!\" & \"CR\" & MATCH(B22,'Trade Log'!E:E,0)),0)","v":0},{"$f":" IFERROR(INDIRECT(\"'Trade Log'!\" & \"CS\" & MATCH(B22,'Trade Log'!E:E,0)),0)","v":0},{"$f":" IFERROR(INDIRECT(\"'Trade Log'!\" & \"CT\" & MATCH(B22,'Trade Log'!E:E,0)),\"\")","v":""},{"$f":" IFERROR(INDIRECT(\"'Trade Log'!\" & \"CU\" & MATCH(B22,'Trade Log'!E:E,0)),0)","v":0},16,0,0,0,0,"",null,null,null,null,null,"",3,"","","","","","",null,null,null,null,null,null,null,"Average Pips Gained/Lost Per Week",{"$f":" AVERAGEIF(Y:Y,\">0\",X:X)","v":{"$error":"#DIV/0!"}}]
[null,"2024-01-17","",{"$f":" IFERROR(INDIRECT(\"'Trade Log'!\" & \"CR\" & MATCH(B23,'Trade Log'!E:E,0)),0)","v":0},{"$f":" IFERROR(INDIRECT(\"'Trade Log'!\" & \"CS\" & MATCH(B23,'Trade Log'!E:E,0)),0)","v":0},{"$f":" IFERROR(INDIRECT(\"'Trade Log'!\" & \"CT\" & MATCH(B23,'Trade Log'!E:E,0)),\"\")","v":""},{"$f":" IFERROR(INDIRECT(\"'Trade Log'!\" & \"CU\" & MATCH(B23,'Trade Log'!E:E,0)),0)","v":0},17,0,0,0,0,"",{"$f":" IFERROR(SUM(INDIRECT(\"G\"&(MATCH(MONTH(DATEVALUE(AA23&\"1\")),S:S,0))&\":G\"&O23)),0)","v":0},{"$f":" IFERROR((LOOKUP(2,1/(S:S = 9), ROW(S:S))),\"\")","v":""},null,null,null,"",3,3,0,0,0,0,"","September",{"$f":" IFERROR(SUM(INDIRECT(\"I\"&(MATCH(MONTH(DATEVALUE(AA23&\"1\")),S:S,0))&\":I\"&O23)),0)","v":0},{"$f":" IFERROR(AB23/(AF23-AB23),0)","v":0},{"$f":" IFERROR(SUM(INDIRECT(\"K\"&(MATCH(MONTH(DATEVALUE(AA23&\"1\")),S:S,0))&\":K\"&O23)),0)","v":0},{"$f":" N23","v":0},{"$f":"IFERROR( INDIRECT(\"M\"&O23),\"\")","v":""},null,"Average Number of Trades Per Week",{"$f":" AVERAGEIF(Y:Y,\">0\")","v":{"$error":"#DIV/0!"}}]
[null,"2024-01-18","",{"$f":" IFERROR(INDIRECT(\"'Trade Log'!\" & \"CR\" & MATCH(B24,'Trade Log'!E:E,0)),0)","v":0},{"$f":" IFERROR(INDIRECT(\"'Trade Log'!\" & \"CS\" & MATCH(B24,'Trade Log'!E:E,0)),0)","v":0},{"$f":" IFERROR(INDIRECT(\"'Trade Log'!\" & \"CT\" & MATCH(B24,'Trade Log'!E:E,0)),\"\")","v":""},{"$f":" IFERROR(INDIRECT(\"'Trade Log'!\" & \"CU\" & MATCH(B24,'Trade Log'!E:E,0)),0)","v":0},18,0,0,0,0,"",null,null,null,null,null,"",3,"","","","","","",null,null,null,null,null,null,null,"Number of Winning/Losing Weeks",{"$f":" COUNTIF(V:V,\">0\") & \" / \"& COUNTIF(V:V,\"<0\") & \" \"","v":"0 / 0 "}]
[null,"2024-01-19","",{"$f":" IFERROR(INDIRECT(\"'Trade Log'!\" & \"CR\" & MATCH(B25,'Trade Log'!E:E,0)),0)","v":0},{"$f":" IFERROR(INDIRECT(\"'Trade Log'!\" & \"CS\" & MATCH(B25,'Trade Log'!E:E,0)),0)","v":0},{"$f":" IFERROR(INDIRECT(\"'Trade Log'!\" & \"CT\" & MATCH(B25,'Trade Log'!E:E,0)),\"\")","v":""},{"$f":" IFERROR(INDIRECT(\"'Trade Log'!\" & \"CU\" & MATCH(B25,'Trade Log'!E:E,0)),0)","v":0},19,0,0,0,0,"",{"$f":" IFERROR(SUM(INDIRECT(\"G\"&(MATCH(MONTH(DATEVALUE(AA25&\"1\")),S:S,0))&\":G\"&O25)),0)","v":0},{"$f":" IFERROR((LOOKUP(2,1/(S:S = 10), ROW(S:S))),\"\")","v":""},null,null,null,"",3,"","","","","","","October",{"$f":" IFERROR(SUM(INDIRECT(\"I\"&(MATCH(MONTH(DATEVALUE(AA25&\"1\")),S:S,0))&\":I\"&O25)),0)","v":0},{"$f":" IFERROR(AB25/(AF25-AB25),0)","v":0},{"$f":" IFERROR(SUM(INDIRECT(\"K\"&(MATCH(MONTH(DATEVALUE(AA25&\"1\")),S:S,0))&\":K\"&O25)),0)","v":0},{"$f":" N25","v":0},{"$f":"IFERROR( INDIRECT(\"M\"&O25),\"\")","v":""},null,"Monthly"]
[null,"2024-01-20","",{"$f":" IFERROR(INDIRECT(\"'Trade Log'!\" & \"CR\" & MATCH(B26,'Trade Log'!E:E,0)),0)","v":0},{"$f":" IFERROR(INDIRECT(\"'Trade Log'!\" & \"CS\" & MATCH(B26,'Trade Log'!E:E,0)),0)","v":0},{"$f":" IFERROR(INDIRECT(\"'Trade Log'!\" & \"CT\" & MATCH(B26,'Trade Log'!E:E,0)),\"\")","v":""},{"$f":" IFERROR(INDIRECT(\"'Trade Log'!\" & \"CU\" & MATCH(B26,'Trade Log'!E:E,0)),0)","v":0},20,0,0,0,0,"",null,null,null,null,null,"",3,"","","","","","",null,null,null,null,null,null,null,"Average P/L Per Month $",{"$f":" AVERAGEIF(AE:AE,\">0\",AB:AB)","v":{"$error":"#DIV/0!"}}]
[null,"2024-01-21","",{"$f":" IFERROR(INDIRECT(\"'Trade Log'!\" & \"CR\" & MATCH(B27,'Trade Log'!E:E,0)),0)","v":0},{"$f":" IFERROR(INDIRECT(\"'Trade Log'!\" & \"CS\" & MATCH(B27,'Trade Log'!E:E,0)),0)","v":0},{"$f":" IFERROR(INDIRECT(\"'Trade Log'!\" & \"CT\" & MATCH(B27,'Trade Log'!E:E,0)),\"\")","v":""},{"$f":" IFERROR(INDIRECT(\"'Trade Log'!\" & \"CU\" & MATCH(B27,'Trade Log'!E:E,0)),0)","v":0},21,0,0,0,0,"",{"$f":" IFERROR(SUM(INDIRECT(\"G\"&(MATCH(MONTH(DATEVALUE(AA27&\"1\")),S:S,0))&\":G\"&O27)),0)","v":0},{"$f":" IFERROR((LOOKUP(2,1/(S:S = 11), ROW(S:S))),\"\")","v":""},null,null,null,"",4,"","","","","","","November",{"$f":" IFERROR(SUM(INDIRECT(\"I\"&(MATCH(MONTH(DATEVALUE(AA27&\"1\")),S:S,0))&\":I\"&O27)),0)","v":0},{"$f":" IFERROR(AB27/(AF27-AB27),0)","v":0},{"$f":" IFERROR(SUM(INDIRECT(\"K\"&(MATCH(MONTH(DATEVALUE(AA27&\"1\")),S:S,0))&\":K\"&O27)),0)","v":0},{"$f":" N27","v":0},{"$f":"IFERROR( INDIRECT(\"M\"&O27),\"\")","v":""},null,"Average P/L Per Month %",{"$f":" AVERAGEIF(AE:AE,\">0\",AC:AC)","v":{"$error":"#DIV/0!"}}]
[null,"2024-01-22","",{"$f":" IFERROR(INDIRECT(\"'Trade Log'!\" & \"CR\" & MATCH(B28,'Trade Log'!E:E,0)),0)","v":0},{"$f":" IFERROR(INDIRECT(\"'Trade Log'!\" & \"CS\" & MATCH(B28,'Trade Log'!E:E,0)),0)","v":0},{"$f":" IFERROR(INDIRECT(\"'Trade Log'!\" & \"CT\" & MATCH(B28,'Trade Log'!E:E,0)),\"\")","v":""},{"$f":" IFERROR(INDIRECT(\"'Trade Log'!\" & \"CU\" & MATCH(B28,'Trade Log'!E:E,0)),0)","v":0},22,0,0,0,0,"",null,null,null,null,null,"",4,"","","","","","",null,null,null,null,null,null,null,"Average Pips Gained/Lost Per Month",{"$f":" AVERAGEIF(AE:AE,\">0\",AD:AD)","v":{"$error":"#DIV/0!"}}]
[null,"2024-01-23","",{"$f":" IFERROR(INDIRECT(\"'Trade Log'!\" & \"CR\" & MATCH(B29,'Trade Log'!E:E,0)),0)","v":0},{"$f":" IFERROR(INDIRECT(\"'Trade Log'!\" & \"CS\" & MATCH(B29,'Trade Log'!E:E,0)),0)","v":0},{"$f":" IFERROR(INDIRECT(\"'Trade Log'!\" & \"CT\" & MATCH(B29,'Trade Log'!E:E,0)),\"\")","v":""},{"$f":" IFERROR(INDIRECT(\"'Trade Log'!\" & \"CU\" & MATCH(B29,'Trade Log'!E:E,0)),0)","v":0},23,0,0,0,0,"",{"$f":" IFERROR(SUM(INDIRECT(\"G\"&(MATCH(MONTH(DATEVALUE(AA29&\"1\")),S:S,0))&\":G\"&O29)),0)","v":0},{"$f":" IFERROR((LOOKUP(2,1/(S:S = 12), ROW(S:S))),\"\")","v":""},null,null,null,"",4,"","","","","","","December",{"$f":" IFERROR(SUM(INDIRECT(\"I\"&(MATCH(MONTH(DATEVALUE(AA29&\"1\")),S:S,0))&\":I\"&O29)),0)","v":0},{"$f":" IFERROR(AB29/(AF29-AB29),0)","v":0},{"$f":" IFERROR(SUM(INDIRECT(\"K\"&(MATCH(MONTH(DATEVALUE(AA29&\"1\")),S:S,0))&\":K\"&O29)),0)","v":0},{"$f":" N29","v":0},{"$f":"IFERROR( INDIRECT(\"M\"&O29),\"\")","v":""},null,"Average Number of Trades Per Month",{"$f":" AVERAGEIF(AE:AE,\">0\")","v":{"$error":"#DIV/0!"}}]
[null,"2024-01-24","",{"$f":" IFERROR(INDIRECT(\"'Trade Log'!\" & \"CR\" & MATCH(B30,'Trade Log'!E:E,0)),0)","v":0},{"$f":" IFERROR(INDIRECT(\"'Trade Log'!\" & \"CS\" & MATCH(B30,'Trade Log'!E:E,0)),0)","v":0},{"$f":" IFERROR(INDIRECT(\"'Trade Log'!\" & \"CT\" & MATCH(B30,'Trade Log'!E:E,0)),\"\")","v":""},{"$f":" IFERROR(INDIRECT(\"'Trade Log'!\" & \"CU\" & MATCH(B30,'Trade Log'!E:E,0)),0)","v":0},24,0,0,0,0,"",null,null,null,null,null,"",4,4,0,0,0,0,"",null,null,null,null,null,null,null,"Number of Winning/Losing Months",{"$f":" COUNTIF(AB:AB,\">0\") & \" / \"& COUNTIF(AB:AB,\"<0\") & \" \"","v":"0 / 0 "}]
[null,"2024-01-25","",{"$f":" IFERROR(INDIRECT(\"'Trade Log'!\" & \"CR\" & MATCH(B31,'Trade Log'!E:E,0)),0)","v":0},{"$f":" IFERROR(INDIRECT(\"'Trade Log'!\" & \"CS\" & MATCH(B31,'Trade Log'!E:E,0)),0)","v":0},{"$f":" IFERROR(INDIRECT(\"'Trade Log'!\" & \"CT\" & MATCH(B31,'Trade Log'!E:E,0)),\"\")","v":""},{"$f":" IFERROR(INDIRECT(\"'Trade Log'!\" & \"CU\" & MATCH(B31,'Trade Log'!E:E,0)),0)","v":0},25,0,0,0,0,"",null,null,null,null,null,"",4,"","","","","","",null,null,null,null,null,null,null,"Best/Worst Performance"]
[null,"2024-01-26","",{"$f":" IFERROR(INDIRECT(\"'Trade Log'!\" & \"CR\" & MATCH(B32,'Trade Log'!E:E,0)),0)","v":0},{"$f":" IFERROR(INDIRECT(\"'Trade Log'!\" & \"CS\" & MATCH(B32,'Trade Log'!E:E,0)),0)","v":0},{"$f":" IFERROR(INDIRECT(\"'Trade Log'!\" & \"CT\" & MATCH(B32,'Trade Log'!E:E,0)),\"\")","v":""},{"$f":" IFERROR(INDIRECT(\"'Trade Log'!\" & \"CU\" & MATCH(B32,'Trade Log'!E:E,0)),0)","v":0},26,0,0,0,0,"",null,null,null,null,null,"",4,"","","","","","",null,null,null,null,null,null,null,"Best Day (By $/By %)",{"$f":" TEXT(INDEX(C7:C372,MATCH(MAX(I7:I372),I7:I372,0)),\"mm/dd/yyyy \") & \" / \" & TEXT(INDEX(C7:C372,MATCH(MAX(J7:J372),J7:J372,0)),\"mm/dd/yyyy \")","v":" / "}]
[null,"2024-01-27","",{"$f":" IFERROR(INDIRECT(\"'Trade Log'!\" & \"CR\" & MATCH(B33,'Trade Log'!E:E,0)),0)","v":0},{"$f":" IFERROR(INDIRECT(\"'Trade Log'!\" & \"CS\" & MATCH(B33,'Trade Log'!E:E,0)),0)","v":0},{"$f":" IFERROR(INDIRECT(\"'Trade Log'!\" & \"CT\" & MATCH(B33,'Trade Log'!E:E,0)),\"\")","v":""},{"$f":" IFERROR(INDIRECT(\"'Trade Log'!\" & \"CU\" & MATCH(B33,'Trade Log'!E:E,0)),0)","v":0},27,0,0,0,0,"",null,null,null,null,null,"",4,"","","","","","",null,null,null,null,null,null,null,"Worst Day (By $/By %)",{"$f":" TEXT(INDEX(C7:C372,MATCH(MIN(I7:I372),I7:I372,0)),\"mm/dd/yyyy \") & \" / \" & TEXT(INDEX(C7:C372,MATCH(MIN(J7:J372),J7:J372,0)),\"mm/dd/yyyy \")","v":" / "}]
[null,"2024-01-28","",{"$f":" IFERROR(INDIRECT(\"'Trade Log'!\" & \"CR\" & MATCH(B34,'Trade Log'!E:E,0)),0)","v":0},{"$f":" IFERROR(INDIRECT(\"'Trade Log'!\" & \"CS\" & MATCH(B34,'Trade Log'!E:E,0)),0)","v":0},{"$f":" IFERROR(INDIRECT(\"'Trade Log'!\" & \"CT\" & MATCH(B34,'Trade Log'!E:E,0)),\"\")","v":""},{"$f":" IFERROR(INDIRECT(\"'Trade Log'!\" & \"CU\" & MATCH(B34,'Trade Log'!E:E,0)),0)","v":0},28,0,0,0,0,"",null,null,null,null,null,"",5,"","","","","","",null,null,null,null,null,null,null,"Best Month (By $/By %)",{"$f":" TEXT(INDEX(Q7:Q18,MATCH(MAX(P7:P18),P7:P18,0)),\"mmmm \") & \" / \" & TEXT(INDEX(Q7:Q18,MATCH(MAX(R7:R18),R7:R18,0)),\"mmmm \")","v":" / "}]
[null,"2024-01-29","",{"$f":" IFERROR(INDIRECT(\"'Trade Log'!\" & \"CR\" & MATCH(B35,'Trade Log'!E:E,0)),0)","v":0},{"$f":" IFERROR(INDIRECT(\"'Trade Log'!\" & \"CS\" & MATCH(B35,'Trade Log'!E:E,0)),0)","v":0},{"$f":" IFERROR(INDIRECT(\"'Trade Log'!\" & \"CT\" & MATCH(B35,'Trade Log'!E:E,0)),\"\")","v":""},{"$f":" IFERROR(INDIRECT(\"'Trade Log'!\" & \"CU\" & MATCH(B35,'Trade Log'!E:E,0)),0)","v":0},29,0,0,0,0,"",null,null,null,null,null,"",5,"","","","","","",null,null," ",null,null,null,null,"Worst Month (By $/By %)",{"$f":" TEXT(INDEX(Q7:Q18,MATCH(MIN(P7:P18),P7:P18,0)),\"mmmm \") & \" / \" & TEXT(INDEX(Q7:Q18,MATCH(MIN(R7:R18),R7:R18,0)),\"mmmm \")","v":" / "}]
[null,"2024-01-30","",{"$f":" IFERROR(INDIRECT(\"'Trade Log'!\" & \"CR\" & MATCH(B36,'Trade Log'!E:E,0)),0)","v":0},{"$f":" IFERROR(INDIRECT(\"'Trade Log'!\" & \"CS\" & MATCH(B36,'Trade Log'!E:E,0)),0)","v":0},{"$f":" IFERROR(INDIRECT(\"'Trade Log'!\" & \"CT\" & MATCH(B36,'Trade Log'!E:E,0)),\"\")","v":""},{"$f":" IFERROR(INDIRECT(\"'Trade Log'!\" & \"CU\" & MATCH(B36,'Trade Log'!E:E,0)),0)","v":0},30,0,0,0,0,"",null,null,null,null,null,"",5,"","","","","",""]
[null,"2024-01-31","",{"$f":" IFERROR(INDIRECT(\"'Trade Log'!\" & \"CR\" & MATCH(B37,'Trade Log'!E:E,0)),0)","v":0},{"$f":" IFERROR(INDIRECT(\"'Trade Log'!\" & \"CS\" & MATCH(B37,'Trade Log'!E:E,0)),0)","v":0},{"$f":" IFERROR(INDIRECT(\"'Trade Log'!\" & \"CT\" & MATCH(B37,'Trade Log'!E:E,0)),\"\")","v":""},{"$f":" IFERROR(INDIRECT(\"'Trade Log'!\" & \"CU\" & MATCH(B37,'Trade Log'!E:E,0)),0)","v":0},31,0,0,0,0,"",null,null,null,null,null,"",5,5,0,0,0,0,""]
[null,"2024-02-01","",{"$f":" IFERROR(INDIRECT(\"'Trade Log'!\" & \"CR\" & MATCH(B38,'Trade Log'!E:E,0)),0)","v":0},{"$f":" IFERROR(INDIRECT(\"'Trade Log'!\" & \"CS\" & MATCH(B38,'Trade Log'!E:E,0)),0)","v":0},{"$f":" IFERROR(INDIRECT(\"'Trade Log'!\" & \"CT\" & MATCH(B38,'Trade Log'!E:E,0)),\"\")","v":""},{"$f":" IFERROR(INDIRECT(\"'Trade Log'!\" & \"CU\" & MATCH(B38,'Trade Log'!E:E,0)),0)","v":0},32,0,0,0,0,"",null,null,null,null,null,"",5,"","","","","",""]
[null,"2024-02-02","",{"$f":" IFERROR(INDIRECT(\"'Trade Log'!\" & \"CR\" & MATCH(B39,'Trade Log'!E:E,0)),0)","v":0},{"$f":" IFERROR(INDIRECT(\"'Trade Log'!\" & \"CS\" & MATCH(B39,'Trade Log'!E:E,0)),0)","v":0},{"$f":" IFERROR(INDIRECT(\"'Trade Log'!\" & \"CT\" & MATCH(B39,'Trade Log'!E:E,0)),\"\")","v":""},{"$f":" IFERROR(INDIRECT(\"'Trade Log'!\" & \"CU\" & MATCH(B39,'Trade Log'!E:E,0)),0)","v":0},33,0,0,0,0,"",null,null,null,null,null,"",5,"","","","","",""]
[null,"2024-02-03","",{"$f":" IFERROR(INDIRECT(\"'Trade Log'!\" & \"CR\" & MATCH(B40,'Trade Log'!E:E,0)),0)","v":0},{"$f":" IFERROR(INDIRECT(\"'Trade Log'!\" & \"CS\" & MATCH(B40,'Trade Log'!E:E,0)),0)","v":0},{"$f":" IFERROR(INDIRECT(\"'Trade Log'!\" & \"CT\" & MATCH(B40,'Trade Log'!E:E,0)),\"\")","v":""},{"$f":" IFERROR(INDIRECT(\"'Trade Log'!\" & \"CU\" & MATCH(B40,'Trade Log'!E:E,0)),0)","v":0},34,0,0,0,0,"",null,null,null,null,null,"",5,"","","","","",""]
[null,"2024-02-04","",{"$f":" IFERROR(INDIRECT(\"'Trade Log'!\" & \"CR\" & MATCH(B41,'Trade Log'!E:E,0)),0)","v":0},{"$f":" IFERROR(INDIRECT(\"'Trade Log'!\" & \"CS\" & MATCH(B41,'Trade Log'!E:E,0)),0)","v":0},{"$f":" IFERROR(INDIRECT(\"'Trade Log'!\" & \"CT\" & MATCH(B41,'Trade Log'!E:E,0)),\"\")","v":""},{"$f":" IFERROR(INDIRECT(\"'Trade Log'!\" & \"CU\" & MATCH(B41,'Trade Log'!E:E,0)),0)","v":0},35,0,0,0,0,"",null,null,null,null,null,"",6,"","","","","",""]
[null,"2024-02-05","",{"$f":" IFERROR(INDIRECT(\"'Trade Log'!\" & \"CR\" & MATCH(B42,'Trade Log'!E:E,0)),0)","v":0},{"$f":" IFERROR(INDIRECT(\"'Trade Log'!\" & \"CS\" & MATCH(B42,'Trade Log'!E:E,0)),0)","v":0},{"$f":" IFERROR(INDIRECT(\"'Trade Log'!\" & \"CT\" & MATCH(B42,'Trade Log'!E:E,0)),\"\")","v":""},{"$f":" IFERROR(INDIRECT(\"'Trade Log'!\" & \"CU\" & MATCH(B42,'Trade Log'!E:E,0)),0)","v":0},36,0,0,0,0,"",null,null,null,null,null,"",6,"","","","","",""]
[null,"2024-02-06","",{"$f":" IFERROR(INDIRECT(\"'Trade Log'!\" & \"CR\" & MATCH(B43,'Trade Log'!E:E,0)),0)","v":0},{"$f":" IFERROR(INDIRECT(\"'Trade Log'!\" & \"CS\" & MATCH(B43,'Trade Log'!E:E,0)),0)","v":0},{"$f":" IFERROR(INDIRECT(\"'Trade Log'!\" & \"CT\" & MATCH(B43,'Trade Log'!E:E,0)),\"\")","v":""},{"$f":" IFERROR(INDIRECT(\"'Trade Log'!\" & \"CU\" & MATCH(B43,'Trade Log'!E:E,0)),0)","v":0},37,0,0,0,0,"",null,null,null,null,null,"",6,"","","","","",""]
[null,"2024-02-07","",{"$f":" IFERROR(INDIRECT(\"'Trade Log'!\" & \"CR\" & MATCH(B44,'Trade Log'!E:E,0)),0)","v":0},{"$f":" IFERROR(INDIRECT(\"'Trade Log'!\" & \"CS\" & MATCH(B44,'Trade Log'!E:E,0)),0)","v":0},{"$f":" IFERROR(INDIRECT(\"'Trade Log'!\" & \"CT\" & MATCH(B44,'Trade Log'!E:E,0)),\"\")","v":""},{"$f":" IFERROR(INDIRECT(\"'Trade Log'!\" & \"CU\" & MATCH(B44,'Trade Log'!E:E,0)),0)","v":0},38,0,0,0,0,"",null,null,null,null,null,"",6,6,0,0,0,0,""]
[null,"2024-02-08","",{"$f":" IFERROR(INDIRECT(\"'Trade Log'!\" & \"CR\" & MATCH(B45,'Trade Log'!E:E,0)),0)","v":0},{"$f":" IFERROR(INDIRECT(\"'Trade Log'!\" & \"CS\" & MATCH(B45,'Trade Log'!E:E,0)),0)","v":0},{"$f":" IFERROR(INDIRECT(\"'Trade Log'!\" & \"CT\" & MATCH(B45,'Trade Log'!E:E,0)),\"\")","v":""},{"$f":" IFERROR(INDIRECT(\"'Trade Log'!\" & \"CU\" & MATCH(B45,'Trade Log'!E:E,0)),0)","v":0},39,0,0,0,0,"",null,null,null,null,null,"",6,"","","","","",""]
[null,"2024-02-09","",{"$f":" IFERROR(INDIRECT(\"'Trade Log'!\" & \"CR\" & MATCH(B46,'Trade Log'!E:E,0)),0)","v":0},{"$f":" IFERROR(INDIRECT(\"'Trade Log'!\" & \"CS\" & MATCH(B46,'Trade Log'!E:E,0)),0)","v":0},{"$f":" IFERROR(INDIRECT(\"'Trade Log'!\" & \"CT\" & MATCH(B46,'Trade Log'!E:E,0)),\"\")","v":""},{"$f":" IFERROR(INDIRECT(\"'Trade Log'!\" & \"CU\" & MATCH(B46,'Trade Log'!E:E,0)),0)","v":0},40,0,0,0,0,"",null,null,null,null,null,"",6,"","","","","",""]
[null,"2024-02-10","",{"$f":" IFERROR(INDIRECT(\"'Trade Log'!\" & \"CR\" & MATCH(B47,'Trade Log'!E:E,0)),0)","v":0},{"$f":" IFERROR(INDIRECT(\"'Trade Log'!\" & \"CS\" & MATCH(B47,'Trade Log'!E:E,0)),0)","v":0},{"$f":" IFERROR(INDIRECT(\"'Trade Log'!\" & \"CT\" & MATCH(B47,'Trade Log'!E:E,0)),\"\")","v":""},{"$f":" IFERROR(INDIRECT(\"'Trade Log'!\" & \"CU\" & MATCH(B47,'Trade Log'!E:E,0)),0)","v":0},41,0,0,0,0,"",null,null,null,null,null,"",6,"","","","","",""]
[null,"2024-02-11","",{"$f":" IFERROR(INDIRECT(\"'Trade Log'!\" & \"CR\" & MATCH(B48,'Trade Log'!E:E,0)),0)","v":0},{"$f":" IFERROR(INDIRECT(\"'Trade Log'!\" & \"CS\" & MATCH(B48,'Trade Log'!E:E,0)),0)","v":0},{"$f":" IFERROR(INDIRECT(\"'Trade Log'!\" & \"CT\" & MATCH(B48,'Trade Log'!E:E,0)),\"\")","v":""},{"$f":" IFERROR(INDIRECT(\"'Trade Log'!\" & \"CU\" & MATCH(B48,'Trade Log'!E:E,0)),0)","v":0},42,0,0,0,0,"",null,null,null,null,null,"",7,"","","","","",""]
[null,"2024-02-12","",{"$f":" IFERROR(INDIRECT(\"'Trade Log'!\" & \"CR\" & MATCH(B49,'Trade Log'!E:E,0)),0)","v":0},{"$f":" IFERROR(INDIRECT(\"'Trade Log'!\" & \"CS\" & MATCH(B49,'Trade Log'!E:E,0)),0)","v":0},{"$f":" IFERROR(INDIRECT(\"'Trade Log'!\" & \"CT\" & MATCH(B49,'Trade Log'!E:E,0)),\"\")","v":""},{"$f":" IFERROR(INDIRECT(\"'Trade Log'!\" & \"CU\" & MATCH(B49,'Trade Log'!E:E,0)),0)","v":0},43,0,0,0,0,"",null,null,null,null,null,"",7,"","","","","",""]
[null,"2024-02-13","",{"$f":" IFERROR(INDIRECT(\"'Trade Log'!\" & \"CR\" & MATCH(B50,'Trade Log'!E:E,0)),0)","v":0},{"$f":" IFERROR(INDIRECT(\"'Trade Log'!\" & \"CS\" & MATCH(B50,'Trade Log'!E:E,0)),0)","v":0},{"$f":" IFERROR(INDIRECT(\"'Trade Log'!\" & \"CT\" & MATCH(B50,'Trade Log'!E:E,0)),\"\")","v":""},{"$f":" IFERROR(INDIRECT(\"'Trade Log'!\" & \"CU\" & MATCH(B50,'Trade Log'!E:E,0)),0)","v":0},44,0,0,0,0,"",null,null,null,null,null,"",7,"","","","","",""]
[null,"2024-02-14","",{"$f":" IFERROR(INDIRECT(\"'Trade Log'!\" & \"CR\" & MATCH(B51,'Trade Log'!E:E,0)),0)","v":0},{"$f":" IFERROR(INDIRECT(\"'Trade Log'!\" & \"CS\" & MATCH(B51,'Trade Log'!E:E,0)),0)","v":0},{"$f":" IFERROR(INDIRECT(\"'Trade Log'!\" & \"CT\" & MATCH(B51,'Trade Log'!E:E,0)),\"\")","v":""},{"$f":" IFERROR(INDIRECT(\"'Trade Log'!\" & \"CU\" & MATCH(B51,'Trade Log'!E:E,0)),0)","v":0},45,0,0,0,0,"",null,null,null,null,null,"",7,7,0,0,0,0,""]
[null,"2024-02-15","",{"$f":" IFERROR(INDIRECT(\"'Trade Log'!\" & \"CR\" & MATCH(B52,'Trade Log'!E:E,0)),0)","v":0},{"$f":" IFERROR(INDIRECT(\"'Trade Log'!\" & \"CS\" & MATCH(B52,'Trade Log'!E:E,0)),0)","v":0},{"$f":" IFERROR(INDIRECT(\"'Trade Log'!\" & \"CT\" & MATCH(B52,'Trade Log'!E:E,0)),\"\")","v":""},{"$f":" IFERROR(INDIRECT(\"'Trade Log'!\" & \"CU\" & MATCH(B52,'Trade Log'!E:E,0)),0)","v":0},46,0,0,0,0,"",null,null,null,null,null,"",7,"","","","","",""]
[null,"2024-02-16","",{"$f":" IFERROR(INDIRECT(\"'Trade Log'!\" & \"CR\" & MATCH(B53,'Trade Log'!E:E,0)),0)","v":0},{"$f":" IFERROR(INDIRECT(\"'Trade Log'!\" & \"CS\" & MATCH(B53,'Trade Log'!E:E,0)),0)","v":0},{"$f":" IFERROR(INDIRECT(\"'Trade Log'!\" & \"CT\" & MATCH(B53,'Trade Log'!E:E,0)),\"\")","v":""},{"$f":" IFERROR(INDIRECT(\"'Trade Log'!\" & \"CU\" & MATCH(B53,'Trade Log'!E:E,0)),0)","v":0},47,0,0,0,0,"",null,null,null,null,null,"",7,"","","","","",""]
[null,"2024-02-17","",{"$f":" IFERROR(INDIRECT(\"'Trade Log'!\" & \"CR\" & MATCH(B54,'Trade Log'!E:E,0)),0)","v":0},{"$f":" IFERROR(INDIRECT(\"'Trade Log'!\" & \"CS\" & MATCH(B54,'Trade Log'!E:E,0)),0)","v":0},{"$f":" IFERROR(INDIRECT(\"'Trade Log'!\" & \"CT\" & MATCH(B54,'Trade Log'!E:E,0)),\"\")","v":""},{"$f":" IFERROR(INDIRECT(\"'Trade Log'!\" & \"CU\" & MATCH(B54,'Trade Log'!E:E,0)),0)","v":0},48,0,0,0,0,"",null,null,null,null,null,"",7,"","","","","",""]
[null,"2024-02-18","",{"$f":" IFERROR(INDIRECT(\"'Trade Log'!\" & \"CR\" & MATCH(B55,'Trade Log'!E:E,0)),0)","v":0},{"$f":" IFERROR(INDIRECT(\"'Trade Log'!\" & \"CS\" & MATCH(B55,'Trade Log'!E:E,0)),0)","v":0},{"$f":" IFERROR(INDIRECT(\"'Trade Log'!\" & \"CT\" & MATCH(B55,'Trade Log'!E:E,0)),\"\")","v":""},{"$f":" IFERROR(INDIRECT(\"'Trade Log'!\" & \"CU\" & MATCH(B55,'Trade Log'!E:E,0)),0)","v":0},49,0,0,0,0,"",null,null,null,null,null,"",8,"","","","","",""]
[null,"2024-02-19","",{"$f":" IFERROR(INDIRECT(\"'Trade Log'!\" & \"CR\" & MATCH(B56,'Trade Log'!E:E,0)),0)","v":0},{"$f":" IFERROR(INDIRECT(\"'Trade Log'!\" & \"CS\" & MATCH(B56,'Trade Log'!E:E,0)),0)","v":0},{"$f":" IFERROR(INDIRECT(\"'Trade Log'!\" & \"CT\" & MATCH(B56,'Trade Log'!E:E,0)),\"\")","v":""},{"$f":" IFERROR(INDIRECT(\"'Trade Log'!\" & \"CU\" & MATCH(B56,'Trade Log'!E:E,0)),0)","v":0},50,0,0,0,0,"",null,null,null,null,null,"",8,"","","","","",""]
[null,"2024-02-20","",{"$f":" IFERROR(INDIRECT(\"'Trade Log'!\" & \"CR\" & MATCH(B57,'Trade Log'!E:E,0)),0)","v":0},{"$f":" IFERROR(INDIRECT(\"'Trade Log'!\" & \"CS\" & MATCH(B57,'Trade Log'!E:E,0)),0)","v":0},{"$f":" IFERROR(INDIRECT(\"'Trade Log'!\" & \"CT\" & MATCH(B57,'Trade Log'!E:E,0)),\"\")","v":""},{"$f":" IFERROR(INDIRECT(\"'Trade Log'!\" & \"CU\" & MATCH(B57,'Trade Log'!E:E,0)),0)","v":0},51,0,0,0,0,"",null,null,null,null,null,"",8,"","","","","",""]
[null,"2024-02-21","",{"$f":" IFERROR(INDIRECT(\"'Trade Log'!\" & \"CR\" & MATCH(B58,'Trade Log'!E:E,0)),0)","v":0},{"$f":" IFERROR(INDIRECT(\"'Trade Log'!\" & \"CS\" & MATCH(B58,'Trade Log'!E:E,0)),0)","v":0},{"$f":" IFERROR(INDIRECT(\"'Trade Log'!\" & \"CT\" & MATCH(B58,'Trade Log'!E:E,0)),\"\")","v":""},{"$f":" IFERROR(INDIRECT(\"'Trade Log'!\" & \"CU\" & MATCH(B58,'Trade Log'!E:E,0)),0)","v":0},52,0,0,0,0,"",null,null,null,null,null,"",8,8,0,0,0,0,""]
[null,"2024-02-22","",{"$f":" IFERROR(INDIRECT(\"'Trade Log'!\" & \"CR\" & MATCH(B59,'Trade Log'!E:E,0)),0)","v":0},{"$f":" IFERROR(INDIRECT(\"'Trade Log'!\" & \"CS\" & MATCH(B59,'Trade Log'!E:E,0)),0)","v":0},{"$f":" IFERROR(INDIRECT(\"'Trade Log'!\" & \"CT\" & MATCH(B59,'Trade Log'!E:E,0)),\"\")","v":""},{"$f":" IFERROR(INDIRECT(\"'Trade Log'!\" & \"CU\" & MATCH(B59,'Trade Log'!E:E,0)),0)","v":0},53,0,0,0,0,"",null,null,null,null,null,"",8,"","","","","",""]
[null,"2024-02-23","",{"$f":" IFERROR(INDIRECT(\"'Trade Log'!\" & \"CR\" & MATCH(B60,'Trade Log'!E:E,0)),0)","v":0},{"$f":" IFERROR(INDIRECT(\"'Trade Log'!\" & \"CS\" & MATCH(B60,'Trade Log'!E:E,0)),0)","v":0},{"$f":" IFERROR(INDIRECT(\"'Trade Log'!\" & \"CT\" & MATCH(B60,'Trade Log'!E:E,0)),\"\")","v":""},{"$f":" IFERROR(INDIRECT(\"'Trade Log'!\" & \"CU\" & MATCH(B60,'Trade Log'!E:E,0)),0)","v":0},54,0,0,0,0,"",null,null,null,null,null,"",8,"","","","","",""]
[null,"2024-02-24","",{"$f":" IFERROR(INDIRECT(\"'Trade Log'!\" & \"CR\" & MATCH(B61,'Trade Log'!E:E,0)),0)","v":0},{"$f":" IFERROR(INDIRECT(\"'Trade Log'!\" & \"CS\" & MATCH(B61,'Trade Log'!E:E,0)),0)","v":0},{"$f":" IFERROR(INDIRECT(\"'Trade Log'!\" & \"CT\" & MATCH(B61,'Trade Log'!E:E,0)),\"\")","v":""},{"$f":" IFERROR(INDIRECT(\"'Trade Log'!\" & \"CU\" & MATCH(B61,'Trade Log'!E:E,0)),0)","v":0},55,0,0,0,0,"",null,null,null,null,null,"",8,"","","","","",""]
[null,"2024-02-25","",{"$f":" IFERROR(INDIRECT(\"'Trade Log'!\" & \"CR\" & MATCH(B62,'Trade Log'!E:E,0)),0)","v":0},{"$f":" IFERROR(INDIRECT(\"'Trade Log'!\" & \"CS\" & MATCH(B62,'Trade Log'!E:E,0)),0)","v":0},{"$f":" IFERROR(INDIRECT(\"'Trade Log'!\" & \"CT\" & MATCH(B62,'Trade Log'!E:E,0)),\"\")","v":""},{"$f":" IFERROR(INDIRECT(\"'Trade Log'!\" & \"CU\" & MATCH(B62,'Trade Log'!E:E,0)),0)","v":0},56,0,0,0,0,"",null,null,null,null,null,"",9,"","","","","",""]
[null,"2024-02-26","",{"$f":" IFERROR(INDIRECT(\"'Trade Log'!\" & \"CR\" & MATCH(B63,'Trade Log'!E:E,0)),0)","v":0},{"$f":" IFERROR(INDIRECT(\"'Trade Log'!\" & \"CS\" & MATCH(B63,'Trade Log'!E:E,0)),0)","v":0},{"$f":" IFERROR(INDIRECT(\"'Trade Log'!\" & \"CT\" & MATCH(B63,'Trade Log'!E:E,0)),\"\")","v":""},{"$f":" IFERROR(INDIRECT(\"'Trade Log'!\" & \"CU\" & MATCH(B63,'Trade Log'!E:E,0)),0)","v":0},57,0,0,0,0,"",null,null,null,null,null,"",9,"","","","","",""]
[null,"2024-02-27","",{"$f":" IFERROR(INDIRECT(\"'Trade Log'!\" & \"CR\" & MATCH(B64,'Trade Log'!E:E,0)),0)","v":0},{"$f":" IFERROR(INDIRECT(\"'Trade Log'!\" & \"CS\" & MATCH(B64,'Trade Log'!E:E,0)),0)","v":0},{"$f":" IFERROR(INDIRECT(\"'Trade Log'!\" & \"CT\" & MATCH(B64,'Trade Log'!E:E,0)),\"\")","v":""},{"$f":" IFERROR(INDIRECT(\"'Trade Log'!\" & \"CU\" & MATCH(B64,'Trade Log'!E:E,0)),0)","v":0},58,0,0,0,0,"",null,null,null,null,null,"",9,"","","","","",""]
[null,"2024-02-28","",{"$f":" IFERROR(INDIRECT(\"'Trade Log'!\" & \"CR\" & MATCH(B65,'Trade Log'!E:E,0)),0)","v":0},{"$f":" IFERROR(INDIRECT(\"'Trade Log'!\" & \"CS\" & MATCH(B65,'Trade Log'!E:E,0)),0)","v":0},{"$f":" IFERROR(INDIRECT(\"'Trade Log'!\" & \"CT\" & MATCH(B65,'Trade Log'!E:E,0)),\"\")","v":""},{"$f":" IFERROR(INDIRECT(\"'Trade Log'!\" & \"CU\" & MATCH(B65,'Trade Log'!E:E,0)),0)","v":0},59,0,0,0,0,"",null,null,null,null,null,"",9,9,0,0,0,0,""]
[null,"2024-02-29","",{"$f":" IFERROR(INDIRECT(\"'Trade Log'!\" & \"CR\" & MATCH(B66,'Trade Log'!E:E,0)),0)","v":0},{"$f":" IFERROR(INDIRECT(\"'Trade Log'!\" & \"CS\" & MATCH(B66,'Trade Log'!E:E,0)),0)","v":0},{"$f":" IFERROR(INDIRECT(\"'Trade Log'!\" & \"CT\" & MATCH(B66,'Trade Log'!E:E,0)),\"\")","v":""},{"$f":" IFERROR(INDIRECT(\"'Trade Log'!\" & \"CU\" & MATCH(B66,'Trade Log'!E:E,0)),0)","v":0},60,0,0,0,0,"",null,null,null,null,null,"",9,"","","","","",""]
[null,"2024-03-01","",{"$f":" IFERROR(INDIRECT(\"'Trade Log'!\" & \"CR\" & MATCH(B67,'Trade Log'!E:E,0)),0)","v":0},{"$f":" IFERROR(INDIRECT(\"'Trade Log'!\" & \"CS\" & MATCH(B67,'Trade Log'!E:E,0)),0)","v":0},{"$f":" IFERROR(INDIRECT(\"'Trade Log'!\" & \"CT\" & MATCH(B67,'Trade Log'!E:E,0)),\"\")","v":""},{"$f":" IFERROR(INDIRECT(\"'Trade Log'!\" & \"CU\" & MATCH(B67,'Trade Log'!E:E,0)),0)","v":0},61,0,0,0,0,"",null,null,null,null,null,"",9,"","","","","",""]
[null,"2024-03-02","",{"$f":" IFERROR(INDIRECT(\"'Trade Log'!\" & \"CR\" & MATCH(B68,'Trade Log'!E:E,0)),0)","v":0},{"$f":" IFERROR(INDIRECT(\"'Trade Log'!\" & \"CS\" & MATCH(B68,'Trade Log'!E:E,0)),0)","v":0},{"$f":" IFERROR(INDIRECT(\"'Trade Log'!\" & \"CT\" & MATCH(B68,'Trade Log'!E:E,0)),\"\")","v":""},{"$f":" IFERROR(INDIRECT(\"'Trade Log'!\" & \"CU\" & MATCH(B68,'Trade Log'!E:E,0)),0)","v":0},62,0,0,0,0,"",null,null,null,null,null,"",9,"","","","","",""]
[null,"2024-03-03","",{"$f":" IFERROR(INDIRECT(\"'Trade Log'!\" & \"CR\" & MATCH(B69,'Trade Log'!E:E,0)),0)","v":0},{"$f":" IFERROR(INDIRECT(\"'Trade Log'!\" & \"CS\" & MATCH(B69,'Trade Log'!E:E,0)),0)","v":0},{"$f":" IFERROR(INDIRECT(\"'Trade Log'!\" & \"CT\" & MATCH(B69,'Trade Log'!E:E,0)),\"\")","v":""},{"$f":" IFERROR(INDIRECT(\"'Trade Log'!\" & \"CU\" & MATCH(B69,'Trade Log'!E:E,0)),0)","v":0},63,0,0,0,0,"",null,null,null,null,null,"",10,"","","","","",""]
[null,"2024-03-04","",{"$f":" IFERROR(INDIRECT(\"'Trade Log'!\" & \"CR\" & MATCH(B70,'Trade Log'!E:E,0)),0)","v":0},{"$f":" IFERROR(INDIRECT(\"'Trade Log'!\" & \"CS\" & MATCH(B70,'Trade Log'!E:E,0)),0)","v":0},{"$f":" IFERROR(INDIRECT(\"'Trade Log'!\" & \"CT\" & MATCH(B70,'Trade Log'!E:E,0)),\"\")","v":""},{"$f":" IFERROR(INDIRECT(\"'Trade Log'!\" & \"CU\" & MATCH(B70,'Trade Log'!E:E,0)),0)","v":0},64,0,0,0,0,"",null,null,null,null,null,"",10,"","","","","",""]
[null,"2024-03-05","",{"$f":" IFERROR(INDIRECT(\"'Trade Log'!\" & \"CR\" & MATCH(B71,'Trade Log'!E:E,0)),0)","v":0},{"$f":" IFERROR(INDIRECT(\"'Trade Log'!\" & \"CS\" & MATCH(B71,'Trade Log'!E:E,0)),0)","v":0},{"$f":" IFERROR(INDIRECT(\"'Trade Log'!\" & \"CT\" & MATCH(B71,'Trade Log'!E:E,0)),\"\")","v":""},{"$f":" IFERROR(INDIRECT(\"'Trade Log'!\" & \"CU\" & MATCH(B71,'Trade Log'!E:E,0)),0)","v":0},65,{"$f":" D71","v":0},0,{"$f":" E71","v":0},0,"",null,null,null,null,null,{"$f":" IF(M71=\"\",\"\",MONTH(B71))","v":""},10,"",{"$f":" IF(U71 = \"\", \"\", SUM(INDIRECT(\"I\"&(MATCH(T71,T:T,0))&\":I\"&(MATCH(T71,T:T)))))","v":""},"",{"$f":" IF(U71 = \"\", \"\",SUM(INDIRECT(\"K\"&(MATCH(T71,T:T,0))&\":K\"&(MATCH(T71,T:T)))))","v":""},{"$f":" IF(U71= \"\", \"\",SUM(INDIRECT(\"G\"&(MATCH(T71,T:T,0))&\":G\"&(MATCH(T71,T:T)))))","v":""},{"$f":" IFERROR(IF(U71 = \"\", \"\",LOOKUP(2,1/(INDIRECT(\"M\"&MATCH(T71,T:T,0)&\":\"&\"M\"&MATCH(T71,T:T))<>\"\"),INDIRECT(\"M\"&MATCH(T71,T:T,0)&\":\"&\"M\"&MATCH(T71,T:T)))),\"\")","v":""}]
[null,{"$f":" B71 + 1","v":"2024-03-06"},"",{"$f":" IFERROR(INDIRECT(\"'Trade Log'!\" & \"CR\" & MATCH(B72,'Trade Log'!E:E,0)),0)","v":0},{"$f":" IFERROR(INDIRECT(\"'Trade Log'!\" & \"CS\" & MATCH(B72,'Trade Log'!E:E,0)),0)","v":0},{"$f":" IFERROR(INDIRECT(\"'Trade Log'!\" & \"CT\" & MATCH(B72,'Trade Log'!E:E,0)),\"\")","v":""},{"$f":" IFERROR(INDIRECT(\"'Trade Log'!\" & \"CU\" & MATCH(B72,'Trade Log'!E:E,0)),0)","v":0},{"$f":" (H71) + 1","v":66},0,{"$f":"IFERROR(D72/(M72-D72),0)","v":0},0,{"$f":" G72","v":0},{"$f":"F72","v":""},null,null,null,null,null,"",10,{"$f":" IF(ROW(T72) = FLOOR((MATCH(T72, T:T, 0) +MATCH(T72, T:T))/2,1), WEEKNUM(B72,1), \"\")","v":10},0,0,0,0,""]
[null,"2024-03-07",{"$f":" IF(G73 = 0, \"\", B73)","v":""},{"$f":" IFERROR(INDIRECT(\"'Trade Log'!\" & \"CR\" & MATCH(B73,'Trade Log'!E:E,0)),0)","v":0},{"$f":" IFERROR(INDIRECT(\"'Trade Log'!\" & \"CS\" & MATCH(B73,'Trade Log'!E:E,0)),0)","v":0},{"$f":" IFERROR(INDIRECT(\"'Trade Log'!\" & \"CT\" & MATCH(B73,'Trade Log'!E:E,0)),\"\")","v":""},{"$f":" IFERROR(INDIRECT(\"'Trade Log'!\" & \"CU\" & MATCH(B73,'Trade Log'!E:E,0)),0)","v":0},67,0,0,0,0,"",null,null,null,null,null,"",{"$f":" WEEKNUM(B73,1)","v":10},"","","","","",""]
[null,"2024-03-08","",{"$f":" IFERROR(INDIRECT(\"'Trade Log'!\" & \"CR\" & MATCH(B74,'Trade Log'!E:E,0)),0)","v":0},{"$f":" IFERROR(INDIRECT(\"'Trade Log'!\" & \"CS\" & MATCH(B74,'Trade Log'!E:E,0)),0)","v":0},{"$f":" IFERROR(INDIRECT(\"'Trade Log'!\" & \"CT\" & MATCH(B74,'Trade Log'!E:E,0)),\"\")","v":""},{"$f":" IFERROR(INDIRECT(\"'Trade Log'!\" & \"CU\" & MATCH(B74,'Trade Log'!E:E,0)),0)","v":0},68,0,0,0,0,"",null,null,null,null,null,"",10,"","",{"$f":" IFERROR( IF(V74 = \"\",\"\",V74/(Z74-V74)),0)","v":""},"","",""]
[null,"2024-03-09","",{"$f":" IFERROR(INDIRECT(\"'Trade Log'!\" & \"CR\" & MATCH(B75,'Trade Log'!E:E,0)),0)","v":0},{"$f":" IFERROR(INDIRECT(\"'Trade Log'!\" & \"CS\" & MATCH(B75,'Trade Log'!E:E,0)),0)","v":0},{"$f":" IFERROR(INDIRECT(\"'Trade Log'!\" & \"CT\" & MATCH(B75,'Trade Log'!E:E,0)),\"\")","v":""},{"$f":" IFERROR(INDIRECT(\"'Trade Log'!\" & \"CU\" & MATCH(B75,'Trade Log'!E:E,0)),0)","v":0},69,0,0,0,0,"",null,null,null,null,null,"",10,"","","","","",""]
[null,"2024-03-10","",{"$f":" IFERROR(INDIRECT(\"'Trade Log'!\" & \"CR\" & MATCH(B76,'Trade Log'!E:E,0)),0)","v":0},{"$f":" IFERROR(INDIRECT(\"'Trade Log'!\" & \"CS\" & MATCH(B76,'Trade Log'!E:E,0)),0)","v":0},{"$f":" IFERROR(INDIRECT(\"'Trade Log'!\" & \"CT\" & MATCH(B76,'Trade Log'!E:E,0)),\"\")","v":""},{"$f":" IFERROR(INDIRECT(\"'Trade Log'!\" & \"CU\" & MATCH(B76,'Trade Log'!E:E,0)),0)","v":0},70,0,0,0,0,"",null,null,null,null,null,"",11,"","","","","",""]
[null,"2024-03-11","",{"$f":" IFERROR(INDIRECT(\"'Trade Log'!\" & \"CR\" & MATCH(B77,'Trade Log'!E:E,0)),0)","v":0},{"$f":" IFERROR(INDIRECT(\"'Trade Log'!\" & \"CS\" & MATCH(B77,'Trade Log'!E:E,0)),0)","v":0},{"$f":" IFERROR(INDIRECT(\"'Trade Log'!\" & \"CT\" & MATCH(B77,'Trade Log'!E:E,0)),\"\")","v":""},{"$f":" IFERROR(INDIRECT(\"'Trade Log'!\" & \"CU\" & MATCH(B77,'Trade Log'!E:E,0)),0)","v":0},71,0,0,0,0,"",null,null,null,null,null,"",11,"","","","","",""]
[null,"2024-03-12","",{"$f":" IFERROR(INDIRECT(\"'Trade Log'!\" & \"CR\" & MATCH(B78,'Trade Log'!E:E,0)),0)","v":0},{"$f":" IFERROR(INDIRECT(\"'Trade Log'!\" & \"CS\" & MATCH(B78,'Trade Log'!E:E,0)),0)","v":0},{"$f":" IFERROR(INDIRECT(\"'Trade Log'!\" & \"CT\" & MATCH(B78,'Trade Log'!E:E,0)),\"\")","v":""},{"$f":" IFERROR(INDIRECT(\"'Trade Log'!\" & \"CU\" & MATCH(B78,'Trade Log'!E:E,0)),0)","v":0},72,0,0,0,0,"",null,null,null,null,null,"",11,"","","","","",""]
[null,"2024-03-13","",{"$f":" IFERROR(INDIRECT(\"'Trade Log'!\" & \"CR\" & MATCH(B79,'Trade Log'!E:E,0)),0)","v":0},{"$f":" IFERROR(INDIRECT(\"'Trade Log'!\" & \"CS\" & MATCH(B79,'Trade Log'!E:E,0)),0)","v":0},{"$f":" IFERROR(INDIRECT(\"'Trade Log'!\" & \"CT\" & MATCH(B79,'Trade Log'!E:E,0)),\"\")","v":""},{"$f":" IFERROR(INDIRECT(\"'Trade Log'!\" & \"CU\" & MATCH(B79,'Trade Log'!E:E,0)),0)","v":0},73,0,0,0,0,"",null,null,null,null,null,"",11,11,0,0,0,0,""]
[null,"2024-03-14","",{"$f":" IFERROR(INDIRECT(\"'Trade Log'!\" & \"CR\" & MATCH(B80,'Trade Log'!E:E,0)),0)","v":0},{"$f":" IFERROR(INDIRECT(\"'Trade Log'!\" & \"CS\" & MATCH(B80,'Trade Log'!E:E,0)),0)","v":0},{"$f":" IFERROR(INDIRECT(\"'Trade Log'!\" & \"CT\" & MATCH(B80,'Trade Log'!E:E,0)),\"\")","v":""},{"$f":" IFERROR(INDIRECT(\"'Trade Log'!\" & \"CU\" & MATCH(B80,'Trade Log'!E:E,0)),0)","v":0},74,0,0,0,0,"",null,null,null,null,null,"",11,"","","","","",""]
[null,"2024-03-15","",{"$f":" IFERROR(INDIRECT(\"'Trade Log'!\" & \"CR\" & MATCH(B81,'Trade Log'!E:E,0)),0)","v":0},{"$f":" IFERROR(INDIRECT(\"'Trade Log'!\" & \"CS\" & MATCH(B81,'Trade Log'!E:E,0)),0)","v":0},{"$f":" IFERROR(INDIRECT(\"'Trade Log'!\" & \"CT\" & MATCH(B81,'Trade Log'!E:E,0)),\"\")","v":""},{"$f":" IFERROR(INDIRECT(\"'Trade Log'!\" & \"CU\" & MATCH(B81,'Trade Log'!E:E,0)),0)","v":0},75,0,0,0,0,"",null,null,null,null,null,"",11,"","","","","",""]
[null,"2024-03-16","",{"$f":" IFERROR(INDIRECT(\"'Trade Log'!\" & \"CR\" & MATCH(B82,'Trade Log'!E:E,0)),0)","v":0},{"$f":" IFERROR(INDIRECT(\"'Trade Log'!\" & \"CS\" & MATCH(B82,'Trade Log'!E:E,0)),0)","v":0},{"$f":" IFERROR(INDIRECT(\"'Trade Log'!\" & \"CT\" & MATCH(B82,'Trade Log'!E:E,0)),\"\")","v":""},{"$f":" IFERROR(INDIRECT(\"'Trade Log'!\" & \"CU\" & MATCH(B82,'Trade Log'!E:E,0)),0)","v":0},76,0,0,0,0,"",null,null,null,null,null,"",11,"","","","","",""]
[null,"2024-03-17","",{"$f":" IFERROR(INDIRECT(\"'Trade Log'!\" & \"CR\" & MATCH(B83,'Trade Log'!E:E,0)),0)","v":0},{"$f":" IFERROR(INDIRECT(\"'Trade Log'!\" & \"CS\" & MATCH(B83,'Trade Log'!E:E,0)),0)","v":0},{"$f":" IFERROR(INDIRECT(\"'Trade Log'!\" & \"CT\" & MATCH(B83,'Trade Log'!E:E,0)),\"\")","v":""},{"$f":" IFERROR(INDIRECT(\"'Trade Log'!\" & \"CU\" & MATCH(B83,'Trade Log'!E:E,0)),0)","v":0},77,0,0,0,0,"",null,null,null,null,null,"",12,"","","","","",""]
[null,"2024-03-18","",{"$f":" IFERROR(INDIRECT(\"'Trade Log'!\" & \"CR\" & MATCH(B84,'Trade Log'!E:E,0)),0)","v":0},{"$f":" IFERROR(INDIRECT(\"'Trade Log'!\" & \"CS\" & MATCH(B84,'Trade Log'!E:E,0)),0)","v":0},{"$f":" IFERROR(INDIRECT(\"'Trade Log'!\" & \"CT\" & MATCH(B84,'Trade Log'!E:E,0)),\"\")","v":""},{"$f":" IFERROR(INDIRECT(\"'Trade Log'!\" & \"CU\" & MATCH(B84,'Trade Log'!E:E,0)),0)","v":0},78,0,0,0,0,"",null,null,null,null,null,"",12,"","","","","",""]
[null,"2024-03-19","",{"$f":" IFERROR(INDIRECT(\"'Trade Log'!\" & \"CR\" & MATCH(B85,'Trade Log'!E:E,0)),0)","v":0},{"$f":" IFERROR(INDIRECT(\"'Trade Log'!\" & \"CS\" & MATCH(B85,'Trade Log'!E:E,0)),0)","v":0},{"$f":" IFERROR(INDIRECT(\"'Trade Log'!\" & \"CT\" & MATCH(B85,'Trade Log'!E:E,0)),\"\")","v":""},{"$f":" IFERROR(INDIRECT(\"'Trade Log'!\" & \"CU\" & MATCH(B85,'Trade Log'!E:E,0)),0)","v":0},79,0,0,0,0,"",null,null,null,null,null,"",12,"","","","","",""]
[null,"2024-03-20","",{"$f":" IFERROR(INDIRECT(\"'Trade Log'!\" & \"CR\" & MATCH(B86,'Trade Log'!E:E,0)),0)","v":0},{"$f":" IFERROR(INDIRECT(\"'Trade Log'!\" & \"CS\" & MATCH(B86,'Trade Log'!E:E,0)),0)","v":0},{"$f":" IFERROR(INDIRECT(\"'Trade Log'!\" & \"CT\" & MATCH(B86,'Trade Log'!E:E,0)),\"\")","v":""},{"$f":" IFERROR(INDIRECT(\"'Trade Log'!\" & \"CU\" & MATCH(B86,'Trade Log'!E:E,0)),0)","v":0},80,0,0,0,0,"",null,null,null,null,null,"",12,12,0,0,0,0,""]
[null,"2024-03-21","",{"$f":" IFERROR(INDIRECT(\"'Trade Log'!\" & \"CR\" & MATCH(B87,'Trade Log'!E:E,0)),0)","v":0},{"$f":" IFERROR(INDIRECT(\"'Trade Log'!\" & \"CS\" & MATCH(B87,'Trade Log'!E:E,0)),0)","v":0},{"$f":" IFERROR(INDIRECT(\"'Trade Log'!\" & \"CT\" & MATCH(B87,'Trade Log'!E:E,0)),\"\")","v":""},{"$f":" IFERROR(INDIRECT(\"'Trade Log'!\" & \"CU\" & MATCH(B87,'Trade Log'!E:E,0)),0)","v":0},81,0,0,0,0,"",null,null,null,null,null,"",12,"","","","","",""]
[null,"2024-03-22","",{"$f":" IFERROR(INDIRECT(\"'Trade Log'!\" & \"CR\" & MATCH(B88,'Trade Log'!E:E,0)),0)","v":0},{"$f":" IFERROR(INDIRECT(\"'Trade Log'!\" & \"CS\" & MATCH(B88,'Trade Log'!E:E,0)),0)","v":0},{"$f":" IFERROR(INDIRECT(\"'Trade Log'!\" & \"CT\" & MATCH(B88,'Trade Log'!E:E,0)),\"\")","v":""},{"$f":" IFERROR(INDIRECT(\"'Trade Log'!\" & \"CU\" & MATCH(B88,'Trade Log'!E:E,0)),0)","v":0},82,0,0,0,0,"",null,null,null,null,null,"",12,"","","","","",""]
[null,"2024-03-23","",{"$f":" IFERROR(INDIRECT(\"'Trade Log'!\" & \"CR\" & MATCH(B89,'Trade Log'!E:E,0)),0)","v":0},{"$f":" IFERROR(INDIRECT(\"'Trade Log'!\" & \"CS\" & MATCH(B89,'Trade Log'!E:E,0)),0)","v":0},{"$f":" IFERROR(INDIRECT(\"'Trade Log'!\" & \"CT\" & MATCH(B89,'Trade Log'!E:E,0)),\"\")","v":""},{"$f":" IFERROR(INDIRECT(\"'Trade Log'!\" & \"CU\" & MATCH(B89,'Trade Log'!E:E,0)),0)","v":0},83,0,0,0,0,"",null,null,null,null,null,"",12,"","","","","",""]
[null,"2024-03-24","",{"$f":" IFERROR(INDIRECT(\"'Trade Log'!\" & \"CR\" & MATCH(B90,'Trade Log'!E:E,0)),0)","v":0},{"$f":" IFERROR(INDIRECT(\"'Trade Log'!\" & \"CS\" & MATCH(B90,'Trade Log'!E:E,0)),0)","v":0},{"$f":" IFERROR(INDIRECT(\"'Trade Log'!\" & \"CT\" & MATCH(B90,'Trade Log'!E:E,0)),\"\")","v":""},{"$f":" IFERROR(INDIRECT(\"'Trade Log'!\" & \"CU\" & MATCH(B90,'Trade Log'!E:E,0)),0)","v":0},84,0,0,0,0,"",null,null,null,null,null,"",13,"","","","","",""]
[null,"2024-03-25","",{"$f":" IFERROR(INDIRECT(\"'Trade Log'!\" & \"CR\" & MATCH(B91,'Trade Log'!E:E,0)),0)","v":0},{"$f":" IFERROR(INDIRECT(\"'Trade Log'!\" & \"CS\" & MATCH(B91,'Trade Log'!E:E,0)),0)","v":0},{"$f":" IFERROR(INDIRECT(\"'Trade Log'!\" & \"CT\" & MATCH(B91,'Trade Log'!E:E,0)),\"\")","v":""},{"$f":" IFERROR(INDIRECT(\"'Trade Log'!\" & \"CU\" & MATCH(B91,'Trade Log'!E:E,0)),0)","v":0},85,0,0,0,0,"",null,null,null,null,null,"",13,"","","","","",""]
[null,"2024-03-26","",{"$f":" IFERROR(INDIRECT(\"'Trade Log'!\" & \"CR\" & MATCH(B92,'Trade Log'!E:E,0)),0)","v":0},{"$f":" IFERROR(INDIRECT(\"'Trade Log'!\" & \"CS\" & MATCH(B92,'Trade Log'!E:E,0)),0)","v":0},{"$f":" IFERROR(INDIRECT(\"'Trade Log'!\" & \"CT\" & MATCH(B92,'Trade Log'!E:E,0)),\"\")","v":""},{"$f":" IFERROR(INDIRECT(\"'Trade Log'!\" & \"CU\" & MATCH(B92,'Trade Log'!E:E,0)),0)","v":0},86,0,0,0,0,"",null,null,null,null,null,"",13,"","","","","",""]
[null,"2024-03-27","",{"$f":" IFERROR(INDIRECT(\"'Trade Log'!\" & \"CR\" & MATCH(B93,'Trade Log'!E:E,0)),0)","v":0},{"$f":" IFERROR(INDIRECT(\"'Trade Log'!\" & \"CS\" & MATCH(B93,'Trade Log'!E:E,0)),0)","v":0},{"$f":" IFERROR(INDIRECT(\"'Trade Log'!\" & \"CT\" & MATCH(B93,'Trade Log'!E:E,0)),\"\")","v":""},{"$f":" IFERROR(INDIRECT(\"'Trade Log'!\" & \"CU\" & MATCH(B93,'Trade Log'!E:E,0)),0)","v":0},87,0,0,0,0,"",null,null,null,null,null,"",13,13,0,0,0,0,""]
[null,"2024-03-28","",{"$f":" IFERROR(INDIRECT(\"'Trade Log'!\" & \"CR\" & MATCH(B94,'Trade Log'!E:E,0)),0)","v":0},{"$f":" IFERROR(INDIRECT(\"'Trade Log'!\" & \"CS\" & MATCH(B94,'Trade Log'!E:E,0)),0)","v":0},{"$f":" IFERROR(INDIRECT(\"'Trade Log'!\" & \"CT\" & MATCH(B94,'Trade Log'!E:E,0)),\"\")","v":""},{"$f":" IFERROR(INDIRECT(\"'Trade Log'!\" & \"CU\" & MATCH(B94,'Trade Log'!E:E,0)),0)","v":0},88,0,0,0,0,"",null,null,null,null,null,"",13,"","","","","",""]
[null,"2024-03-29","",{"$f":" IFERROR(INDIRECT(\"'Trade Log'!\" & \"CR\" & MATCH(B95,'Trade Log'!E:E,0)),0)","v":0},{"$f":" IFERROR(INDIRECT(\"'Trade Log'!\" & \"CS\" & MATCH(B95,'Trade Log'!E:E,0)),0)","v":0},{"$f":" IFERROR(INDIRECT(\"'Trade Log'!\" & \"CT\" & MATCH(B95,'Trade Log'!E:E,0)),\"\")","v":""},{"$f":" IFERROR(INDIRECT(\"'Trade Log'!\" & \"CU\" & MATCH(B95,'Trade Log'!E:E,0)),0)","v":0},89,0,0,0,0,"",null,null,null,null,null,"",13,"","","","","",""]
[null,"2024-03-30","",{"$f":" IFERROR(INDIRECT(\"'Trade Log'!\" & \"CR\" & MATCH(B96,'Trade Log'!E:E,0)),0)","v":0},{"$f":" IFERROR(INDIRECT(\"'Trade Log'!\" & \"CS\" & MATCH(B96,'Trade Log'!E:E,0)),0)","v":0},{"$f":" IFERROR(INDIRECT(\"'Trade Log'!\" & \"CT\" & MATCH(B96,'Trade Log'!E:E,0)),\"\")","v":""},{"$f":" IFERROR(INDIRECT(\"'Trade Log'!\" & \"CU\" & MATCH(B96,'Trade Log'!E:E,0)),0)","v":0},90,0,0,0,0,"",null,null,null,null,null,"",13,"","","","","",""]
[null,"2024-03-31","",{"$f":" IFERROR(INDIRECT(\"'Trade Log'!\" & \"CR\" & MATCH(B97,'Trade Log'!E:E,0)),0)","v":0},{"$f":" IFERROR(INDIRECT(\"'Trade Log'!\" & \"CS\" & MATCH(B97,'Trade Log'!E:E,0)),0)","v":0},{"$f":" IFERROR(INDIRECT(\"'Trade Log'!\" & \"CT\" & MATCH(B97,'Trade Log'!E:E,0)),\"\")","v":""},{"$f":" IFERROR(INDIRECT(\"'Trade Log'!\" & \"CU\" & MATCH(B97,'Trade Log'!E:E,0)),0)","v":0},91,0,0,0,0,"",null,null,null,null,null,"",14,"","","","","",""]
[null,"2024-04-01","",{"$f":" IFERROR(INDIRECT(\"'Trade Log'!\" & \"CR\" & MATCH(B98,'Trade Log'!E:E,0)),0)","v":0},{"$f":" IFERROR(INDIRECT(\"'Trade Log'!\" & \"CS\" & MATCH(B98,'Trade Log'!E:E,0)),0)","v":0},{"$f":" IFERROR(INDIRECT(\"'Trade Log'!\" & \"CT\" & MATCH(B98,'Trade Log'!E:E,0)),\"\")","v":""},{"$f":" IFERROR(INDIRECT(\"'Trade Log'!\" & \"CU\" & MATCH(B98,'Trade Log'!E:E,0)),0)","v":0},92,0,0,0,0,"",null,null,null,null,null,"",14,"","","","","",""]
[null,"2024-04-02","",{"$f":" IFERROR(INDIRECT(\"'Trade Log'!\" & \"CR\" & MATCH(B99,'Trade Log'!E:E,0)),0)","v":0},{"$f":" IFERROR(INDIRECT(\"'Trade Log'!\" & \"CS\" & MATCH(B99,'Trade Log'!E:E,0)),0)","v":0},{"$f":" IFERROR(INDIRECT(\"'Trade Log'!\" & \"CT\" & MATCH(B99,'Trade Log'!E:E,0)),\"\")","v":""},{"$f":" IFERROR(INDIRECT(\"'Trade Log'!\" & \"CU\" & MATCH(B99,'Trade Log'!E:E,0)),0)","v":0},93,0,0,0,0,"",null,null,null,null,null,"",14,"","","","","",""]
[null,"2024-04-03","",{"$f":" IFERROR(INDIRECT(\"'Trade Log'!\" & \"CR\" & MATCH(B100,'Trade Log'!E:E,0)),0)","v":0},{"$f":" IFERROR(INDIRECT(\"'Trade Log'!\" & \"CS\" & MATCH(B100,'Trade Log'!E:E,0)),0)","v":0},{"$f":" IFERROR(INDIRECT(\"'Trade Log'!\" & \"CT\" & MATCH(B100,'Trade Log'!E:E,0)),\"\")","v":""},{"$f":" IFERROR(INDIRECT(\"'Trade Log'!\" & \"CU\" & MATCH(B100,'Trade Log'!E:E,0)),0)","v":0},94,0,0,0,0,"",null,null,null,null,null,"",14,14,0,0,0,0,""]
[null,"2024-04-04","",{"$f":" IFERROR(INDIRECT(\"'Trade Log'!\" & \"CR\" & MATCH(B101,'Trade Log'!E:E,0)),0)","v":0},{"$f":" IFERROR(INDIRECT(\"'Trade Log'!\" & \"CS\" & MATCH(B101,'Trade Log'!E:E,0)),0)","v":0},{"$f":" IFERROR(INDIRECT(\"'Trade Log'!\" & \"CT\" & MATCH(B101,'Trade Log'!E:E,0)),\"\")","v":""},{"$f":" IFERROR(INDIRECT(\"'Trade Log'!\" & \"CU\" & MATCH(B101,'Trade Log'!E:E,0)),0)","v":0},95,0,0,0,0,"",null,null,null,null,null,"",14,"","","","","",""]
[null,"2024-04-05","",{"$f":" IFERROR(INDIRECT(\"'Trade Log'!\" & \"CR\" & MATCH(B102,'Trade Log'!E:E,0)),0)","v":0},{"$f":" IFERROR(INDIRECT(\"'Trade Log'!\" & \"CS\" & MATCH(B102,'Trade Log'!E:E,0)),0)","v":0},{"$f":" IFERROR(INDIRECT(\"'Trade Log'!\" & \"CT\" & MATCH(B102,'Trade Log'!E:E,0)),\"\")","v":""},{"$f":" IFERROR(INDIRECT(\"'Trade Log'!\" & \"CU\" & MATCH(B102,'Trade Log'!E:E,0)),0)","v":0},96,0,0,0,0,"",null,null,null,null,null,"",14,"","","","","",""]
[null,"2024-04-06","",{"$f":" IFERROR(INDIRECT(\"'Trade Log'!\" & \"CR\" & MATCH(B103,'Trade Log'!E:E,0)),0)","v":0},{"$f":" IFERROR(INDIRECT(\"'Trade Log'!\" & \"CS\" & MATCH(B103,'Trade Log'!E:E,0)),0)","v":0},{"$f":" IFERROR(INDIRECT(\"'Trade Log'!\" & \"CT\" & MATCH(B103,'Trade Log'!E:E,0)),\"\")","v":""},{"$f":" IFERROR(INDIRECT(\"'Trade Log'!\" & \"CU\" & MATCH(B103,'Trade Log'!E:E,0)),0)","v":0},97,0,0,0,0,"",null,null,null,null,null,"",14,"","","","","",""]
[null,"2024-04-07","",{"$f":" IFERROR(INDIRECT(\"'Trade Log'!\" & \"CR\" & MATCH(B104,'Trade Log'!E:E,0)),0)","v":0},{"$f":" IFERROR(INDIRECT(\"'Trade Log'!\" & \"CS\" & MATCH(B104,'Trade Log'!E:E,0)),0)","v":0},{"$f":" IFERROR(INDIRECT(\"'Trade Log'!\" & \"CT\" & MATCH(B104,'Trade Log'!E:E,0)),\"\")","v":""},{"$f":" IFERROR(INDIRECT(\"'Trade Log'!\" & \"CU\" & MATCH(B104,'Trade Log'!E:E,0)),0)","v":0},98,0,0,0,0,"",null,null,null,null,null,"",15,"","","","","",""]
[null,"2024-04-08","",{"$f":" IFERROR(INDIRECT(\"'Trade Log'!\" & \"CR\" & MATCH(B105,'Trade Log'!E:E,0)),0)","v":0},{"$f":" IFERROR(INDIRECT(\"'Trade Log'!\" & \"CS\" & MATCH(B105,'Trade Log'!E:E,0)),0)","v":0},{"$f":" IFERROR(INDIRECT(\"'Trade Log'!\" & \"CT\" & MATCH(B105,'Trade Log'!E:E,0)),\"\")","v":""},{"$f":" IFERROR(INDIRECT(\"'Trade Log'!\" & \"CU\" & MATCH(B105,'Trade Log'!E:E,0)),0)","v":0},99,0,0,0,0,"",null,null,null,null,null,"",15,"","","","","",""]
[null,"2024-04-09","",{"$f":" IFERROR(INDIRECT(\"'Trade Log'!\" & \"CR\" & MATCH(B106,'Trade Log'!E:E,0)),0)","v":0},{"$f":" IFERROR(INDIRECT(\"'Trade Log'!\" & \"CS\" & MATCH(B106,'Trade Log'!E:E,0)),0)","v":0},{"$f":" IFERROR(INDIRECT(\"'Trade Log'!\" & \"CT\" & MATCH(B106,'Trade Log'!E:E,0)),\"\")","v":""},{"$f":" IFERROR(INDIRECT(\"'Trade Log'!\" & \"CU\" & MATCH(B106,'Trade Log'!E:E,0)),0)","v":0},100,0,0,0,0,"",null,null,null,null,null,"",15,"","","","","",""]
[null,"2024-04-10","",{"$f":" IFERROR(INDIRECT(\"'Trade Log'!\" & \"CR\" & MATCH(B107,'Trade Log'!E:E,0)),0)","v":0},{"$f":" IFERROR(INDIRECT(\"'Trade Log'!\" & \"CS\" & MATCH(B107,'Trade Log'!E:E,0)),0)","v":0},{"$f":" IFERROR(INDIRECT(\"'Trade Log'!\" & \"CT\" & MATCH(B107,'Trade Log'!E:E,0)),\"\")","v":""},{"$f":" IFERROR(INDIRECT(\"'Trade Log'!\" & \"CU\" & MATCH(B107,'Trade Log'!E:E,0)),0)","v":0},101,0,0,0,0,"",null,null,null,null,null,"",15,15,0,0,0,0,""]
[null,"2024-04-11","",{"$f":" IFERROR(INDIRECT(\"'Trade Log'!\" & \"CR\" & MATCH(B108,'Trade Log'!E:E,0)),0)","v":0},{"$f":" IFERROR(INDIRECT(\"'Trade Log'!\" & \"CS\" & MATCH(B108,'Trade Log'!E:E,0)),0)","v":0},{"$f":" IFERROR(INDIRECT(\"'Trade Log'!\" & \"CT\" & MATCH(B108,'Trade Log'!E:E,0)),\"\")","v":""},{"$f":" IFERROR(INDIRECT(\"'Trade Log'!\" & \"CU\" & MATCH(B108,'Trade Log'!E:E,0)),0)","v":0},102,0,0,0,0,"",null,null,null,null,null,"",15,"","","","","",""]
[null,"2024-04-12","",{"$f":" IFERROR(INDIRECT(\"'Trade Log'!\" & \"CR\" & MATCH(B109,'Trade Log'!E:E,0)),0)","v":0},{"$f":" IFERROR(INDIRECT(\"'Trade Log'!\" & \"CS\" & MATCH(B109,'Trade Log'!E:E,0)),0)","v":0},{"$f":" IFERROR(INDIRECT(\"'Trade Log'!\" & \"CT\" & MATCH(B109,'Trade Log'!E:E,0)),\"\")","v":""},{"$f":" IFERROR(INDIRECT(\"'Trade Log'!\" & \"CU\" & MATCH(B109,'Trade Log'!E:E,0)),0)","v":0},103,0,0,0,0,"",null,null,null,null,null,"",15,"","","","","",""]
[null,"2024-04-13","",{"$f":" IFERROR(INDIRECT(\"'Trade Log'!\" & \"CR\" & MATCH(B110,'Trade Log'!E:E,0)),0)","v":0},{"$f":" IFERROR(INDIRECT(\"'Trade Log'!\" & \"CS\" & MATCH(B110,'Trade Log'!E:E,0)),0)","v":0},{"$f":" IFERROR(INDIRECT(\"'Trade Log'!\" & \"CT\" & MATCH(B110,'Trade Log'!E:E,0)),\"\")","v":""},{"$f":" IFERROR(INDIRECT(\"'Trade Log'!\" & \"CU\" & MATCH(B110,'Trade Log'!E:E,0)),0)","v":0},104,0,0,0,0,"",null,null,null,null,null,"",15,"","","","","",""]
[null,"2024-04-14","",{"$f":" IFERROR(INDIRECT(\"'Trade Log'!\" & \"CR\" & MATCH(B111,'Trade Log'!E:E,0)),0)","v":0},{"$f":" IFERROR(INDIRECT(\"'Trade Log'!\" & \"CS\" & MATCH(B111,'Trade Log'!E:E,0)),0)","v":0},{"$f":" IFERROR(INDIRECT(\"'Trade Log'!\" & \"CT\" & MATCH(B111,'Trade Log'!E:E,0)),\"\")","v":""},{"$f":" IFERROR(INDIRECT(\"'Trade Log'!\" & \"CU\" & MATCH(B111,'Trade Log'!E:E,0)),0)","v":0},105,0,0,0,0,"",null,null,null,null,null,"",16,"","","","","",""]
[null,"2024-04-15","",{"$f":" IFERROR(INDIRECT(\"'Trade Log'!\" & \"CR\" & MATCH(B112,'Trade Log'!E:E,0)),0)","v":0},{"$f":" IFERROR(INDIRECT(\"'Trade Log'!\" & \"CS\" & MATCH(B112,'Trade Log'!E:E,0)),0)","v":0},{"$f":" IFERROR(INDIRECT(\"'Trade Log'!\" & \"CT\" & MATCH(B112,'Trade Log'!E:E,0)),\"\")","v":""},{"$f":" IFERROR(INDIRECT(\"'Trade Log'!\" & \"CU\" & MATCH(B112,'Trade Log'!E:E,0)),0)","v":0},106,0,0,0,0,"",null,null,null,null,null,"",16,"","","","","",""]
[null,"2024-04-16","",{"$f":" IFERROR(INDIRECT(\"'Trade Log'!\" & \"CR\" & MATCH(B113,'Trade Log'!E:E,0)),0)","v":0},{"$f":" IFERROR(INDIRECT(\"'Trade Log'!\" & \"CS\" & MATCH(B113,'Trade Log'!E:E,0)),0)","v":0},{"$f":" IFERROR(INDIRECT(\"'Trade Log'!\" & \"CT\" & MATCH(B113,'Trade Log'!E:E,0)),\"\")","v":""},{"$f":" IFERROR(INDIRECT(\"'Trade Log'!\" & \"CU\" & MATCH(B113,'Trade Log'!E:E,0)),0)","v":0},107,0,0,0,0,"",null,null,null,null,null,"",16,"","","","","",""]
[null,"2024-04-17","",{"$f":" IFERROR(INDIRECT(\"'Trade Log'!\" & \"CR\" & MATCH(B114,'Trade Log'!E:E,0)),0)","v":0},{"$f":" IFERROR(INDIRECT(\"'Trade Log'!\" & \"CS\" & MATCH(B114,'Trade Log'!E:E,0)),0)","v":0},{"$f":" IFERROR(INDIRECT(\"'Trade Log'!\" & \"CT\" & MATCH(B114,'Trade Log'!E:E,0)),\"\")","v":""},{"$f":" IFERROR(INDIRECT(\"'Trade Log'!\" & \"CU\" & MATCH(B114,'Trade Log'!E:E,0)),0)","v":0},108,0,0,0,0,"",null,null,null,null,null,"",16,16,0,0,0,0,""]
[null,"2024-04-18","",{"$f":" IFERROR(INDIRECT(\"'Trade Log'!\" & \"CR\" & MATCH(B115,'Trade Log'!E:E,0)),0)","v":0},{"$f":" IFERROR(INDIRECT(\"'Trade Log'!\" & \"CS\" & MATCH(B115,'Trade Log'!E:E,0)),0)","v":0},{"$f":" IFERROR(INDIRECT(\"'Trade Log'!\" & \"CT\" & MATCH(B115,'Trade Log'!E:E,0)),\"\")","v":""},{"$f":" IFERROR(INDIRECT(\"'Trade Log'!\" & \"CU\" & MATCH(B115,'Trade Log'!E:E,0)),0)","v":0},109,0,0,0,0,"",null,null,null,null,null,"",16,"","","","","",""]
[null,"2024-04-19","",{"$f":" IFERROR(INDIRECT(\"'Trade Log'!\" & \"CR\" & MATCH(B116,'Trade Log'!E:E,0)),0)","v":0},{"$f":" IFERROR(INDIRECT(\"'Trade Log'!\" & \"CS\" & MATCH(B116,'Trade Log'!E:E,0)),0)","v":0},{"$f":" IFERROR(INDIRECT(\"'Trade Log'!\" & \"CT\" & MATCH(B116,'Trade Log'!E:E,0)),\"\")","v":""},{"$f":" IFERROR(INDIRECT(\"'Trade Log'!\" & \"CU\" & MATCH(B116,'Trade Log'!E:E,0)),0)","v":0},110,0,0,0,0,"",null,null,null,null,null,"",16,"","","","","",""]
[null,"2024-04-20","",{"$f":" IFERROR(INDIRECT(\"'Trade Log'!\" & \"CR\" & MATCH(B117,'Trade Log'!E:E,0)),0)","v":0},{"$f":" IFERROR(INDIRECT(\"'Trade Log'!\" & \"CS\" & MATCH(B117,'Trade Log'!E:E,0)),0)","v":0},{"$f":" IFERROR(INDIRECT(\"'Trade Log'!\" & \"CT\" & MATCH(B117,'Trade Log'!E:E,0)),\"\")","v":""},{"$f":" IFERROR(INDIRECT(\"'Trade Log'!\" & \"CU\" & MATCH(B117,'Trade Log'!E:E,0)),0)","v":0},111,0,0,0,0,"",null,null,null,null,null,"",16,"","","","","",""]
[null,"2024-04-21","",{"$f":" IFERROR(INDIRECT(\"'Trade Log'!\" & \"CR\" & MATCH(B118,'Trade Log'!E:E,0)),0)","v":0},{"$f":" IFERROR(INDIRECT(\"'Trade Log'!\" & \"CS\" & MATCH(B118,'Trade Log'!E:E,0)),0)","v":0},{"$f":" IFERROR(INDIRECT(\"'Trade Log'!\" & \"CT\" & MATCH(B118,'Trade Log'!E:E,0)),\"\")","v":""},{"$f":" IFERROR(INDIRECT(\"'Trade Log'!\" & \"CU\" & MATCH(B118,'Trade Log'!E:E,0)),0)","v":0},112,0,0,0,0,"",null,null,null,null,null,"",17,"","","","","",""]
[null,"2024-04-22","",{"$f":" IFERROR(INDIRECT(\"'Trade Log'!\" & \"CR\" & MATCH(B119,'Trade Log'!E:E,0)),0)","v":0},{"$f":" IFERROR(INDIRECT(\"'Trade Log'!\" & \"CS\" & MATCH(B119,'Trade Log'!E:E,0)),0)","v":0},{"$f":" IFERROR(INDIRECT(\"'Trade Log'!\" & \"CT\" & MATCH(B119,'Trade Log'!E:E,0)),\"\")","v":""},{"$f":" IFERROR(INDIRECT(\"'Trade Log'!\" & \"CU\" & MATCH(B119,'Trade Log'!E:E,0)),0)","v":0},113,0,0,0,0,"",null,null,null,null,null,"",17,"","","","","",""]
[null,"2024-04-23","",{"$f":" IFERROR(INDIRECT(\"'Trade Log'!\" & \"CR\" & MATCH(B120,'Trade Log'!E:E,0)),0)","v":0},{"$f":" IFERROR(INDIRECT(\"'Trade Log'!\" & \"CS\" & MATCH(B120,'Trade Log'!E:E,0)),0)","v":0},{"$f":" IFERROR(INDIRECT(\"'Trade Log'!\" & \"CT\" & MATCH(B120,'Trade Log'!E:E,0)),\"\")","v":""},{"$f":" IFERROR(INDIRECT(\"'Trade Log'!\" & \"CU\" & MATCH(B120,'Trade Log'!E:E,0)),0)","v":0},114,0,0,0,0,"",null,null,null,null,null,"",17,"","","","","",""]
[null,"2024-04-24","",{"$f":" IFERROR(INDIRECT(\"'Trade Log'!\" & \"CR\" & MATCH(B121,'Trade Log'!E:E,0)),0)","v":0},{"$f":" IFERROR(INDIRECT(\"'Trade Log'!\" & \"CS\" & MATCH(B121,'Trade Log'!E:E,0)),0)","v":0},{"$f":" IFERROR(INDIRECT(\"'Trade Log'!\" & \"CT\" & MATCH(B121,'Trade Log'!E:E,0)),\"\")","v":""},{"$f":" IFERROR(INDIRECT(\"'Trade Log'!\" & \"CU\" & MATCH(B121,'Trade Log'!E:E,0)),0)","v":0},115,0,0,0,0,"",null,null,null,null,null,"",17,17,0,0,0,0,""]
[null,"2024-04-25","",{"$f":" IFERROR(INDIRECT(\"'Trade Log'!\" & \"CR\" & MATCH(B122,'Trade Log'!E:E,0)),0)","v":0},{"$f":" IFERROR(INDIRECT(\"'Trade Log'!\" & \"CS\" & MATCH(B122,'Trade Log'!E:E,0)),0)","v":0},{"$f":" IFERROR(INDIRECT(\"'Trade Log'!\" & \"CT\" & MATCH(B122,'Trade Log'!E:E,0)),\"\")","v":""},{"$f":" IFERROR(INDIRECT(\"'Trade Log'!\" & \"CU\" & MATCH(B122,'Trade Log'!E:E,0)),0)","v":0},116,0,0,0,0,"",null,null,null,null,null,"",17,"","","","","",""]
[null,"2024-04-26","",{"$f":" IFERROR(INDIRECT(\"'Trade Log'!\" & \"CR\" & MATCH(B123,'Trade Log'!E:E,0)),0)","v":0},{"$f":" IFERROR(INDIRECT(\"'Trade Log'!\" & \"CS\" & MATCH(B123,'Trade Log'!E:E,0)),0)","v":0},{"$f":" IFERROR(INDIRECT(\"'Trade Log'!\" & \"CT\" & MATCH(B123,'Trade Log'!E:E,0)),\"\")","v":""},{"$f":" IFERROR(INDIRECT(\"'Trade Log'!\" & \"CU\" & MATCH(B123,'Trade Log'!E:E,0)),0)","v":0},117,0,0,0,0,"",null,null,null,null,null,"",17,"","","","","",""]
[null,"2024-04-27","",{"$f":" IFERROR(INDIRECT(\"'Trade Log'!\" & \"CR\" & MATCH(B124,'Trade Log'!E:E,0)),0)","v":0},{"$f":" IFERROR(INDIRECT(\"'Trade Log'!\" & \"CS\" & MATCH(B124,'Trade Log'!E:E,0)),0)","v":0},{"$f":" IFERROR(INDIRECT(\"'Trade Log'!\" & \"CT\" & MATCH(B124,'Trade Log'!E:E,0)),\"\")","v":""},{"$f":" IFERROR(INDIRECT(\"'Trade Log'!\" & \"CU\" & MATCH(B124,'Trade Log'!E:E,0)),0)","v":0},118,0,0,0,0,"",null,null,null,null,null,"",17,"","","","","",""]
[null,"2024-04-28","",{"$f":" IFERROR(INDIRECT(\"'Trade Log'!\" & \"CR\" & MATCH(B125,'Trade Log'!E:E,0)),0)","v":0},{"$f":" IFERROR(INDIRECT(\"'Trade Log'!\" & \"CS\" & MATCH(B125,'Trade Log'!E:E,0)),0)","v":0},{"$f":" IFERROR(INDIRECT(\"'Trade Log'!\" & \"CT\" & MATCH(B125,'Trade Log'!E:E,0)),\"\")","v":""},{"$f":" IFERROR(INDIRECT(\"'Trade Log'!\" & \"CU\" & MATCH(B125,'Trade Log'!E:E,0)),0)","v":0},119,0,0,0,0,"",null,null,null,null,null,"",18,"","","","","",""]
[null,"2024-04-29","",{"$f":" IFERROR(INDIRECT(\"'Trade Log'!\" & \"CR\" & MATCH(B126,'Trade Log'!E:E,0)),0)","v":0},{"$f":" IFERROR(INDIRECT(\"'Trade Log'!\" & \"CS\" & MATCH(B126,'Trade Log'!E:E,0)),0)","v":0},{"$f":" IFERROR(INDIRECT(\"'Trade Log'!\" & \"CT\" & MATCH(B126,'Trade Log'!E:E,0)),\"\")","v":""},{"$f":" IFERROR(INDIRECT(\"'Trade Log'!\" & \"CU\" & MATCH(B126,'Trade Log'!E:E,0)),0)","v":0},120,0,0,0,0,"",null,null,null,null,null,"",18,"","","","","",""]
[null,"2024-04-30","",{"$f":" IFERROR(INDIRECT(\"'Trade Log'!\" & \"CR\" & MATCH(B127,'Trade Log'!E:E,0)),0)","v":0},{"$f":" IFERROR(INDIRECT(\"'Trade Log'!\" & \"CS\" & MATCH(B127,'Trade Log'!E:E,0)),0)","v":0},{"$f":" IFERROR(INDIRECT(\"'Trade Log'!\" & \"CT\" & MATCH(B127,'Trade Log'!E:E,0)),\"\")","v":""},{"$f":" IFERROR(INDIRECT(\"'Trade Log'!\" & \"CU\" & MATCH(B127,'Trade Log'!E:E,0)),0)","v":0},121,0,0,0,0,"",null,null,null,null,null,"",18,"","","","","",""]
[null,"2024-05-01","",{"$f":" IFERROR(INDIRECT(\"'Trade Log'!\" & \"CR\" & MATCH(B128,'Trade Log'!E:E,0)),0)","v":0},{"$f":" IFERROR(INDIRECT(\"'Trade Log'!\" & \"CS\" & MATCH(B128,'Trade Log'!E:E,0)),0)","v":0},{"$f":" IFERROR(INDIRECT(\"'Trade Log'!\" & \"CT\" & MATCH(B128,'Trade Log'!E:E,0)),\"\")","v":""},{"$f":" IFERROR(INDIRECT(\"'Trade Log'!\" & \"CU\" & MATCH(B128,'Trade Log'!E:E,0)),0)","v":0},122,0,0,0,0,"",null,null,null,null,null,"",18,18,0,0,0,0,""]
[null,"2024-05-02","",{"$f":" IFERROR(INDIRECT(\"'Trade Log'!\" & \"CR\" & MATCH(B129,'Trade Log'!E:E,0)),0)","v":0},{"$f":" IFERROR(INDIRECT(\"'Trade Log'!\" & \"CS\" & MATCH(B129,'Trade Log'!E:E,0)),0)","v":0},{"$f":" IFERROR(INDIRECT(\"'Trade Log'!\" & \"CT\" & MATCH(B129,'Trade Log'!E:E,0)),\"\")","v":""},{"$f":" IFERROR(INDIRECT(\"'Trade Log'!\" & \"CU\" & MATCH(B129,'Trade Log'!E:E,0)),0)","v":0},123,0,0,0,0,"",null,null,null,null,null,"",18,"","","","","",""]
[null,"2024-05-03","",{"$f":" IFERROR(INDIRECT(\"'Trade Log'!\" & \"CR\" & MATCH(B130,'Trade Log'!E:E,0)),0)","v":0},{"$f":" IFERROR(INDIRECT(\"'Trade Log'!\" & \"CS\" & MATCH(B130,'Trade Log'!E:E,0)),0)","v":0},{"$f":" IFERROR(INDIRECT(\"'Trade Log'!\" & \"CT\" & MATCH(B130,'Trade Log'!E:E,0)),\"\")","v":""},{"$f":" IFERROR(INDIRECT(\"'Trade Log'!\" & \"CU\" & MATCH(B130,'Trade Log'!E:E,0)),0)","v":0},124,0,0,0,0,"",null,null,null,null,null,"",18,"","","","","",""]
[null,"2024-05-04","",{"$f":" IFERROR(INDIRECT(\"'Trade Log'!\" & \"CR\" & MATCH(B131,'Trade Log'!E:E,0)),0)","v":0},{"$f":" IFERROR(INDIRECT(\"'Trade Log'!\" & \"CS\" & MATCH(B131,'Trade Log'!E:E,0)),0)","v":0},{"$f":" IFERROR(INDIRECT(\"'Trade Log'!\" & \"CT\" & MATCH(B131,'Trade Log'!E:E,0)),\"\")","v":""},{"$f":" IFERROR(INDIRECT(\"'Trade Log'!\" & \"CU\" & MATCH(B131,'Trade Log'!E:E,0)),0)","v":0},125,0,0,0,0,"",null,null,null,null,null,"",18,"","","","","",""]
[null,"2024-05-05","",{"$f":" IFERROR(INDIRECT(\"'Trade Log'!\" & \"CR\" & MATCH(B132,'Trade Log'!E:E,0)),0)","v":0},{"$f":" IFERROR(INDIRECT(\"'Trade Log'!\" & \"CS\" & MATCH(B132,'Trade Log'!E:E,0)),0)","v":0},{"$f":" IFERROR(INDIRECT(\"'Trade Log'!\" & \"CT\" & MATCH(B132,'Trade Log'!E:E,0)),\"\")","v":""},{"$f":" IFERROR(INDIRECT(\"'Trade Log'!\" & \"CU\" & MATCH(B132,'Trade Log'!E:E,0)),0)","v":0},126,0,0,0,0,"",null,null,null,null,null,"",19,"","","","","",""]
[null,"2024-05-06","",{"$f":" IFERROR(INDIRECT(\"'Trade Log'!\" & \"CR\" & MATCH(B133,'Trade Log'!E:E,0)),0)","v":0},{"$f":" IFERROR(INDIRECT(\"'Trade Log'!\" & \"CS\" & MATCH(B133,'Trade Log'!E:E,0)),0)","v":0},{"$f":" IFERROR(INDIRECT(\"'Trade Log'!\" & \"CT\" & MATCH(B133,'Trade Log'!E:E,0)),\"\")","v":""},{"$f":" IFERROR(INDIRECT(\"'Trade Log'!\" & \"CU\" & MATCH(B133,'Trade Log'!E:E,0)),0)","v":0},127,0,0,0,0,"",null,null,null,null,null,"",19,"","","","","",""]
[null,"2024-05-07","",{"$f":" IFERROR(INDIRECT(\"'Trade Log'!\" & \"CR\" & MATCH(B134,'Trade Log'!E:E,0)),0)","v":0},{"$f":" IFERROR(INDIRECT(\"'Trade Log'!\" & \"CS\" & MATCH(B134,'Trade Log'!E:E,0)),0)","v":0},{"$f":" IFERROR(INDIRECT(\"'Trade Log'!\" & \"CT\" & MATCH(B134,'Trade Log'!E:E,0)),\"\")","v":""},{"$f":" IFERROR(INDIRECT(\"'Trade Log'!\" & \"CU\" & MATCH(B134,'Trade Log'!E:E,0)),0)","v":0},128,0,0,0,0,"",null,null,null,null,null,"",19,"","","","","",""]
[null,"2024-05-08","",{"$f":" IFERROR(INDIRECT(\"'Trade Log'!\" & \"CR\" & MATCH(B135,'Trade Log'!E:E,0)),0)","v":0},{"$f":" IFERROR(INDIRECT(\"'Trade Log'!\" & \"CS\" & MATCH(B135,'Trade Log'!E:E,0)),0)","v":0},{"$f":" IFERROR(INDIRECT(\"'Trade Log'!\" & \"CT\" & MATCH(B135,'Trade Log'!E:E,0)),\"\")","v":""},{"$f":" IFERROR(INDIRECT(\"'Trade Log'!\" & \"CU\" & MATCH(B135,'Trade Log'!E:E,0)),0)","v":0},129,{"$f":" D135","v":0},0,{"$f":" E135","v":0},0,"",null,null,null,null,null,{"$f":" IF(M135=\"\",\"\",MONTH(B135))","v":""},19,19,{"$f":" IF(U135 = \"\", \"\", SUM(INDIRECT(\"I\"&(MATCH(T135,T:T,0))&\":I\"&(MATCH(T135,T:T)))))","v":0},0,{"$f":" IF(U135 = \"\", \"\",SUM(INDIRECT(\"K\"&(MATCH(T135,T:T,0))&\":K\"&(MATCH(T135,T:T)))))","v":0},{"$f":" IF(U135= \"\", \"\",SUM(INDIRECT(\"G\"&(MATCH(T135,T:T,0))&\":G\"&(MATCH(T135,T:T)))))","v":0},{"$f":" IFERROR(IF(U135 = \"\", \"\",LOOKUP(2,1/(INDIRECT(\"M\"&MATCH(T135,T:T,0)&\":\"&\"M\"&MATCH(T135,T:T))<>\"\"),INDIRECT(\"M\"&MATCH(T135,T:T,0)&\":\"&\"M\"&MATCH(T135,T:T)))),\"\")","v":""}]
[null,{"$f":" B135 + 1","v":"2024-05-09"},"",{"$f":" IFERROR(INDIRECT(\"'Trade Log'!\" & \"CR\" & MATCH(B136,'Trade Log'!E:E,0)),0)","v":0},{"$f":" IFERROR(INDIRECT(\"'Trade Log'!\" & \"CS\" & MATCH(B136,'Trade Log'!E:E,0)),0)","v":0},{"$f":" IFERROR(INDIRECT(\"'Trade Log'!\" & \"CT\" & MATCH(B136,'Trade Log'!E:E,0)),\"\")","v":""},{"$f":" IFERROR(INDIRECT(\"'Trade Log'!\" & \"CU\" & MATCH(B136,'Trade Log'!E:E,0)),0)","v":0},{"$f":" (H135) + 1","v":130},0,{"$f":"IFERROR(D136/(M136-D136),0)","v":0},0,{"$f":" G136","v":0},{"$f":"F136","v":""},null,null,null,null,null,"",19,{"$f":" IF(ROW(T136) = FLOOR((MATCH(T136, T:T, 0) +MATCH(T136, T:T))/2,1), WEEKNUM(B136,1), \"\")","v":""},"","","","",""]
[null,"2024-05-10",{"$f":" IF(G137 = 0, \"\", B137)","v":""},{"$f":" IFERROR(INDIRECT(\"'Trade Log'!\" & \"CR\" & MATCH(B137,'Trade Log'!E:E,0)),0)","v":0},{"$f":" IFERROR(INDIRECT(\"'Trade Log'!\" & \"CS\" & MATCH(B137,'Trade Log'!E:E,0)),0)","v":0},{"$f":" IFERROR(INDIRECT(\"'Trade Log'!\" & \"CT\" & MATCH(B137,'Trade Log'!E:E,0)),\"\")","v":""},{"$f":" IFERROR(INDIRECT(\"'Trade Log'!\" & \"CU\" & MATCH(B137,'Trade Log'!E:E,0)),0)","v":0},131,0,0,0,0,"",null,null,null,null,null,"",{"$f":" WEEKNUM(B137,1)","v":19},"","","","","",""]
[null,"2024-05-11","",{"$f":" IFERROR(INDIRECT(\"'Trade Log'!\" & \"CR\" & MATCH(B138,'Trade Log'!E:E,0)),0)","v":0},{"$f":" IFERROR(INDIRECT(\"'Trade Log'!\" & \"CS\" & MATCH(B138,'Trade Log'!E:E,0)),0)","v":0},{"$f":" IFERROR(INDIRECT(\"'Trade Log'!\" & \"CT\" & MATCH(B138,'Trade Log'!E:E,0)),\"\")","v":""},{"$f":" IFERROR(INDIRECT(\"'Trade Log'!\" & \"CU\" & MATCH(B138,'Trade Log'!E:E,0)),0)","v":0},132,0,0,0,0,"",null,null,null,null,null,"",19,"","",{"$f":" IFERROR( IF(V138 = \"\",\"\",V138/(Z138-V138)),0)","v":""},"","",""]
[null,"2024-05-12","",{"$f":" IFERROR(INDIRECT(\"'Trade Log'!\" & \"CR\" & MATCH(B139,'Trade Log'!E:E,0)),0)","v":0},{"$f":" IFERROR(INDIRECT(\"'Trade Log'!\" & \"CS\" & MATCH(B139,'Trade Log'!E:E,0)),0)","v":0},{"$f":" IFERROR(INDIRECT(\"'Trade Log'!\" & \"CT\" & MATCH(B139,'Trade Log'!E:E,0)),\"\")","v":""},{"$f":" IFERROR(INDIRECT(\"'Trade Log'!\" & \"CU\" & MATCH(B139,'Trade Log'!E:E,0)),0)","v":0},133,0,0,0,0,"",null,null,null,null,null,"",20,"","","","","",""]
[null,"2024-05-13","",{"$f":" IFERROR(INDIRECT(\"'Trade Log'!\" & \"CR\" & MATCH(B140,'Trade Log'!E:E,0)),0)","v":0},{"$f":" IFERROR(INDIRECT(\"'Trade Log'!\" & \"CS\" & MATCH(B140,'Trade Log'!E:E,0)),0)","v":0},{"$f":" IFERROR(INDIRECT(\"'Trade Log'!\" & \"CT\" & MATCH(B140,'Trade Log'!E:E,0)),\"\")","v":""},{"$f":" IFERROR(INDIRECT(\"'Trade Log'!\" & \"CU\" & MATCH(B140,'Trade Log'!E:E,0)),0)","v":0},134,0,0,0,0,"",null,null,null,null,null,"",20,"","","","","",""]
[null,"2024-05-14","",{"$f":" IFERROR(INDIRECT(\"'Trade Log'!\" & \"CR\" & MATCH(B141,'Trade Log'!E:E,0)),0)","v":0},{"$f":" IFERROR(INDIRECT(\"'Trade Log'!\" & \"CS\" & MATCH(B141,'Trade Log'!E:E,0)),0)","v":0},{"$f":" IFERROR(INDIRECT(\"'Trade Log'!\" & \"CT\" & MATCH(B141,'Trade Log'!E:E,0)),\"\")","v":""},{"$f":" IFERROR(INDIRECT(\"'Trade Log'!\" & \"CU\" & MATCH(B141,'Trade Log'!E:E,0)),0)","v":0},135,0,0,0,0,"",null,null,null,null,null,"",20,"","","","","",""]
[null,"2024-05-15","",{"$f":" IFERROR(INDIRECT(\"'Trade Log'!\" & \"CR\" & MATCH(B142,'Trade Log'!E:E,0)),0)","v":0},{"$f":" IFERROR(INDIRECT(\"'Trade Log'!\" & \"CS\" & MATCH(B142,'Trade Log'!E:E,0)),0)","v":0},{"$f":" IFERROR(INDIRECT(\"'Trade Log'!\" & \"CT\" & MATCH(B142,'Trade Log'!E:E,0)),\"\")","v":""},{"$f":" IFERROR(INDIRECT(\"'Trade Log'!\" & \"CU\" & MATCH(B142,'Trade Log'!E:E,0)),0)","v":0},136,0,0,0,0,"",null,null,null,null,null,"",20,20,0,0,0,0,""]
[null,"2024-05-16","",{"$f":" IFERROR(INDIRECT(\"'Trade Log'!\" & \"CR\" & MATCH(B143,'Trade Log'!E:E,0)),0)","v":0},{"$f":" IFERROR(INDIRECT(\"'Trade Log'!\" & \"CS\" & MATCH(B143,'Trade Log'!E:E,0)),0)","v":0},{"$f":" IFERROR(INDIRECT(\"'Trade Log'!\" & \"CT\" & MATCH(B143,'Trade Log'!E:E,0)),\"\")","v":""},{"$f":" IFERROR(INDIRECT(\"'Trade Log'!\" & \"CU\" & MATCH(B143,'Trade Log'!E:E,0)),0)","v":0},137,0,0,0,0,"",null,null,null,null,null,"",20,"","","","","",""]
[null,"2024-05-17","",{"$f":" IFERROR(INDIRECT(\"'Trade Log'!\" & \"CR\" & MATCH(B144,'Trade Log'!E:E,0)),0)","v":0},{"$f":" IFERROR(INDIRECT(\"'Trade Log'!\" & \"CS\" & MATCH(B144,'Trade Log'!E:E,0)),0)","v":0},{"$f":" IFERROR(INDIRECT(\"'Trade Log'!\" & \"CT\" & MATCH(B144,'Trade Log'!E:E,0)),\"\")","v":""},{"$f":" IFERROR(INDIRECT(\"'Trade Log'!\" & \"CU\" & MATCH(B144,'Trade Log'!E:E,0)),0)","v":0},138,0,0,0,0,"",null,null,null,null,null,"",20,"","","","","",""]
[null,"2024-05-18","",{"$f":" IFERROR(INDIRECT(\"'Trade Log'!\" & \"CR\" & MATCH(B145,'Trade Log'!E:E,0)),0)","v":0},{"$f":" IFERROR(INDIRECT(\"'Trade Log'!\" & \"CS\" & MATCH(B145,'Trade Log'!E:E,0)),0)","v":0},{"$f":" IFERROR(INDIRECT(\"'Trade Log'!\" & \"CT\" & MATCH(B145,'Trade Log'!E:E,0)),\"\")","v":""},{"$f":" IFERROR(INDIRECT(\"'Trade Log'!\" & \"CU\" & MATCH(B145,'Trade Log'!E:E,0)),0)","v":0},139,0,0,0,0,"",null,null,null,null,null,"",20,"","","","","",""]
[null,"2024-05-19","",{"$f":" IFERROR(INDIRECT(\"'Trade Log'!\" & \"CR\" & MATCH(B146,'Trade Log'!E:E,0)),0)","v":0},{"$f":" IFERROR(INDIRECT(\"'Trade Log'!\" & \"CS\" & MATCH(B146,'Trade Log'!E:E,0)),0)","v":0},{"$f":" IFERROR(INDIRECT(\"'Trade Log'!\" & \"CT\" & MATCH(B146,'Trade Log'!E:E,0)),\"\")","v":""},{"$f":" IFERROR(INDIRECT(\"'Trade Log'!\" & \"CU\" & MATCH(B146,'Trade Log'!E:E,0)),0)","v":0},140,0,0,0,0,"",null,null,null,null,null,"",21,"","","","","",""]
[null,"2024-05-20","",{"$f":" IFERROR(INDIRECT(\"'Trade Log'!\" & \"CR\" & MATCH(B147,'Trade Log'!E:E,0)),0)","v":0},{"$f":" IFERROR(INDIRECT(\"'Trade Log'!\" & \"CS\" & MATCH(B147,'Trade Log'!E:E,0)),0)","v":0},{"$f":" IFERROR(INDIRECT(\"'Trade Log'!\" & \"CT\" & MATCH(B147,'Trade Log'!E:E,0)),\"\")","v":""},{"$f":" IFERROR(INDIRECT(\"'Trade Log'!\" & \"CU\" & MATCH(B147,'Trade Log'!E:E,0)),0)","v":0},141,0,0,0,0,"",null,null,null,null,null,"",21,"","","","","",""]
[null,"2024-05-21","",{"$f":" IFERROR(INDIRECT(\"'Trade Log'!\" & \"CR\" & MATCH(B148,'Trade Log'!E:E,0)),0)","v":0},{"$f":" IFERROR(INDIRECT(\"'Trade Log'!\" & \"CS\" & MATCH(B148,'Trade Log'!E:E,0)),0)","v":0},{"$f":" IFERROR(INDIRECT(\"'Trade Log'!\" & \"CT\" & MATCH(B148,'Trade Log'!E:E,0)),\"\")","v":""},{"$f":" IFERROR(INDIRECT(\"'Trade Log'!\" & \"CU\" & MATCH(B148,'Trade Log'!E:E,0)),0)","v":0},142,0,0,0,0,"",null,null,null,null,null,"",21,"","","","","",""]
[null,"2024-05-22","",{"$f":" IFERROR(INDIRECT(\"'Trade Log'!\" & \"CR\" & MATCH(B149,'Trade Log'!E:E,0)),0)","v":0},{"$f":" IFERROR(INDIRECT(\"'Trade Log'!\" & \"CS\" & MATCH(B149,'Trade Log'!E:E,0)),0)","v":0},{"$f":" IFERROR(INDIRECT(\"'Trade Log'!\" & \"CT\" & MATCH(B149,'Trade Log'!E:E,0)),\"\")","v":""},{"$f":" IFERROR(INDIRECT(\"'Trade Log'!\" & \"CU\" & MATCH(B149,'Trade Log'!E:E,0)),0)","v":0},143,0,0,0,0,"",null,null,null,null,null,"",21,21,0,0,0,0,""]
[null,"2024-05-23","",{"$f":" IFERROR(INDIRECT(\"'Trade Log'!\" & \"CR\" & MATCH(B150,'Trade Log'!E:E,0)),0)","v":0},{"$f":" IFERROR(INDIRECT(\"'Trade Log'!\" & \"CS\" & MATCH(B150,'Trade Log'!E:E,0)),0)","v":0},{"$f":" IFERROR(INDIRECT(\"'Trade Log'!\" & \"CT\" & MATCH(B150,'Trade Log'!E:E,0)),\"\")","v":""},{"$f":" IFERROR(INDIRECT(\"'Trade Log'!\" & \"CU\" & MATCH(B150,'Trade Log'!E:E,0)),0)","v":0},144,0,0,0,0,"",null,null,null,null,null,"",21,"","","","","",""]
[null,"2024-05-24","",{"$f":" IFERROR(INDIRECT(\"'Trade Log'!\" & \"CR\" & MATCH(B151,'Trade Log'!E:E,0)),0)","v":0},{"$f":" IFERROR(INDIRECT(\"'Trade Log'!\" & \"CS\" & MATCH(B151,'Trade Log'!E:E,0)),0)","v":0},{"$f":" IFERROR(INDIRECT(\"'Trade Log'!\" & \"CT\" & MATCH(B151,'Trade Log'!E:E,0)),\"\")","v":""},{"$f":" IFERROR(INDIRECT(\"'Trade Log'!\" & \"CU\" & MATCH(B151,'Trade Log'!E:E,0)),0)","v":0},145,0,0,0,0,"",null,null,null,null,null,"",21,"","","","","",""]
[null,"2024-05-25","",{"$f":" IFERROR(INDIRECT(\"'Trade Log'!\" & \"CR\" & MATCH(B152,'Trade Log'!E:E,0)),0)","v":0},{"$f":" IFERROR(INDIRECT(\"'Trade Log'!\" & \"CS\" & MATCH(B152,'Trade Log'!E:E,0)),0)","v":0},{"$f":" IFERROR(INDIRECT(\"'Trade Log'!\" & \"CT\" & MATCH(B152,'Trade Log'!E:E,0)),\"\")","v":""},{"$f":" IFERROR(INDIRECT(\"'Trade Log'!\" & \"CU\" & MATCH(B152,'Trade Log'!E:E,0)),0)","v":0},146,0,0,0,0,"",null,null,null,null,null,"",21,"","","","","",""]
[null,"2024-05-26","",{"$f":" IFERROR(INDIRECT(\"'Trade Log'!\" & \"CR\" & MATCH(B153,'Trade Log'!E:E,0)),0)","v":0},{"$f":" IFERROR(INDIRECT(\"'Trade Log'!\" & \"CS\" & MATCH(B153,'Trade Log'!E:E,0)),0)","v":0},{"$f":" IFERROR(INDIRECT(\"'Trade Log'!\" & \"CT\" & MATCH(B153,'Trade Log'!E:E,0)),\"\")","v":""},{"$f":" IFERROR(INDIRECT(\"'Trade Log'!\" & \"CU\" & MATCH(B153,'Trade Log'!E:E,0)),0)","v":0},147,0,0,0,0,"",null,null,null,null,null,"",22,"","","","","",""]
[null,"2024-05-27","",{"$f":" IFERROR(INDIRECT(\"'Trade Log'!\" & \"CR\" & MATCH(B154,'Trade Log'!E:E,0)),0)","v":0},{"$f":" IFERROR(INDIRECT(\"'Trade Log'!\" & \"CS\" & MATCH(B154,'Trade Log'!E:E,0)),0)","v":0},{"$f":" IFERROR(INDIRECT(\"'Trade Log'!\" & \"CT\" & MATCH(B154,'Trade Log'!E:E,0)),\"\")","v":""},{"$f":" IFERROR(INDIRECT(\"'Trade Log'!\" & \"CU\" & MATCH(B154,'Trade Log'!E:E,0)),0)","v":0},148,0,0,0,0,"",null,null,null,null,null,"",22,"","","","","",""]
[null,"2024-05-28","",{"$f":" IFERROR(INDIRECT(\"'Trade Log'!\" & \"CR\" & MATCH(B155,'Trade Log'!E:E,0)),0)","v":0},{"$f":" IFERROR(INDIRECT(\"'Trade Log'!\" & \"CS\" & MATCH(B155,'Trade Log'!E:E,0)),0)","v":0},{"$f":" IFERROR(INDIRECT(\"'Trade Log'!\" & \"CT\" & MATCH(B155,'Trade Log'!E:E,0)),\"\")","v":""},{"$f":" IFERROR(INDIRECT(\"'Trade Log'!\" & \"CU\" & MATCH(B155,'Trade Log'!E:E,0)),0)","v":0},149,0,0,0,0,"",null,null,null,null,null,"",22,"","","","","",""]
[null,"2024-05-29","",{"$f":" IFERROR(INDIRECT(\"'Trade Log'!\" & \"CR\" & MATCH(B156,'Trade Log'!E:E,0)),0)","v":0},{"$f":" IFERROR(INDIRECT(\"'Trade Log'!\" & \"CS\" & MATCH(B156,'Trade Log'!E:E,0)),0)","v":0},{"$f":" IFERROR(INDIRECT(\"'Trade Log'!\" & \"CT\" & MATCH(B156,'Trade Log'!E:E,0)),\"\")","v":""},{"$f":" IFERROR(INDIRECT(\"'Trade Log'!\" & \"CU\" & MATCH(B156,'Trade Log'!E:E,0)),0)","v":0},150,0,0,0,0,"",null,null,null,null,null,"",22,22,0,0,0,0,""]
[null,"2024-05-30","",{"$f":" IFERROR(INDIRECT(\"'Trade Log'!\" & \"CR\" & MATCH(B157,'Trade Log'!E:E,0)),0)","v":0},{"$f":" IFERROR(INDIRECT(\"'Trade Log'!\" & \"CS\" & MATCH(B157,'Trade Log'!E:E,0)),0)","v":0},{"$f":" IFERROR(INDIRECT(\"'Trade Log'!\" & \"CT\" & MATCH(B157,'Trade Log'!E:E,0)),\"\")","v":""},{"$f":" IFERROR(INDIRECT(\"'Trade Log'!\" & \"CU\" & MATCH(B157,'Trade Log'!E:E,0)),0)","v":0},151,0,0,0,0,"",null,null,null,null,null,"",22,"","","","","",""]
[null,"2024-05-31","",{"$f":" IFERROR(INDIRECT(\"'Trade Log'!\" & \"CR\" & MATCH(B158,'Trade Log'!E:E,0)),0)","v":0},{"$f":" IFERROR(INDIRECT(\"'Trade Log'!\" & \"CS\" & MATCH(B158,'Trade Log'!E:E,0)),0)","v":0},{"$f":" IFERROR(INDIRECT(\"'Trade Log'!\" & \"CT\" & MATCH(B158,'Trade Log'!E:E,0)),\"\")","v":""},{"$f":" IFERROR(INDIRECT(\"'Trade Log'!\" & \"CU\" & MATCH(B158,'Trade Log'!E:E,0)),0)","v":0},152,0,0,0,0,"",null,null,null,null,null,"",22,"","","","","",""]
[null,"2024-06-01","",{"$f":" IFERROR(INDIRECT(\"'Trade Log'!\" & \"CR\" & MATCH(B159,'Trade Log'!E:E,0)),0)","v":0},{"$f":" IFERROR(INDIRECT(\"'Trade Log'!\" & \"CS\" & MATCH(B159,'Trade Log'!E:E,0)),0)","v":0},{"$f":" IFERROR(INDIRECT(\"'Trade Log'!\" & \"CT\" & MATCH(B159,'Trade Log'!E:E,0)),\"\")","v":""},{"$f":" IFERROR(INDIRECT(\"'Trade Log'!\" & \"CU\" & MATCH(B159,'Trade Log'!E:E,0)),0)","v":0},153,0,0,0,0,"",null,null,null,null,null,"",22,"","","","","",""]
[null,"2024-06-02","",{"$f":" IFERROR(INDIRECT(\"'Trade Log'!\" & \"CR\" & MATCH(B160,'Trade Log'!E:E,0)),0)","v":0},{"$f":" IFERROR(INDIRECT(\"'Trade Log'!\" & \"CS\" & MATCH(B160,'Trade Log'!E:E,0)),0)","v":0},{"$f":" IFERROR(INDIRECT(\"'Trade Log'!\" & \"CT\" & MATCH(B160,'Trade Log'!E:E,0)),\"\")","v":""},{"$f":" IFERROR(INDIRECT(\"'Trade Log'!\" & \"CU\" & MATCH(B160,'Trade Log'!E:E,0)),0)","v":0},154,0,0,0,0,"",null,null,null,null,null,"",23,"","","","","",""]
[null,"2024-06-03","",{"$f":" IFERROR(INDIRECT(\"'Trade Log'!\" & \"CR\" & MATCH(B161,'Trade Log'!E:E,0)),0)","v":0},{"$f":" IFERROR(INDIRECT(\"'Trade Log'!\" & \"CS\" & MATCH(B161,'Trade Log'!E:E,0)),0)","v":0},{"$f":" IFERROR(INDIRECT(\"'Trade Log'!\" & \"CT\" & MATCH(B161,'Trade Log'!E:E,0)),\"\")","v":""},{"$f":" IFERROR(INDIRECT(\"'Trade Log'!\" & \"CU\" & MATCH(B161,'Trade Log'!E:E,0)),0)","v":0},155,0,0,0,0,"",null,null,null,null,null,"",23,"","","","","",""]
[null,"2024-06-04","",{"$f":" IFERROR(INDIRECT(\"'Trade Log'!\" & \"CR\" & MATCH(B162,'Trade Log'!E:E,0)),0)","v":0},{"$f":" IFERROR(INDIRECT(\"'Trade Log'!\" & \"CS\" & MATCH(B162,'Trade Log'!E:E,0)),0)","v":0},{"$f":" IFERROR(INDIRECT(\"'Trade Log'!\" & \"CT\" & MATCH(B162,'Trade Log'!E:E,0)),\"\")","v":""},{"$f":" IFERROR(INDIRECT(\"'Trade Log'!\" & \"CU\" & MATCH(B162,'Trade Log'!E:E,0)),0)","v":0},156,0,0,0,0,"",null,null,null,null,null,"",23,"","","","","",""]
[null,"2024-06-05","",{"$f":" IFERROR(INDIRECT(\"'Trade Log'!\" & \"CR\" & MATCH(B163,'Trade Log'!E:E,0)),0)","v":0},{"$f":" IFERROR(INDIRECT(\"'Trade Log'!\" & \"CS\" & MATCH(B163,'Trade Log'!E:E,0)),0)","v":0},{"$f":" IFERROR(INDIRECT(\"'Trade Log'!\" & \"CT\" & MATCH(B163,'Trade Log'!E:E,0)),\"\")","v":""},{"$f":" IFERROR(INDIRECT(\"'Trade Log'!\" & \"CU\" & MATCH(B163,'Trade Log'!E:E,0)),0)","v":0},157,0,0,0,0,"",null,null,null,null,null,"",23,23,0,0,0,0,""]
[null,"2024-06-06","",{"$f":" IFERROR(INDIRECT(\"'Trade Log'!\" & \"CR\" & MATCH(B164,'Trade Log'!E:E,0)),0)","v":0},{"$f":" IFERROR(INDIRECT(\"'Trade Log'!\" & \"CS\" & MATCH(B164,'Trade Log'!E:E,0)),0)","v":0},{"$f":" IFERROR(INDIRECT(\"'Trade Log'!\" & \"CT\" & MATCH(B164,'Trade Log'!E:E,0)),\"\")","v":""},{"$f":" IFERROR(INDIRECT(\"'Trade Log'!\" & \"CU\" & MATCH(B164,'Trade Log'!E:E,0)),0)","v":0},158,0,0,0,0,"",null,null,null,null,null,"",23,"","","","","",""]
[null,"2024-06-07","",{"$f":" IFERROR(INDIRECT(\"'Trade Log'!\" & \"CR\" & MATCH(B165,'Trade Log'!E:E,0)),0)","v":0},{"$f":" IFERROR(INDIRECT(\"'Trade Log'!\" & \"CS\" & MATCH(B165,'Trade Log'!E:E,0)),0)","v":0},{"$f":" IFERROR(INDIRECT(\"'Trade Log'!\" & \"CT\" & MATCH(B165,'Trade Log'!E:E,0)),\"\")","v":""},{"$f":" IFERROR(INDIRECT(\"'Trade Log'!\" & \"CU\" & MATCH(B165,'Trade Log'!E:E,0)),0)","v":0},159,0,0,0,0,"",null,null,null,null,null,"",23,"","","","","",""]
[null,"2024-06-08","",{"$f":" IFERROR(INDIRECT(\"'Trade Log'!\" & \"CR\" & MATCH(B166,'Trade Log'!E:E,0)),0)","v":0},{"$f":" IFERROR(INDIRECT(\"'Trade Log'!\" & \"CS\" & MATCH(B166,'Trade Log'!E:E,0)),0)","v":0},{"$f":" IFERROR(INDIRECT(\"'Trade Log'!\" & \"CT\" & MATCH(B166,'Trade Log'!E:E,0)),\"\")","v":""},{"$f":" IFERROR(INDIRECT(\"'Trade Log'!\" & \"CU\" & MATCH(B166,'Trade Log'!E:E,0)),0)","v":0},160,0,0,0,0,"",null,null,null,null,null,"",23,"","","","","",""]
[null,"2024-06-09","",{"$f":" IFERROR(INDIRECT(\"'Trade Log'!\" & \"CR\" & MATCH(B167,'Trade Log'!E:E,0)),0)","v":0},{"$f":" IFERROR(INDIRECT(\"'Trade Log'!\" & \"CS\" & MATCH(B167,'Trade Log'!E:E,0)),0)","v":0},{"$f":" IFERROR(INDIRECT(\"'Trade Log'!\" & \"CT\" & MATCH(B167,'Trade Log'!E:E,0)),\"\")","v":""},{"$f":" IFERROR(INDIRECT(\"'Trade Log'!\" & \"CU\" & MATCH(B167,'Trade Log'!E:E,0)),0)","v":0},161,0,0,0,0,"",null,null,null,null,null,"",24,"","","","","",""]
[null,"2024-06-10","",{"$f":" IFERROR(INDIRECT(\"'Trade Log'!\" & \"CR\" & MATCH(B168,'Trade Log'!E:E,0)),0)","v":0},{"$f":" IFERROR(INDIRECT(\"'Trade Log'!\" & \"CS\" & MATCH(B168,'Trade Log'!E:E,0)),0)","v":0},{"$f":" IFERROR(INDIRECT(\"'Trade Log'!\" & \"CT\" & MATCH(B168,'Trade Log'!E:E,0)),\"\")","v":""},{"$f":" IFERROR(INDIRECT(\"'Trade Log'!\" & \"CU\" & MATCH(B168,'Trade Log'!E:E,0)),0)","v":0},162,0,0,0,0,"",null,null,null,null,null,"",24,"","","","","",""]
[null,"2024-06-11","",{"$f":" IFERROR(INDIRECT(\"'Trade Log'!\" & \"CR\" & MATCH(B169,'Trade Log'!E:E,0)),0)","v":0},{"$f":" IFERROR(INDIRECT(\"'Trade Log'!\" & \"CS\" & MATCH(B169,'Trade Log'!E:E,0)),0)","v":0},{"$f":" IFERROR(INDIRECT(\"'Trade Log'!\" & \"CT\" & MATCH(B169,'Trade Log'!E:E,0)),\"\")","v":""},{"$f":" IFERROR(INDIRECT(\"'Trade Log'!\" & \"CU\" & MATCH(B169,'Trade Log'!E:E,0)),0)","v":0},163,0,0,0,0,"",null,null,null,null,null,"",24,"","","","","",""]
[null,"2024-06-12","",{"$f":" IFERROR(INDIRECT(\"'Trade Log'!\" & \"CR\" & MATCH(B170,'Trade Log'!E:E,0)),0)","v":0},{"$f":" IFERROR(INDIRECT(\"'Trade Log'!\" & \"CS\" & MATCH(B170,'Trade Log'!E:E,0)),0)","v":0},{"$f":" IFERROR(INDIRECT(\"'Trade Log'!\" & \"CT\" & MATCH(B170,'Trade Log'!E:E,0)),\"\")","v":""},{"$f":" IFERROR(INDIRECT(\"'Trade Log'!\" & \"CU\" & MATCH(B170,'Trade Log'!E:E,0)),0)","v":0},164,0,0,0,0,"",null,null,null,null,null,"",24,24,0,0,0,0,""]
[null,"2024-06-13","",{"$f":" IFERROR(INDIRECT(\"'Trade Log'!\" & \"CR\" & MATCH(B171,'Trade Log'!E:E,0)),0)","v":0},{"$f":" IFERROR(INDIRECT(\"'Trade Log'!\" & \"CS\" & MATCH(B171,'Trade Log'!E:E,0)),0)","v":0},{"$f":" IFERROR(INDIRECT(\"'Trade Log'!\" & \"CT\" & MATCH(B171,'Trade Log'!E:E,0)),\"\")","v":""},{"$f":" IFERROR(INDIRECT(\"'Trade Log'!\" & \"CU\" & MATCH(B171,'Trade Log'!E:E,0)),0)","v":0},165,0,0,0,0,"",null,null,null,null,null,"",24,"","","","","",""]
[null,"2024-06-14","",{"$f":" IFERROR(INDIRECT(\"'Trade Log'!\" & \"CR\" & MATCH(B172,'Trade Log'!E:E,0)),0)","v":0},{"$f":" IFERROR(INDIRECT(\"'Trade Log'!\" & \"CS\" & MATCH(B172,'Trade Log'!E:E,0)),0)","v":0},{"$f":" IFERROR(INDIRECT(\"'Trade Log'!\" & \"CT\" & MATCH(B172,'Trade Log'!E:E,0)),\"\")","v":""},{"$f":" IFERROR(INDIRECT(\"'Trade Log'!\" & \"CU\" & MATCH(B172,'Trade Log'!E:E,0)),0)","v":0},166,0,0,0,0,"",null,null,null,null,null,"",24,"","","","","",""]
[null,"2024-06-15","",{"$f":" IFERROR(INDIRECT(\"'Trade Log'!\" & \"CR\" & MATCH(B173,'Trade Log'!E:E,0)),0)","v":0},{"$f":" IFERROR(INDIRECT(\"'Trade Log'!\" & \"CS\" & MATCH(B173,'Trade Log'!E:E,0)),0)","v":0},{"$f":" IFERROR(INDIRECT(\"'Trade Log'!\" & \"CT\" & MATCH(B173,'Trade Log'!E:E,0)),\"\")","v":""},{"$f":" IFERROR(INDIRECT(\"'Trade Log'!\" & \"CU\" & MATCH(B173,'Trade Log'!E:E,0)),0)","v":0},167,0,0,0,0,"",null,null,null,null,null,"",24,"","","","","",""]
[null,"2024-06-16","",{"$f":" IFERROR(INDIRECT(\"'Trade Log'!\" & \"CR\" & MATCH(B174,'Trade Log'!E:E,0)),0)","v":0},{"$f":" IFERROR(INDIRECT(\"'Trade Log'!\" & \"CS\" & MATCH(B174,'Trade Log'!E:E,0)),0)","v":0},{"$f":" IFERROR(INDIRECT(\"'Trade Log'!\" & \"CT\" & MATCH(B174,'Trade Log'!E:E,0)),\"\")","v":""},{"$f":" IFERROR(INDIRECT(\"'Trade Log'!\" & \"CU\" & MATCH(B174,'Trade Log'!E:E,0)),0)","v":0},168,0,0,0,0,"",null,null,null,null,null,"",25,"","","","","",""]
[null,"2024-06-17","",{"$f":" IFERROR(INDIRECT(\"'Trade Log'!\" & \"CR\" & MATCH(B175,'Trade Log'!E:E,0)),0)","v":0},{"$f":" IFERROR(INDIRECT(\"'Trade Log'!\" & \"CS\" & MATCH(B175,'Trade Log'!E:E,0)),0)","v":0},{"$f":" IFERROR(INDIRECT(\"'Trade Log'!\" & \"CT\" & MATCH(B175,'Trade Log'!E:E,0)),\"\")","v":""},{"$f":" IFERROR(INDIRECT(\"'Trade Log'!\" & \"CU\" & MATCH(B175,'Trade Log'!E:E,0)),0)","v":0},169,0,0,0,0,"",null,null,null,null,null,"",25,"","","","","",""]
[null,"2024-06-18","",{"$f":" IFERROR(INDIRECT(\"'Trade Log'!\" & \"CR\" & MATCH(B176,'Trade Log'!E:E,0)),0)","v":0},{"$f":" IFERROR(INDIRECT(\"'Trade Log'!\" & \"CS\" & MATCH(B176,'Trade Log'!E:E,0)),0)","v":0},{"$f":" IFERROR(INDIRECT(\"'Trade Log'!\" & \"CT\" & MATCH(B176,'Trade Log'!E:E,0)),\"\")","v":""},{"$f":" IFERROR(INDIRECT(\"'Trade Log'!\" & \"CU\" & MATCH(B176,'Trade Log'!E:E,0)),0)","v":0},170,0,0,0,0,"",null,null,null,null,null,"",25,"","","","","",""]
[null,"2024-06-19","",{"$f":" IFERROR(INDIRECT(\"'Trade Log'!\" & \"CR\" & MATCH(B177,'Trade Log'!E:E,0)),0)","v":0},{"$f":" IFERROR(INDIRECT(\"'Trade Log'!\" & \"CS\" & MATCH(B177,'Trade Log'!E:E,0)),0)","v":0},{"$f":" IFERROR(INDIRECT(\"'Trade Log'!\" & \"CT\" & MATCH(B177,'Trade Log'!E:E,0)),\"\")","v":""},{"$f":" IFERROR(INDIRECT(\"'Trade Log'!\" & \"CU\" & MATCH(B177,'Trade Log'!E:E,0)),0)","v":0},171,0,0,0,0,"",null,null,null,null,null,"",25,25,0,0,0,0,""]
[null,"2024-06-20","",{"$f":" IFERROR(INDIRECT(\"'Trade Log'!\" & \"CR\" & MATCH(B178,'Trade Log'!E:E,0)),0)","v":0},{"$f":" IFERROR(INDIRECT(\"'Trade Log'!\" & \"CS\" & MATCH(B178,'Trade Log'!E:E,0)),0)","v":0},{"$f":" IFERROR(INDIRECT(\"'Trade Log'!\" & \"CT\" & MATCH(B178,'Trade Log'!E:E,0)),\"\")","v":""},{"$f":" IFERROR(INDIRECT(\"'Trade Log'!\" & \"CU\" & MATCH(B178,'Trade Log'!E:E,0)),0)","v":0},172,0,0,0,0,"",null,null,null,null,null,"",25,"","","","","",""]
[null,"2024-06-21","",{"$f":" IFERROR(INDIRECT(\"'Trade Log'!\" & \"CR\" & MATCH(B179,'Trade Log'!E:E,0)),0)","v":0},{"$f":" IFERROR(INDIRECT(\"'Trade Log'!\" & \"CS\" & MATCH(B179,'Trade Log'!E:E,0)),0)","v":0},{"$f":" IFERROR(INDIRECT(\"'Trade Log'!\" & \"CT\" & MATCH(B179,'Trade Log'!E:E,0)),\"\")","v":""},{"$f":" IFERROR(INDIRECT(\"'Trade Log'!\" & \"CU\" & MATCH(B179,'Trade Log'!E:E,0)),0)","v":0},173,0,0,0,0,"",null,null,null,null,null,"",25,"","","","","",""]
[null,"2024-06-22","",{"$f":" IFERROR(INDIRECT(\"'Trade Log'!\" & \"CR\" & MATCH(B180,'Trade Log'!E:E,0)),0)","v":0},{"$f":" IFERROR(INDIRECT(\"'Trade Log'!\" & \"CS\" & MATCH(B180,'Trade Log'!E:E,0)),0)","v":0},{"$f":" IFERROR(INDIRECT(\"'Trade Log'!\" & \"CT\" & MATCH(B180,'Trade Log'!E:E,0)),\"\")","v":""},{"$f":" IFERROR(INDIRECT(\"'Trade Log'!\" & \"CU\" & MATCH(B180,'Trade Log'!E:E,0)),0)","v":0},174,0,0,0,0,"",null,null,null,null,null,"",25,"","","","","",""]
[null,"2024-06-23","",{"$f":" IFERROR(INDIRECT(\"'Trade Log'!\" & \"CR\" & MATCH(B181,'Trade Log'!E:E,0)),0)","v":0},{"$f":" IFERROR(INDIRECT(\"'Trade Log'!\" & \"CS\" & MATCH(B181,'Trade Log'!E:E,0)),0)","v":0},{"$f":" IFERROR(INDIRECT(\"'Trade Log'!\" & \"CT\" & MATCH(B181,'Trade Log'!E:E,0)),\"\")","v":""},{"$f":" IFERROR(INDIRECT(\"'Trade Log'!\" & \"CU\" & MATCH(B181,'Trade Log'!E:E,0)),0)","v":0},175,0,0,0,0,"",null,null,null,null,null,"",26,"","","","","",""]
[null,"2024-06-24","",{"$f":" IFERROR(INDIRECT(\"'Trade Log'!\" & \"CR\" & MATCH(B182,'Trade Log'!E:E,0)),0)","v":0},{"$f":" IFERROR(INDIRECT(\"'Trade Log'!\" & \"CS\" & MATCH(B182,'Trade Log'!E:E,0)),0)","v":0},{"$f":" IFERROR(INDIRECT(\"'Trade Log'!\" & \"CT\" & MATCH(B182,'Trade Log'!E:E,0)),\"\")","v":""},{"$f":" IFERROR(INDIRECT(\"'Trade Log'!\" & \"CU\" & MATCH(B182,'Trade Log'!E:E,0)),0)","v":0},176,0,0,0,0,"",null,null,null,null,null,"",26,"","","","","",""]
[null,"2024-06-25","",{"$f":" IFERROR(INDIRECT(\"'Trade Log'!\" & \"CR\" & MATCH(B183,'Trade Log'!E:E,0)),0)","v":0},{"$f":" IFERROR(INDIRECT(\"'Trade Log'!\" & \"CS\" & MATCH(B183,'Trade Log'!E:E,0)),0)","v":0},{"$f":" IFERROR(INDIRECT(\"'Trade Log'!\" & \"CT\" & MATCH(B183,'Trade Log'!E:E,0)),\"\")","v":""},{"$f":" IFERROR(INDIRECT(\"'Trade Log'!\" & \"CU\" & MATCH(B183,'Trade Log'!E:E,0)),0)","v":0},177,0,0,0,0,"",null,null,null,null,null,"",26,"","","","","",""]
[null,"2024-06-26","",{"$f":" IFERROR(INDIRECT(\"'Trade Log'!\" & \"CR\" & MATCH(B184,'Trade Log'!E:E,0)),0)","v":0},{"$f":" IFERROR(INDIRECT(\"'Trade Log'!\" & \"CS\" & MATCH(B184,'Trade Log'!E:E,0)),0)","v":0},{"$f":" IFERROR(INDIRECT(\"'Trade Log'!\" & \"CT\" & MATCH(B184,'Trade Log'!E:E,0)),\"\")","v":""},{"$f":" IFERROR(INDIRECT(\"'Trade Log'!\" & \"CU\" & MATCH(B184,'Trade Log'!E:E,0)),0)","v":0},178,0,0,0,0,"",null,null,null,null,null,"",26,26,0,0,0,0,""]
[null,"2024-06-27","",{"$f":" IFERROR(INDIRECT(\"'Trade Log'!\" & \"CR\" & MATCH(B185,'Trade Log'!E:E,0)),0)","v":0},{"$f":" IFERROR(INDIRECT(\"'Trade Log'!\" & \"CS\" & MATCH(B185,'Trade Log'!E:E,0)),0)","v":0},{"$f":" IFERROR(INDIRECT(\"'Trade Log'!\" & \"CT\" & MATCH(B185,'Trade Log'!E:E,0)),\"\")","v":""},{"$f":" IFERROR(INDIRECT(\"'Trade Log'!\" & \"CU\" & MATCH(B185,'Trade Log'!E:E,0)),0)","v":0},179,0,0,0,0,"",null,null,null,null,null,"",26,"","","","","",""]
[null,"2024-06-28","",{"$f":" IFERROR(INDIRECT(\"'Trade Log'!\" & \"CR\" & MATCH(B186,'Trade Log'!E:E,0)),0)","v":0},{"$f":" IFERROR(INDIRECT(\"'Trade Log'!\" & \"CS\" & MATCH(B186,'Trade Log'!E:E,0)),0)","v":0},{"$f":" IFERROR(INDIRECT(\"'Trade Log'!\" & \"CT\" & MATCH(B186,'Trade Log'!E:E,0)),\"\")","v":""},{"$f":" IFERROR(INDIRECT(\"'Trade Log'!\" & \"CU\" & MATCH(B186,'Trade Log'!E:E,0)),0)","v":0},180,0,0,0,0,"",null,null,null,null,null,"",26,"","","","","",""]
[null,"2024-06-29","",{"$f":" IFERROR(INDIRECT(\"'Trade Log'!\" & \"CR\" & MATCH(B187,'Trade Log'!E:E,0)),0)","v":0},{"$f":" IFERROR(INDIRECT(\"'Trade Log'!\" & \"CS\" & MATCH(B187,'Trade Log'!E:E,0)),0)","v":0},{"$f":" IFERROR(INDIRECT(\"'Trade Log'!\" & \"CT\" & MATCH(B187,'Trade Log'!E:E,0)),\"\")","v":""},{"$f":" IFERROR(INDIRECT(\"'Trade Log'!\" & \"CU\" & MATCH(B187,'Trade Log'!E:E,0)),0)","v":0},181,0,0,0,0,"",null,null,null,null,null,"",26,"","","","","",""]
[null,"2024-06-30","",{"$f":" IFERROR(INDIRECT(\"'Trade Log'!\" & \"CR\" & MATCH(B188,'Trade Log'!E:E,0)),0)","v":0},{"$f":" IFERROR(INDIRECT(\"'Trade Log'!\" & \"CS\" & MATCH(B188,'Trade Log'!E:E,0)),0)","v":0},{"$f":" IFERROR(INDIRECT(\"'Trade Log'!\" & \"CT\" & MATCH(B188,'Trade Log'!E:E,0)),\"\")","v":""},{"$f":" IFERROR(INDIRECT(\"'Trade Log'!\" & \"CU\" & MATCH(B188,'Trade Log'!E:E,0)),0)","v":0},182,0,0,0,0,"",null,null,null,null,null,"",27,"","","","","",""]
[null,"2024-07-01","",{"$f":" IFERROR(INDIRECT(\"'Trade Log'!\" & \"CR\" & MATCH(B189,'Trade Log'!E:E,0)),0)","v":0},{"$f":" IFERROR(INDIRECT(\"'Trade Log'!\" & \"CS\" & MATCH(B189,'Trade Log'!E:E,0)),0)","v":0},{"$f":" IFERROR(INDIRECT(\"'Trade Log'!\" & \"CT\" & MATCH(B189,'Trade Log'!E:E,0)),\"\")","v":""},{"$f":" IFERROR(INDIRECT(\"'Trade Log'!\" & \"CU\" & MATCH(B189,'Trade Log'!E:E,0)),0)","v":0},183,0,0,0,0,"",null,null,null,null,null,"",27,"","","","","",""]
[null,"2024-07-02","",{"$f":" IFERROR(INDIRECT(\"'Trade Log'!\" & \"CR\" & MATCH(B190,'Trade Log'!E:E,0)),0)","v":0},{"$f":" IFERROR(INDIRECT(\"'Trade Log'!\" & \"CS\" & MATCH(B190,'Trade Log'!E:E,0)),0)","v":0},{"$f":" IFERROR(INDIRECT(\"'Trade Log'!\" & \"CT\" & MATCH(B190,'Trade Log'!E:E,0)),\"\")","v":""},{"$f":" IFERROR(INDIRECT(\"'Trade Log'!\" & \"CU\" & MATCH(B190,'Trade Log'!E:E,0)),0)","v":0},184,0,0,0,0,"",null,null,null,null,null,"",27,"","","","","",""]
[null,"2024-07-03","",{"$f":" IFERROR(INDIRECT(\"'Trade Log'!\" & \"CR\" & MATCH(B191,'Trade Log'!E:E,0)),0)","v":0},{"$f":" IFERROR(INDIRECT(\"'Trade Log'!\" & \"CS\" & MATCH(B191,'Trade Log'!E:E,0)),0)","v":0},{"$f":" IFERROR(INDIRECT(\"'Trade Log'!\" & \"CT\" & MATCH(B191,'Trade Log'!E:E,0)),\"\")","v":""},{"$f":" IFERROR(INDIRECT(\"'Trade Log'!\" & \"CU\" & MATCH(B191,'Trade Log'!E:E,0)),0)","v":0},185,0,0,0,0,"",null,null,null,null,null,"",27,27,0,0,0,0,""]
[null,"2024-07-04","",{"$f":" IFERROR(INDIRECT(\"'Trade Log'!\" & \"CR\" & MATCH(B192,'Trade Log'!E:E,0)),0)","v":0},{"$f":" IFERROR(INDIRECT(\"'Trade Log'!\" & \"CS\" & MATCH(B192,'Trade Log'!E:E,0)),0)","v":0},{"$f":" IFERROR(INDIRECT(\"'Trade Log'!\" & \"CT\" & MATCH(B192,'Trade Log'!E:E,0)),\"\")","v":""},{"$f":" IFERROR(INDIRECT(\"'Trade Log'!\" & \"CU\" & MATCH(B192,'Trade Log'!E:E,0)),0)","v":0},186,0,0,0,0,"",null,null,null,null,null,"",27,"","","","","",""]
[null,"2024-07-05","",{"$f":" IFERROR(INDIRECT(\"'Trade Log'!\" & \"CR\" & MATCH(B193,'Trade Log'!E:E,0)),0)","v":0},{"$f":" IFERROR(INDIRECT(\"'Trade Log'!\" & \"CS\" & MATCH(B193,'Trade Log'!E:E,0)),0)","v":0},{"$f":" IFERROR(INDIRECT(\"'Trade Log'!\" & \"CT\" & MATCH(B193,'Trade Log'!E:E,0)),\"\")","v":""},{"$f":" IFERROR(INDIRECT(\"'Trade Log'!\" & \"CU\" & MATCH(B193,'Trade Log'!E:E,0)),0)","v":0},187,0,0,0,0,"",null,null,null,null,null,"",27,"","","","","",""]
[null,"2024-07-06","",{"$f":" IFERROR(INDIRECT(\"'Trade Log'!\" & \"CR\" & MATCH(B194,'Trade Log'!E:E,0)),0)","v":0},{"$f":" IFERROR(INDIRECT(\"'Trade Log'!\" & \"CS\" & MATCH(B194,'Trade Log'!E:E,0)),0)","v":0},{"$f":" IFERROR(INDIRECT(\"'Trade Log'!\" & \"CT\" & MATCH(B194,'Trade Log'!E:E,0)),\"\")","v":""},{"$f":" IFERROR(INDIRECT(\"'Trade Log'!\" & \"CU\" & MATCH(B194,'Trade Log'!E:E,0)),0)","v":0},188,0,0,0,0,"",null,null,null,null,null,"",27,"","","","","",""]
[null,"2024-07-07","",{"$f":" IFERROR(INDIRECT(\"'Trade Log'!\" & \"CR\" & MATCH(B195,'Trade Log'!E:E,0)),0)","v":0},{"$f":" IFERROR(INDIRECT(\"'Trade Log'!\" & \"CS\" & MATCH(B195,'Trade Log'!E:E,0)),0)","v":0},{"$f":" IFERROR(INDIRECT(\"'Trade Log'!\" & \"CT\" & MATCH(B195,'Trade Log'!E:E,0)),\"\")","v":""},{"$f":" IFERROR(INDIRECT(\"'Trade Log'!\" & \"CU\" & MATCH(B195,'Trade Log'!E:E,0)),0)","v":0},189,0,0,0,0,"",null,null,null,null,null,"",28,"","","","","",""]
[null,"2024-07-08","",{"$f":" IFERROR(INDIRECT(\"'Trade Log'!\" & \"CR\" & MATCH(B196,'Trade Log'!E:E,0)),0)","v":0},{"$f":" IFERROR(INDIRECT(\"'Trade Log'!\" & \"CS\" & MATCH(B196,'Trade Log'!E:E,0)),0)","v":0},{"$f":" IFERROR(INDIRECT(\"'Trade Log'!\" & \"CT\" & MATCH(B196,'Trade Log'!E:E,0)),\"\")","v":""},{"$f":" IFERROR(INDIRECT(\"'Trade Log'!\" & \"CU\" & MATCH(B196,'Trade Log'!E:E,0)),0)","v":0},190,0,0,0,0,"",null,null,null,null,null,"",28,"","","","","",""]
[null,"2024-07-09","",{"$f":" IFERROR(INDIRECT(\"'Trade Log'!\" & \"CR\" & MATCH(B197,'Trade Log'!E:E,0)),0)","v":0},{"$f":" IFERROR(INDIRECT(\"'Trade Log'!\" & \"CS\" & MATCH(B197,'Trade Log'!E:E,0)),0)","v":0},{"$f":" IFERROR(INDIRECT(\"'Trade Log'!\" & \"CT\" & MATCH(B197,'Trade Log'!E:E,0)),\"\")","v":""},{"$f":" IFERROR(INDIRECT(\"'Trade Log'!\" & \"CU\" & MATCH(B197,'Trade Log'!E:E,0)),0)","v":0},191,0,0,0,0,"",null,null,null,null,null,"",28,"","","","","",""]
[null,"2024-07-10","",{"$f":" IFERROR(INDIRECT(\"'Trade Log'!\" & \"CR\" & MATCH(B198,'Trade Log'!E:E,0)),0)","v":0},{"$f":" IFERROR(INDIRECT(\"'Trade Log'!\" & \"CS\" & MATCH(B198,'Trade Log'!E:E,0)),0)","v":0},{"$f":" IFERROR(INDIRECT(\"'Trade Log'!\" & \"CT\" & MATCH(B198,'Trade Log'!E:E,0)),\"\")","v":""},{"$f":" IFERROR(INDIRECT(\"'Trade Log'!\" & \"CU\" & MATCH(B198,'Trade Log'!E:E,0)),0)","v":0},192,0,0,0,0,"",null,null,null,null,null,"",28,28,0,0,0,0,""]
[null,"2024-07-11","",{"$f":" IFERROR(INDIRECT(\"'Trade Log'!\" & \"CR\" & MATCH(B199,'Trade Log'!E:E,0)),0)","v":0},{"$f":" IFERROR(INDIRECT(\"'Trade Log'!\" & \"CS\" & MATCH(B199,'Trade Log'!E:E,0)),0)","v":0},{"$f":" IFERROR(INDIRECT(\"'Trade Log'!\" & \"CT\" & MATCH(B199,'Trade Log'!E:E,0)),\"\")","v":""},{"$f":" IFERROR(INDIRECT(\"'Trade Log'!\" & \"CU\" & MATCH(B199,'Trade Log'!E:E,0)),0)","v":0},193,{"$f":" D199","v":0},0,{"$f":" E199","v":0},0,"",null,null,null,null,null,{"$f":" IF(M199=\"\",\"\",MONTH(B199))","v":""},28,"",{"$f":" IF(U199 = \"\", \"\", SUM(INDIRECT(\"I\"&(MATCH(T199,T:T,0))&\":I\"&(MATCH(T199,T:T)))))","v":""},"",{"$f":" IF(U199 = \"\", \"\",SUM(INDIRECT(\"K\"&(MATCH(T199,T:T,0))&\":K\"&(MATCH(T199,T:T)))))","v":""},{"$f":" IF(U199= \"\", \"\",SUM(INDIRECT(\"G\"&(MATCH(T199,T:T,0))&\":G\"&(MATCH(T199,T:T)))))","v":""},{"$f":" IFERROR(IF(U199 = \"\", \"\",LOOKUP(2,1/(INDIRECT(\"M\"&MATCH(T199,T:T,0)&\":\"&\"M\"&MATCH(T199,T:T))<>\"\"),INDIRECT(\"M\"&MATCH(T199,T:T,0)&\":\"&\"M\"&MATCH(T199,T:T)))),\"\")","v":""}]
[null,{"$f":" B199 + 1","v":"2024-07-12"},"",{"$f":" IFERROR(INDIRECT(\"'Trade Log'!\" & \"CR\" & MATCH(B200,'Trade Log'!E:E,0)),0)","v":0},{"$f":" IFERROR(INDIRECT(\"'Trade Log'!\" & \"CS\" & MATCH(B200,'Trade Log'!E:E,0)),0)","v":0},{"$f":" IFERROR(INDIRECT(\"'Trade Log'!\" & \"CT\" & MATCH(B200,'Trade Log'!E:E,0)),\"\")","v":""},{"$f":" IFERROR(INDIRECT(\"'Trade Log'!\" & \"CU\" & MATCH(B200,'Trade Log'!E:E,0)),0)","v":0},{"$f":" (H199) + 1","v":194},0,{"$f":"IFERROR(D200/(M200-D200),0)","v":0},0,{"$f":" G200","v":0},{"$f":"F200","v":""},null,null,null,null,null,"",28,{"$f":" IF(ROW(T200) = FLOOR((MATCH(T200, T:T, 0) +MATCH(T200, T:T))/2,1), WEEKNUM(B200,1), \"\")","v":""},"","","","",""]
[null,"2024-07-13",{"$f":" IF(G201 = 0, \"\", B201)","v":""},{"$f":" IFERROR(INDIRECT(\"'Trade Log'!\" & \"CR\" & MATCH(B201,'Trade Log'!E:E,0)),0)","v":0},{"$f":" IFERROR(INDIRECT(\"'Trade Log'!\" & \"CS\" & MATCH(B201,'Trade Log'!E:E,0)),0)","v":0},{"$f":" IFERROR(INDIRECT(\"'Trade Log'!\" & \"CT\" & MATCH(B201,'Trade Log'!E:E,0)),\"\")","v":""},{"$f":" IFERROR(INDIRECT(\"'Trade Log'!\" & \"CU\" & MATCH(B201,'Trade Log'!E:E,0)),0)","v":0},195,0,0,0,0,"",null,null,null,null,null,"",{"$f":" WEEKNUM(B201,1)","v":28},"","","","","",""]
[null,"2024-07-14","",{"$f":" IFERROR(INDIRECT(\"'Trade Log'!\" & \"CR\" & MATCH(B202,'Trade Log'!E:E,0)),0)","v":0},{"$f":" IFERROR(INDIRECT(\"'Trade Log'!\" & \"CS\" & MATCH(B202,'Trade Log'!E:E,0)),0)","v":0},{"$f":" IFERROR(INDIRECT(\"'Trade Log'!\" & \"CT\" & MATCH(B202,'Trade Log'!E:E,0)),\"\")","v":""},{"$f":" IFERROR(INDIRECT(\"'Trade Log'!\" & \"CU\" & MATCH(B202,'Trade Log'!E:E,0)),0)","v":0},196,0,0,0,0,"",null,null,null,null,null,"",29,"","",{"$f":" IFERROR( IF(V202 = \"\",\"\",V202/(Z202-V202)),0)","v":""},"","",""]
[null,"2024-07-15","",{"$f":" IFERROR(INDIRECT(\"'Trade Log'!\" & \"CR\" & MATCH(B203,'Trade Log'!E:E,0)),0)","v":0},{"$f":" IFERROR(INDIRECT(\"'Trade Log'!\" & \"CS\" & MATCH(B203,'Trade Log'!E:E,0)),0)","v":0},{"$f":" IFERROR(INDIRECT(\"'Trade Log'!\" & \"CT\" & MATCH(B203,'Trade Log'!E:E,0)),\"\")","v":""},{"$f":" IFERROR(INDIRECT(\"'Trade Log'!\" & \"CU\" & MATCH(B203,'Trade Log'!E:E,0)),0)","v":0},197,0,0,0,0,"",null,null,null,null,null,"",29,"","","","","",""]
[null,"2024-07-16","",{"$f":" IFERROR(INDIRECT(\"'Trade Log'!\" & \"CR\" & MATCH(B204,'Trade Log'!E:E,0)),0)","v":0},{"$f":" IFERROR(INDIRECT(\"'Trade Log'!\" & \"CS\" & MATCH(B204,'Trade Log'!E:E,0)),0)","v":0},{"$f":" IFERROR(INDIRECT(\"'Trade Log'!\" & \"CT\" & MATCH(B204,'Trade Log'!E:E,0)),\"\")","v":""},{"$f":" IFERROR(INDIRECT(\"'Trade Log'!\" & \"CU\" & MATCH(B204,'Trade Log'!E:E,0)),0)","v":0},198,0,0,0,0,"",null,null,null,null,null,"",29,"","","","","",""]
[null,"2024-07-17","",{"$f":" IFERROR(INDIRECT(\"'Trade Log'!\" & \"CR\" & MATCH(B205,'Trade Log'!E:E,0)),0)","v":0},{"$f":" IFERROR(INDIRECT(\"'Trade Log'!\" & \"CS\" & MATCH(B205,'Trade Log'!E:E,0)),0)","v":0},{"$f":" IFERROR(INDIRECT(\"'Trade Log'!\" & \"CT\" & MATCH(B205,'Trade Log'!E:E,0)),\"\")","v":""},{"$f":" IFERROR(INDIRECT(\"'Trade Log'!\" & \"CU\" & MATCH(B205,'Trade Log'!E:E,0)),0)","v":0},199,0,0,0,0,"",null,null,null,null,null,"",29,29,0,0,0,0,""]
[null,"2024-07-18","",{"$f":" IFERROR(INDIRECT(\"'Trade Log'!\" & \"CR\" & MATCH(B206,'Trade Log'!E:E,0)),0)","v":0},{"$f":" IFERROR(INDIRECT(\"'Trade Log'!\" & \"CS\" & MATCH(B206,'Trade Log'!E:E,0)),0)","v":0},{"$f":" IFERROR(INDIRECT(\"'Trade Log'!\" & \"CT\" & MATCH(B206,'Trade Log'!E:E,0)),\"\")","v":""},{"$f":" IFERROR(INDIRECT(\"'Trade Log'!\" & \"CU\" & MATCH(B206,'Trade Log'!E:E,0)),0)","v":0},200,0,0,0,0,"",null,null,null,null,null,"",29,"","","","","",""]
[null,"2024-07-19","",{"$f":" IFERROR(INDIRECT(\"'Trade Log'!\" & \"CR\" & MATCH(B207,'Trade Log'!E:E,0)),0)","v":0},{"$f":" IFERROR(INDIRECT(\"'Trade Log'!\" & \"CS\" & MATCH(B207,'Trade Log'!E:E,0)),0)","v":0},{"$f":" IFERROR(INDIRECT(\"'Trade Log'!\" & \"CT\" & MATCH(B207,'Trade Log'!E:E,0)),\"\")","v":""},{"$f":" IFERROR(INDIRECT(\"'Trade Log'!\" & \"CU\" & MATCH(B207,'Trade Log'!E:E,0)),0)","v":0},201,0,0,0,0,"",null,null,null,null,null,"",29,"","","","","",""]
[null,"2024-07-20","",{"$f":" IFERROR(INDIRECT(\"'Trade Log'!\" & \"CR\" & MATCH(B208,'Trade Log'!E:E,0)),0)","v":0},{"$f":" IFERROR(INDIRECT(\"'Trade Log'!\" & \"CS\" & MATCH(B208,'Trade Log'!E:E,0)),0)","v":0},{"$f":" IFERROR(INDIRECT(\"'Trade Log'!\" & \"CT\" & MATCH(B208,'Trade Log'!E:E,0)),\"\")","v":""},{"$f":" IFERROR(INDIRECT(\"'Trade Log'!\" & \"CU\" & MATCH(B208,'Trade Log'!E:E,0)),0)","v":0},202,0,0,0,0,"",null,null,null,null,null,"",29,"","","","","",""]
[null,"2024-07-21","",{"$f":" IFERROR(INDIRECT(\"'Trade Log'!\" & \"CR\" & MATCH(B209,'Trade Log'!E:E,0)),0)","v":0},{"$f":" IFERROR(INDIRECT(\"'Trade Log'!\" & \"CS\" & MATCH(B209,'Trade Log'!E:E,0)),0)","v":0},{"$f":" IFERROR(INDIRECT(\"'Trade Log'!\" & \"CT\" & MATCH(B209,'Trade Log'!E:E,0)),\"\")","v":""},{"$f":" IFERROR(INDIRECT(\"'Trade Log'!\" & \"CU\" & MATCH(B209,'Trade Log'!E:E,0)),0)","v":0},203,0,0,0,0,"",null,null,null,null,null,"",30,"","","","","",""]
[null,"2024-07-22","",{"$f":" IFERROR(INDIRECT(\"'Trade Log'!\" & \"CR\" & MATCH(B210,'Trade Log'!E:E,0)),0)","v":0},{"$f":" IFERROR(INDIRECT(\"'Trade Log'!\" & \"CS\" & MATCH(B210,'Trade Log'!E:E,0)),0)","v":0},{"$f":" IFERROR(INDIRECT(\"'Trade Log'!\" & \"CT\" & MATCH(B210,'Trade Log'!E:E,0)),\"\")","v":""},{"$f":" IFERROR(INDIRECT(\"'Trade Log'!\" & \"CU\" & MATCH(B210,'Trade Log'!E:E,0)),0)","v":0},204,0,0,0,0,"",null,null,null,null,null,"",30,"","","","","",""]
[null,"2024-07-23","",{"$f":" IFERROR(INDIRECT(\"'Trade Log'!\" & \"CR\" & MATCH(B211,'Trade Log'!E:E,0)),0)","v":0},{"$f":" IFERROR(INDIRECT(\"'Trade Log'!\" & \"CS\" & MATCH(B211,'Trade Log'!E:E,0)),0)","v":0},{"$f":" IFERROR(INDIRECT(\"'Trade Log'!\" & \"CT\" & MATCH(B211,'Trade Log'!E:E,0)),\"\")","v":""},{"$f":" IFERROR(INDIRECT(\"'Trade Log'!\" & \"CU\" & MATCH(B211,'Trade Log'!E:E,0)),0)","v":0},205,0,0,0,0,"",null,null,null,null,null,"",30,"","","","","",""]
[null,"2024-07-24","",{"$f":" IFERROR(INDIRECT(\"'Trade Log'!\" & \"CR\" & MATCH(B212,'Trade Log'!E:E,0)),0)","v":0},{"$f":" IFERROR(INDIRECT(\"'Trade Log'!\" & \"CS\" & MATCH(B212,'Trade Log'!E:E,0)),0)","v":0},{"$f":" IFERROR(INDIRECT(\"'Trade Log'!\" & \"CT\" & MATCH(B212,'Trade Log'!E:E,0)),\"\")","v":""},{"$f":" IFERROR(INDIRECT(\"'Trade Log'!\" & \"CU\" & MATCH(B212,'Trade Log'!E:E,0)),0)","v":0},206,0,0,0,0,"",null,null,null,null,null,"",30,30,0,0,0,0,""]
[null,"2024-07-25","",{"$f":" IFERROR(INDIRECT(\"'Trade Log'!\" & \"CR\" & MATCH(B213,'Trade Log'!E:E,0)),0)","v":0},{"$f":" IFERROR(INDIRECT(\"'Trade Log'!\" & \"CS\" & MATCH(B213,'Trade Log'!E:E,0)),0)","v":0},{"$f":" IFERROR(INDIRECT(\"'Trade Log'!\" & \"CT\" & MATCH(B213,'Trade Log'!E:E,0)),\"\")","v":""},{"$f":" IFERROR(INDIRECT(\"'Trade Log'!\" & \"CU\" & MATCH(B213,'Trade Log'!E:E,0)),0)","v":0},207,0,0,0,0,"",null,null,null,null,null,"",30,"","","","","",""]
[null,"2024-07-26","",{"$f":" IFERROR(INDIRECT(\"'Trade Log'!\" & \"CR\" & MATCH(B214,'Trade Log'!E:E,0)),0)","v":0},{"$f":" IFERROR(INDIRECT(\"'Trade Log'!\" & \"CS\" & MATCH(B214,'Trade Log'!E:E,0)),0)","v":0},{"$f":" IFERROR(INDIRECT(\"'Trade Log'!\" & \"CT\" & MATCH(B214,'Trade Log'!E:E,0)),\"\")","v":""},{"$f":" IFERROR(INDIRECT(\"'Trade Log'!\" & \"CU\" & MATCH(B214,'Trade Log'!E:E,0)),0)","v":0},208,0,0,0,0,"",null,null,null,null,null,"",30,"","","","","",""]
[null,"2024-07-27","",{"$f":" IFERROR(INDIRECT(\"'Trade Log'!\" & \"CR\" & MATCH(B215,'Trade Log'!E:E,0)),0)","v":0},{"$f":" IFERROR(INDIRECT(\"'Trade Log'!\" & \"CS\" & MATCH(B215,'Trade Log'!E:E,0)),0)","v":0},{"$f":" IFERROR(INDIRECT(\"'Trade Log'!\" & \"CT\" & MATCH(B215,'Trade Log'!E:E,0)),\"\")","v":""},{"$f":" IFERROR(INDIRECT(\"'Trade Log'!\" & \"CU\" & MATCH(B215,'Trade Log'!E:E,0)),0)","v":0},209,0,0,0,0,"",null,null,null,null,null,"",30,"","","","","",""]
[null,"2024-07-28","",{"$f":" IFERROR(INDIRECT(\"'Trade Log'!\" & \"CR\" & MATCH(B216,'Trade Log'!E:E,0)),0)","v":0},{"$f":" IFERROR(INDIRECT(\"'Trade Log'!\" & \"CS\" & MATCH(B216,'Trade Log'!E:E,0)),0)","v":0},{"$f":" IFERROR(INDIRECT(\"'Trade Log'!\" & \"CT\" & MATCH(B216,'Trade Log'!E:E,0)),\"\")","v":""},{"$f":" IFERROR(INDIRECT(\"'Trade Log'!\" & \"CU\" & MATCH(B216,'Trade Log'!E:E,0)),0)","v":0},210,0,0,0,0,"",null,null,null,null,null,"",31,"","","","","",""]
[null,"2024-07-29","",{"$f":" IFERROR(INDIRECT(\"'Trade Log'!\" & \"CR\" & MATCH(B217,'Trade Log'!E:E,0)),0)","v":0},{"$f":" IFERROR(INDIRECT(\"'Trade Log'!\" & \"CS\" & MATCH(B217,'Trade Log'!E:E,0)),0)","v":0},{"$f":" IFERROR(INDIRECT(\"'Trade Log'!\" & \"CT\" & MATCH(B217,'Trade Log'!E:E,0)),\"\")","v":""},{"$f":" IFERROR(INDIRECT(\"'Trade Log'!\" & \"CU\" & MATCH(B217,'Trade Log'!E:E,0)),0)","v":0},211,0,0,0,0,"",null,null,null,null,null,"",31,"","","","","",""]
[null,"2024-07-30","",{"$f":" IFERROR(INDIRECT(\"'Trade Log'!\" & \"CR\" & MATCH(B218,'Trade Log'!E:E,0)),0)","v":0},{"$f":" IFERROR(INDIRECT(\"'Trade Log'!\" & \"CS\" & MATCH(B218,'Trade Log'!E:E,0)),0)","v":0},{"$f":" IFERROR(INDIRECT(\"'Trade Log'!\" & \"CT\" & MATCH(B218,'Trade Log'!E:E,0)),\"\")","v":""},{"$f":" IFERROR(INDIRECT(\"'Trade Log'!\" & \"CU\" & MATCH(B218,'Trade Log'!E:E,0)),0)","v":0},212,0,0,0,0,"",null,null,null,null,null,"",31,"","","","","",""]
[null,"2024-07-31","",{"$f":" IFERROR(INDIRECT(\"'Trade Log'!\" & \"CR\" & MATCH(B219,'Trade Log'!E:E,0)),0)","v":0},{"$f":" IFERROR(INDIRECT(\"'Trade Log'!\" & \"CS\" & MATCH(B219,'Trade Log'!E:E,0)),0)","v":0},{"$f":" IFERROR(INDIRECT(\"'Trade Log'!\" & \"CT\" & MATCH(B219,'Trade Log'!E:E,0)),\"\")","v":""},{"$f":" IFERROR(INDIRECT(\"'Trade Log'!\" & \"CU\" & MATCH(B219,'Trade Log'!E:E,0)),0)","v":0},213,0,0,0,0,"",null,null,null,null,null,"",31,31,0,0,0,0,""]
[null,"2024-08-01","",{"$f":" IFERROR(INDIRECT(\"'Trade Log'!\" & \"CR\" & MATCH(B220,'Trade Log'!E:E,0)),0)","v":0},{"$f":" IFERROR(INDIRECT(\"'Trade Log'!\" & \"CS\" & MATCH(B220,'Trade Log'!E:E,0)),0)","v":0},{"$f":" IFERROR(INDIRECT(\"'Trade Log'!\" & \"CT\" & MATCH(B220,'Trade Log'!E:E,0)),\"\")","v":""},{"$f":" IFERROR(INDIRECT(\"'Trade Log'!\" & \"CU\" & MATCH(B220,'Trade Log'!E:E,0)),0)","v":0},214,0,0,0,0,"",null,null,null,null,null,"",31,"","","","","",""]
[null,"2024-08-02","",{"$f":" IFERROR(INDIRECT(\"'Trade Log'!\" & \"CR\" & MATCH(B221,'Trade Log'!E:E,0)),0)","v":0},{"$f":" IFERROR(INDIRECT(\"'Trade Log'!\" & \"CS\" & MATCH(B221,'Trade Log'!E:E,0)),0)","v":0},{"$f":" IFERROR(INDIRECT(\"'Trade Log'!\" & \"CT\" & MATCH(B221,'Trade Log'!E:E,0)),\"\")","v":""},{"$f":" IFERROR(INDIRECT(\"'Trade Log'!\" & \"CU\" & MATCH(B221,'Trade Log'!E:E,0)),0)","v":0},215,0,0,0,0,"",null,null,null,null,null,"",31,"","","","","",""]
[null,"2024-08-03","",{"$f":" IFERROR(INDIRECT(\"'Trade Log'!\" & \"CR\" & MATCH(B222,'Trade Log'!E:E,0)),0)","v":0},{"$f":" IFERROR(INDIRECT(\"'Trade Log'!\" & \"CS\" & MATCH(B222,'Trade Log'!E:E,0)),0)","v":0},{"$f":" IFERROR(INDIRECT(\"'Trade Log'!\" & \"CT\" & MATCH(B222,'Trade Log'!E:E,0)),\"\")","v":""},{"$f":" IFERROR(INDIRECT(\"'Trade Log'!\" & \"CU\" & MATCH(B222,'Trade Log'!E:E,0)),0)","v":0},216,0,0,0,0,"",null,null,null,null,null,"",31,"","","","","",""]
[null,"2024-08-04","",{"$f":" IFERROR(INDIRECT(\"'Trade Log'!\" & \"CR\" & MATCH(B223,'Trade Log'!E:E,0)),0)","v":0},{"$f":" IFERROR(INDIRECT(\"'Trade Log'!\" & \"CS\" & MATCH(B223,'Trade Log'!E:E,0)),0)","v":0},{"$f":" IFERROR(INDIRECT(\"'Trade Log'!\" & \"CT\" & MATCH(B223,'Trade Log'!E:E,0)),\"\")","v":""},{"$f":" IFERROR(INDIRECT(\"'Trade Log'!\" & \"CU\" & MATCH(B223,'Trade Log'!E:E,0)),0)","v":0},217,0,0,0,0,"",null,null,null,null,null,"",32,"","","","","",""]
[null,"2024-08-05","",{"$f":" IFERROR(INDIRECT(\"'Trade Log'!\" & \"CR\" & MATCH(B224,'Trade Log'!E:E,0)),0)","v":0},{"$f":" IFERROR(INDIRECT(\"'Trade Log'!\" & \"CS\" & MATCH(B224,'Trade Log'!E:E,0)),0)","v":0},{"$f":" IFERROR(INDIRECT(\"'Trade Log'!\" & \"CT\" & MATCH(B224,'Trade Log'!E:E,0)),\"\")","v":""},{"$f":" IFERROR(INDIRECT(\"'Trade Log'!\" & \"CU\" & MATCH(B224,'Trade Log'!E:E,0)),0)","v":0},218,0,0,0,0,"",null,null,null,null,null,"",32,"","","","","",""]
[null,"2024-08-06","",{"$f":" IFERROR(INDIRECT(\"'Trade Log'!\" & \"CR\" & MATCH(B225,'Trade Log'!E:E,0)),0)","v":0},{"$f":" IFERROR(INDIRECT(\"'Trade Log'!\" & \"CS\" & MATCH(B225,'Trade Log'!E:E,0)),0)","v":0},{"$f":" IFERROR(INDIRECT(\"'Trade Log'!\" & \"CT\" & MATCH(B225,'Trade Log'!E:E,0)),\"\")","v":""},{"$f":" IFERROR(INDIRECT(\"'Trade Log'!\" & \"CU\" & MATCH(B225,'Trade Log'!E:E,0)),0)","v":0},219,0,0,0,0,"",null,null,null,null,null,"",32,"","","","","",""]
[null,"2024-08-07","",{"$f":" IFERROR(INDIRECT(\"'Trade Log'!\" & \"CR\" & MATCH(B226,'Trade Log'!E:E,0)),0)","v":0},{"$f":" IFERROR(INDIRECT(\"'Trade Log'!\" & \"CS\" & MATCH(B226,'Trade Log'!E:E,0)),0)","v":0},{"$f":" IFERROR(INDIRECT(\"'Trade Log'!\" & \"CT\" & MATCH(B226,'Trade Log'!E:E,0)),\"\")","v":""},{"$f":" IFERROR(INDIRECT(\"'Trade Log'!\" & \"CU\" & MATCH(B226,'Trade Log'!E:E,0)),0)","v":0},220,0,0,0,0,"",null,null,null,null,null,"",32,32,0,0,0,0,""]
[null,"2024-08-08","",{"$f":" IFERROR(INDIRECT(\"'Trade Log'!\" & \"CR\" & MATCH(B227,'Trade Log'!E:E,0)),0)","v":0},{"$f":" IFERROR(INDIRECT(\"'Trade Log'!\" & \"CS\" & MATCH(B227,'Trade Log'!E:E,0)),0)","v":0},{"$f":" IFERROR(INDIRECT(\"'Trade Log'!\" & \"CT\" & MATCH(B227,'Trade Log'!E:E,0)),\"\")","v":""},{"$f":" IFERROR(INDIRECT(\"'Trade Log'!\" & \"CU\" & MATCH(B227,'Trade Log'!E:E,0)),0)","v":0},221,0,0,0,0,"",null,null,null,null,null,"",32,"","","","","",""]
[null,"2024-08-09","",{"$f":" IFERROR(INDIRECT(\"'Trade Log'!\" & \"CR\" & MATCH(B228,'Trade Log'!E:E,0)),0)","v":0},{"$f":" IFERROR(INDIRECT(\"'Trade Log'!\" & \"CS\" & MATCH(B228,'Trade Log'!E:E,0)),0)","v":0},{"$f":" IFERROR(INDIRECT(\"'Trade Log'!\" & \"CT\" & MATCH(B228,'Trade Log'!E:E,0)),\"\")","v":""},{"$f":" IFERROR(INDIRECT(\"'Trade Log'!\" & \"CU\" & MATCH(B228,'Trade Log'!E:E,0)),0)","v":0},222,0,0,0,0,"",null,null,null,null,null,"",32,"","","","","",""]
[null,"2024-08-10","",{"$f":" IFERROR(INDIRECT(\"'Trade Log'!\" & \"CR\" & MATCH(B229,'Trade Log'!E:E,0)),0)","v":0},{"$f":" IFERROR(INDIRECT(\"'Trade Log'!\" & \"CS\" & MATCH(B229,'Trade Log'!E:E,0)),0)","v":0},{"$f":" IFERROR(INDIRECT(\"'Trade Log'!\" & \"CT\" & MATCH(B229,'Trade Log'!E:E,0)),\"\")","v":""},{"$f":" IFERROR(INDIRECT(\"'Trade Log'!\" & \"CU\" & MATCH(B229,'Trade Log'!E:E,0)),0)","v":0},223,0,0,0,0,"",null,null,null,null,null,"",32,"","","","","",""]
[null,"2024-08-11","",{"$f":" IFERROR(INDIRECT(\"'Trade Log'!\" & \"CR\" & MATCH(B230,'Trade Log'!E:E,0)),0)","v":0},{"$f":" IFERROR(INDIRECT(\"'Trade Log'!\" & \"CS\" & MATCH(B230,'Trade Log'!E:E,0)),0)","v":0},{"$f":" IFERROR(INDIRECT(\"'Trade Log'!\" & \"CT\" & MATCH(B230,'Trade Log'!E:E,0)),\"\")","v":""},{"$f":" IFERROR(INDIRECT(\"'Trade Log'!\" & \"CU\" & MATCH(B230,'Trade Log'!E:E,0)),0)","v":0},224,0,0,0,0,"",null,null,null,null,null,"",33,"","","","","",""]
[null,"2024-08-12","",{"$f":" IFERROR(INDIRECT(\"'Trade Log'!\" & \"CR\" & MATCH(B231,'Trade Log'!E:E,0)),0)","v":0},{"$f":" IFERROR(INDIRECT(\"'Trade Log'!\" & \"CS\" & MATCH(B231,'Trade Log'!E:E,0)),0)","v":0},{"$f":" IFERROR(INDIRECT(\"'Trade Log'!\" & \"CT\" & MATCH(B231,'Trade Log'!E:E,0)),\"\")","v":""},{"$f":" IFERROR(INDIRECT(\"'Trade Log'!\" & \"CU\" & MATCH(B231,'Trade Log'!E:E,0)),0)","v":0},225,0,0,0,0,"",null,null,null,null,null,"",33,"","","","","",""]
[null,"2024-08-13","",{"$f":" IFERROR(INDIRECT(\"'Trade Log'!\" & \"CR\" & MATCH(B232,'Trade Log'!E:E,0)),0)","v":0},{"$f":" IFERROR(INDIRECT(\"'Trade Log'!\" & \"CS\" & MATCH(B232,'Trade Log'!E:E,0)),0)","v":0},{"$f":" IFERROR(INDIRECT(\"'Trade Log'!\" & \"CT\" & MATCH(B232,'Trade Log'!E:E,0)),\"\")","v":""},{"$f":" IFERROR(INDIRECT(\"'Trade Log'!\" & \"CU\" & MATCH(B232,'Trade Log'!E:E,0)),0)","v":0},226,0,0,0,0,"",null,null,null,null,null,"",33,"","","","","",""]
[null,"2024-08-14","",{"$f":" IFERROR(INDIRECT(\"'Trade Log'!\" & \"CR\" & MATCH(B233,'Trade Log'!E:E,0)),0)","v":0},{"$f":" IFERROR(INDIRECT(\"'Trade Log'!\" & \"CS\" & MATCH(B233,'Trade Log'!E:E,0)),0)","v":0},{"$f":" IFERROR(INDIRECT(\"'Trade Log'!\" & \"CT\" & MATCH(B233,'Trade Log'!E:E,0)),\"\")","v":""},{"$f":" IFERROR(INDIRECT(\"'Trade Log'!\" & \"CU\" & MATCH(B233,'Trade Log'!E:E,0)),0)","v":0},227,0,0,0,0,"",null,null,null,null,null,"",33,33,0,0,0,0,""]
[null,"2024-08-15","",{"$f":" IFERROR(INDIRECT(\"'Trade Log'!\" & \"CR\" & MATCH(B234,'Trade Log'!E:E,0)),0)","v":0},{"$f":" IFERROR(INDIRECT(\"'Trade Log'!\" & \"CS\" & MATCH(B234,'Trade Log'!E:E,0)),0)","v":0},{"$f":" IFERROR(INDIRECT(\"'Trade Log'!\" & \"CT\" & MATCH(B234,'Trade Log'!E:E,0)),\"\")","v":""},{"$f":" IFERROR(INDIRECT(\"'Trade Log'!\" & \"CU\" & MATCH(B234,'Trade Log'!E:E,0)),0)","v":0},228,0,0,0,0,"",null,null,null,null,null,"",33,"","","","","",""]
[null,"2024-08-16","",{"$f":" IFERROR(INDIRECT(\"'Trade Log'!\" & \"CR\" & MATCH(B235,'Trade Log'!E:E,0)),0)","v":0},{"$f":" IFERROR(INDIRECT(\"'Trade Log'!\" & \"CS\" & MATCH(B235,'Trade Log'!E:E,0)),0)","v":0},{"$f":" IFERROR(INDIRECT(\"'Trade Log'!\" & \"CT\" & MATCH(B235,'Trade Log'!E:E,0)),\"\")","v":""},{"$f":" IFERROR(INDIRECT(\"'Trade Log'!\" & \"CU\" & MATCH(B235,'Trade Log'!E:E,0)),0)","v":0},229,0,0,0,0,"",null,null,null,null,null,"",33,"","","","","",""]
[null,"2024-08-17","",{"$f":" IFERROR(INDIRECT(\"'Trade Log'!\" & \"CR\" & MATCH(B236,'Trade Log'!E:E,0)),0)","v":0},{"$f":" IFERROR(INDIRECT(\"'Trade Log'!\" & \"CS\" & MATCH(B236,'Trade Log'!E:E,0)),0)","v":0},{"$f":" IFERROR(INDIRECT(\"'Trade Log'!\" & \"CT\" & MATCH(B236,'Trade Log'!E:E,0)),\"\")","v":""},{"$f":" IFERROR(INDIRECT(\"'Trade Log'!\" & \"CU\" & MATCH(B236,'Trade Log'!E:E,0)),0)","v":0},230,0,0,0,0,"",null,null,null,null,null,"",33,"","","","","",""]
[null,"2024-08-18","",{"$f":" IFERROR(INDIRECT(\"'Trade Log'!\" & \"CR\" & MATCH(B237,'Trade Log'!E:E,0)),0)","v":0},{"$f":" IFERROR(INDIRECT(\"'Trade Log'!\" & \"CS\" & MATCH(B237,'Trade Log'!E:E,0)),0)","v":0},{"$f":" IFERROR(INDIRECT(\"'Trade Log'!\" & \"CT\" & MATCH(B237,'Trade Log'!E:E,0)),\"\")","v":""},{"$f":" IFERROR(INDIRECT(\"'Trade Log'!\" & \"CU\" & MATCH(B237,'Trade Log'!E:E,0)),0)","v":0},231,0,0,0,0,"",null,null,null,null,null,"",34,"","","","","",""]
[null,"2024-08-19","",{"$f":" IFERROR(INDIRECT(\"'Trade Log'!\" & \"CR\" & MATCH(B238,'Trade Log'!E:E,0)),0)","v":0},{"$f":" IFERROR(INDIRECT(\"'Trade Log'!\" & \"CS\" & MATCH(B238,'Trade Log'!E:E,0)),0)","v":0},{"$f":" IFERROR(INDIRECT(\"'Trade Log'!\" & \"CT\" & MATCH(B238,'Trade Log'!E:E,0)),\"\")","v":""},{"$f":" IFERROR(INDIRECT(\"'Trade Log'!\" & \"CU\" & MATCH(B238,'Trade Log'!E:E,0)),0)","v":0},232,0,0,0,0,"",null,null,null,null,null,"",34,"","","","","",""]
[null,"2024-08-20","",{"$f":" IFERROR(INDIRECT(\"'Trade Log'!\" & \"CR\" & MATCH(B239,'Trade Log'!E:E,0)),0)","v":0},{"$f":" IFERROR(INDIRECT(\"'Trade Log'!\" & \"CS\" & MATCH(B239,'Trade Log'!E:E,0)),0)","v":0},{"$f":" IFERROR(INDIRECT(\"'Trade Log'!\" & \"CT\" & MATCH(B239,'Trade Log'!E:E,0)),\"\")","v":""},{"$f":" IFERROR(INDIRECT(\"'Trade Log'!\" & \"CU\" & MATCH(B239,'Trade Log'!E:E,0)),0)","v":0},233,0,0,0,0,"",null,null,null,null,null,"",34,"","","","","",""]
[null,"2024-08-21","",{"$f":" IFERROR(INDIRECT(\"'Trade Log'!\" & \"CR\" & MATCH(B240,'Trade Log'!E:E,0)),0)","v":0},{"$f":" IFERROR(INDIRECT(\"'Trade Log'!\" & \"CS\" & MATCH(B240,'Trade Log'!E:E,0)),0)","v":0},{"$f":" IFERROR(INDIRECT(\"'Trade Log'!\" & \"CT\" & MATCH(B240,'Trade Log'!E:E,0)),\"\")","v":""},{"$f":" IFERROR(INDIRECT(\"'Trade Log'!\" & \"CU\" & MATCH(B240,'Trade Log'!E:E,0)),0)","v":0},234,0,0,0,0,"",null,null,null,null,null,"",34,34,0,0,0,0,""]
[null,"2024-08-22","",{"$f":" IFERROR(INDIRECT(\"'Trade Log'!\" & \"CR\" & MATCH(B241,'Trade Log'!E:E,0)),0)","v":0},{"$f":" IFERROR(INDIRECT(\"'Trade Log'!\" & \"CS\" & MATCH(B241,'Trade Log'!E:E,0)),0)","v":0},{"$f":" IFERROR(INDIRECT(\"'Trade Log'!\" & \"CT\" & MATCH(B241,'Trade Log'!E:E,0)),\"\")","v":""},{"$f":" IFERROR(INDIRECT(\"'Trade Log'!\" & \"CU\" & MATCH(B241,'Trade Log'!E:E,0)),0)","v":0},235,0,0,0,0,"",null,null,null,null,null,"",34,"","","","","",""]
[null,"2024-08-23","",{"$f":" IFERROR(INDIRECT(\"'Trade Log'!\" & \"CR\" & MATCH(B242,'Trade Log'!E:E,0)),0)","v":0},{"$f":" IFERROR(INDIRECT(\"'Trade Log'!\" & \"CS\" & MATCH(B242,'Trade Log'!E:E,0)),0)","v":0},{"$f":" IFERROR(INDIRECT(\"'Trade Log'!\" & \"CT\" & MATCH(B242,'Trade Log'!E:E,0)),\"\")","v":""},{"$f":" IFERROR(INDIRECT(\"'Trade Log'!\" & \"CU\" & MATCH(B242,'Trade Log'!E:E,0)),0)","v":0},236,0,0,0,0,"",null,null,null,null,null,"",34,"","","","","",""]
[null,"2024-08-24","",{"$f":" IFERROR(INDIRECT(\"'Trade Log'!\" & \"CR\" & MATCH(B243,'Trade Log'!E:E,0)),0)","v":0},{"$f":" IFERROR(INDIRECT(\"'Trade Log'!\" & \"CS\" & MATCH(B243,'Trade Log'!E:E,0)),0)","v":0},{"$f":" IFERROR(INDIRECT(\"'Trade Log'!\" & \"CT\" & MATCH(B243,'Trade Log'!E:E,0)),\"\")","v":""},{"$f":" IFERROR(INDIRECT(\"'Trade Log'!\" & \"CU\" & MATCH(B243,'Trade Log'!E:E,0)),0)","v":0},237,0,0,0,0,"",null,null,null,null,null,"",34,"","","","","",""]
[null,"2024-08-25","",{"$f":" IFERROR(INDIRECT(\"'Trade Log'!\" & \"CR\" & MATCH(B244,'Trade Log'!E:E,0)),0)","v":0},{"$f":" IFERROR(INDIRECT(\"'Trade Log'!\" & \"CS\" & MATCH(B244,'Trade Log'!E:E,0)),0)","v":0},{"$f":" IFERROR(INDIRECT(\"'Trade Log'!\" & \"CT\" & MATCH(B244,'Trade Log'!E:E,0)),\"\")","v":""},{"$f":" IFERROR(INDIRECT(\"'Trade Log'!\" & \"CU\" & MATCH(B244,'Trade Log'!E:E,0)),0)","v":0},238,0,0,0,0,"",null,null,null,null,null,"",35,"","","","","",""]
[null,"2024-08-26","",{"$f":" IFERROR(INDIRECT(\"'Trade Log'!\" & \"CR\" & MATCH(B245,'Trade Log'!E:E,0)),0)","v":0},{"$f":" IFERROR(INDIRECT(\"'Trade Log'!\" & \"CS\" & MATCH(B245,'Trade Log'!E:E,0)),0)","v":0},{"$f":" IFERROR(INDIRECT(\"'Trade Log'!\" & \"CT\" & MATCH(B245,'Trade Log'!E:E,0)),\"\")","v":""},{"$f":" IFERROR(INDIRECT(\"'Trade Log'!\" & \"CU\" & MATCH(B245,'Trade Log'!E:E,0)),0)","v":0},239,0,0,0,0,"",null,null,null,null,null,"",35,"","","","","",""]
[null,"2024-08-27","",{"$f":" IFERROR(INDIRECT(\"'Trade Log'!\" & \"CR\" & MATCH(B246,'Trade Log'!E:E,0)),0)","v":0},{"$f":" IFERROR(INDIRECT(\"'Trade Log'!\" & \"CS\" & MATCH(B246,'Trade Log'!E:E,0)),0)","v":0},{"$f":" IFERROR(INDIRECT(\"'Trade Log'!\" & \"CT\" & MATCH(B246,'Trade Log'!E:E,0)),\"\")","v":""},{"$f":" IFERROR(INDIRECT(\"'Trade Log'!\" & \"CU\" & MATCH(B246,'Trade Log'!E:E,0)),0)","v":0},240,0,0,0,0,"",null,null,null,null,null,"",35,"","","","","",""]
[null,"2024-08-28","",{"$f":" IFERROR(INDIRECT(\"'Trade Log'!\" & \"CR\" & MATCH(B247,'Trade Log'!E:E,0)),0)","v":0},{"$f":" IFERROR(INDIRECT(\"'Trade Log'!\" & \"CS\" & MATCH(B247,'Trade Log'!E:E,0)),0)","v":0},{"$f":" IFERROR(INDIRECT(\"'Trade Log'!\" & \"CT\" & MATCH(B247,'Trade Log'!E:E,0)),\"\")","v":""},{"$f":" IFERROR(INDIRECT(\"'Trade Log'!\" & \"CU\" & MATCH(B247,'Trade Log'!E:E,0)),0)","v":0},241,0,0,0,0,"",null,null,null,null,null,"",35,35,0,0,0,0,""]
[null,"2024-08-29","",{"$f":" IFERROR(INDIRECT(\"'Trade Log'!\" & \"CR\" & MATCH(B248,'Trade Log'!E:E,0)),0)","v":0},{"$f":" IFERROR(INDIRECT(\"'Trade Log'!\" & \"CS\" & MATCH(B248,'Trade Log'!E:E,0)),0)","v":0},{"$f":" IFERROR(INDIRECT(\"'Trade Log'!\" & \"CT\" & MATCH(B248,'Trade Log'!E:E,0)),\"\")","v":""},{"$f":" IFERROR(INDIRECT(\"'Trade Log'!\" & \"CU\" & MATCH(B248,'Trade Log'!E:E,0)),0)","v":0},242,0,0,0,0,"",null,null,null,null,null,"",35,"","","","","",""]
[null,"2024-08-30","",{"$f":" IFERROR(INDIRECT(\"'Trade Log'!\" & \"CR\" & MATCH(B249,'Trade Log'!E:E,0)),0)","v":0},{"$f":" IFERROR(INDIRECT(\"'Trade Log'!\" & \"CS\" & MATCH(B249,'Trade Log'!E:E,0)),0)","v":0},{"$f":" IFERROR(INDIRECT(\"'Trade Log'!\" & \"CT\" & MATCH(B249,'Trade Log'!E:E,0)),\"\")","v":""},{"$f":" IFERROR(INDIRECT(\"'Trade Log'!\" & \"CU\" & MATCH(B249,'Trade Log'!E:E,0)),0)","v":0},243,0,0,0,0,"",null,null,null,null,null,"",35,"","","","","",""]
[null,"2024-08-31","",{"$f":" IFERROR(INDIRECT(\"'Trade Log'!\" & \"CR\" & MATCH(B250,'Trade Log'!E:E,0)),0)","v":0},{"$f":" IFERROR(INDIRECT(\"'Trade Log'!\" & \"CS\" & MATCH(B250,'Trade Log'!E:E,0)),0)","v":0},{"$f":" IFERROR(INDIRECT(\"'Trade Log'!\" & \"CT\" & MATCH(B250,'Trade Log'!E:E,0)),\"\")","v":""},{"$f":" IFERROR(INDIRECT(\"'Trade Log'!\" & \"CU\" & MATCH(B250,'Trade Log'!E:E,0)),0)","v":0},244,0,0,0,0,"",null,null,null,null,null,"",35,"","","","","",""]
[null,"2024-09-01","",{"$f":" IFERROR(INDIRECT(\"'Trade Log'!\" & \"CR\" & MATCH(B251,'Trade Log'!E:E,0)),0)","v":0},{"$f":" IFERROR(INDIRECT(\"'Trade Log'!\" & \"CS\" & MATCH(B251,'Trade Log'!E:E,0)),0)","v":0},{"$f":" IFERROR(INDIRECT(\"'Trade Log'!\" & \"CT\" & MATCH(B251,'Trade Log'!E:E,0)),\"\")","v":""},{"$f":" IFERROR(INDIRECT(\"'Trade Log'!\" & \"CU\" & MATCH(B251,'Trade Log'!E:E,0)),0)","v":0},245,0,0,0,0,"",null,null,null,null,null,"",36,"","","","","",""]
[null,"2024-09-02","",{"$f":" IFERROR(INDIRECT(\"'Trade Log'!\" & \"CR\" & MATCH(B252,'Trade Log'!E:E,0)),0)","v":0},{"$f":" IFERROR(INDIRECT(\"'Trade Log'!\" & \"CS\" & MATCH(B252,'Trade Log'!E:E,0)),0)","v":0},{"$f":" IFERROR(INDIRECT(\"'Trade Log'!\" & \"CT\" & MATCH(B252,'Trade Log'!E:E,0)),\"\")","v":""},{"$f":" IFERROR(INDIRECT(\"'Trade Log'!\" & \"CU\" & MATCH(B252,'Trade Log'!E:E,0)),0)","v":0},246,0,0,0,0,"",null,null,null,null,null,"",36,"","","","","",""]
[null,"2024-09-03","",{"$f":" IFERROR(INDIRECT(\"'Trade Log'!\" & \"CR\" & MATCH(B253,'Trade Log'!E:E,0)),0)","v":0},{"$f":" IFERROR(INDIRECT(\"'Trade Log'!\" & \"CS\" & MATCH(B253,'Trade Log'!E:E,0)),0)","v":0},{"$f":" IFERROR(INDIRECT(\"'Trade Log'!\" & \"CT\" & MATCH(B253,'Trade Log'!E:E,0)),\"\")","v":""},{"$f":" IFERROR(INDIRECT(\"'Trade Log'!\" & \"CU\" & MATCH(B253,'Trade Log'!E:E,0)),0)","v":0},247,0,0,0,0,"",null,null,null,null,null,"",36,"","","","","",""]
[null,"2024-09-04","",{"$f":" IFERROR(INDIRECT(\"'Trade Log'!\" & \"CR\" & MATCH(B254,'Trade Log'!E:E,0)),0)","v":0},{"$f":" IFERROR(INDIRECT(\"'Trade Log'!\" & \"CS\" & MATCH(B254,'Trade Log'!E:E,0)),0)","v":0},{"$f":" IFERROR(INDIRECT(\"'Trade Log'!\" & \"CT\" & MATCH(B254,'Trade Log'!E:E,0)),\"\")","v":""},{"$f":" IFERROR(INDIRECT(\"'Trade Log'!\" & \"CU\" & MATCH(B254,'Trade Log'!E:E,0)),0)","v":0},248,0,0,0,0,"",null,null,null,null,null,"",36,36,0,0,0,0,""]
[null,"2024-09-05","",{"$f":" IFERROR(INDIRECT(\"'Trade Log'!\" & \"CR\" & MATCH(B255,'Trade Log'!E:E,0)),0)","v":0},{"$f":" IFERROR(INDIRECT(\"'Trade Log'!\" & \"CS\" & MATCH(B255,'Trade Log'!E:E,0)),0)","v":0},{"$f":" IFERROR(INDIRECT(\"'Trade Log'!\" & \"CT\" & MATCH(B255,'Trade Log'!E:E,0)),\"\")","v":""},{"$f":" IFERROR(INDIRECT(\"'Trade Log'!\" & \"CU\" & MATCH(B255,'Trade Log'!E:E,0)),0)","v":0},249,0,0,0,0,{"$f":"F255","v":""},null,null,null,null,null,"",36,"","","","","",""]
[null,"2024-09-06","",{"$f":" IFERROR(INDIRECT(\"'Trade Log'!\" & \"CR\" & MATCH(B256,'Trade Log'!E:E,0)),0)","v":0},{"$f":" IFERROR(INDIRECT(\"'Trade Log'!\" & \"CS\" & MATCH(B256,'Trade Log'!E:E,0)),0)","v":0},{"$f":" IFERROR(INDIRECT(\"'Trade Log'!\" & \"CT\" & MATCH(B256,'Trade Log'!E:E,0)),\"\")","v":""},{"$f":" IFERROR(INDIRECT(\"'Trade Log'!\" & \"CU\" & MATCH(B256,'Trade Log'!E:E,0)),0)","v":0},250,0,0,0,0,"",null,null,null,null,null,"",36,"","","","","",""]
[null,"2024-09-07","",{"$f":" IFERROR(INDIRECT(\"'Trade Log'!\" & \"CR\" & MATCH(B257,'Trade Log'!E:E,0)),0)","v":0},{"$f":" IFERROR(INDIRECT(\"'Trade Log'!\" & \"CS\" & MATCH(B257,'Trade Log'!E:E,0)),0)","v":0},{"$f":" IFERROR(INDIRECT(\"'Trade Log'!\" & \"CT\" & MATCH(B257,'Trade Log'!E:E,0)),\"\")","v":""},{"$f":" IFERROR(INDIRECT(\"'Trade Log'!\" & \"CU\" & MATCH(B257,'Trade Log'!E:E,0)),0)","v":0},251,0,0,0,0,"",null,null,null,null,null,"",36,"","","","","",""]
[null,"2024-09-08","",{"$f":" IFERROR(INDIRECT(\"'Trade Log'!\" & \"CR\" & MATCH(B258,'Trade Log'!E:E,0)),0)","v":0},{"$f":" IFERROR(INDIRECT(\"'Trade Log'!\" & \"CS\" & MATCH(B258,'Trade Log'!E:E,0)),0)","v":0},{"$f":" IFERROR(INDIRECT(\"'Trade Log'!\" & \"CT\" & MATCH(B258,'Trade Log'!E:E,0)),\"\")","v":""},{"$f":" IFERROR(INDIRECT(\"'Trade Log'!\" & \"CU\" & MATCH(B258,'Trade Log'!E:E,0)),0)","v":0},252,0,0,0,0,"",null,null,null,null,null,"",37,"","","","","",""]
[null,"2024-09-09","",{"$f":" IFERROR(INDIRECT(\"'Trade Log'!\" & \"CR\" & MATCH(B259,'Trade Log'!E:E,0)),0)","v":0},{"$f":" IFERROR(INDIRECT(\"'Trade Log'!\" & \"CS\" & MATCH(B259,'Trade Log'!E:E,0)),0)","v":0},{"$f":" IFERROR(INDIRECT(\"'Trade Log'!\" & \"CT\" & MATCH(B259,'Trade Log'!E:E,0)),\"\")","v":""},{"$f":" IFERROR(INDIRECT(\"'Trade Log'!\" & \"CU\" & MATCH(B259,'Trade Log'!E:E,0)),0)","v":0},253,0,0,0,0,"",null,null,null,null,null,"",37,"","","","","",""]
[null,"2024-09-10","",{"$f":" IFERROR(INDIRECT(\"'Trade Log'!\" & \"CR\" & MATCH(B260,'Trade Log'!E:E,0)),0)","v":0},{"$f":" IFERROR(INDIRECT(\"'Trade Log'!\" & \"CS\" & MATCH(B260,'Trade Log'!E:E,0)),0)","v":0},{"$f":" IFERROR(INDIRECT(\"'Trade Log'!\" & \"CT\" & MATCH(B260,'Trade Log'!E:E,0)),\"\")","v":""},{"$f":" IFERROR(INDIRECT(\"'Trade Log'!\" & \"CU\" & MATCH(B260,'Trade Log'!E:E,0)),0)","v":0},254,0,0,0,0,"",null,null,null,null,null,"",37,"","","","","",""]
[null,"2024-09-11","",{"$f":" IFERROR(INDIRECT(\"'Trade Log'!\" & \"CR\" & MATCH(B261,'Trade Log'!E:E,0)),0)","v":0},{"$f":" IFERROR(INDIRECT(\"'Trade Log'!\" & \"CS\" & MATCH(B261,'Trade Log'!E:E,0)),0)","v":0},{"$f":" IFERROR(INDIRECT(\"'Trade Log'!\" & \"CT\" & MATCH(B261,'Trade Log'!E:E,0)),\"\")","v":""},{"$f":" IFERROR(INDIRECT(\"'Trade Log'!\" & \"CU\" & MATCH(B261,'Trade Log'!E:E,0)),0)","v":0},255,0,0,0,0,"",null,null,null,null,null,"",37,37,0,0,0,0,""]
[null,"2024-09-12","",{"$f":" IFERROR(INDIRECT(\"'Trade Log'!\" & \"CR\" & MATCH(B262,'Trade Log'!E:E,0)),0)","v":0},{"$f":" IFERROR(INDIRECT(\"'Trade Log'!\" & \"CS\" & MATCH(B262,'Trade Log'!E:E,0)),0)","v":0},{"$f":" IFERROR(INDIRECT(\"'Trade Log'!\" & \"CT\" & MATCH(B262,'Trade Log'!E:E,0)),\"\")","v":""},{"$f":" IFERROR(INDIRECT(\"'Trade Log'!\" & \"CU\" & MATCH(B262,'Trade Log'!E:E,0)),0)","v":0},256,0,0,0,0,"",null,null,null,null,null,"",37,"","","","","",""]
[null,"2024-09-13","",{"$f":" IFERROR(INDIRECT(\"'Trade Log'!\" & \"CR\" & MATCH(B263,'Trade Log'!E:E,0)),0)","v":0},{"$f":" IFERROR(INDIRECT(\"'Trade Log'!\" & \"CS\" & MATCH(B263,'Trade Log'!E:E,0)),0)","v":0},{"$f":" IFERROR(INDIRECT(\"'Trade Log'!\" & \"CT\" & MATCH(B263,'Trade Log'!E:E,0)),\"\")","v":""},{"$f":" IFERROR(INDIRECT(\"'Trade Log'!\" & \"CU\" & MATCH(B263,'Trade Log'!E:E,0)),0)","v":0},257,{"$f":" D263","v":0},0,{"$f":" E263","v":0},0,"",null,null,null,null,null,{"$f":" IF(M263=\"\",\"\",MONTH(B263))","v":""},37,"",{"$f":" IF(U263 = \"\", \"\", SUM(INDIRECT(\"I\"&(MATCH(T263,T:T,0))&\":I\"&(MATCH(T263,T:T)))))","v":""},"",{"$f":" IF(U263 = \"\", \"\",SUM(INDIRECT(\"K\"&(MATCH(T263,T:T,0))&\":K\"&(MATCH(T263,T:T)))))","v":""},{"$f":" IF(U263= \"\", \"\",SUM(INDIRECT(\"G\"&(MATCH(T263,T:T,0))&\":G\"&(MATCH(T263,T:T)))))","v":""},{"$f":" IFERROR(IF(U263 = \"\", \"\",LOOKUP(2,1/(INDIRECT(\"M\"&MATCH(T263,T:T,0)&\":\"&\"M\"&MATCH(T263,T:T))<>\"\"),INDIRECT(\"M\"&MATCH(T263,T:T,0)&\":\"&\"M\"&MATCH(T263,T:T)))),\"\")","v":""}]
[null,{"$f":" B263 + 1","v":"2024-09-14"},"",{"$f":" IFERROR(INDIRECT(\"'Trade Log'!\" & \"CR\" & MATCH(B264,'Trade Log'!E:E,0)),0)","v":0},{"$f":" IFERROR(INDIRECT(\"'Trade Log'!\" & \"CS\" & MATCH(B264,'Trade Log'!E:E,0)),0)","v":0},{"$f":" IFERROR(INDIRECT(\"'Trade Log'!\" & \"CT\" & MATCH(B264,'Trade Log'!E:E,0)),\"\")","v":""},{"$f":" IFERROR(INDIRECT(\"'Trade Log'!\" & \"CU\" & MATCH(B264,'Trade Log'!E:E,0)),0)","v":0},{"$f":" (H263) + 1","v":258},0,{"$f":"IFERROR(D264/(M264-D264),0)","v":0},0,{"$f":" G264","v":0},{"$f":"F264","v":""},null,null,null,null,null,"",37,{"$f":" IF(ROW(T264) = FLOOR((MATCH(T264, T:T, 0) +MATCH(T264, T:T))/2,1), WEEKNUM(B264,1), \"\")","v":""},"","","","",""]
[null,"2024-09-15",{"$f":" IF(G265 = 0, \"\", B265)","v":""},{"$f":" IFERROR(INDIRECT(\"'Trade Log'!\" & \"CR\" & MATCH(B265,'Trade Log'!E:E,0)),0)","v":0},{"$f":" IFERROR(INDIRECT(\"'Trade Log'!\" & \"CS\" & MATCH(B265,'Trade Log'!E:E,0)),0)","v":0},{"$f":" IFERROR(INDIRECT(\"'Trade Log'!\" & \"CT\" & MATCH(B265,'Trade Log'!E:E,0)),\"\")","v":""},{"$f":" IFERROR(INDIRECT(\"'Trade Log'!\" & \"CU\" & MATCH(B265,'Trade Log'!E:E,0)),0)","v":0},259,0,0,0,0,"",null,null,null,null,null,"",{"$f":" WEEKNUM(B265,1)","v":38},"","","","","",""]
[null,"2024-09-16","",{"$f":" IFERROR(INDIRECT(\"'Trade Log'!\" & \"CR\" & MATCH(B266,'Trade Log'!E:E,0)),0)","v":0},{"$f":" IFERROR(INDIRECT(\"'Trade Log'!\" & \"CS\" & MATCH(B266,'Trade Log'!E:E,0)),0)","v":0},{"$f":" IFERROR(INDIRECT(\"'Trade Log'!\" & \"CT\" & MATCH(B266,'Trade Log'!E:E,0)),\"\")","v":""},{"$f":" IFERROR(INDIRECT(\"'Trade Log'!\" & \"CU\" & MATCH(B266,'Trade Log'!E:E,0)),0)","v":0},260,0,0,0,0,"",null,null,null,null,null,"",38,"","",{"$f":" IFERROR( IF(V266 = \"\",\"\",V266/(Z266-V266)),0)","v":""},"","",""]
[null,"2024-09-17","",{"$f":" IFERROR(INDIRECT(\"'Trade Log'!\" & \"CR\" & MATCH(B267,'Trade Log'!E:E,0)),0)","v":0},{"$f":" IFERROR(INDIRECT(\"'Trade Log'!\" & \"CS\" & MATCH(B267,'Trade Log'!E:E,0)),0)","v":0},{"$f":" IFERROR(INDIRECT(\"'Trade Log'!\" & \"CT\" & MATCH(B267,'Trade Log'!E:E,0)),\"\")","v":""},{"$f":" IFERROR(INDIRECT(\"'Trade Log'!\" & \"CU\" & MATCH(B267,'Trade Log'!E:E,0)),0)","v":0},261,0,0,0,0,"",null,null,null,null,null,"",38,"","","","","",""]
[null,"2024-09-18","",{"$f":" IFERROR(INDIRECT(\"'Trade Log'!\" & \"CR\" & MATCH(B268,'Trade Log'!E:E,0)),0)","v":0},{"$f":" IFERROR(INDIRECT(\"'Trade Log'!\" & \"CS\" & MATCH(B268,'Trade Log'!E:E,0)),0)","v":0},{"$f":" IFERROR(INDIRECT(\"'Trade Log'!\" & \"CT\" & MATCH(B268,'Trade Log'!E:E,0)),\"\")","v":""},{"$f":" IFERROR(INDIRECT(\"'Trade Log'!\" & \"CU\" & MATCH(B268,'Trade Log'!E:E,0)),0)","v":0},262,0,0,0,0,"",null,null,null,null,null,"",38,38,0,0,0,0,""]
[null,"2024-09-19","",{"$f":" IFERROR(INDIRECT(\"'Trade Log'!\" & \"CR\" & MATCH(B269,'Trade Log'!E:E,0)),0)","v":0},{"$f":" IFERROR(INDIRECT(\"'Trade Log'!\" & \"CS\" & MATCH(B269,'Trade Log'!E:E,0)),0)","v":0},{"$f":" IFERROR(INDIRECT(\"'Trade Log'!\" & \"CT\" & MATCH(B269,'Trade Log'!E:E,0)),\"\")","v":""},{"$f":" IFERROR(INDIRECT(\"'Trade Log'!\" & \"CU\" & MATCH(B269,'Trade Log'!E:E,0)),0)","v":0},263,0,0,0,0,"",null,null,null,null,null,"",38,"","","","","",""]
[null,"2024-09-20","",{"$f":" IFERROR(INDIRECT(\"'Trade Log'!\" & \"CR\" & MATCH(B270,'Trade Log'!E:E,0)),0)","v":0},{"$f":" IFERROR(INDIRECT(\"'Trade Log'!\" & \"CS\" & MATCH(B270,'Trade Log'!E:E,0)),0)","v":0},{"$f":" IFERROR(INDIRECT(\"'Trade Log'!\" & \"CT\" & MATCH(B270,'Trade Log'!E:E,0)),\"\")","v":""},{"$f":" IFERROR(INDIRECT(\"'Trade Log'!\" & \"CU\" & MATCH(B270,'Trade Log'!E:E,0)),0)","v":0},264,0,0,0,0,"",null,null,null,null,null,"",38,"","","","","",""]
[null,"2024-09-21","",{"$f":" IFERROR(INDIRECT(\"'Trade Log'!\" & \"CR\" & MATCH(B271,'Trade Log'!E:E,0)),0)","v":0},{"$f":" IFERROR(INDIRECT(\"'Trade Log'!\" & \"CS\" & MATCH(B271,'Trade Log'!E:E,0)),0)","v":0},{"$f":" IFERROR(INDIRECT(\"'Trade Log'!\" & \"CT\" & MATCH(B271,'Trade Log'!E:E,0)),\"\")","v":""},{"$f":" IFERROR(INDIRECT(\"'Trade Log'!\" & \"CU\" & MATCH(B271,'Trade Log'!E:E,0)),0)","v":0},265,0,0,0,0,"",null,null,null,null,null,"",38,"","","","","",""]
[null,"2024-09-22","",{"$f":" IFERROR(INDIRECT(\"'Trade Log'!\" & \"CR\" & MATCH(B272,'Trade Log'!E:E,0)),0)","v":0},{"$f":" IFERROR(INDIRECT(\"'Trade Log'!\" & \"CS\" & MATCH(B272,'Trade Log'!E:E,0)),0)","v":0},{"$f":" IFERROR(INDIRECT(\"'Trade Log'!\" & \"CT\" & MATCH(B272,'Trade Log'!E:E,0)),\"\")","v":""},{"$f":" IFERROR(INDIRECT(\"'Trade Log'!\" & \"CU\" & MATCH(B272,'Trade Log'!E:E,0)),0)","v":0},266,0,0,0,0,"",null,null,null,null,null,"",39,"","","","","",""]
[null,"2024-09-23","",{"$f":" IFERROR(INDIRECT(\"'Trade Log'!\" & \"CR\" & MATCH(B273,'Trade Log'!E:E,0)),0)","v":0},{"$f":" IFERROR(INDIRECT(\"'Trade Log'!\" & \"CS\" & MATCH(B273,'Trade Log'!E:E,0)),0)","v":0},{"$f":" IFERROR(INDIRECT(\"'Trade Log'!\" & \"CT\" & MATCH(B273,'Trade Log'!E:E,0)),\"\")","v":""},{"$f":" IFERROR(INDIRECT(\"'Trade Log'!\" & \"CU\" & MATCH(B273,'Trade Log'!E:E,0)),0)","v":0},267,0,0,0,0,"",null,null,null,null,null,"",39,"","","","","",""]
[null,"2024-09-24","",{"$f":" IFERROR(INDIRECT(\"'Trade Log'!\" & \"CR\" & MATCH(B274,'Trade Log'!E:E,0)),0)","v":0},{"$f":" IFERROR(INDIRECT(\"'Trade Log'!\" & \"CS\" & MATCH(B274,'Trade Log'!E:E,0)),0)","v":0},{"$f":" IFERROR(INDIRECT(\"'Trade Log'!\" & \"CT\" & MATCH(B274,'Trade Log'!E:E,0)),\"\")","v":""},{"$f":" IFERROR(INDIRECT(\"'Trade Log'!\" & \"CU\" & MATCH(B274,'Trade Log'!E:E,0)),0)","v":0},268,0,0,0,0,"",null,null,null,null,null,"",39,"","","","","",""]
[null,"2024-09-25","",{"$f":" IFERROR(INDIRECT(\"'Trade Log'!\" & \"CR\" & MATCH(B275,'Trade Log'!E:E,0)),0)","v":0},{"$f":" IFERROR(INDIRECT(\"'Trade Log'!\" & \"CS\" & MATCH(B275,'Trade Log'!E:E,0)),0)","v":0},{"$f":" IFERROR(INDIRECT(\"'Trade Log'!\" & \"CT\" & MATCH(B275,'Trade Log'!E:E,0)),\"\")","v":""},{"$f":" IFERROR(INDIRECT(\"'Trade Log'!\" & \"CU\" & MATCH(B275,'Trade Log'!E:E,0)),0)","v":0},269,0,0,0,0,"",null,null,null,null,null,"",39,39,0,0,0,0,""]
[null,"2024-09-26","",{"$f":" IFERROR(INDIRECT(\"'Trade Log'!\" & \"CR\" & MATCH(B276,'Trade Log'!E:E,0)),0)","v":0},{"$f":" IFERROR(INDIRECT(\"'Trade Log'!\" & \"CS\" & MATCH(B276,'Trade Log'!E:E,0)),0)","v":0},{"$f":" IFERROR(INDIRECT(\"'Trade Log'!\" & \"CT\" & MATCH(B276,'Trade Log'!E:E,0)),\"\")","v":""},{"$f":" IFERROR(INDIRECT(\"'Trade Log'!\" & \"CU\" & MATCH(B276,'Trade Log'!E:E,0)),0)","v":0},270,0,0,0,0,"",null,null,null,null,null,"",39,"","","","","",""]
[null,"2024-09-27","",{"$f":" IFERROR(INDIRECT(\"'Trade Log'!\" & \"CR\" & MATCH(B277,'Trade Log'!E:E,0)),0)","v":0},{"$f":" IFERROR(INDIRECT(\"'Trade Log'!\" & \"CS\" & MATCH(B277,'Trade Log'!E:E,0)),0)","v":0},{"$f":" IFERROR(INDIRECT(\"'Trade Log'!\" & \"CT\" & MATCH(B277,'Trade Log'!E:E,0)),\"\")","v":""},{"$f":" IFERROR(INDIRECT(\"'Trade Log'!\" & \"CU\" & MATCH(B277,'Trade Log'!E:E,0)),0)","v":0},271,0,0,0,0,"",null,null,null,null,null,"",39,"","","","","",""]
[null,"2024-09-28","",{"$f":" IFERROR(INDIRECT(\"'Trade Log'!\" & \"CR\" & MATCH(B278,'Trade Log'!E:E,0)),0)","v":0},{"$f":" IFERROR(INDIRECT(\"'Trade Log'!\" & \"CS\" & MATCH(B278,'Trade Log'!E:E,0)),0)","v":0},{"$f":" IFERROR(INDIRECT(\"'Trade Log'!\" & \"CT\" & MATCH(B278,'Trade Log'!E:E,0)),\"\")","v":""},{"$f":" IFERROR(INDIRECT(\"'Trade Log'!\" & \"CU\" & MATCH(B278,'Trade Log'!E:E,0)),0)","v":0},272,0,0,0,0,"",null,null,null,null,null,"",39,"","","","","",""]
[null,"2024-09-29","",{"$f":" IFERROR(INDIRECT(\"'Trade Log'!\" & \"CR\" & MATCH(B279,'Trade Log'!E:E,0)),0)","v":0},{"$f":" IFERROR(INDIRECT(\"'Trade Log'!\" & \"CS\" & MATCH(B279,'Trade Log'!E:E,0)),0)","v":0},{"$f":" IFERROR(INDIRECT(\"'Trade Log'!\" & \"CT\" & MATCH(B279,'Trade Log'!E:E,0)),\"\")","v":""},{"$f":" IFERROR(INDIRECT(\"'Trade Log'!\" & \"CU\" & MATCH(B279,'Trade Log'!E:E,0)),0)","v":0},273,0,0,0,0,"",null,null,null,null,null,"",40,"","","","","",""]
[null,"2024-09-30","",{"$f":" IFERROR(INDIRECT(\"'Trade Log'!\" & \"CR\" & MATCH(B280,'Trade Log'!E:E,0)),0)","v":0},{"$f":" IFERROR(INDIRECT(\"'Trade Log'!\" & \"CS\" & MATCH(B280,'Trade Log'!E:E,0)),0)","v":0},{"$f":" IFERROR(INDIRECT(\"'Trade Log'!\" & \"CT\" & MATCH(B280,'Trade Log'!E:E,0)),\"\")","v":""},{"$f":" IFERROR(INDIRECT(\"'Trade Log'!\" & \"CU\" & MATCH(B280,'Trade Log'!E:E,0)),0)","v":0},274,0,0,0,0,"",null,null,null,null,null,"",40,"","","","","",""]
[null,"2024-10-01","",{"$f":" IFERROR(INDIRECT(\"'Trade Log'!\" & \"CR\" & MATCH(B281,'Trade Log'!E:E,0)),0)","v":0},{"$f":" IFERROR(INDIRECT(\"'Trade Log'!\" & \"CS\" & MATCH(B281,'Trade Log'!E:E,0)),0)","v":0},{"$f":" IFERROR(INDIRECT(\"'Trade Log'!\" & \"CT\" & MATCH(B281,'Trade Log'!E:E,0)),\"\")","v":""},{"$f":" IFERROR(INDIRECT(\"'Trade Log'!\" & \"CU\" & MATCH(B281,'Trade Log'!E:E,0)),0)","v":0},275,0,0,0,0,"",null,null,null,null,null,"",40,"","","","","",""]
[null,"2024-10-02","",{"$f":" IFERROR(INDIRECT(\"'Trade Log'!\" & \"CR\" & MATCH(B282,'Trade Log'!E:E,0)),0)","v":0},{"$f":" IFERROR(INDIRECT(\"'Trade Log'!\" & \"CS\" & MATCH(B282,'Trade Log'!E:E,0)),0)","v":0},{"$f":" IFERROR(INDIRECT(\"'Trade Log'!\" & \"CT\" & MATCH(B282,'Trade Log'!E:E,0)),\"\")","v":""},{"$f":" IFERROR(INDIRECT(\"'Trade Log'!\" & \"CU\" & MATCH(B282,'Trade Log'!E:E,0)),0)","v":0},276,0,0,0,0,"",null,null,null,null,null,"",40,40,0,0,0,0,""]
[null,"2024-10-03","",{"$f":" IFERROR(INDIRECT(\"'Trade Log'!\" & \"CR\" & MATCH(B283,'Trade Log'!E:E,0)),0)","v":0},{"$f":" IFERROR(INDIRECT(\"'Trade Log'!\" & \"CS\" & MATCH(B283,'Trade Log'!E:E,0)),0)","v":0},{"$f":" IFERROR(INDIRECT(\"'Trade Log'!\" & \"CT\" & MATCH(B283,'Trade Log'!E:E,0)),\"\")","v":""},{"$f":" IFERROR(INDIRECT(\"'Trade Log'!\" & \"CU\" & MATCH(B283,'Trade Log'!E:E,0)),0)","v":0},277,0,0,0,0,"",null,null,null,null,null,"",40,"","","","","",""]
[null,"2024-10-04","",{"$f":" IFERROR(INDIRECT(\"'Trade Log'!\" & \"CR\" & MATCH(B284,'Trade Log'!E:E,0)),0)","v":0},{"$f":" IFERROR(INDIRECT(\"'Trade Log'!\" & \"CS\" & MATCH(B284,'Trade Log'!E:E,0)),0)","v":0},{"$f":" IFERROR(INDIRECT(\"'Trade Log'!\" & \"CT\" & MATCH(B284,'Trade Log'!E:E,0)),\"\")","v":""},{"$f":" IFERROR(INDIRECT(\"'Trade Log'!\" & \"CU\" & MATCH(B284,'Trade Log'!E:E,0)),0)","v":0},278,0,0,0,0,"",null,null,null,null,null,"",40,"","","","","",""]
[null,"2024-10-05","",{"$f":" IFERROR(INDIRECT(\"'Trade Log'!\" & \"CR\" & MATCH(B285,'Trade Log'!E:E,0)),0)","v":0},{"$f":" IFERROR(INDIRECT(\"'Trade Log'!\" & \"CS\" & MATCH(B285,'Trade Log'!E:E,0)),0)","v":0},{"$f":" IFERROR(INDIRECT(\"'Trade Log'!\" & \"CT\" & MATCH(B285,'Trade Log'!E:E,0)),\"\")","v":""},{"$f":" IFERROR(INDIRECT(\"'Trade Log'!\" & \"CU\" & MATCH(B285,'Trade Log'!E:E,0)),0)","v":0},279,0,0,0,0,"",null,null,null,null,null,"",40,"","","","","",""]
[null,"2024-10-06","",{"$f":" IFERROR(INDIRECT(\"'Trade Log'!\" & \"CR\" & MATCH(B286,'Trade Log'!E:E,0)),0)","v":0},{"$f":" IFERROR(INDIRECT(\"'Trade Log'!\" & \"CS\" & MATCH(B286,'Trade Log'!E:E,0)),0)","v":0},{"$f":" IFERROR(INDIRECT(\"'Trade Log'!\" & \"CT\" & MATCH(B286,'Trade Log'!E:E,0)),\"\")","v":""},{"$f":" IFERROR(INDIRECT(\"'Trade Log'!\" & \"CU\" & MATCH(B286,'Trade Log'!E:E,0)),0)","v":0},280,0,0,0,0,"",null,null,null,null,null,"",41,"","","","","",""]
[null,"2024-10-07","",{"$f":" IFERROR(INDIRECT(\"'Trade Log'!\" & \"CR\" & MATCH(B287,'Trade Log'!E:E,0)),0)","v":0},{"$f":" IFERROR(INDIRECT(\"'Trade Log'!\" & \"CS\" & MATCH(B287,'Trade Log'!E:E,0)),0)","v":0},{"$f":" IFERROR(INDIRECT(\"'Trade Log'!\" & \"CT\" & MATCH(B287,'Trade Log'!E:E,0)),\"\")","v":""},{"$f":" IFERROR(INDIRECT(\"'Trade Log'!\" & \"CU\" & MATCH(B287,'Trade Log'!E:E,0)),0)","v":0},281,0,0,0,0,"",null,null,null,null,null,"",41,"","","","","",""]
[null,"2024-10-08","",{"$f":" IFERROR(INDIRECT(\"'Trade Log'!\" & \"CR\" & MATCH(B288,'Trade Log'!E:E,0)),0)","v":0},{"$f":" IFERROR(INDIRECT(\"'Trade Log'!\" & \"CS\" & MATCH(B288,'Trade Log'!E:E,0)),0)","v":0},{"$f":" IFERROR(INDIRECT(\"'Trade Log'!\" & \"CT\" & MATCH(B288,'Trade Log'!E:E,0)),\"\")","v":""},{"$f":" IFERROR(INDIRECT(\"'Trade Log'!\" & \"CU\" & MATCH(B288,'Trade Log'!E:E,0)),0)","v":0},282,0,0,0,0,"",null,null,null,null,null,"",41,"","","","","",""]
[null,"2024-10-09","",{"$f":" IFERROR(INDIRECT(\"'Trade Log'!\" & \"CR\" & MATCH(B289,'Trade Log'!E:E,0)),0)","v":0},{"$f":" IFERROR(INDIRECT(\"'Trade Log'!\" & \"CS\" & MATCH(B289,'Trade Log'!E:E,0)),0)","v":0},{"$f":" IFERROR(INDIRECT(\"'Trade Log'!\" & \"CT\" & MATCH(B289,'Trade Log'!E:E,0)),\"\")","v":""},{"$f":" IFERROR(INDIRECT(\"'Trade Log'!\" & \"CU\" & MATCH(B289,'Trade Log'!E:E,0)),0)","v":0},283,0,0,0,0,"",null,null,null,null,null,"",41,41,0,0,0,0,""]
[null,"2024-10-10","",{"$f":" IFERROR(INDIRECT(\"'Trade Log'!\" & \"CR\" & MATCH(B290,'Trade Log'!E:E,0)),0)","v":0},{"$f":" IFERROR(INDIRECT(\"'Trade Log'!\" & \"CS\" & MATCH(B290,'Trade Log'!E:E,0)),0)","v":0},{"$f":" IFERROR(INDIRECT(\"'Trade Log'!\" & \"CT\" & MATCH(B290,'Trade Log'!E:E,0)),\"\")","v":""},{"$f":" IFERROR(INDIRECT(\"'Trade Log'!\" & \"CU\" & MATCH(B290,'Trade Log'!E:E,0)),0)","v":0},284,0,0,0,0,"",null,null,null,null,null,"",41,"","","","","",""]
[null,"2024-10-11","",{"$f":" IFERROR(INDIRECT(\"'Trade Log'!\" & \"CR\" & MATCH(B291,'Trade Log'!E:E,0)),0)","v":0},{"$f":" IFERROR(INDIRECT(\"'Trade Log'!\" & \"CS\" & MATCH(B291,'Trade Log'!E:E,0)),0)","v":0},{"$f":" IFERROR(INDIRECT(\"'Trade Log'!\" & \"CT\" & MATCH(B291,'Trade Log'!E:E,0)),\"\")","v":""},{"$f":" IFERROR(INDIRECT(\"'Trade Log'!\" & \"CU\" & MATCH(B291,'Trade Log'!E:E,0)),0)","v":0},285,0,0,0,0,"",null,null,null,null,null,"",41,"","","","","",""]
[null,"2024-10-12","",{"$f":" IFERROR(INDIRECT(\"'Trade Log'!\" & \"CR\" & MATCH(B292,'Trade Log'!E:E,0)),0)","v":0},{"$f":" IFERROR(INDIRECT(\"'Trade Log'!\" & \"CS\" & MATCH(B292,'Trade Log'!E:E,0)),0)","v":0},{"$f":" IFERROR(INDIRECT(\"'Trade Log'!\" & \"CT\" & MATCH(B292,'Trade Log'!E:E,0)),\"\")","v":""},{"$f":" IFERROR(INDIRECT(\"'Trade Log'!\" & \"CU\" & MATCH(B292,'Trade Log'!E:E,0)),0)","v":0},286,0,0,0,0,"",null,null,null,null,null,"",41,"","","","","",""]
[null,"2024-10-13","",{"$f":" IFERROR(INDIRECT(\"'Trade Log'!\" & \"CR\" & MATCH(B293,'Trade Log'!E:E,0)),0)","v":0},{"$f":" IFERROR(INDIRECT(\"'Trade Log'!\" & \"CS\" & MATCH(B293,'Trade Log'!E:E,0)),0)","v":0},{"$f":" IFERROR(INDIRECT(\"'Trade Log'!\" & \"CT\" & MATCH(B293,'Trade Log'!E:E,0)),\"\")","v":""},{"$f":" IFERROR(INDIRECT(\"'Trade Log'!\" & \"CU\" & MATCH(B293,'Trade Log'!E:E,0)),0)","v":0},287,0,0,0,0,"",null,null,null,null,null,"",42,"","","","","",""]
[null,"2024-10-14","",{"$f":" IFERROR(INDIRECT(\"'Trade Log'!\" & \"CR\" & MATCH(B294,'Trade Log'!E:E,0)),0)","v":0},{"$f":" IFERROR(INDIRECT(\"'Trade Log'!\" & \"CS\" & MATCH(B294,'Trade Log'!E:E,0)),0)","v":0},{"$f":" IFERROR(INDIRECT(\"'Trade Log'!\" & \"CT\" & MATCH(B294,'Trade Log'!E:E,0)),\"\")","v":""},{"$f":" IFERROR(INDIRECT(\"'Trade Log'!\" & \"CU\" & MATCH(B294,'Trade Log'!E:E,0)),0)","v":0},288,0,0,0,0,"",null,null,null,null,null,"",42,"","","","","",""]
[null,"2024-10-15","",{"$f":" IFERROR(INDIRECT(\"'Trade Log'!\" & \"CR\" & MATCH(B295,'Trade Log'!E:E,0)),0)","v":0},{"$f":" IFERROR(INDIRECT(\"'Trade Log'!\" & \"CS\" & MATCH(B295,'Trade Log'!E:E,0)),0)","v":0},{"$f":" IFERROR(INDIRECT(\"'Trade Log'!\" & \"CT\" & MATCH(B295,'Trade Log'!E:E,0)),\"\")","v":""},{"$f":" IFERROR(INDIRECT(\"'Trade Log'!\" & \"CU\" & MATCH(B295,'Trade Log'!E:E,0)),0)","v":0},289,0,0,0,0,"",null,null,null,null,null,"",42,"","","","","",""]
[null,"2024-10-16","",{"$f":" IFERROR(INDIRECT(\"'Trade Log'!\" & \"CR\" & MATCH(B296,'Trade Log'!E:E,0)),0)","v":0},{"$f":" IFERROR(INDIRECT(\"'Trade Log'!\" & \"CS\" & MATCH(B296,'Trade Log'!E:E,0)),0)","v":0},{"$f":" IFERROR(INDIRECT(\"'Trade Log'!\" & \"CT\" & MATCH(B296,'Trade Log'!E:E,0)),\"\")","v":""},{"$f":" IFERROR(INDIRECT(\"'Trade Log'!\" & \"CU\" & MATCH(B296,'Trade Log'!E:E,0)),0)","v":0},290,0,0,0,0,"",null,null,null,null,null,"",42,42,0,0,0,0,""]
[null,"2024-10-17","",{"$f":" IFERROR(INDIRECT(\"'Trade Log'!\" & \"CR\" & MATCH(B297,'Trade Log'!E:E,0)),0)","v":0},{"$f":" IFERROR(INDIRECT(\"'Trade Log'!\" & \"CS\" & MATCH(B297,'Trade Log'!E:E,0)),0)","v":0},{"$f":" IFERROR(INDIRECT(\"'Trade Log'!\" & \"CT\" & MATCH(B297,'Trade Log'!E:E,0)),\"\")","v":""},{"$f":" IFERROR(INDIRECT(\"'Trade Log'!\" & \"CU\" & MATCH(B297,'Trade Log'!E:E,0)),0)","v":0},291,0,0,0,0,"",null,null,null,null,null,"",42,"","","","","",""]
[null,"2024-10-18","",{"$f":" IFERROR(INDIRECT(\"'Trade Log'!\" & \"CR\" & MATCH(B298,'Trade Log'!E:E,0)),0)","v":0},{"$f":" IFERROR(INDIRECT(\"'Trade Log'!\" & \"CS\" & MATCH(B298,'Trade Log'!E:E,0)),0)","v":0},{"$f":" IFERROR(INDIRECT(\"'Trade Log'!\" & \"CT\" & MATCH(B298,'Trade Log'!E:E,0)),\"\")","v":""},{"$f":" IFERROR(INDIRECT(\"'Trade Log'!\" & \"CU\" & MATCH(B298,'Trade Log'!E:E,0)),0)","v":0},292,0,0,0,0,"",null,null,null,null,null,"",42,"","","","","",""]
[null,"2024-10-19","",{"$f":" IFERROR(INDIRECT(\"'Trade Log'!\" & \"CR\" & MATCH(B299,'Trade Log'!E:E,0)),0)","v":0},{"$f":" IFERROR(INDIRECT(\"'Trade Log'!\" & \"CS\" & MATCH(B299,'Trade Log'!E:E,0)),0)","v":0},{"$f":" IFERROR(INDIRECT(\"'Trade Log'!\" & \"CT\" & MATCH(B299,'Trade Log'!E:E,0)),\"\")","v":""},{"$f":" IFERROR(INDIRECT(\"'Trade Log'!\" & \"CU\" & MATCH(B299,'Trade Log'!E:E,0)),0)","v":0},293,0,0,0,0,"",null,null,null,null,null,"",42,"","","","","",""]
[null,"2024-10-20","",{"$f":" IFERROR(INDIRECT(\"'Trade Log'!\" & \"CR\" & MATCH(B300,'Trade Log'!E:E,0)),0)","v":0},{"$f":" IFERROR(INDIRECT(\"'Trade Log'!\" & \"CS\" & MATCH(B300,'Trade Log'!E:E,0)),0)","v":0},{"$f":" IFERROR(INDIRECT(\"'Trade Log'!\" & \"CT\" & MATCH(B300,'Trade Log'!E:E,0)),\"\")","v":""},{"$f":" IFERROR(INDIRECT(\"'Trade Log'!\" & \"CU\" & MATCH(B300,'Trade Log'!E:E,0)),0)","v":0},294,0,0,0,0,"",null,null,null,null,null,"",43,"","","","","",""]
[null,"2024-10-21","",{"$f":" IFERROR(INDIRECT(\"'Trade Log'!\" & \"CR\" & MATCH(B301,'Trade Log'!E:E,0)),0)","v":0},{"$f":" IFERROR(INDIRECT(\"'Trade Log'!\" & \"CS\" & MATCH(B301,'Trade Log'!E:E,0)),0)","v":0},{"$f":" IFERROR(INDIRECT(\"'Trade Log'!\" & \"CT\" & MATCH(B301,'Trade Log'!E:E,0)),\"\")","v":""},{"$f":" IFERROR(INDIRECT(\"'Trade Log'!\" & \"CU\" & MATCH(B301,'Trade Log'!E:E,0)),0)","v":0},295,0,0,0,0,"",null,null,null,null,null,"",43,"","","","","",""]
[null,"2024-10-22","",{"$f":" IFERROR(INDIRECT(\"'Trade Log'!\" & \"CR\" & MATCH(B302,'Trade Log'!E:E,0)),0)","v":0},{"$f":" IFERROR(INDIRECT(\"'Trade Log'!\" & \"CS\" & MATCH(B302,'Trade Log'!E:E,0)),0)","v":0},{"$f":" IFERROR(INDIRECT(\"'Trade Log'!\" & \"CT\" & MATCH(B302,'Trade Log'!E:E,0)),\"\")","v":""},{"$f":" IFERROR(INDIRECT(\"'Trade Log'!\" & \"CU\" & MATCH(B302,'Trade Log'!E:E,0)),0)","v":0},296,0,0,0,0,"",null,null,null,null,null,"",43,"","","","","",""]
[null,"2024-10-23","",{"$f":" IFERROR(INDIRECT(\"'Trade Log'!\" & \"CR\" & MATCH(B303,'Trade Log'!E:E,0)),0)","v":0},{"$f":" IFERROR(INDIRECT(\"'Trade Log'!\" & \"CS\" & MATCH(B303,'Trade Log'!E:E,0)),0)","v":0},{"$f":" IFERROR(INDIRECT(\"'Trade Log'!\" & \"CT\" & MATCH(B303,'Trade Log'!E:E,0)),\"\")","v":""},{"$f":" IFERROR(INDIRECT(\"'Trade Log'!\" & \"CU\" & MATCH(B303,'Trade Log'!E:E,0)),0)","v":0},297,0,0,0,0,"",null,null,null,null,null,"",43,43,0,0,0,0,""]
[null,"2024-10-24","",{"$f":" IFERROR(INDIRECT(\"'Trade Log'!\" & \"CR\" & MATCH(B304,'Trade Log'!E:E,0)),0)","v":0},{"$f":" IFERROR(INDIRECT(\"'Trade Log'!\" & \"CS\" & MATCH(B304,'Trade Log'!E:E,0)),0)","v":0},{"$f":" IFERROR(INDIRECT(\"'Trade Log'!\" & \"CT\" & MATCH(B304,'Trade Log'!E:E,0)),\"\")","v":""},{"$f":" IFERROR(INDIRECT(\"'Trade Log'!\" & \"CU\" & MATCH(B304,'Trade Log'!E:E,0)),0)","v":0},298,0,0,0,0,"",null,null,null,null,null,"",43,"","","","","",""]
[null,"2024-10-25","",{"$f":" IFERROR(INDIRECT(\"'Trade Log'!\" & \"CR\" & MATCH(B305,'Trade Log'!E:E,0)),0)","v":0},{"$f":" IFERROR(INDIRECT(\"'Trade Log'!\" & \"CS\" & MATCH(B305,'Trade Log'!E:E,0)),0)","v":0},{"$f":" IFERROR(INDIRECT(\"'Trade Log'!\" & \"CT\" & MATCH(B305,'Trade Log'!E:E,0)),\"\")","v":""},{"$f":" IFERROR(INDIRECT(\"'Trade Log'!\" & \"CU\" & MATCH(B305,'Trade Log'!E:E,0)),0)","v":0},299,0,0,0,0,"",null,null,null,null,null,"",43,"","","","","",""]
[null,"2024-10-26","",{"$f":" IFERROR(INDIRECT(\"'Trade Log'!\" & \"CR\" & MATCH(B306,'Trade Log'!E:E,0)),0)","v":0},{"$f":" IFERROR(INDIRECT(\"'Trade Log'!\" & \"CS\" & MATCH(B306,'Trade Log'!E:E,0)),0)","v":0},{"$f":" IFERROR(INDIRECT(\"'Trade Log'!\" & \"CT\" & MATCH(B306,'Trade Log'!E:E,0)),\"\")","v":""},{"$f":" IFERROR(INDIRECT(\"'Trade Log'!\" & \"CU\" & MATCH(B306,'Trade Log'!E:E,0)),0)","v":0},300,0,0,0,0,"",null,null,null,null,null,"",43,"","","","","",""]
[null,"2024-10-27","",{"$f":" IFERROR(INDIRECT(\"'Trade Log'!\" & \"CR\" & MATCH(B307,'Trade Log'!E:E,0)),0)","v":0},{"$f":" IFERROR(INDIRECT(\"'Trade Log'!\" & \"CS\" & MATCH(B307,'Trade Log'!E:E,0)),0)","v":0},{"$f":" IFERROR(INDIRECT(\"'Trade Log'!\" & \"CT\" & MATCH(B307,'Trade Log'!E:E,0)),\"\")","v":""},{"$f":" IFERROR(INDIRECT(\"'Trade Log'!\" & \"CU\" & MATCH(B307,'Trade Log'!E:E,0)),0)","v":0},301,0,0,0,0,"",null,null,null,null,null,"",44,"","","","","",""]
[null,"2024-10-28","",{"$f":" IFERROR(INDIRECT(\"'Trade Log'!\" & \"CR\" & MATCH(B308,'Trade Log'!E:E,0)),0)","v":0},{"$f":" IFERROR(INDIRECT(\"'Trade Log'!\" & \"CS\" & MATCH(B308,'Trade Log'!E:E,0)),0)","v":0},{"$f":" IFERROR(INDIRECT(\"'Trade Log'!\" & \"CT\" & MATCH(B308,'Trade Log'!E:E,0)),\"\")","v":""},{"$f":" IFERROR(INDIRECT(\"'Trade Log'!\" & \"CU\" & MATCH(B308,'Trade Log'!E:E,0)),0)","v":0},302,0,0,0,0,"",null,null,null,null,null,"",44,"","","","","",""]
[null,"2024-10-29","",{"$f":" IFERROR(INDIRECT(\"'Trade Log'!\" & \"CR\" & MATCH(B309,'Trade Log'!E:E,0)),0)","v":0},{"$f":" IFERROR(INDIRECT(\"'Trade Log'!\" & \"CS\" & MATCH(B309,'Trade Log'!E:E,0)),0)","v":0},{"$f":" IFERROR(INDIRECT(\"'Trade Log'!\" & \"CT\" & MATCH(B309,'Trade Log'!E:E,0)),\"\")","v":""},{"$f":" IFERROR(INDIRECT(\"'Trade Log'!\" & \"CU\" & MATCH(B309,'Trade Log'!E:E,0)),0)","v":0},303,0,0,0,0,"",null,null,null,null,null,"",44,"","","","","",""]
[null,"2024-10-30","",{"$f":" IFERROR(INDIRECT(\"'Trade Log'!\" & \"CR\" & MATCH(B310,'Trade Log'!E:E,0)),0)","v":0},{"$f":" IFERROR(INDIRECT(\"'Trade Log'!\" & \"CS\" & MATCH(B310,'Trade Log'!E:E,0)),0)","v":0},{"$f":" IFERROR(INDIRECT(\"'Trade Log'!\" & \"CT\" & MATCH(B310,'Trade Log'!E:E,0)),\"\")","v":""},{"$f":" IFERROR(INDIRECT(\"'Trade Log'!\" & \"CU\" & MATCH(B310,'Trade Log'!E:E,0)),0)","v":0},304,0,0,0,0,"",null,null,null,null,null,"",44,44,0,0,0,0,""]
[null,"2024-10-31","",{"$f":" IFERROR(INDIRECT(\"'Trade Log'!\" & \"CR\" & MATCH(B311,'Trade Log'!E:E,0)),0)","v":0},{"$f":" IFERROR(INDIRECT(\"'Trade Log'!\" & \"CS\" & MATCH(B311,'Trade Log'!E:E,0)),0)","v":0},{"$f":" IFERROR(INDIRECT(\"'Trade Log'!\" & \"CT\" & MATCH(B311,'Trade Log'!E:E,0)),\"\")","v":""},{"$f":" IFERROR(INDIRECT(\"'Trade Log'!\" & \"CU\" & MATCH(B311,'Trade Log'!E:E,0)),0)","v":0},305,0,0,0,0,"",null,null,null,null,null,"",44,"","","","","",""]
[null,"2024-11-01","",{"$f":" IFERROR(INDIRECT(\"'Trade Log'!\" & \"CR\" & MATCH(B312,'Trade Log'!E:E,0)),0)","v":0},{"$f":" IFERROR(INDIRECT(\"'Trade Log'!\" & \"CS\" & MATCH(B312,'Trade Log'!E:E,0)),0)","v":0},{"$f":" IFERROR(INDIRECT(\"'Trade Log'!\" & \"CT\" & MATCH(B312,'Trade Log'!E:E,0)),\"\")","v":""},{"$f":" IFERROR(INDIRECT(\"'Trade Log'!\" & \"CU\" & MATCH(B312,'Trade Log'!E:E,0)),0)","v":0},306,0,0,0,0,"",null,null,null,null,null,"",44,"","","","","",""]
[null,"2024-11-02","",{"$f":" IFERROR(INDIRECT(\"'Trade Log'!\" & \"CR\" & MATCH(B313,'Trade Log'!E:E,0)),0)","v":0},{"$f":" IFERROR(INDIRECT(\"'Trade Log'!\" & \"CS\" & MATCH(B313,'Trade Log'!E:E,0)),0)","v":0},{"$f":" IFERROR(INDIRECT(\"'Trade Log'!\" & \"CT\" & MATCH(B313,'Trade Log'!E:E,0)),\"\")","v":""},{"$f":" IFERROR(INDIRECT(\"'Trade Log'!\" & \"CU\" & MATCH(B313,'Trade Log'!E:E,0)),0)","v":0},307,0,0,0,0,"",null,null,null,null,null,"",44,"","","","","",""]
[null,"2024-11-03","",{"$f":" IFERROR(INDIRECT(\"'Trade Log'!\" & \"CR\" & MATCH(B314,'Trade Log'!E:E,0)),0)","v":0},{"$f":" IFERROR(INDIRECT(\"'Trade Log'!\" & \"CS\" & MATCH(B314,'Trade Log'!E:E,0)),0)","v":0},{"$f":" IFERROR(INDIRECT(\"'Trade Log'!\" & \"CT\" & MATCH(B314,'Trade Log'!E:E,0)),\"\")","v":""},{"$f":" IFERROR(INDIRECT(\"'Trade Log'!\" & \"CU\" & MATCH(B314,'Trade Log'!E:E,0)),0)","v":0},308,0,0,0,0,"",null,null,null,null,null,"",45,"","","","","",""]
[null,"2024-11-04","",{"$f":" IFERROR(INDIRECT(\"'Trade Log'!\" & \"CR\" & MATCH(B315,'Trade Log'!E:E,0)),0)","v":0},{"$f":" IFERROR(INDIRECT(\"'Trade Log'!\" & \"CS\" & MATCH(B315,'Trade Log'!E:E,0)),0)","v":0},{"$f":" IFERROR(INDIRECT(\"'Trade Log'!\" & \"CT\" & MATCH(B315,'Trade Log'!E:E,0)),\"\")","v":""},{"$f":" IFERROR(INDIRECT(\"'Trade Log'!\" & \"CU\" & MATCH(B315,'Trade Log'!E:E,0)),0)","v":0},309,0,0,0,0,"",null,null,null,null,null,"",45,"","","","","",""]
[null,"2024-11-05","",{"$f":" IFERROR(INDIRECT(\"'Trade Log'!\" & \"CR\" & MATCH(B316,'Trade Log'!E:E,0)),0)","v":0},{"$f":" IFERROR(INDIRECT(\"'Trade Log'!\" & \"CS\" & MATCH(B316,'Trade Log'!E:E,0)),0)","v":0},{"$f":" IFERROR(INDIRECT(\"'Trade Log'!\" & \"CT\" & MATCH(B316,'Trade Log'!E:E,0)),\"\")","v":""},{"$f":" IFERROR(INDIRECT(\"'Trade Log'!\" & \"CU\" & MATCH(B316,'Trade Log'!E:E,0)),0)","v":0},310,0,0,0,0,"",null,null,null,null,null,"",45,"","","","","",""]
[null,"2024-11-06","",{"$f":" IFERROR(INDIRECT(\"'Trade Log'!\" & \"CR\" & MATCH(B317,'Trade Log'!E:E,0)),0)","v":0},{"$f":" IFERROR(INDIRECT(\"'Trade Log'!\" & \"CS\" & MATCH(B317,'Trade Log'!E:E,0)),0)","v":0},{"$f":" IFERROR(INDIRECT(\"'Trade Log'!\" & \"CT\" & MATCH(B317,'Trade Log'!E:E,0)),\"\")","v":""},{"$f":" IFERROR(INDIRECT(\"'Trade Log'!\" & \"CU\" & MATCH(B317,'Trade Log'!E:E,0)),0)","v":0},311,0,0,0,0,"",null,null,null,null,null,"",45,45,0,0,0,0,""]
[null,"2024-11-07","",{"$f":" IFERROR(INDIRECT(\"'Trade Log'!\" & \"CR\" & MATCH(B318,'Trade Log'!E:E,0)),0)","v":0},{"$f":" IFERROR(INDIRECT(\"'Trade Log'!\" & \"CS\" & MATCH(B318,'Trade Log'!E:E,0)),0)","v":0},{"$f":" IFERROR(INDIRECT(\"'Trade Log'!\" & \"CT\" & MATCH(B318,'Trade Log'!E:E,0)),\"\")","v":""},{"$f":" IFERROR(INDIRECT(\"'Trade Log'!\" & \"CU\" & MATCH(B318,'Trade Log'!E:E,0)),0)","v":0},312,0,0,0,0,"",null,null,null,null,null,"",45,"","","","","",""]
[null,"2024-11-08","",{"$f":" IFERROR(INDIRECT(\"'Trade Log'!\" & \"CR\" & MATCH(B319,'Trade Log'!E:E,0)),0)","v":0},{"$f":" IFERROR(INDIRECT(\"'Trade Log'!\" & \"CS\" & MATCH(B319,'Trade Log'!E:E,0)),0)","v":0},{"$f":" IFERROR(INDIRECT(\"'Trade Log'!\" & \"CT\" & MATCH(B319,'Trade Log'!E:E,0)),\"\")","v":""},{"$f":" IFERROR(INDIRECT(\"'Trade Log'!\" & \"CU\" & MATCH(B319,'Trade Log'!E:E,0)),0)","v":0},313,0,0,0,0,"",null,null,null,null,null,"",45,"","","","","",""]
[null,"2024-11-09","",{"$f":" IFERROR(INDIRECT(\"'Trade Log'!\" & \"CR\" & MATCH(B320,'Trade Log'!E:E,0)),0)","v":0},{"$f":" IFERROR(INDIRECT(\"'Trade Log'!\" & \"CS\" & MATCH(B320,'Trade Log'!E:E,0)),0)","v":0},{"$f":" IFERROR(INDIRECT(\"'Trade Log'!\" & \"CT\" & MATCH(B320,'Trade Log'!E:E,0)),\"\")","v":""},{"$f":" IFERROR(INDIRECT(\"'Trade Log'!\" & \"CU\" & MATCH(B320,'Trade Log'!E:E,0)),0)","v":0},314,0,0,0,0,"",null,null,null,null,null,"",45,"","","","","",""]
[null,"2024-11-10","",{"$f":" IFERROR(INDIRECT(\"'Trade Log'!\" & \"CR\" & MATCH(B321,'Trade Log'!E:E,0)),0)","v":0},{"$f":" IFERROR(INDIRECT(\"'Trade Log'!\" & \"CS\" & MATCH(B321,'Trade Log'!E:E,0)),0)","v":0},{"$f":" IFERROR(INDIRECT(\"'Trade Log'!\" & \"CT\" & MATCH(B321,'Trade Log'!E:E,0)),\"\")","v":""},{"$f":" IFERROR(INDIRECT(\"'Trade Log'!\" & \"CU\" & MATCH(B321,'Trade Log'!E:E,0)),0)","v":0},315,0,0,0,0,"",null,null,null,null,null,"",46,"","","","","",""]
[null,"2024-11-11","",{"$f":" IFERROR(INDIRECT(\"'Trade Log'!\" & \"CR\" & MATCH(B322,'Trade Log'!E:E,0)),0)","v":0},{"$f":" IFERROR(INDIRECT(\"'Trade Log'!\" & \"CS\" & MATCH(B322,'Trade Log'!E:E,0)),0)","v":0},{"$f":" IFERROR(INDIRECT(\"'Trade Log'!\" & \"CT\" & MATCH(B322,'Trade Log'!E:E,0)),\"\")","v":""},{"$f":" IFERROR(INDIRECT(\"'Trade Log'!\" & \"CU\" & MATCH(B322,'Trade Log'!E:E,0)),0)","v":0},316,0,0,0,0,"",null,null,null,null,null,"",46,"","","","","",""]
[null,"2024-11-12","",{"$f":" IFERROR(INDIRECT(\"'Trade Log'!\" & \"CR\" & MATCH(B323,'Trade Log'!E:E,0)),0)","v":0},{"$f":" IFERROR(INDIRECT(\"'Trade Log'!\" & \"CS\" & MATCH(B323,'Trade Log'!E:E,0)),0)","v":0},{"$f":" IFERROR(INDIRECT(\"'Trade Log'!\" & \"CT\" & MATCH(B323,'Trade Log'!E:E,0)),\"\")","v":""},{"$f":" IFERROR(INDIRECT(\"'Trade Log'!\" & \"CU\" & MATCH(B323,'Trade Log'!E:E,0)),0)","v":0},317,0,0,0,0,"",null,null,null,null,null,"",46,"","","","","",""]
[null,"2024-11-13","",{"$f":" IFERROR(INDIRECT(\"'Trade Log'!\" & \"CR\" & MATCH(B324,'Trade Log'!E:E,0)),0)","v":0},{"$f":" IFERROR(INDIRECT(\"'Trade Log'!\" & \"CS\" & MATCH(B324,'Trade Log'!E:E,0)),0)","v":0},{"$f":" IFERROR(INDIRECT(\"'Trade Log'!\" & \"CT\" & MATCH(B324,'Trade Log'!E:E,0)),\"\")","v":""},{"$f":" IFERROR(INDIRECT(\"'Trade Log'!\" & \"CU\" & MATCH(B324,'Trade Log'!E:E,0)),0)","v":0},318,0,0,0,0,"",null,null,null,null,null,"",46,46,0,0,0,0,""]
[null,"2024-11-14","",{"$f":" IFERROR(INDIRECT(\"'Trade Log'!\" & \"CR\" & MATCH(B325,'Trade Log'!E:E,0)),0)","v":0},{"$f":" IFERROR(INDIRECT(\"'Trade Log'!\" & \"CS\" & MATCH(B325,'Trade Log'!E:E,0)),0)","v":0},{"$f":" IFERROR(INDIRECT(\"'Trade Log'!\" & \"CT\" & MATCH(B325,'Trade Log'!E:E,0)),\"\")","v":""},{"$f":" IFERROR(INDIRECT(\"'Trade Log'!\" & \"CU\" & MATCH(B325,'Trade Log'!E:E,0)),0)","v":0},319,0,0,0,0,"",null,null,null,null,null,"",46,"","","","","",""]
[null,"2024-11-15","",{"$f":" IFERROR(INDIRECT(\"'Trade Log'!\" & \"CR\" & MATCH(B326,'Trade Log'!E:E,0)),0)","v":0},{"$f":" IFERROR(INDIRECT(\"'Trade Log'!\" & \"CS\" & MATCH(B326,'Trade Log'!E:E,0)),0)","v":0},{"$f":" IFERROR(INDIRECT(\"'Trade Log'!\" & \"CT\" & MATCH(B326,'Trade Log'!E:E,0)),\"\")","v":""},{"$f":" IFERROR(INDIRECT(\"'Trade Log'!\" & \"CU\" & MATCH(B326,'Trade Log'!E:E,0)),0)","v":0},320,0,0,0,0,"",null,null,null,null,null,"",46,"","","","","",""]
[null,"2024-11-16","",{"$f":" IFERROR(INDIRECT(\"'Trade Log'!\" & \"CR\" & MATCH(B327,'Trade Log'!E:E,0)),0)","v":0},{"$f":" IFERROR(INDIRECT(\"'Trade Log'!\" & \"CS\" & MATCH(B327,'Trade Log'!E:E,0)),0)","v":0},{"$f":" IFERROR(INDIRECT(\"'Trade Log'!\" & \"CT\" & MATCH(B327,'Trade Log'!E:E,0)),\"\")","v":""},{"$f":" IFERROR(INDIRECT(\"'Trade Log'!\" & \"CU\" & MATCH(B327,'Trade Log'!E:E,0)),0)","v":0},321,{"$f":" D327","v":0},0,{"$f":" E327","v":0},0,"",null,null,null,null,null,{"$f":" IF(M327=\"\",\"\",MONTH(B327))","v":""},46,"",{"$f":" IF(U327 = \"\", \"\", SUM(INDIRECT(\"I\"&(MATCH(T327,T:T,0))&\":I\"&(MATCH(T327,T:T)))))","v":""},"",{"$f":" IF(U327 = \"\", \"\",SUM(INDIRECT(\"K\"&(MATCH(T327,T:T,0))&\":K\"&(MATCH(T327,T:T)))))","v":""},{"$f":" IF(U327= \"\", \"\",SUM(INDIRECT(\"G\"&(MATCH(T327,T:T,0))&\":G\"&(MATCH(T327,T:T)))))","v":""},{"$f":" IFERROR(IF(U327 = \"\", \"\",LOOKUP(2,1/(INDIRECT(\"M\"&MATCH(T327,T:T,0)&\":\"&\"M\"&MATCH(T327,T:T))<>\"\"),INDIRECT(\"M\"&MATCH(T327,T:T,0)&\":\"&\"M\"&MATCH(T327,T:T)))),\"\")","v":""}]
[null,{"$f":" B327 + 1","v":"2024-11-17"},"",{"$f":" IFERROR(INDIRECT(\"'Trade Log'!\" & \"CR\" & MATCH(B328,'Trade Log'!E:E,0)),0)","v":0},{"$f":" IFERROR(INDIRECT(\"'Trade Log'!\" & \"CS\" & MATCH(B328,'Trade Log'!E:E,0)),0)","v":0},{"$f":" IFERROR(INDIRECT(\"'Trade Log'!\" & \"CT\" & MATCH(B328,'Trade Log'!E:E,0)),\"\")","v":""},{"$f":" IFERROR(INDIRECT(\"'Trade Log'!\" & \"CU\" & MATCH(B328,'Trade Log'!E:E,0)),0)","v":0},{"$f":" (H327) + 1","v":322},0,{"$f":"IFERROR(D328/(M328-D328),0)","v":0},0,{"$f":" G328","v":0},{"$f":"F328","v":""},null,null,null,null,null,"",47,{"$f":" IF(ROW(T328) = FLOOR((MATCH(T328, T:T, 0) +MATCH(T328, T:T))/2,1), WEEKNUM(B328,1), \"\")","v":""},"","","","",""]
[null,"2024-11-18",{"$f":" IF(G329 = 0, \"\", B329)","v":""},{"$f":" IFERROR(INDIRECT(\"'Trade Log'!\" & \"CR\" & MATCH(B329,'Trade Log'!E:E,0)),0)","v":0},{"$f":" IFERROR(INDIRECT(\"'Trade Log'!\" & \"CS\" & MATCH(B329,'Trade Log'!E:E,0)),0)","v":0},{"$f":" IFERROR(INDIRECT(\"'Trade Log'!\" & \"CT\" & MATCH(B329,'Trade Log'!E:E,0)),\"\")","v":""},{"$f":" IFERROR(INDIRECT(\"'Trade Log'!\" & \"CU\" & MATCH(B329,'Trade Log'!E:E,0)),0)","v":0},323,0,0,0,0,"",null,null,null,null,null,"",{"$f":" WEEKNUM(B329,1)","v":47},"","","","","",""]
[null,"2024-11-19","",{"$f":" IFERROR(INDIRECT(\"'Trade Log'!\" & \"CR\" & MATCH(B330,'Trade Log'!E:E,0)),0)","v":0},{"$f":" IFERROR(INDIRECT(\"'Trade Log'!\" & \"CS\" & MATCH(B330,'Trade Log'!E:E,0)),0)","v":0},{"$f":" IFERROR(INDIRECT(\"'Trade Log'!\" & \"CT\" & MATCH(B330,'Trade Log'!E:E,0)),\"\")","v":""},{"$f":" IFERROR(INDIRECT(\"'Trade Log'!\" & \"CU\" & MATCH(B330,'Trade Log'!E:E,0)),0)","v":0},324,0,0,0,0,"",null,null,null,null,null,"",47,"","",{"$f":" IFERROR( IF(V330 = \"\",\"\",V330/(Z330-V330)),0)","v":""},"","",""]
[null,"2024-11-20","",{"$f":" IFERROR(INDIRECT(\"'Trade Log'!\" & \"CR\" & MATCH(B331,'Trade Log'!E:E,0)),0)","v":0},{"$f":" IFERROR(INDIRECT(\"'Trade Log'!\" & \"CS\" & MATCH(B331,'Trade Log'!E:E,0)),0)","v":0},{"$f":" IFERROR(INDIRECT(\"'Trade Log'!\" & \"CT\" & MATCH(B331,'Trade Log'!E:E,0)),\"\")","v":""},{"$f":" IFERROR(INDIRECT(\"'Trade Log'!\" & \"CU\" & MATCH(B331,'Trade Log'!E:E,0)),0)","v":0},325,0,0,0,0,"",null,null,null,null,null,"",47,47,0,0,0,0,""]
[null,"2024-11-21","",{"$f":" IFERROR(INDIRECT(\"'Trade Log'!\" & \"CR\" & MATCH(B332,'Trade Log'!E:E,0)),0)","v":0},{"$f":" IFERROR(INDIRECT(\"'Trade Log'!\" & \"CS\" & MATCH(B332,'Trade Log'!E:E,0)),0)","v":0},{"$f":" IFERROR(INDIRECT(\"'Trade Log'!\" & \"CT\" & MATCH(B332,'Trade Log'!E:E,0)),\"\")","v":""},{"$f":" IFERROR(INDIRECT(\"'Trade Log'!\" & \"CU\" & MATCH(B332,'Trade Log'!E:E,0)),0)","v":0},326,0,0,0,0,"",null,null,null,null,null,"",47,"","","","","",""]
[null,"2024-11-22","",{"$f":" IFERROR(INDIRECT(\"'Trade Log'!\" & \"CR\" & MATCH(B333,'Trade Log'!E:E,0)),0)","v":0},{"$f":" IFERROR(INDIRECT(\"'Trade Log'!\" & \"CS\" & MATCH(B333,'Trade Log'!E:E,0)),0)","v":0},{"$f":" IFERROR(INDIRECT(\"'Trade Log'!\" & \"CT\" & MATCH(B333,'Trade Log'!E:E,0)),\"\")","v":""},{"$f":" IFERROR(INDIRECT(\"'Trade Log'!\" & \"CU\" & MATCH(B333,'Trade Log'!E:E,0)),0)","v":0},327,0,0,0,0,"",null,null,null,null,null,"",47,"","","","","",""]
[null,"2024-11-23","",{"$f":" IFERROR(INDIRECT(\"'Trade Log'!\" & \"CR\" & MATCH(B334,'Trade Log'!E:E,0)),0)","v":0},{"$f":" IFERROR(INDIRECT(\"'Trade Log'!\" & \"CS\" & MATCH(B334,'Trade Log'!E:E,0)),0)","v":0},{"$f":" IFERROR(INDIRECT(\"'Trade Log'!\" & \"CT\" & MATCH(B334,'Trade Log'!E:E,0)),\"\")","v":""},{"$f":" IFERROR(INDIRECT(\"'Trade Log'!\" & \"CU\" & MATCH(B334,'Trade Log'!E:E,0)),0)","v":0},328,0,0,0,0,"",null,null,null,null,null,"",47,"","","","","",""]
[null,"2024-11-24","",{"$f":" IFERROR(INDIRECT(\"'Trade Log'!\" & \"CR\" & MATCH(B335,'Trade Log'!E:E,0)),0)","v":0},{"$f":" IFERROR(INDIRECT(\"'Trade Log'!\" & \"CS\" & MATCH(B335,'Trade Log'!E:E,0)),0)","v":0},{"$f":" IFERROR(INDIRECT(\"'Trade Log'!\" & \"CT\" & MATCH(B335,'Trade Log'!E:E,0)),\"\")","v":""},{"$f":" IFERROR(INDIRECT(\"'Trade Log'!\" & \"CU\" & MATCH(B335,'Trade Log'!E:E,0)),0)","v":0},329,0,0,0,0,"",null,null,null,null,null,"",48,"","","","","",""]
[null,"2024-11-25","",{"$f":" IFERROR(INDIRECT(\"'Trade Log'!\" & \"CR\" & MATCH(B336,'Trade Log'!E:E,0)),0)","v":0},{"$f":" IFERROR(INDIRECT(\"'Trade Log'!\" & \"CS\" & MATCH(B336,'Trade Log'!E:E,0)),0)","v":0},{"$f":" IFERROR(INDIRECT(\"'Trade Log'!\" & \"CT\" & MATCH(B336,'Trade Log'!E:E,0)),\"\")","v":""},{"$f":" IFERROR(INDIRECT(\"'Trade Log'!\" & \"CU\" & MATCH(B336,'Trade Log'!E:E,0)),0)","v":0},330,0,0,0,0,"",null,null,null,null,null,"",48,"","","","","",""]
[null,"2024-11-26","",{"$f":" IFERROR(INDIRECT(\"'Trade Log'!\" & \"CR\" & MATCH(B337,'Trade Log'!E:E,0)),0)","v":0},{"$f":" IFERROR(INDIRECT(\"'Trade Log'!\" & \"CS\" & MATCH(B337,'Trade Log'!E:E,0)),0)","v":0},{"$f":" IFERROR(INDIRECT(\"'Trade Log'!\" & \"CT\" & MATCH(B337,'Trade Log'!E:E,0)),\"\")","v":""},{"$f":" IFERROR(INDIRECT(\"'Trade Log'!\" & \"CU\" & MATCH(B337,'Trade Log'!E:E,0)),0)","v":0},331,0,0,0,0,"",null,null,null,null,null,"",48,"","","","","",""]
[null,"2024-11-27","",{"$f":" IFERROR(INDIRECT(\"'Trade Log'!\" & \"CR\" & MATCH(B338,'Trade Log'!E:E,0)),0)","v":0},{"$f":" IFERROR(INDIRECT(\"'Trade Log'!\" & \"CS\" & MATCH(B338,'Trade Log'!E:E,0)),0)","v":0},{"$f":" IFERROR(INDIRECT(\"'Trade Log'!\" & \"CT\" & MATCH(B338,'Trade Log'!E:E,0)),\"\")","v":""},{"$f":" IFERROR(INDIRECT(\"'Trade Log'!\" & \"CU\" & MATCH(B338,'Trade Log'!E:E,0)),0)","v":0},332,0,0,0,0,"",null,null,null,null,null,"",48,48,0,0,0,0,""]
[null,"2024-11-28","",{"$f":" IFERROR(INDIRECT(\"'Trade Log'!\" & \"CR\" & MATCH(B339,'Trade Log'!E:E,0)),0)","v":0},{"$f":" IFERROR(INDIRECT(\"'Trade Log'!\" & \"CS\" & MATCH(B339,'Trade Log'!E:E,0)),0)","v":0},{"$f":" IFERROR(INDIRECT(\"'Trade Log'!\" & \"CT\" & MATCH(B339,'Trade Log'!E:E,0)),\"\")","v":""},{"$f":" IFERROR(INDIRECT(\"'Trade Log'!\" & \"CU\" & MATCH(B339,'Trade Log'!E:E,0)),0)","v":0},333,0,0,0,0,"",null,null,null,null,null,"",48,"","","","","",""]
[null,"2024-11-29","",{"$f":" IFERROR(INDIRECT(\"'Trade Log'!\" & \"CR\" & MATCH(B340,'Trade Log'!E:E,0)),0)","v":0},{"$f":" IFERROR(INDIRECT(\"'Trade Log'!\" & \"CS\" & MATCH(B340,'Trade Log'!E:E,0)),0)","v":0},{"$f":" IFERROR(INDIRECT(\"'Trade Log'!\" & \"CT\" & MATCH(B340,'Trade Log'!E:E,0)),\"\")","v":""},{"$f":" IFERROR(INDIRECT(\"'Trade Log'!\" & \"CU\" & MATCH(B340,'Trade Log'!E:E,0)),0)","v":0},334,0,0,0,0,"",null,null,null,null,null,"",48,"","","","","",""]
[null,"2024-11-30","",{"$f":" IFERROR(INDIRECT(\"'Trade Log'!\" & \"CR\" & MATCH(B341,'Trade Log'!E:E,0)),0)","v":0},{"$f":" IFERROR(INDIRECT(\"'Trade Log'!\" & \"CS\" & MATCH(B341,'Trade Log'!E:E,0)),0)","v":0},{"$f":" IFERROR(INDIRECT(\"'Trade Log'!\" & \"CT\" & MATCH(B341,'Trade Log'!E:E,0)),\"\")","v":""},{"$f":" IFERROR(INDIRECT(\"'Trade Log'!\" & \"CU\" & MATCH(B341,'Trade Log'!E:E,0)),0)","v":0},335,0,0,0,0,"",null,null,null,null,null,"",48,"","","","","",""]
[null,"2024-12-01","",{"$f":" IFERROR(INDIRECT(\"'Trade Log'!\" & \"CR\" & MATCH(B342,'Trade Log'!E:E,0)),0)","v":0},{"$f":" IFERROR(INDIRECT(\"'Trade Log'!\" & \"CS\" & MATCH(B342,'Trade Log'!E:E,0)),0)","v":0},{"$f":" IFERROR(INDIRECT(\"'Trade Log'!\" & \"CT\" & MATCH(B342,'Trade Log'!E:E,0)),\"\")","v":""},{"$f":" IFERROR(INDIRECT(\"'Trade Log'!\" & \"CU\" & MATCH(B342,'Trade Log'!E:E,0)),0)","v":0},336,0,0,0,0,"",null,null,null,null,null,"",49,"","","","","",""]
[null,"2024-12-02","",{"$f":" IFERROR(INDIRECT(\"'Trade Log'!\" & \"CR\" & MATCH(B343,'Trade Log'!E:E,0)),0)","v":0},{"$f":" IFERROR(INDIRECT(\"'Trade Log'!\" & \"CS\" & MATCH(B343,'Trade Log'!E:E,0)),0)","v":0},{"$f":" IFERROR(INDIRECT(\"'Trade Log'!\" & \"CT\" & MATCH(B343,'Trade Log'!E:E,0)),\"\")","v":""},{"$f":" IFERROR(INDIRECT(\"'Trade Log'!\" & \"CU\" & MATCH(B343,'Trade Log'!E:E,0)),0)","v":0},337,0,0,0,0,"",null,null,null,null,null,"",49,"","","","","",""]
[null,"2024-12-03","",{"$f":" IFERROR(INDIRECT(\"'Trade Log'!\" & \"CR\" & MATCH(B344,'Trade Log'!E:E,0)),0)","v":0},{"$f":" IFERROR(INDIRECT(\"'Trade Log'!\" & \"CS\" & MATCH(B344,'Trade Log'!E:E,0)),0)","v":0},{"$f":" IFERROR(INDIRECT(\"'Trade Log'!\" & \"CT\" & MATCH(B344,'Trade Log'!E:E,0)),\"\")","v":""},{"$f":" IFERROR(INDIRECT(\"'Trade Log'!\" & \"CU\" & MATCH(B344,'Trade Log'!E:E,0)),0)","v":0},338,0,0,0,0,"",null,null,null,null,null,"",49,"","","","","",""]
[null,"2024-12-04","",{"$f":" IFERROR(INDIRECT(\"'Trade Log'!\" & \"CR\" & MATCH(B345,'Trade Log'!E:E,0)),0)","v":0},{"$f":" IFERROR(INDIRECT(\"'Trade Log'!\" & \"CS\" & MATCH(B345,'Trade Log'!E:E,0)),0)","v":0},{"$f":" IFERROR(INDIRECT(\"'Trade Log'!\" & \"CT\" & MATCH(B345,'Trade Log'!E:E,0)),\"\")","v":""},{"$f":" IFERROR(INDIRECT(\"'Trade Log'!\" & \"CU\" & MATCH(B345,'Trade Log'!E:E,0)),0)","v":0},339,0,0,0,0,"",null,null,null,null,null,"",49,49,0,0,0,0,""]
[null,"2024-12-05","",{"$f":" IFERROR(INDIRECT(\"'Trade Log'!\" & \"CR\" & MATCH(B346,'Trade Log'!E:E,0)),0)","v":0},{"$f":" IFERROR(INDIRECT(\"'Trade Log'!\" & \"CS\" & MATCH(B346,'Trade Log'!E:E,0)),0)","v":0},{"$f":" IFERROR(INDIRECT(\"'Trade Log'!\" & \"CT\" & MATCH(B346,'Trade Log'!E:E,0)),\"\")","v":""},{"$f":" IFERROR(INDIRECT(\"'Trade Log'!\" & \"CU\" & MATCH(B346,'Trade Log'!E:E,0)),0)","v":0},340,0,0,0,0,"",null,null,null,null,null,"",49,"","","","","",""]
[null,"2024-12-06","",{"$f":" IFERROR(INDIRECT(\"'Trade Log'!\" & \"CR\" & MATCH(B347,'Trade Log'!E:E,0)),0)","v":0},{"$f":" IFERROR(INDIRECT(\"'Trade Log'!\" & \"CS\" & MATCH(B347,'Trade Log'!E:E,0)),0)","v":0},{"$f":" IFERROR(INDIRECT(\"'Trade Log'!\" & \"CT\" & MATCH(B347,'Trade Log'!E:E,0)),\"\")","v":""},{"$f":" IFERROR(INDIRECT(\"'Trade Log'!\" & \"CU\" & MATCH(B347,'Trade Log'!E:E,0)),0)","v":0},341,0,0,0,0,"",null,null,null,null,null,"",49,"","","","","",""]
[null,"2024-12-07","",{"$f":" IFERROR(INDIRECT(\"'Trade Log'!\" & \"CR\" & MATCH(B348,'Trade Log'!E:E,0)),0)","v":0},{"$f":" IFERROR(INDIRECT(\"'Trade Log'!\" & \"CS\" & MATCH(B348,'Trade Log'!E:E,0)),0)","v":0},{"$f":" IFERROR(INDIRECT(\"'Trade Log'!\" & \"CT\" & MATCH(B348,'Trade Log'!E:E,0)),\"\")","v":""},{"$f":" IFERROR(INDIRECT(\"'Trade Log'!\" & \"CU\" & MATCH(B348,'Trade Log'!E:E,0)),0)","v":0},342,0,0,0,0,"",null,null,null,null,null,"",49,"","","","","",""]
[null,"2024-12-08","",{"$f":" IFERROR(INDIRECT(\"'Trade Log'!\" & \"CR\" & MATCH(B349,'Trade Log'!E:E,0)),0)","v":0},{"$f":" IFERROR(INDIRECT(\"'Trade Log'!\" & \"CS\" & MATCH(B349,'Trade Log'!E:E,0)),0)","v":0},{"$f":" IFERROR(INDIRECT(\"'Trade Log'!\" & \"CT\" & MATCH(B349,'Trade Log'!E:E,0)),\"\")","v":""},{"$f":" IFERROR(INDIRECT(\"'Trade Log'!\" & \"CU\" & MATCH(B349,'Trade Log'!E:E,0)),0)","v":0},343,0,0,0,0,"",null,null,null,null,null,"",50,"","","","","",""]
[null,"2024-12-09","",{"$f":" IFERROR(INDIRECT(\"'Trade Log'!\" & \"CR\" & MATCH(B350,'Trade Log'!E:E,0)),0)","v":0},{"$f":" IFERROR(INDIRECT(\"'Trade Log'!\" & \"CS\" & MATCH(B350,'Trade Log'!E:E,0)),0)","v":0},{"$f":" IFERROR(INDIRECT(\"'Trade Log'!\" & \"CT\" & MATCH(B350,'Trade Log'!E:E,0)),\"\")","v":""},{"$f":" IFERROR(INDIRECT(\"'Trade Log'!\" & \"CU\" & MATCH(B350,'Trade Log'!E:E,0)),0)","v":0},344,0,0,0,0,"",null,null,null,null,null,"",50,"","","","","",""]
[null,"2024-12-10","",{"$f":" IFERROR(INDIRECT(\"'Trade Log'!\" & \"CR\" & MATCH(B351,'Trade Log'!E:E,0)),0)","v":0},{"$f":" IFERROR(INDIRECT(\"'Trade Log'!\" & \"CS\" & MATCH(B351,'Trade Log'!E:E,0)),0)","v":0},{"$f":" IFERROR(INDIRECT(\"'Trade Log'!\" & \"CT\" & MATCH(B351,'Trade Log'!E:E,0)),\"\")","v":""},{"$f":" IFERROR(INDIRECT(\"'Trade Log'!\" & \"CU\" & MATCH(B351,'Trade Log'!E:E,0)),0)","v":0},345,0,0,0,0,"",null,null,null,null,null,"",50,"","","","","",""]
[null,"2024-12-11","",{"$f":" IFERROR(INDIRECT(\"'Trade Log'!\" & \"CR\" & MATCH(B352,'Trade Log'!E:E,0)),0)","v":0},{"$f":" IFERROR(INDIRECT(\"'Trade Log'!\" & \"CS\" & MATCH(B352,'Trade Log'!E:E,0)),0)","v":0},{"$f":" IFERROR(INDIRECT(\"'Trade Log'!\" & \"CT\" & MATCH(B352,'Trade Log'!E:E,0)),\"\")","v":""},{"$f":" IFERROR(INDIRECT(\"'Trade Log'!\" & \"CU\" & MATCH(B352,'Trade Log'!E:E,0)),0)","v":0},346,0,0,0,0,"",null,null,null,null,null,"",50,50,0,0,0,0,""]
[null,"2024-12-12","",{"$f":" IFERROR(INDIRECT(\"'Trade Log'!\" & \"CR\" & MATCH(B353,'Trade Log'!E:E,0)),0)","v":0},{"$f":" IFERROR(INDIRECT(\"'Trade Log'!\" & \"CS\" & MATCH(B353,'Trade Log'!E:E,0)),0)","v":0},{"$f":" IFERROR(INDIRECT(\"'Trade Log'!\" & \"CT\" & MATCH(B353,'Trade Log'!E:E,0)),\"\")","v":""},{"$f":" IFERROR(INDIRECT(\"'Trade Log'!\" & \"CU\" & MATCH(B353,'Trade Log'!E:E,0)),0)","v":0},347,0,0,0,0,"",null,null,null,null,null,"",50,"","","","","",""]
[null,"2024-12-13","",{"$f":" IFERROR(INDIRECT(\"'Trade Log'!\" & \"CR\" & MATCH(B354,'Trade Log'!E:E,0)),0)","v":0},{"$f":" IFERROR(INDIRECT(\"'Trade Log'!\" & \"CS\" & MATCH(B354,'Trade Log'!E:E,0)),0)","v":0},{"$f":" IFERROR(INDIRECT(\"'Trade Log'!\" & \"CT\" & MATCH(B354,'Trade Log'!E:E,0)),\"\")","v":""},{"$f":" IFERROR(INDIRECT(\"'Trade Log'!\" & \"CU\" & MATCH(B354,'Trade Log'!E:E,0)),0)","v":0},348,0,0,0,0,"",null,null,null,null,null,"",50,"","","","","",""]
[null,"2024-12-14","",{"$f":" IFERROR(INDIRECT(\"'Trade Log'!\" & \"CR\" & MATCH(B355,'Trade Log'!E:E,0)),0)","v":0},{"$f":" IFERROR(INDIRECT(\"'Trade Log'!\" & \"CS\" & MATCH(B355,'Trade Log'!E:E,0)),0)","v":0},{"$f":" IFERROR(INDIRECT(\"'Trade Log'!\" & \"CT\" & MATCH(B355,'Trade Log'!E:E,0)),\"\")","v":""},{"$f":" IFERROR(INDIRECT(\"'Trade Log'!\" & \"CU\" & MATCH(B355,'Trade Log'!E:E,0)),0)","v":0},349,0,0,0,0,"",null,null,null,null,null,"",50,"","","","","",""]
[null,"2024-12-15","",{"$f":" IFERROR(INDIRECT(\"'Trade Log'!\" & \"CR\" & MATCH(B356,'Trade Log'!E:E,0)),0)","v":0},{"$f":" IFERROR(INDIRECT(\"'Trade Log'!\" & \"CS\" & MATCH(B356,'Trade Log'!E:E,0)),0)","v":0},{"$f":" IFERROR(INDIRECT(\"'Trade Log'!\" & \"CT\" & MATCH(B356,'Trade Log'!E:E,0)),\"\")","v":""},{"$f":" IFERROR(INDIRECT(\"'Trade Log'!\" & \"CU\" & MATCH(B356,'Trade Log'!E:E,0)),0)","v":0},350,0,0,0,0,"",null,null,null,null,null,"",51,"","","","","",""]
[null,"2024-12-16","",{"$f":" IFERROR(INDIRECT(\"'Trade Log'!\" & \"CR\" & MATCH(B357,'Trade Log'!E:E,0)),0)","v":0},{"$f":" IFERROR(INDIRECT(\"'Trade Log'!\" & \"CS\" & MATCH(B357,'Trade Log'!E:E,0)),0)","v":0},{"$f":" IFERROR(INDIRECT(\"'Trade Log'!\" & \"CT\" & MATCH(B357,'Trade Log'!E:E,0)),\"\")","v":""},{"$f":" IFERROR(INDIRECT(\"'Trade Log'!\" & \"CU\" & MATCH(B357,'Trade Log'!E:E,0)),0)","v":0},351,0,0,0,0,"",null,null,null,null,null,"",51,"","","","","",""]
[null,"2024-12-17","",{"$f":" IFERROR(INDIRECT(\"'Trade Log'!\" & \"CR\" & MATCH(B358,'Trade Log'!E:E,0)),0)","v":0},{"$f":" IFERROR(INDIRECT(\"'Trade Log'!\" & \"CS\" & MATCH(B358,'Trade Log'!E:E,0)),0)","v":0},{"$f":" IFERROR(INDIRECT(\"'Trade Log'!\" & \"CT\" & MATCH(B358,'Trade Log'!E:E,0)),\"\")","v":""},{"$f":" IFERROR(INDIRECT(\"'Trade Log'!\" & \"CU\" & MATCH(B358,'Trade Log'!E:E,0)),0)","v":0},352,0,0,0,0,"",null,null,null,null,null,"",51,"","","","","",""]
[null,"2024-12-18","",{"$f":" IFERROR(INDIRECT(\"'Trade Log'!\" & \"CR\" & MATCH(B359,'Trade Log'!E:E,0)),0)","v":0},{"$f":" IFERROR(INDIRECT(\"'Trade Log'!\" & \"CS\" & MATCH(B359,'Trade Log'!E:E,0)),0)","v":0},{"$f":" IFERROR(INDIRECT(\"'Trade Log'!\" & \"CT\" & MATCH(B359,'Trade Log'!E:E,0)),\"\")","v":""},{"$f":" IFERROR(INDIRECT(\"'Trade Log'!\" & \"CU\" & MATCH(B359,'Trade Log'!E:E,0)),0)","v":0},353,0,0,0,0,"",null,null,null,null,null,"",51,51,0,0,0,0,""]
[null,"2024-12-19","",{"$f":" IFERROR(INDIRECT(\"'Trade Log'!\" & \"CR\" & MATCH(B360,'Trade Log'!E:E,0)),0)","v":0},{"$f":" IFERROR(INDIRECT(\"'Trade Log'!\" & \"CS\" & MATCH(B360,'Trade Log'!E:E,0)),0)","v":0},{"$f":" IFERROR(INDIRECT(\"'Trade Log'!\" & \"CT\" & MATCH(B360,'Trade Log'!E:E,0)),\"\")","v":""},{"$f":" IFERROR(INDIRECT(\"'Trade Log'!\" & \"CU\" & MATCH(B360,'Trade Log'!E:E,0)),0)","v":0},354,0,0,0,0,"",null,null,null,null,null,"",51,"","","","","",""]
[null,"2024-12-20","",{"$f":" IFERROR(INDIRECT(\"'Trade Log'!\" & \"CR\" & MATCH(B361,'Trade Log'!E:E,0)),0)","v":0},{"$f":" IFERROR(INDIRECT(\"'Trade Log'!\" & \"CS\" & MATCH(B361,'Trade Log'!E:E,0)),0)","v":0},{"$f":" IFERROR(INDIRECT(\"'Trade Log'!\" & \"CT\" & MATCH(B361,'Trade Log'!E:E,0)),\"\")","v":""},{"$f":" IFERROR(INDIRECT(\"'Trade Log'!\" & \"CU\" & MATCH(B361,'Trade Log'!E:E,0)),0)","v":0},355,0,0,0,0,"",null,null,null,null,null,"",51,"","","","","",""]
[null,"2024-12-21","",{"$f":" IFERROR(INDIRECT(\"'Trade Log'!\" & \"CR\" & MATCH(B362,'Trade Log'!E:E,0)),0)","v":0},{"$f":" IFERROR(INDIRECT(\"'Trade Log'!\" & \"CS\" & MATCH(B362,'Trade Log'!E:E,0)),0)","v":0},{"$f":" IFERROR(INDIRECT(\"'Trade Log'!\" & \"CT\" & MATCH(B362,'Trade Log'!E:E,0)),\"\")","v":""},{"$f":" IFERROR(INDIRECT(\"'Trade Log'!\" & \"CU\" & MATCH(B362,'Trade Log'!E:E,0)),0)","v":0},356,0,0,0,0,"",null,null,null,null,null,"",51,"","","","","",""]
[null,"2024-12-22","",{"$f":" IFERROR(INDIRECT(\"'Trade Log'!\" & \"CR\" & MATCH(B363,'Trade Log'!E:E,0)),0)","v":0},{"$f":" IFERROR(INDIRECT(\"'Trade Log'!\" & \"CS\" & MATCH(B363,'Trade Log'!E:E,0)),0)","v":0},{"$f":" IFERROR(INDIRECT(\"'Trade Log'!\" & \"CT\" & MATCH(B363,'Trade Log'!E:E,0)),\"\")","v":""},{"$f":" IFERROR(INDIRECT(\"'Trade Log'!\" & \"CU\" & MATCH(B363,'Trade Log'!E:E,0)),0)","v":0},357,0,0,0,0,"",null,null,null,null,null,"",52,"","","","","",""]
[null,"2024-12-23","",{"$f":" IFERROR(INDIRECT(\"'Trade Log'!\" & \"CR\" & MATCH(B364,'Trade Log'!E:E,0)),0)","v":0},{"$f":" IFERROR(INDIRECT(\"'Trade Log'!\" & \"CS\" & MATCH(B364,'Trade Log'!E:E,0)),0)","v":0},{"$f":" IFERROR(INDIRECT(\"'Trade Log'!\" & \"CT\" & MATCH(B364,'Trade Log'!E:E,0)),\"\")","v":""},{"$f":" IFERROR(INDIRECT(\"'Trade Log'!\" & \"CU\" & MATCH(B364,'Trade Log'!E:E,0)),0)","v":0},358,0,0,0,0,"",null,null,null,null,null,"",52,"","","","","",""]
[null,"2024-12-24","",{"$f":" IFERROR(INDIRECT(\"'Trade Log'!\" & \"CR\" & MATCH(B365,'Trade Log'!E:E,0)),0)","v":0},{"$f":" IFERROR(INDIRECT(\"'Trade Log'!\" & \"CS\" & MATCH(B365,'Trade Log'!E:E,0)),0)","v":0},{"$f":" IFERROR(INDIRECT(\"'Trade Log'!\" & \"CT\" & MATCH(B365,'Trade Log'!E:E,0)),\"\")","v":""},{"$f":" IFERROR(INDIRECT(\"'Trade Log'!\" & \"CU\" & MATCH(B365,'Trade Log'!E:E,0)),0)","v":0},359,0,0,0,0,"",null,null,null,null,null,"",52,"","","","","",""]
[null,"2024-12-25","",{"$f":" IFERROR(INDIRECT(\"'Trade Log'!\" & \"CR\" & MATCH(B366,'Trade Log'!E:E,0)),0)","v":0},{"$f":" IFERROR(INDIRECT(\"'Trade Log'!\" & \"CS\" & MATCH(B366,'Trade Log'!E:E,0)),0)","v":0},{"$f":" IFERROR(INDIRECT(\"'Trade Log'!\" & \"CT\" & MATCH(B366,'Trade Log'!E:E,0)),\"\")","v":""},{"$f":" IFERROR(INDIRECT(\"'Trade Log'!\" & \"CU\" & MATCH(B366,'Trade Log'!E:E,0)),0)","v":0},360,0,0,0,0,"",null,null,null,null,null,"",52,52,0,0,0,0,""]
[null,"2024-12-26","",{"$f":" IFERROR(INDIRECT(\"'Trade Log'!\" & \"CR\" & MATCH(B367,'Trade Log'!E:E,0)),0)","v":0},{"$f":" IFERROR(INDIRECT(\"'Trade Log'!\" & \"CS\" & MATCH(B367,'Trade Log'!E:E,0)),0)","v":0},{"$f":" IFERROR(INDIRECT(\"'Trade Log'!\" & \"CT\" & MATCH(B367,'Trade Log'!E:E,0)),\"\")","v":""},{"$f":" IFERROR(INDIRECT(\"'Trade Log'!\" & \"CU\" & MATCH(B367,'Trade Log'!E:E,0)),0)","v":0},361,0,0,0,0,"",null,null,null,null,null,"",52,"","","","","",""]
[null,"2024-12-27","",{"$f":" IFERROR(INDIRECT(\"'Trade Log'!\" & \"CR\" & MATCH(B368,'Trade Log'!E:E,0)),0)","v":0},{"$f":" IFERROR(INDIRECT(\"'Trade Log'!\" & \"CS\" & MATCH(B368,'Trade Log'!E:E,0)),0)","v":0},{"$f":" IFERROR(INDIRECT(\"'Trade Log'!\" & \"CT\" & MATCH(B368,'Trade Log'!E:E,0)),\"\")","v":""},{"$f":" IFERROR(INDIRECT(\"'Trade Log'!\" & \"CU\" & MATCH(B368,'Trade Log'!E:E,0)),0)","v":0},362,0,0,0,0,"",null,null,null,null,null,"",52,"","","","","",""]
[null,"2024-12-28","",{"$f":" IFERROR(INDIRECT(\"'Trade Log'!\" & \"CR\" & MATCH(B369,'Trade Log'!E:E,0)),0)","v":0},{"$f":" IFERROR(INDIRECT(\"'Trade Log'!\" & \"CS\" & MATCH(B369,'Trade Log'!E:E,0)),0)","v":0},{"$f":" IFERROR(INDIRECT(\"'Trade Log'!\" & \"CT\" & MATCH(B369,'Trade Log'!E:E,0)),\"\")","v":""},{"$f":" IFERROR(INDIRECT(\"'Trade Log'!\" & \"CU\" & MATCH(B369,'Trade Log'!E:E,0)),0)","v":0},363,0,0,0,0,"",null,null,null,null,null,"",52,"","","","","",""]
[null,"2024-12-29","",{"$f":" IFERROR(INDIRECT(\"'Trade Log'!\" & \"CR\" & MATCH(B370,'Trade Log'!E:E,0)),0)","v":0},{"$f":" IFERROR(INDIRECT(\"'Trade Log'!\" & \"CS\" & MATCH(B370,'Trade Log'!E:E,0)),0)","v":0},{"$f":" IFERROR(INDIRECT(\"'Trade Log'!\" & \"CT\" & MATCH(B370,'Trade Log'!E:E,0)),\"\")","v":""},{"$f":" IFERROR(INDIRECT(\"'Trade Log'!\" & \"CU\" & MATCH(B370,'Trade Log'!E:E,0)),0)","v":0},364,0,0,0,0,"",null,null,null,null,null,"",53,"","","","","",""]
[null,"2024-12-30","",{"$f":" IFERROR(INDIRECT(\"'Trade Log'!\" & \"CR\" & MATCH(B371,'Trade Log'!E:E,0)),0)","v":0},{"$f":" IFERROR(INDIRECT(\"'Trade Log'!\" & \"CS\" & MATCH(B371,'Trade Log'!E:E,0)),0)","v":0},{"$f":" IFERROR(INDIRECT(\"'Trade Log'!\" & \"CT\" & MATCH(B371,'Trade Log'!E:E,0)),\"\")","v":""},{"$f":" IFERROR(INDIRECT(\"'Trade Log'!\" & \"CU\" & MATCH(B371,'Trade Log'!E:E,0)),0)","v":0},365,0,0,0,0,null,null,null,null,null,null,"",53,53,0,0,0,0,""]
[null,"2024-12-31","",{"$f":" IFERROR(INDIRECT(\"'Trade Log'!\" & \"CR\" & MATCH(B372,'Trade Log'!E:E,0)),0)","v":0},{"$f":" IFERROR(INDIRECT(\"'Trade Log'!\" & \"CS\" & MATCH(B372,'Trade Log'!E:E,0)),0)","v":0},{"$f":" IFERROR(INDIRECT(\"'Trade Log'!\" & \"CT\" & MATCH(B372,'Trade Log'!E:E,0)),\"\")","v":""},{"$f":" IFERROR(INDIRECT(\"'Trade Log'!\" & \"CU\" & MATCH(B372,'Trade Log'!E:E,0)),0)","v":0},{"$f":" IF(YEAR(B371) <> YEAR(B372), \"\", (H371) + 1)","v":366},{"$f":" IF(YEAR(B371) <> YEAR(B372), \"\", D372)","v":0},{"$f":"IF(YEAR(B371) <> YEAR(B372), \"\",IFERROR(D372/(M372-D372),0))","v":0},{"$f":" IF(YEAR(B371) <> YEAR(B372), \"\", E372)","v":0},{"$f":" IF(YEAR(B371) <> YEAR(B372), \"\", G372)","v":0},{"$f":" IF(YEAR(B371) <> YEAR(B372), \"\", F372)","v":""},null,null,null,null,null,"",{"$f":"  IF(YEAR(B371) <> YEAR(B372), \"\", WEEKNUM(B372,1))","v":53},{"$f":" IF(YEAR(B371) <> YEAR(B372), \"\", IF(ROW(T372) = FLOOR((MATCH(T372, T:T, 0) +MATCH(T372, T:T))/2,1), WEEKNUM(B372,1), \"\"))","v":""},{"$f":" IF(YEAR(B371) <> YEAR(B372), \"\", IF(U372 = \"\", \"\", SUM(INDIRECT(\"I\"&(MATCH(T372,T:T,0))&\":I\"&(MATCH(T372,T:T))))))","v":""},{"$f":" IF(YEAR(B371) <> YEAR(B372), \"\", IFERROR( IF(V372 = \"\",\"\",V372/(Z372-V372)),0))","v":""},{"$f":" IF(YEAR(B371) <> YEAR(B372), \"\", IF(U372 = \"\", \"\",SUM(INDIRECT(\"K\"&(MATCH(T372,T:T,0))&\":K\"&(MATCH(T372,T:T))))))","v":""},{"$f":"IF(YEAR(B371) <> YEAR(B372), \"\",  IF(U372= \"\", \"\",SUM(INDIRECT(\"G\"&(MATCH(T372,T:T,0))&\":G\"&(MATCH(T372,T:T))))))","v":""},{"$f":" IF(YEAR(B371) <> YEAR(B372), \"\", IFERROR(IF(U372 = \"\", \"\",LOOKUP(2,1/(INDIRECT(\"M\"&MATCH(T372,T:T,0)&\":\"&\"M\"&MATCH(T372,T:T))<>\"\"),INDIRECT(\"M\"&MATCH(T372,T:T,0)&\":\"&\"M\"&MATCH(T372,T:T)))),\"\"))","v":""}]

{"sheet":"Overall Performance","index":3,"n_rows":55,"n_cols":31,"rows_kept":55,"cut":false,"hidden":false,"merged":[[8,7,8,9],[5,6,5,9],[51,2,51,4],[22,2,22,4],[25,2,25,4],[19,1,19,4],[20,2,20,4],[23,2,23,4],[24,2,24,4],[41,2,41,4],[40,2,40,4],[39,2,39,4],[6,7,6,9],[48,2,48,4],[15,2,15,4],[45,7,45,9],[0,23,0,25],[50,2,50,4],[6,13,7,13],[6,11,7,11],[5,15,7,15],[3,1,3,22],[48,7,48,9],[49,7,49,9],[50,7,50,9],[1,1,1,22],[30,17,30,22],[5,1,5,4],[6,2,6,4],[23,7,23,9],[7,7,7,9],[25,7,25,9],[52,7,52,9],[47,7,47,9],[16,2,16,4],[17,2,17,4],[52,2,52,4],[38,1,38,9],[39,7,39,9],[40,7,40,9],[41,7,41,9],[42,7,42,9],[43,7,43,9],[21,7,21,9],[19,6,19,9],[20,7,20,9],[47,2,47,4],[44,2,44,4],[46,7,46,9],[14,2,14,4],[22,7,22,9],[24,7,24,9],[16,7,16,9],[14,7,14,9],[44,7,44,9],[46,2,46,4],[31,2,31,9],[32,2,32,9],[33,2,33,9],[34,2,34,9],[35,2,35,9],[36,2,36,9],[12,7,12,9],[27,1,27,9],[28,2,28,9],[29,2,29,9],[30,2,30,9],[1,23,4999,25],[49,2,49,4],[10,2,10,4],[51,7,51,9],[7,2,7,4],[43,2,43,4],[42,2,42,4],[17,7,17,9],[9,2,9,4],[8,2,8,4],[15,7,15,9],[13,7,13,9],[11,2,11,4],[12,2,12,4],[13,2,13,4],[45,2,45,4]]}
[" "]
[]
[]
[null,"Overall Performance"]
[]
[null,"Totals",null,null,null,null,"Daily / Weekly / Monthly",null,null,null,null,"STARTING BALANCE",null,"CURRENT BALANCE",null,"Performance Meter",null,null,null,null,null,null,null,null,null,null,null,"YTD Worst Month (By $/By %)",{"$f":"'This Year''s Log'!AI35","v":" / "}]
[null,"Total P/L $",{"$f":" SUM('Trade Log'!BT:BT)","v":0},null,null,null,"Average Daily P/L $",{"$f":" IFERROR(SUBTOTAL(101, ('Trade Log'!W:W)),\"\")","v":""},null,null,null,null,null,{"$f":" L7 + C7","v":0}]
[null,"Total P/L %",{"$f":" C7/L7","v":{"$error":"#DIV/0!"}},null,null,null,"Average Weekly P/L $",{"$f":" IFERROR(SUBTOTAL(101, ('Trade Log'!AD:AD)),\"\")","v":""},null,null,null,null,null,null,null,null,"Abysmal","Awful","Poor","~ Break-Even","Good","Excellent","Phenomenal",null,null,null,"Day of Week","Entries","Profits $","Losses $"]
[null,"Total Pips Gained/Lost",{"$f":" SUBTOTAL(109, ('Trade Log'!EX:EX))","v":0},null,null,null,"Average Montly P/L $",{"$f":" IFERROR(SUBTOTAL(101, ('Trade Log'!AK:AK)),\"\")","v":""},null,null,null,null,null,null,null,null,null,null,null,null,null,null,null,null,null,null,"Sunday",{"$f":" SUMIF('Trade Log'!DW:DW, AE9, 'Trade Log'!O:O) + SUMIF('Trade Log'!DW:DW,AE9, 'Trade Log'!P:P) + SUMIF('Trade Log'!DW:DW, AE9, 'Trade Log'!Q:Q) + SUMIF('Trade Log'!DW:DW,AE9, 'Trade Log'!R:R) + SUMIF('Trade Log'!DW:DW, AE9, 'Trade Log'!S:S) + SUMIF('Trade Log'!DW:DW, AE9, 'Trade Log'!T:T)","v":0},{"$f":" SUMIFS('Trade Log'!EL:EL, 'Trade Log'!DW:DW, AE9, 'Trade Log'!EL:EL, \">0\")","v":0},{"$f":" ABS(SUMIFS('Trade Log'!EL:EL, 'Trade Log'!DW:DW, AE9, 'Trade Log'!EL:EL, \"<0\"))","v":0},1]
[null,"Total Number of Trades",{"$f":"SUBTOTAL(109, ('Trade Log'!O:T))","v":0},null,null,null,"Average Daily P/L % (Arith./Geo.)",{"$f":" IFERROR(SUBTOTAL(101, ('Trade Log'!Z:Z)),\"\")","v":""},"/",{"$f":" IFERROR(GEOMEAN('Trade Log'!AA:AA) - 1,\"\")","v":""},null,null,null,null,null,null,null,null,null,null,null,null,null,null,null,null,"Monday",{"$f":" SUMIF('Trade Log'!DW:DW, AE10, 'Trade Log'!O:O) + SUMIF('Trade Log'!DW:DW,AE10, 'Trade Log'!P:P) + SUMIF('Trade Log'!DW:DW, AE10, 'Trade Log'!Q:Q) + SUMIF('Trade Log'!DW:DW,AE10, 'Trade Log'!R:R) + SUMIF('Trade Log'!DW:DW, AE10, 'Trade Log'!S:S) + SUMIF('Trade Log'!DW:DW, AE10, 'Trade Log'!T:T)","v":0},{"$f":" SUMIFS('Trade Log'!EL:EL, 'Trade Log'!DW:DW, AE10, 'Trade Log'!EL:EL, \">0\")","v":0},{"$f":" ABS(SUMIFS('Trade Log'!EL:EL, 'Trade Log'!DW:DW, AE10, 'Trade Log'!EL:EL, \"<0\"))","v":0},2]
[null,"Total Lots Traded",{"$f":" SUBTOTAL(109, ('Trade Log'!EP:EP))","v":0},null,null,null,"Average Weekly P/L % (Arith./Geo.)",{"$f":" IFERROR(SUBTOTAL(101, ('Trade Log'!AG:AG)),\"\")","v":""},"/",{"$f":" IFERROR(GEOMEAN('Trade Log'!AH:AH) - 1,\"\")","v":""},null,null,null,null,null,null,null,null,null,null,null,null,null,null,null,null,"Tuesday",{"$f":" SUMIF('Trade Log'!DW:DW, AE11, 'Trade Log'!O:O) + SUMIF('Trade Log'!DW:DW,AE11, 'Trade Log'!P:P) + SUMIF('Trade Log'!DW:DW, AE11, 'Trade Log'!Q:Q) + SUMIF('Trade Log'!DW:DW,AE11, 'Trade Log'!R:R) + SUMIF('Trade Log'!DW:DW, AE11, 'Trade Log'!S:S) + SUMIF('Trade Log'!DW:DW, AE11, 'Trade Log'!T:T)","v":0},{"$f":" SUMIFS('Trade Log'!EL:EL, 'Trade Log'!DW:DW, AE11, 'Trade Log'!EL:EL, \">0\")","v":0},{"$f":" ABS(SUMIFS('Trade Log'!EL:EL, 'Trade Log'!DW:DW, AE11, 'Trade Log'!EL:EL, \"<0\"))","v":0},3]
[null,"Total Commissions $",{"$f":" SUBTOTAL(109, ('Trade Log'!EZ:EZ))","v":0},null,null,null,"Average Monthly P/L % (Arith./Geo.)",{"$f":" IFERROR(SUBTOTAL(101, ('Trade Log'!AN:AN)),\"\")","v":""},"/",{"$f":" IFERROR(GEOMEAN('Trade Log'!AO:AO) - 1,\"\")","v":""},null,null,null,null,null,null,null,null,null,null,null,null,null,null,null,null,"Wednesday",{"$f":" SUMIF('Trade Log'!DW:DW, AE12, 'Trade Log'!O:O) + SUMIF('Trade Log'!DW:DW,AE12, 'Trade Log'!P:P) + SUMIF('Trade Log'!DW:DW, AE12, 'Trade Log'!Q:Q) + SUMIF('Trade Log'!DW:DW,AE12, 'Trade Log'!R:R) + SUMIF('Trade Log'!DW:DW, AE12, 'Trade Log'!S:S) + SUMIF('Trade Log'!DW:DW, AE12, 'Trade Log'!T:T)","v":0},{"$f":" SUMIFS('Trade Log'!EL:EL, 'Trade Log'!DW:DW, AE12, 'Trade Log'!EL:EL, \">0\")","v":0},{"$f":" ABS(SUMIFS('Trade Log'!EL:EL, 'Trade Log'!DW:DW, AE12, 'Trade Log'!EL:EL, \"<0\"))","v":0},4]
[null,"Total Fees $",{"$f":" SUBTOTAL(109, ('Trade Log'!FA:FA))","v":0},null,null,null,"Number of Winning/Losing Days ******",{"$f":" COUNTIF('Trade Log'!W:W,\">0\") & \" / \"& COUNTIF('Trade Log'!W:W,\"<0\") & \" \"","v":"0 / 0 "},null,null,null,null,null,null,null,null,null,null,null,null,null,null,null,null,null,null,"Thursday",{"$f":" SUMIF('Trade Log'!DW:DW, AE13, 'Trade Log'!O:O) + SUMIF('Trade Log'!DW:DW,AE13, 'Trade Log'!P:P) + SUMIF('Trade Log'!DW:DW, AE13, 'Trade Log'!Q:Q) + SUMIF('Trade Log'!DW:DW,AE13, 'Trade Log'!R:R) + SUMIF('Trade Log'!DW:DW, AE13, 'Trade Log'!S:S) + SUMIF('Trade Log'!DW:DW, AE13, 'Trade Log'!T:T)","v":0},{"$f":" SUMIFS('Trade Log'!EL:EL, 'Trade Log'!DW:DW, AE13, 'Trade Log'!EL:EL, \">0\")","v":0},{"$f":" ABS(SUMIFS('Trade Log'!EL:EL, 'Trade Log'!DW:DW, AE13, 'Trade Log'!EL:EL, \"<0\"))","v":0},5]
[null,"Total Slippage (Pips)",{"$f":" SUBTOTAL(109, ('Trade Log'!EW:EW))","v":0},null,null,null,"Number of Winning/Losing Weeks ******",{"$f":" COUNTIF('Trade Log'!AD:AD,\">0\") & \" / \" & COUNTIF('Trade Log'!AD:AD,\"<0\") & \" \"","v":"0 / 0 "},null,null,null,null,null,null,null,null,null,null,null,null,null,null,null,null,null,null,"Friday",{"$f":" SUMIF('Trade Log'!DW:DW, AE14, 'Trade Log'!O:O) + SUMIF('Trade Log'!DW:DW,AE14, 'Trade Log'!P:P) + SUMIF('Trade Log'!DW:DW, AE14, 'Trade Log'!Q:Q) + SUMIF('Trade Log'!DW:DW,AE14, 'Trade Log'!R:R) + SUMIF('Trade Log'!DW:DW, AE14, 'Trade Log'!S:S) + SUMIF('Trade Log'!DW:DW, AE14, 'Trade Log'!T:T)","v":0},{"$f":" SUMIFS('Trade Log'!EL:EL, 'Trade Log'!DW:DW, AE14, 'Trade Log'!EL:EL, \">0\")","v":0},{"$f":" ABS(SUMIFS('Trade Log'!EL:EL, 'Trade Log'!DW:DW, AE14, 'Trade Log'!EL:EL, \"<0\"))","v":0},6]
[null,"Total Deposits $ ******","*Web Release*",null,null,null,"Number of Winning/Losing Months ******",{"$f":" COUNTIF('Trade Log'!AK:AK,\">0\") & \" / \" & COUNTIF('Trade Log'!AK:AK,\"<0\") & \" \"","v":"0 / 0 "},null,null,null,null,null,null,null,null,null,null,null,null,null,null,null,null,null,null,"Saturday",{"$f":" SUMIF('Trade Log'!DW:DW, AE15, 'Trade Log'!O:O) + SUMIF('Trade Log'!DW:DW,AE15, 'Trade Log'!P:P) + SUMIF('Trade Log'!DW:DW, AE15, 'Trade Log'!Q:Q) + SUMIF('Trade Log'!DW:DW,AE15, 'Trade Log'!R:R) + SUMIF('Trade Log'!DW:DW, AE15, 'Trade Log'!S:S) + SUMIF('Trade Log'!DW:DW, AE15, 'Trade Log'!T:T)","v":0},{"$f":" SUMIFS('Trade Log'!EL:EL, 'Trade Log'!DW:DW, AE15, 'Trade Log'!EL:EL, \">0\")","v":0},{"$f":" ABS(SUMIFS('Trade Log'!EL:EL, 'Trade Log'!DW:DW, AE15, 'Trade Log'!EL:EL, \"<0\"))","v":0},7]
[null,"Total Withdrawals $ ******","*Web Release*",null,null,null,"Average Number of Trades per Day",{"$f":" IFERROR(FLOOR(SUBTOTAL(101, ('Trade Log'!V:V)),1),\"\")","v":""}]
[null,"Symbols Traded ******",{"$f":" 'Trade Log'!FJ22","v":0},null,null,null,"Average Number of Trades per Week",{"$f":" IFERROR(FLOOR(SUBTOTAL(101, ('Trade Log'!AC:AC)),1),\"\")","v":""},null,null,null,null,null,null,null,null,null,null,null,null,null,null,null,null,null,null,"Month","Entries","Profits $","Losses $"]
[null,"Strategies Traded ******",{"$f":" 'Trade Log'!FJ21","v":0},null,null,null,"Average Number of Trades per Month",{"$f":" IFERROR(FLOOR(SUBTOTAL(101, ('Trade Log'!AJ:AJ)),1),\"\")","v":""},null,null,null,null,null,null,null,null,null,null,null,null,null,null,null,null,null,null,"January",{"$f":" SUMIF('Trade Log'!DX:DX, AE18, 'Trade Log'!O:O) + SUMIF('Trade Log'!DX:DX,AE18, 'Trade Log'!P:P) + SUMIF('Trade Log'!DX:DX, AE18, 'Trade Log'!Q:Q) + SUMIF('Trade Log'!DX:DX,AE18, 'Trade Log'!R:R) + SUMIF('Trade Log'!DX:DX, AE18, 'Trade Log'!S:S) + SUMIF('Trade Log'!DX:DX, AE18, 'Trade Log'!T:T)","v":0},{"$f":" SUMIFS('Trade Log'!EL:EL, 'Trade Log'!DX:DX, AE18, 'Trade Log'!EL:EL, \">0\")","v":0},{"$f":" ABS(SUMIFS('Trade Log'!EL:EL, 'Trade Log'!DX:DX, AE18, 'Trade Log'!EL:EL, \"<0\"))","v":0},1]
[null,null,null,null,null,null,null,null,null,null,null,null,null,null,null,null,null,null,null,null,null,null,null,null,null,null,"February",{"$f":" SUMIF('Trade Log'!DX:DX, AE19, 'Trade Log'!O:O) + SUMIF('Trade Log'!DX:DX,AE19, 'Trade Log'!P:P) + SUMIF('Trade Log'!DX:DX, AE19, 'Trade Log'!Q:Q) + SUMIF('Trade Log'!DX:DX,AE19, 'Trade Log'!R:R) + SUMIF('Trade Log'!DX:DX, AE19, 'Trade Log'!S:S) + SUMIF('Trade Log'!DX:DX, AE19, 'Trade Log'!T:T)","v":0},{"$f":" SUMIFS('Trade Log'!EL:EL, 'Trade Log'!DX:DX, AE19, 'Trade Log'!EL:EL, \">0\")","v":0},{"$f":" ABS(SUMIFS('Trade Log'!EL:EL, 'Trade Log'!DX:DX, AE19, 'Trade Log'!EL:EL, \"<0\"))","v":0},2]
[null,"Averages Per Trade or Pip",null,null,null,null,"Holding Time and Period",null,null,null,null,null,null,null,null,null,null,null,null,null,null,null,null,null,null,null,"March",{"$f":" SUMIF('Trade Log'!DX:DX, AE20, 'Trade Log'!O:O) + SUMIF('Trade Log'!DX:DX,AE20, 'Trade Log'!P:P) + SUMIF('Trade Log'!DX:DX, AE20, 'Trade Log'!Q:Q) + SUMIF('Trade Log'!DX:DX,AE20, 'Trade Log'!R:R) + SUMIF('Trade Log'!DX:DX, AE20, 'Trade Log'!S:S) + SUMIF('Trade Log'!DX:DX, AE20, 'Trade Log'!T:T)","v":0},{"$f":" SUMIFS('Trade Log'!EL:EL, 'Trade Log'!DX:DX, AE20, 'Trade Log'!EL:EL, \">0\")","v":0},{"$f":" ABS(SUMIFS('Trade Log'!EL:EL, 'Trade Log'!DX:DX, AE20, 'Trade Log'!EL:EL, \"<0\"))","v":0},3]
[null,"Average P/L Per Trade $",{"$f":" IFERROR(C7/C10,\"\")","v":""},null,null,null,"Average Position Holding Time ******",{"$f":" IFERROR(INT('Trade Log'!FM10)&\" d,\"&\" \"&HOUR('Trade Log'!FM10)&\" h,\"&\" \"&MINUTE('Trade Log'!FM10)&\" m,\"&\" \"&SECOND('Trade Log'!FM10)&\" s\"&\" \",\"\")","v":""},null,null,null,null,null,null,null,null,null,null,null,null,null,null,null,null,null,null,"April",{"$f":" SUMIF('Trade Log'!DX:DX, AE21, 'Trade Log'!O:O) + SUMIF('Trade Log'!DX:DX,AE21, 'Trade Log'!P:P) + SUMIF('Trade Log'!DX:DX, AE21, 'Trade Log'!Q:Q) + SUMIF('Trade Log'!DX:DX,AE21, 'Trade Log'!R:R) + SUMIF('Trade Log'!DX:DX, AE21, 'Trade Log'!S:S) + SUMIF('Trade Log'!DX:DX, AE21, 'Trade Log'!T:T)","v":0},{"$f":" SUMIFS('Trade Log'!EL:EL, 'Trade Log'!DX:DX, AE21, 'Trade Log'!EL:EL, \">0\")","v":0},{"$f":" ABS(SUMIFS('Trade Log'!EL:EL, 'Trade Log'!DX:DX, AE21, 'Trade Log'!EL:EL, \"<0\"))","v":0},4]
[null,"Average P/L Per Trade % (Arith./Geo.)",{"$f":" IFERROR(SUBTOTAL(109, ('Trade Log'!BX:BX))/C10,\"\")","v":""},"/",{"$f":" IFERROR(GEOMEAN('Trade Log'!BZ:BZ) - 1,\"\")","v":""},null,"Maximum Position Holding Time",{"$f":" INT(SUBTOTAL(104, ('Trade Log'!K:K)))&\" d,\"&\" \"&HOUR(SUBTOTAL(104, ('Trade Log'!K:K)))&\" h,\"&\" \"&MINUTE(SUBTOTAL(104, ('Trade Log'!K:K)))&\" m,\"&\" \"&SECOND(SUBTOTAL(104, ('Trade Log'!K:K)))&\" s\"&\" \"","v":"0 d, 0 h, 0 m, 0 s "},null,null,null,null,null,null,null,null,null,null,null,null,null,null,null,null,null,null,"May",{"$f":" SUMIF('Trade Log'!DX:DX, AE22, 'Trade Log'!O:O) + SUMIF('Trade Log'!DX:DX,AE22, 'Trade Log'!P:P) + SUMIF('Trade Log'!DX:DX, AE22, 'Trade Log'!Q:Q) + SUMIF('Trade Log'!DX:DX,AE22, 'Trade Log'!R:R) + SUMIF('Trade Log'!DX:DX, AE22, 'Trade Log'!S:S) + SUMIF('Trade Log'!DX:DX, AE22, 'Trade Log'!T:T)","v":0},{"$f":" SUMIFS('Trade Log'!EL:EL, 'Trade Log'!DX:DX, AE22, 'Trade Log'!EL:EL, \">0\")","v":0},{"$f":" ABS(SUMIFS('Trade Log'!EL:EL, 'Trade Log'!DX:DX, AE22, 'Trade Log'!EL:EL, \"<0\"))","v":0},5]
[null,"Average Pip Gain/Loss Per Trade",{"$f":" IFERROR(FLOOR(SUBTOTAL(109, ('Trade Log'!EX:EX))/C10,0.1),\"\")","v":""},null,null,null,"Minimum Position Holding Time",{"$f":" INT(SUBTOTAL(105, ('Trade Log'!K:K)))&\" d,\"&\" \"&HOUR(SUBTOTAL(105, ('Trade Log'!K:K)))&\" h,\"&\" \"&MINUTE(SUBTOTAL(105, ('Trade Log'!K:K)))&\" m,\"&\" \"&SECOND(SUBTOTAL(105, ('Trade Log'!K:K)))&\" s\"&\" \"","v":"0 d, 0 h, 0 m, 0 s "},null,null,null,null,null,null,null,null,null,null,null,null,null,null,null,null,null,null,"June",{"$f":" SUMIF('Trade Log'!DX:DX, AE23, 'Trade Log'!O:O) + SUMIF('Trade Log'!DX:DX,AE23, 'Trade Log'!P:P) + SUMIF('Trade Log'!DX:DX, AE23, 'Trade Log'!Q:Q) + SUMIF('Trade Log'!DX:DX,AE23, 'Trade Log'!R:R) + SUMIF('Trade Log'!DX:DX, AE23, 'Trade Log'!S:S) + SUMIF('Trade Log'!DX:DX, AE23, 'Trade Log'!T:T)","v":0},{"$f":" SUMIFS('Trade Log'!EL:EL, 'Trade Log'!DX:DX, AE23, 'Trade Log'!EL:EL, \">0\")","v":0},{"$f":" ABS(SUMIFS('Trade Log'!EL:EL, 'Trade Log'!DX:DX, AE23, 'Trade Log'!EL:EL, \"<0\"))","v":0},6]
[null,"Average Lot Size Per Trade",{"$f":" IFERROR(FLOOR('Trade Log'!FM11/C10, 0.01),\"\")","v":""},null,null,null,"Longest Flat Period",{"$f":" INT(SUBTOTAL(104, ('Trade Log'!M:M)))&\" d,\"&\" \"&HOUR(SUBTOTAL(104, ('Trade Log'!M:M)))&\" h,\"&\" \"&MINUTE(SUBTOTAL(104, ('Trade Log'!M:M)))&\" m,\"&\" \"&SECOND(SUBTOTAL(104, ('Trade Log'!M:M)))&\" s\"&\" \"","v":"0 d, 0 h, 0 m, 0 s "},null,null,null,null,null,null,null,null,null,null,null,null,null,null,null,null,null,null,"July",{"$f":" SUMIF('Trade Log'!DX:DX, AE24, 'Trade Log'!O:O) + SUMIF('Trade Log'!DX:DX,AE24, 'Trade Log'!P:P) + SUMIF('Trade Log'!DX:DX, AE24, 'Trade Log'!Q:Q) + SUMIF('Trade Log'!DX:DX,AE24, 'Trade Log'!R:R) + SUMIF('Trade Log'!DX:DX, AE24, 'Trade Log'!S:S) + SUMIF('Trade Log'!DX:DX, AE24, 'Trade Log'!T:T)","v":0},{"$f":" SUMIFS('Trade Log'!EL:EL, 'Trade Log'!DX:DX, AE24, 'Trade Log'!EL:EL, \">0\")","v":0},{"$f":" ABS(SUMIFS('Trade Log'!EL:EL, 'Trade Log'!DX:DX, AE24, 'Trade Log'!EL:EL, \"<0\"))","v":0},7]
[null,"Average P/L Per Pip $",{"$f":" C7/SUBTOTAL(109, ('Trade Log'!EX:EX))","v":{"$error":"#DIV/0!"}},null,null,null,"Trading Period",{"$f":" IFERROR(DATEDIF('Trade Log'!C6, LOOKUP(2,1/('Trade Log'!E:E<>\"\"),'Trade Log'!E:E), \"y\") &\" yrs, \" &DATEDIF(SUBTOTAL(105, ('Trade Log'!I:I)), SUBTOTAL(104, ('Trade Log'!J:J)), \"ym\") &\" mos, \" &DATEDIF(SUBTOTAL(105, ('Trade Log'!I:I)), SUBTOTAL(104, ('Trade Log'!J:J)), \"md\") &\" days\"&\" \",\"\")","v":""},null,null,null,null,null,null,null,null,null,null,null,null,null,null,null,null,null,null,"August",{"$f":" SUMIF('Trade Log'!DX:DX, AE25, 'Trade Log'!O:O) + SUMIF('Trade Log'!DX:DX,AE25, 'Trade Log'!P:P) + SUMIF('Trade Log'!DX:DX, AE25, 'Trade Log'!Q:Q) + SUMIF('Trade Log'!DX:DX,AE25, 'Trade Log'!R:R) + SUMIF('Trade Log'!DX:DX, AE25, 'Trade Log'!S:S) + SUMIF('Trade Log'!DX:DX, AE25, 'Trade Log'!T:T)","v":0},{"$f":" SUMIFS('Trade Log'!EL:EL, 'Trade Log'!DX:DX, AE25, 'Trade Log'!EL:EL, \">0\")","v":0},{"$f":" ABS(SUMIFS('Trade Log'!EL:EL, 'Trade Log'!DX:DX, AE25, 'Trade Log'!EL:EL, \"<0\"))","v":0},8]
[null,"Average Slippage Per Trade (Pips)",{"$f":" IFERROR(FLOOR(C14/C10,0.1),\"\")","v":""},null,null,null,"% of Time in the Market",{"$f":" IFERROR('Trade Log'!FK23/'Trade Log'!FK22,\"\")","v":""},null,null,null,null,null,null,null,null,null,null,null,null,null,null,null,null,null,null,"September",{"$f":" SUMIF('Trade Log'!DX:DX, AE26, 'Trade Log'!O:O) + SUMIF('Trade Log'!DX:DX,AE26, 'Trade Log'!P:P) + SUMIF('Trade Log'!DX:DX, AE26, 'Trade Log'!Q:Q) + SUMIF('Trade Log'!DX:DX,AE26, 'Trade Log'!R:R) + SUMIF('Trade Log'!DX:DX, AE26, 'Trade Log'!S:S) + SUMIF('Trade Log'!DX:DX, AE26, 'Trade Log'!T:T)","v":0},{"$f":" SUMIFS('Trade Log'!EL:EL, 'Trade Log'!DX:DX, AE26, 'Trade Log'!EL:EL, \">0\")","v":0},{"$f":" ABS(SUMIFS('Trade Log'!EL:EL, 'Trade Log'!DX:DX, AE26, 'Trade Log'!EL:EL, \"<0\"))","v":0},9]
[null,null,null,null,null,null,null,null,null,null,null,null,null,null,null,null,null,null,null,null,null,null,null,null,null,null,"October",{"$f":" SUMIF('Trade Log'!DX:DX, AE27, 'Trade Log'!O:O) + SUMIF('Trade Log'!DX:DX,AE27, 'Trade Log'!P:P) + SUMIF('Trade Log'!DX:DX, AE27, 'Trade Log'!Q:Q) + SUMIF('Trade Log'!DX:DX,AE27, 'Trade Log'!R:R) + SUMIF('Trade Log'!DX:DX, AE27, 'Trade Log'!S:S) + SUMIF('Trade Log'!DX:DX, AE27, 'Trade Log'!T:T)","v":0},{"$f":" SUMIFS('Trade Log'!EL:EL, 'Trade Log'!DX:DX, AE27, 'Trade Log'!EL:EL, \">0\")","v":0},{"$f":" ABS(SUMIFS('Trade Log'!EL:EL, 'Trade Log'!DX:DX, AE27, 'Trade Log'!EL:EL, \"<0\"))","v":0},10]
[null,"Miscellaneous",null,null,null,null,null,null,null,null,null,null,null,null,null,null,null,null,null,null,null,null,null,null,null,null,"November",{"$f":" SUMIF('Trade Log'!DX:DX, AE28, 'Trade Log'!O:O) + SUMIF('Trade Log'!DX:DX,AE28, 'Trade Log'!P:P) + SUMIF('Trade Log'!DX:DX, AE28, 'Trade Log'!Q:Q) + SUMIF('Trade Log'!DX:DX,AE28, 'Trade Log'!R:R) + SUMIF('Trade Log'!DX:DX, AE28, 'Trade Log'!S:S) + SUMIF('Trade Log'!DX:DX, AE28, 'Trade Log'!T:T)","v":0},{"$f":" SUMIFS('Trade Log'!EL:EL, 'Trade Log'!DX:DX, AE28, 'Trade Log'!EL:EL, \">0\")","v":0},{"$f":" ABS(SUMIFS('Trade Log'!EL:EL, 'Trade Log'!DX:DX, AE28, 'Trade Log'!EL:EL, \"<0\"))","v":0},11]
[null,"Maximum Lot Size ",{"$f":" SUBTOTAL(104, ('Trade Log'!EP:EP))","v":0},null,null,null,null,null,null,null,null,null,null,null,null,null,null,null,null,null,null,null,null,null,null,null,"December",{"$f":" SUMIF('Trade Log'!DX:DX, AE29, 'Trade Log'!O:O) + SUMIF('Trade Log'!DX:DX,AE29, 'Trade Log'!P:P) + SUMIF('Trade Log'!DX:DX, AE29, 'Trade Log'!Q:Q) + SUMIF('Trade Log'!DX:DX,AE29, 'Trade Log'!R:R) + SUMIF('Trade Log'!DX:DX, AE29, 'Trade Log'!S:S) + SUMIF('Trade Log'!DX:DX, AE29, 'Trade Log'!T:T)","v":0},{"$f":" SUMIFS('Trade Log'!EL:EL, 'Trade Log'!DX:DX, AE29, 'Trade Log'!EL:EL, \">0\")","v":0},{"$f":" ABS(SUMIFS('Trade Log'!EL:EL, 'Trade Log'!DX:DX, AE29, 'Trade Log'!EL:EL, \"<0\"))","v":0},12]
[null,"Lowest Equity $",{"$f":" SUBTOTAL(105, ('Trade Log'!BU:BU))","v":0}]
[null,"Highest Equity $",{"$f":" SUBTOTAL(104, ('Trade Log'!BU:BU))","v":0},null,null,null,null,null,null,null,null,null,null,null,null,null,null,null,null,null,null,null,null,null,null,null,"Hour","Entries","Profits $","Losses $"]
[null,"Standard Deviation Per Trade $",{"$f":" SUBTOTAL(108, ('Trade Log'!BT:BT))","v":{"$error":"#DIV/0!"}},null,null,null,null,null,null,null,null,null,null,null,null,null,null,null,null,null,null,null,null,null,null,null,"00:00:00",{"$f":" SUMIFS('Trade Log'!O:O, 'Trade Log'!D:D, \">=00:00:00\", 'Trade Log'!D:D, \"<01:00:00\") + SUMIFS('Trade Log'!P:P, 'Trade Log'!D:D, \">=00:00:00\", 'Trade Log'!D:D, \"<01:00:00\") + SUMIFS('Trade Log'!Q:Q, 'Trade Log'!D:D, \">=00:00:00\", 'Trade Log'!D:D, \"<01:00:00\") + SUMIFS('Trade Log'!R:R, 'Trade Log'!D:D, \">=00:00:00\", 'Trade Log'!D:D, \"<01:00:00\")+ SUMIFS('Trade Log'!S:S, 'Trade Log'!D:D, \">=00:00:00\", 'Trade Log'!D:D, \"<01:00:00\") + SUMIFS('Trade Log'!T:T, 'Trade Log'!D:D, \">=00:00:00\", 'Trade Log'!D:D, \"<01:00:00\")","v":0},{"$f":" SUMIFS('Trade Log'!EL:EL, 'Trade Log'!F:F, \">=00:00:00\", 'Trade Log'!F:F, \"<01:00:00\", 'Trade Log'!EL:EL, \">0\")","v":0},{"$f":" ABS(SUMIFS('Trade Log'!EL:EL, 'Trade Log'!F:F, \">=00:00:00\", 'Trade Log'!F:F, \"<01:00:00\", 'Trade Log'!EL:EL, \"<0\"))","v":0}]
[null,"Standard Deviation Per Trade %",{"$f":" SUBTOTAL(108, ('Trade Log'!BX:BX))","v":{"$error":"#DIV/0!"}},null,null,null,null,null,null,null,null,null,null,null,null,null,null,null,null,null,null,null,null,null,null,null,"01:00:00",{"$f":" SUMIFS('Trade Log'!O:O, 'Trade Log'!D:D, \">=01:00:00\", 'Trade Log'!D:D, \"<02:00:00\") + SUMIFS('Trade Log'!P:P, 'Trade Log'!D:D, \">=01:00:00\", 'Trade Log'!D:D, \"<02:00:00\") + SUMIFS('Trade Log'!Q:Q, 'Trade Log'!D:D, \">=01:00:00\", 'Trade Log'!D:D, \"<02:00:00\") + SUMIFS('Trade Log'!R:R, 'Trade Log'!D:D, \">=01:00:00\", 'Trade Log'!D:D, \"<02:00:00\")+ SUMIFS('Trade Log'!S:S, 'Trade Log'!D:D, \">=01:00:00\", 'Trade Log'!D:D, \"<02:00:00\") + SUMIFS('Trade Log'!T:T, 'Trade Log'!D:D, \">=01:00:00\", 'Trade Log'!D:D, \"<02:00:00\")","v":0},{"$f":" SUMIFS('Trade Log'!EL:EL, 'Trade Log'!F:F, \">=01:00:00\", 'Trade Log'!F:F, \"<02:00:00\", 'Trade Log'!EL:EL, \">0\")","v":0},{"$f":" ABS(SUMIFS('Trade Log'!EL:EL, 'Trade Log'!F:F, \">=01:00:00\", 'Trade Log'!F:F, \"<02:00:00\", 'Trade Log'!EL:EL, \"<0\"))","v":0}]
[null,"Coefficient of Variation Per Trade $",{"$f":" C32/C21","v":{"$error":"#DIV/0!"}},null,null,null,null,null,null,null,null,null,null,null,null,null,null,null,null,null,null,null,null,null,null,null,"02:00:00",{"$f":" SUMIFS('Trade Log'!O:O, 'Trade Log'!D:D, \">=02:00:00\", 'Trade Log'!D:D, \"<03:00:00\") + SUMIFS('Trade Log'!P:P, 'Trade Log'!D:D, \">=02:00:00\", 'Trade Log'!D:D, \"<03:00:00\") + SUMIFS('Trade Log'!Q:Q, 'Trade Log'!D:D, \">=02:00:00\", 'Trade Log'!D:D, \"<03:00:00\") + SUMIFS('Trade Log'!R:R, 'Trade Log'!D:D, \">=02:00:00\", 'Trade Log'!D:D, \"<03:00:00\")+ SUMIFS('Trade Log'!S:S, 'Trade Log'!D:D, \">=02:00:00\", 'Trade Log'!D:D, \"<03:00:00\") + SUMIFS('Trade Log'!T:T, 'Trade Log'!D:D, \">=02:00:00\", 'Trade Log'!D:D, \"<03:00:00\")","v":0},{"$f":" SUMIFS('Trade Log'!EL:EL, 'Trade Log'!F:F, \">=02:00:00\", 'Trade Log'!F:F, \"<03:00:00\", 'Trade Log'!EL:EL, \">0\")","v":0},{"$f":" ABS(SUMIFS('Trade Log'!EL:EL, 'Trade Log'!F:F, \">=02:00:00\", 'Trade Log'!F:F, \"<03:00:00\", 'Trade Log'!EL:EL, \"<0\"))","v":0}]
[null,"Coefficient of Variation Per Trade %",{"$f":" C33/C22","v":{"$error":"#DIV/0!"}},null,null,null,null,null,null,null,null,null,null,null,null,null,null,null,null,null,null,null,null,null,null,null,"03:00:00",{"$f":" SUMIFS('Trade Log'!O:O, 'Trade Log'!D:D, \">=03:00:00\", 'Trade Log'!D:D, \"<04:00:00\") + SUMIFS('Trade Log'!P:P, 'Trade Log'!D:D, \">=03:00:00\", 'Trade Log'!D:D, \"<04:00:00\") + SUMIFS('Trade Log'!Q:Q, 'Trade Log'!D:D, \">=03:00:00\", 'Trade Log'!D:D, \"<04:00:00\") + SUMIFS('Trade Log'!R:R, 'Trade Log'!D:D, \">=03:00:00\", 'Trade Log'!D:D, \"<04:00:00\")+ SUMIFS('Trade Log'!S:S, 'Trade Log'!D:D, \">=03:00:00\", 'Trade Log'!D:D, \"<04:00:00\") + SUMIFS('Trade Log'!T:T, 'Trade Log'!D:D, \">=03:00:00\", 'Trade Log'!D:D, \"<04:00:00\")","v":0},{"$f":" SUMIFS('Trade Log'!EL:EL, 'Trade Log'!F:F, \">=03:00:00\", 'Trade Log'!F:F, \"<04:00:00\", 'Trade Log'!EL:EL, \">0\")","v":0},{"$f":" ABS(SUMIFS('Trade Log'!EL:EL, 'Trade Log'!F:F, \">=03:00:00\", 'Trade Log'!F:F, \"<04:00:00\", 'Trade Log'!EL:EL, \"<0\"))","v":0}]
[null,"Account Size Required",{"$f":" ABS('Drawdown|Run-up'!H7)","v":0},null,null,null,null,null,null,null,null,null,null,null,null,null,null,null,null,null,null,null,null,null,null,null,"04:00:00",{"$f":" SUMIFS('Trade Log'!O:O, 'Trade Log'!D:D, \">=04:00:00\", 'Trade Log'!D:D, \"<05:00:00\") + SUMIFS('Trade Log'!P:P, 'Trade Log'!D:D, \">=04:00:00\", 'Trade Log'!D:D, \"<05:00:00\") + SUMIFS('Trade Log'!Q:Q, 'Trade Log'!D:D, \">=04:00:00\", 'Trade Log'!D:D, \"<05:00:00\") + SUMIFS('Trade Log'!R:R, 'Trade Log'!D:D, \">=04:00:00\", 'Trade Log'!D:D, \"<05:00:00\")+ SUMIFS('Trade Log'!S:S, 'Trade Log'!D:D, \">=04:00:00\", 'Trade Log'!D:D, \"<05:00:00\") + SUMIFS('Trade Log'!T:T, 'Trade Log'!D:D, \">=04:00:00\", 'Trade Log'!D:D, \"<05:00:00\")","v":0},{"$f":" SUMIFS('Trade Log'!EL:EL, 'Trade Log'!F:F, \">=04:00:00\", 'Trade Log'!F:F, \"<05:00:00\", 'Trade Log'!EL:EL, \">0\")","v":0},{"$f":" ABS(SUMIFS('Trade Log'!EL:EL, 'Trade Log'!F:F, \">=04:00:00\", 'Trade Log'!F:F, \"<05:00:00\", 'Trade Log'!EL:EL, \"<0\"))","v":0}]
[null,"Current Streak",{"$f":" IF(LOOKUP(2,1/('Trade Log'!BM:BM<>\"\"),'Trade Log'!BM:BM)&\" \" = \"Streak \", \"\", LOOKUP(2,1/('Trade Log'!BM:BM<>\"\"),'Trade Log'!BM:BM)&\" \" )","v":""},null,null,null,null,null,null,null,null,null,null,null,null,null,null,null,null,null,null,null,null,null,null,null,"05:00:00",{"$f":" SUMIFS('Trade Log'!O:O, 'Trade Log'!D:D, \">=05:00:00\", 'Trade Log'!D:D, \"<06:00:00\") + SUMIFS('Trade Log'!P:P, 'Trade Log'!D:D, \">=05:00:00\", 'Trade Log'!D:D, \"<06:00:00\") + SUMIFS('Trade Log'!Q:Q, 'Trade Log'!D:D, \">=05:00:00\", 'Trade Log'!D:D, \"<06:00:00\") + SUMIFS('Trade Log'!R:R, 'Trade Log'!D:D, \">=05:00:00\", 'Trade Log'!D:D, \"<06:00:00\")+ SUMIFS('Trade Log'!S:S, 'Trade Log'!D:D, \">=05:00:00\", 'Trade Log'!D:D, \"<06:00:00\") + SUMIFS('Trade Log'!T:T, 'Trade Log'!D:D, \">=05:00:00\", 'Trade Log'!D:D, \"<06:00:00\")","v":0},{"$f":" SUMIFS('Trade Log'!EL:EL, 'Trade Log'!F:F, \">=05:00:00\", 'Trade Log'!F:F, \"<06:00:00\", 'Trade Log'!EL:EL, \">0\")","v":0},{"$f":" ABS(SUMIFS('Trade Log'!EL:EL, 'Trade Log'!F:F, \">=05:00:00\", 'Trade Log'!F:F, \"<06:00:00\", 'Trade Log'!EL:EL, \"<0\"))","v":0}]
[null,null,null,null,null,null,null,null,null,null,null,null,null,null,null,null,null,null,null,null,null,null,null,null,null,null,"06:00:00",{"$f":" SUMIFS('Trade Log'!O:O, 'Trade Log'!D:D, \">=06:00:00\", 'Trade Log'!D:D, \"<07:00:00\") + SUMIFS('Trade Log'!P:P, 'Trade Log'!D:D, \">=06:00:00\", 'Trade Log'!D:D, \"<07:00:00\") + SUMIFS('Trade Log'!Q:Q, 'Trade Log'!D:D, \">=06:00:00\", 'Trade Log'!D:D, \"<07:00:00\") + SUMIFS('Trade Log'!R:R, 'Trade Log'!D:D, \">=06:00:00\", 'Trade Log'!D:D, \"<07:00:00\")+ SUMIFS('Trade Log'!S:S, 'Trade Log'!D:D, \">=06:00:00\", 'Trade Log'!D:D, \"<07:00:00\") + SUMIFS('Trade Log'!T:T, 'Trade Log'!D:D, \">=06:00:00\", 'Trade Log'!D:D, \"<07:00:00\")","v":0},{"$f":" SUMIFS('Trade Log'!EL:EL, 'Trade Log'!F:F, \">=06:00:00\", 'Trade Log'!F:F, \"<07:00:00\", 'Trade Log'!EL:EL, \">0\")","v":0},{"$f":" ABS(SUMIFS('Trade Log'!EL:EL, 'Trade Log'!F:F, \">=06:00:00\", 'Trade Log'!F:F, \"<07:00:00\", 'Trade Log'!EL:EL, \"<0\"))","v":0}]
[null,"Performance Ratios",null,null,null,null,null,null,null,null,null,null,null,null,null,null,null,null,null,null,null,null,null,null,null,null,"07:00:00",{"$f":" SUMIFS('Trade Log'!O:O, 'Trade Log'!D:D, \">=07:00:00\", 'Trade Log'!D:D, \"<08:00:00\") + SUMIFS('Trade Log'!P:P, 'Trade Log'!D:D, \">=07:00:00\", 'Trade Log'!D:D, \"<08:00:00\") + SUMIFS('Trade Log'!Q:Q, 'Trade Log'!D:D, \">=07:00:00\", 'Trade Log'!D:D, \"<08:00:00\") + SUMIFS('Trade Log'!R:R, 'Trade Log'!D:D, \">=07:00:00\", 'Trade Log'!D:D, \"<08:00:00\")+ SUMIFS('Trade Log'!S:S, 'Trade Log'!D:D, \">=07:00:00\", 'Trade Log'!D:D, \"<08:00:00\") + SUMIFS('Trade Log'!T:T, 'Trade Log'!D:D, \">=07:00:00\", 'Trade Log'!D:D, \"<08:00:00\")","v":0},{"$f":" SUMIFS('Trade Log'!EL:EL, 'Trade Log'!F:F, \">=07:00:00\", 'Trade Log'!F:F, \"<08:00:00\", 'Trade Log'!EL:EL, \">0\")","v":0},{"$f":" ABS(SUMIFS('Trade Log'!EL:EL, 'Trade Log'!F:F, \">=07:00:00\", 'Trade Log'!F:F, \"<08:00:00\", 'Trade Log'!EL:EL, \"<0\"))","v":0}]
[null,"Profit Factor",{"$f":" IFERROR('Wins|Losses|BE''s'!C9/ABS('Wins|Losses|BE''s'!H9),\"\")","v":""},null,null,null,"LR Correlation ******",{"$f":" 'Trade Log'!FM15","v":{"$error":"#DIV/0!"}},null,null,null,null,null,null,null,null,null,null,null,null,null,null,null,null,null,null,"08:00:00",{"$f":" SUMIFS('Trade Log'!O:O, 'Trade Log'!D:D, \">=08:00:00\", 'Trade Log'!D:D, \"<09:00:00\") + SUMIFS('Trade Log'!P:P, 'Trade Log'!D:D, \">=08:00:00\", 'Trade Log'!D:D, \"<09:00:00\") + SUMIFS('Trade Log'!Q:Q, 'Trade Log'!D:D, \">=08:00:00\", 'Trade Log'!D:D, \"<09:00:00\") + SUMIFS('Trade Log'!R:R, 'Trade Log'!D:D, \">=08:00:00\", 'Trade Log'!D:D, \"<09:00:00\")+ SUMIFS('Trade Log'!S:S, 'Trade Log'!D:D, \">=08:00:00\", 'Trade Log'!D:D, \"<09:00:00\") + SUMIFS('Trade Log'!T:T, 'Trade Log'!D:D, \">=08:00:00\", 'Trade Log'!D:D, \"<09:00:00\")","v":0},{"$f":" SUMIFS('Trade Log'!EL:EL, 'Trade Log'!F:F, \">=08:00:00\", 'Trade Log'!F:F, \"<09:00:00\", 'Trade Log'!EL:EL, \">0\")","v":0},{"$f":" ABS(SUMIFS('Trade Log'!EL:EL, 'Trade Log'!F:F, \">=08:00:00\", 'Trade Log'!F:F, \"<09:00:00\", 'Trade Log'!EL:EL, \"<0\"))","v":0}]
[null,"% Profit Factor",{"$f":" 'Trade Log'!FL11/ABS('Trade Log'!FL12)","v":{"$error":"#DIV/0!"}},null,null,null,"LR Standard Error ******",{"$f":" 'Trade Log'!FN15","v":{"$error":"#DIV/0!"}},null,null,null,null,null,null,null,null,null,null,null,null,null,null,null,null,null,null,"09:00:00",{"$f":" SUMIFS('Trade Log'!O:O, 'Trade Log'!D:D, \">=09:00:00\", 'Trade Log'!D:D, \"<10:00:00\") + SUMIFS('Trade Log'!P:P, 'Trade Log'!D:D, \">=09:00:00\", 'Trade Log'!D:D, \"<10:00:00\") + SUMIFS('Trade Log'!Q:Q, 'Trade Log'!D:D, \">=09:00:00\", 'Trade Log'!D:D, \"<10:00:00\") + SUMIFS('Trade Log'!R:R, 'Trade Log'!D:D, \">=09:00:00\", 'Trade Log'!D:D, \"<10:00:00\")+ SUMIFS('Trade Log'!S:S, 'Trade Log'!D:D, \">=09:00:00\", 'Trade Log'!D:D, \"<10:00:00\") + SUMIFS('Trade Log'!T:T, 'Trade Log'!D:D, \">=09:00:00\", 'Trade Log'!D:D, \"<10:00:00\")","v":0},{"$f":" SUMIFS('Trade Log'!EL:EL, 'Trade Log'!F:F, \">=09:00:00\", 'Trade Log'!F:F, \"<10:00:00\", 'Trade Log'!EL:EL, \">0\")","v":0},{"$f":" ABS(SUMIFS('Trade Log'!EL:EL, 'Trade Log'!F:F, \">=09:00:00\", 'Trade Log'!F:F, \"<10:00:00\", 'Trade Log'!EL:EL, \"<0\"))","v":0}]
[null,"Recovery Factor",{"$f":" IFERROR(C7/ABS('Drawdown|Run-up'!H7),\"\")","v":""},null,null,null,"Quality Index",{"$f":" SUBTOTAL(101, ('Trade Log'!CN:CN))/SUBTOTAL(108, ('Trade Log'!CN:CN))","v":{"$error":"#DIV/0!"}},null,null,null,null,null,null,null,null,null,null,null,null,null,null,null,null,null,null,"10:00:00",{"$f":" SUMIFS('Trade Log'!O:O, 'Trade Log'!D:D, \">=10:00:00\", 'Trade Log'!D:D, \"<11:00:00\") + SUMIFS('Trade Log'!P:P, 'Trade Log'!D:D, \">=10:00:00\", 'Trade Log'!D:D, \"<11:00:00\") + SUMIFS('Trade Log'!Q:Q, 'Trade Log'!D:D, \">=10:00:00\", 'Trade Log'!D:D, \"<11:00:00\") + SUMIFS('Trade Log'!R:R, 'Trade Log'!D:D, \">=10:00:00\", 'Trade Log'!D:D, \"<11:00:00\")+ SUMIFS('Trade Log'!S:S, 'Trade Log'!D:D, \">=10:00:00\", 'Trade Log'!D:D, \"<11:00:00\") + SUMIFS('Trade Log'!T:T, 'Trade Log'!D:D, \">=10:00:00\", 'Trade Log'!D:D, \"<11:00:00\")","v":0},{"$f":" SUMIFS('Trade Log'!EL:EL, 'Trade Log'!F:F, \">=10:00:00\", 'Trade Log'!F:F, \"<11:00:00\", 'Trade Log'!EL:EL, \">0\")","v":0},{"$f":" ABS(SUMIFS('Trade Log'!EL:EL, 'Trade Log'!F:F, \">=10:00:00\", 'Trade Log'!F:F, \"<11:00:00\", 'Trade Log'!EL:EL, \"<0\"))","v":0}]
[null,"Return Over Max Drawdown",{"$f":" IFERROR(C8/ABS('Drawdown|Run-up'!H8),\"\")","v":""},null,null,null,"K-Ratio ******",{"$f":" 'Trade Log'!FM17","v":{"$error":"#DIV/0!"}},null,null,null,null,null,null,null,null,null,null,null,null,null,null,null,null,null,null,"11:00:00",{"$f":" SUMIFS('Trade Log'!O:O, 'Trade Log'!D:D, \">=11:00:00\", 'Trade Log'!D:D, \"<12:00:00\") + SUMIFS('Trade Log'!P:P, 'Trade Log'!D:D, \">=11:00:00\", 'Trade Log'!D:D, \"<12:00:00\") + SUMIFS('Trade Log'!Q:Q, 'Trade Log'!D:D, \">=11:00:00\", 'Trade Log'!D:D, \"<12:00:00\") + SUMIFS('Trade Log'!R:R, 'Trade Log'!D:D, \">=11:00:00\", 'Trade Log'!D:D, \"<12:00:00\")+ SUMIFS('Trade Log'!S:S, 'Trade Log'!D:D, \">=11:00:00\", 'Trade Log'!D:D, \"<12:00:00\") + SUMIFS('Trade Log'!T:T, 'Trade Log'!D:D, \">=11:00:00\", 'Trade Log'!D:D, \"<12:00:00\")","v":0},{"$f":" SUMIFS('Trade Log'!EL:EL, 'Trade Log'!F:F, \">=11:00:00\", 'Trade Log'!F:F, \"<12:00:00\", 'Trade Log'!EL:EL, \">0\")","v":0},{"$f":" ABS(SUMIFS('Trade Log'!EL:EL, 'Trade Log'!F:F, \">=11:00:00\", 'Trade Log'!F:F, \"<12:00:00\", 'Trade Log'!EL:EL, \"<0\"))","v":0}]
[null,"Profit/Loss Ratio",{"$f":" IFERROR('Wins|Losses|BE''s'!C10/ABS('Wins|Losses|BE''s'!H10),\"\")","v":""},null,null,null,"RINA Index",{"$f":" IFERROR((C7 - SUBTOTAL(109, ('Trade Log'!CQ:CQ)))/(-'Efficiency & MAE|MFE'!H8*H26),\"\")","v":""},null,null,null,null,null,null,null,null,null,null,null,null,null,null,null,null,null,null,"12:00:00",{"$f":" SUMIFS('Trade Log'!O:O, 'Trade Log'!D:D, \">=12:00:00\", 'Trade Log'!D:D, \"<13:00:00\") + SUMIFS('Trade Log'!P:P, 'Trade Log'!D:D, \">=12:00:00\", 'Trade Log'!D:D, \"<13:00:00\") + SUMIFS('Trade Log'!Q:Q, 'Trade Log'!D:D, \">=12:00:00\", 'Trade Log'!D:D, \"<13:00:00\") + SUMIFS('Trade Log'!R:R, 'Trade Log'!D:D, \">=12:00:00\", 'Trade Log'!D:D, \"<13:00:00\")+ SUMIFS('Trade Log'!S:S, 'Trade Log'!D:D, \">=12:00:00\", 'Trade Log'!D:D, \"<13:00:00\") + SUMIFS('Trade Log'!T:T, 'Trade Log'!D:D, \">=12:00:00\", 'Trade Log'!D:D, \"<13:00:00\")","v":0},{"$f":" SUMIFS('Trade Log'!EL:EL, 'Trade Log'!F:F, \">=12:00:00\", 'Trade Log'!F:F, \"<13:00:00\", 'Trade Log'!EL:EL, \">0\")","v":0},{"$f":" ABS(SUMIFS('Trade Log'!EL:EL, 'Trade Log'!F:F, \">=12:00:00\", 'Trade Log'!F:F, \"<13:00:00\", 'Trade Log'!EL:EL, \"<0\"))","v":0}]
[null,"% Profit/Loss Ratio",{"$f":" 'Wins|Losses|BE''s'!C11/ABS('Wins|Losses|BE''s'!H11)","v":{"$error":"#VALUE!"}},null,null,null,"Ulcer Index (14-Day Period)",{"$f":" IFERROR(LOOKUP(2,1/('Trade Log'!CD:CD<>\"\"),'Trade Log'!CD:CD),\"\")","v":""},null,null,null,null,null,null,null,null,null,null,null,null,null,null,null,null,null,null,"13:00:00",{"$f":" SUMIFS('Trade Log'!O:O, 'Trade Log'!D:D, \">=13:00:00\", 'Trade Log'!D:D, \"<14:00:00\") + SUMIFS('Trade Log'!P:P, 'Trade Log'!D:D, \">=13:00:00\", 'Trade Log'!D:D, \"<14:00:00\") + SUMIFS('Trade Log'!Q:Q, 'Trade Log'!D:D, \">=13:00:00\", 'Trade Log'!D:D, \"<14:00:00\") + SUMIFS('Trade Log'!R:R, 'Trade Log'!D:D, \">=13:00:00\", 'Trade Log'!D:D, \"<14:00:00\")+ SUMIFS('Trade Log'!S:S, 'Trade Log'!D:D, \">=13:00:00\", 'Trade Log'!D:D, \"<14:00:00\") + SUMIFS('Trade Log'!T:T, 'Trade Log'!D:D, \">=13:00:00\", 'Trade Log'!D:D, \"<14:00:00\")","v":0},{"$f":" SUMIFS('Trade Log'!EL:EL, 'Trade Log'!F:F, \">=13:00:00\", 'Trade Log'!F:F, \"<14:00:00\", 'Trade Log'!EL:EL, \">0\")","v":0},{"$f":" ABS(SUMIFS('Trade Log'!EL:EL, 'Trade Log'!F:F, \">=13:00:00\", 'Trade Log'!F:F, \"<14:00:00\", 'Trade Log'!EL:EL, \"<0\"))","v":0}]
[null,"Expectation",{"$f":" C22/ABS('Wins|Losses|BE''s'!H11)","v":{"$error":"#VALUE!"}},null,null,null,"Sharpe Ratio (Arith./Geo.) **",{"$f":" IFERROR(TEXT(('Trade Log'!FJ11-'Trade Log'!FJ10)/'Trade Log'!FJ13, \"0.000\"),\"\")&\" / \"&IFERROR(TEXT(('Trade Log'!FJ12-'Trade Log'!FJ10)/'Trade Log'!FJ13, \"0.000 \"),\"\")","v":" / "},null,null,null,null,null,null,null,null,null,null,null,null,null,null,null,null,null,null,"14:00:00",{"$f":" SUMIFS('Trade Log'!O:O, 'Trade Log'!D:D, \">=14:00:00\", 'Trade Log'!D:D, \"<15:00:00\") + SUMIFS('Trade Log'!P:P, 'Trade Log'!D:D, \">=14:00:00\", 'Trade Log'!D:D, \"<15:00:00\") + SUMIFS('Trade Log'!Q:Q, 'Trade Log'!D:D, \">=14:00:00\", 'Trade Log'!D:D, \"<15:00:00\") + SUMIFS('Trade Log'!R:R, 'Trade Log'!D:D, \">=14:00:00\", 'Trade Log'!D:D, \"<15:00:00\")+ SUMIFS('Trade Log'!S:S, 'Trade Log'!D:D, \">=14:00:00\", 'Trade Log'!D:D, \"<15:00:00\") + SUMIFS('Trade Log'!T:T, 'Trade Log'!D:D, \">=14:00:00\", 'Trade Log'!D:D, \"<15:00:00\")","v":0},{"$f":" SUMIFS('Trade Log'!EL:EL, 'Trade Log'!F:F, \">=14:00:00\", 'Trade Log'!F:F, \"<15:00:00\", 'Trade Log'!EL:EL, \">0\")","v":0},{"$f":" ABS(SUMIFS('Trade Log'!EL:EL, 'Trade Log'!F:F, \">=14:00:00\", 'Trade Log'!F:F, \"<15:00:00\", 'Trade Log'!EL:EL, \"<0\"))","v":0}]
[null,"Kelly %",{"$f":" IFERROR(C21/'Wins|Losses|BE''s'!C10,\"\")","v":""},null,null,null,"Sortino Ratio (Arith./Geo.) **",{"$f":"IFERROR(TEXT(('Trade Log'!FJ11-'Trade Log'!FJ10)/'Trade Log'!FJ19, \"0.000\"),\"\") & \" / \" &IFERROR(TEXT(('Trade Log'!FJ12-'Trade Log'!FJ10)/'Trade Log'!FJ19, \"0.000 \"),\"\")","v":" / "},null,null,null,null,null,null,null,null,null,null,null,null,null,null,null,null,null,null,"15:00:00",{"$f":" SUMIFS('Trade Log'!O:O, 'Trade Log'!D:D, \">=15:00:00\", 'Trade Log'!D:D, \"<16:00:00\") + SUMIFS('Trade Log'!P:P, 'Trade Log'!D:D, \">=15:00:00\", 'Trade Log'!D:D, \"<16:00:00\") + SUMIFS('Trade Log'!Q:Q, 'Trade Log'!D:D, \">=15:00:00\", 'Trade Log'!D:D, \"<16:00:00\") + SUMIFS('Trade Log'!R:R, 'Trade Log'!D:D, \">=15:00:00\", 'Trade Log'!D:D, \"<16:00:00\")+ SUMIFS('Trade Log'!S:S, 'Trade Log'!D:D, \">=15:00:00\", 'Trade Log'!D:D, \"<16:00:00\") + SUMIFS('Trade Log'!T:T, 'Trade Log'!D:D, \">=15:00:00\", 'Trade Log'!D:D, \"<16:00:00\")","v":0},{"$f":" SUMIFS('Trade Log'!EL:EL, 'Trade Log'!F:F, \">=15:00:00\", 'Trade Log'!F:F, \"<16:00:00\", 'Trade Log'!EL:EL, \">0\")","v":0},{"$f":" ABS(SUMIFS('Trade Log'!EL:EL, 'Trade Log'!F:F, \">=15:00:00\", 'Trade Log'!F:F, \"<16:00:00\", 'Trade Log'!EL:EL, \"<0\"))","v":0}]
[null,"Normalized Expectancy %",{"$f":" IFERROR(C21/ABS('Wins|Losses|BE''s'!H10),\"\")","v":""},null,null,null,"Standard Deviation $ **",{"$f":" IFERROR('Trade Log'!FK12,\"\")","v":""},null,null,null,null,null,null,null,null,null,null,null,null,null,null,null,null,null,null,"16:00:00",{"$f":" SUMIFS('Trade Log'!O:O, 'Trade Log'!D:D, \">=16:00:00\", 'Trade Log'!D:D, \"<17:00:00\") + SUMIFS('Trade Log'!P:P, 'Trade Log'!D:D, \">=16:00:00\", 'Trade Log'!D:D, \"<17:00:00\") + SUMIFS('Trade Log'!Q:Q, 'Trade Log'!D:D, \">=16:00:00\", 'Trade Log'!D:D, \"<17:00:00\") + SUMIFS('Trade Log'!R:R, 'Trade Log'!D:D, \">=16:00:00\", 'Trade Log'!D:D, \"<17:00:00\")+ SUMIFS('Trade Log'!S:S, 'Trade Log'!D:D, \">=16:00:00\", 'Trade Log'!D:D, \"<17:00:00\") + SUMIFS('Trade Log'!T:T, 'Trade Log'!D:D, \">=16:00:00\", 'Trade Log'!D:D, \"<17:00:00\")","v":0},{"$f":" SUMIFS('Trade Log'!EL:EL, 'Trade Log'!F:F, \">=16:00:00\", 'Trade Log'!F:F, \"<17:00:00\", 'Trade Log'!EL:EL, \">0\")","v":0},{"$f":" ABS(SUMIFS('Trade Log'!EL:EL, 'Trade Log'!F:F, \">=16:00:00\", 'Trade Log'!F:F, \"<17:00:00\", 'Trade Log'!EL:EL, \"<0\"))","v":0}]
[null,"Probability of Random Chance",{"$f":" _xlfn.T.DIST.RT((C22/(C33/SQRT(C10-1))),C10-1)","v":{"$error":"#VALUE!"}},null,null,null,"Standard Deviation % **",{"$f":" IFERROR('Trade Log'!FJ13,\"\")","v":""},null,null,null,null,null,null,null,null,null,null,null,null,null,null,null,null,null,null,"17:00:00",{"$f":" SUMIFS('Trade Log'!O:O, 'Trade Log'!D:D, \">=17:00:00\", 'Trade Log'!D:D, \"<18:00:00\") + SUMIFS('Trade Log'!P:P, 'Trade Log'!D:D, \">=17:00:00\", 'Trade Log'!D:D, \"<18:00:00\") + SUMIFS('Trade Log'!Q:Q, 'Trade Log'!D:D, \">=17:00:00\", 'Trade Log'!D:D, \"<18:00:00\") + SUMIFS('Trade Log'!R:R, 'Trade Log'!D:D, \">=17:00:00\", 'Trade Log'!D:D, \"<18:00:00\")+ SUMIFS('Trade Log'!S:S, 'Trade Log'!D:D, \">=17:00:00\", 'Trade Log'!D:D, \"<18:00:00\") + SUMIFS('Trade Log'!T:T, 'Trade Log'!D:D, \">=17:00:00\", 'Trade Log'!D:D, \"<18:00:00\")","v":0},{"$f":" SUMIFS('Trade Log'!EL:EL, 'Trade Log'!F:F, \">=17:00:00\", 'Trade Log'!F:F, \"<18:00:00\", 'Trade Log'!EL:EL, \">0\")","v":0},{"$f":" ABS(SUMIFS('Trade Log'!EL:EL, 'Trade Log'!F:F, \">=17:00:00\", 'Trade Log'!F:F, \"<18:00:00\", 'Trade Log'!EL:EL, \"<0\"))","v":0}]
[null,"Z-Score (% Confidence)",{"$f":" IFERROR(TEXT(((C10*(LOOKUP(2,1/('Trade Log'!BO:BO<>\"\"),'Trade Log'!BO:BO) - (1/2))-2*'Wins|Losses|BE''s'!C8*'Wins|Losses|BE''s'!H8)/(((2*'Wins|Losses|BE''s'!C8*'Wins|Losses|BE''s'!H8)*((2*'Wins|Losses|BE''s'!C8*'Wins|Losses|BE''s'!H8) - C10))/(C10 - 1))^(1/2)),\"#,###0.000\") & \" \" & \"(\" & TEXT(1 - (((1 - _xlfn.NORM.S.DIST(ABS((C10*(LOOKUP(2,1/('Trade Log'!BO:BO<>\"\"),'Trade Log'!BO:BO) - (1/2))-2*'Wins|Losses|BE''s'!C8*'Wins|Losses|BE''s'!H8)/(((2*'Wins|Losses|BE''s'!C8*'Wins|Losses|BE''s'!H8)*((2*'Wins|Losses|BE''s'!C8*'Wins|Losses|BE''s'!H8) - C10))/(C10 - 1))^(1/2)),TRUE)))*2), \"#,###0.000%\") & \") \",\"\")","v":""},null,null,null,"Coefficient of Variation $ **",{"$f":" H48/H7","v":{"$error":"#VALUE!"}},null,null,null,null,null,null,null,null,null,null,null,null,null,null,null,null,null,null,"18:00:00",{"$f":" SUMIFS('Trade Log'!O:O, 'Trade Log'!D:D, \">=18:00:00\", 'Trade Log'!D:D, \"<19:00:00\") + SUMIFS('Trade Log'!P:P, 'Trade Log'!D:D, \">=18:00:00\", 'Trade Log'!D:D, \"<19:00:00\") + SUMIFS('Trade Log'!Q:Q, 'Trade Log'!D:D, \">=18:00:00\", 'Trade Log'!D:D, \"<19:00:00\") + SUMIFS('Trade Log'!R:R, 'Trade Log'!D:D, \">=18:00:00\", 'Trade Log'!D:D, \"<19:00:00\")+ SUMIFS('Trade Log'!S:S, 'Trade Log'!D:D, \">=18:00:00\", 'Trade Log'!D:D, \"<19:00:00\") + SUMIFS('Trade Log'!T:T, 'Trade Log'!D:D, \">=18:00:00\", 'Trade Log'!D:D, \"<19:00:00\")","v":0},{"$f":" SUMIFS('Trade Log'!EL:EL, 'Trade Log'!F:F, \">=18:00:00\", 'Trade Log'!F:F, \"<19:00:00\", 'Trade Log'!EL:EL, \">0\")","v":0},{"$f":" ABS(SUMIFS('Trade Log'!EL:EL, 'Trade Log'!F:F, \">=18:00:00\", 'Trade Log'!F:F, \"<19:00:00\", 'Trade Log'!EL:EL, \"<0\"))","v":0}]
[null,"CPC Index",{"$f":" IFERROR(C40*C44*'Wins|Losses|BE''s'!R10,\"\")","v":""},null,null,null,"Coefficient of Variation % **",{"$f":" H49/H10","v":{"$error":"#VALUE!"}},null,null,null,null,null,null,null,null,null,null,null,null,null,null,null,null,null,null,"19:00:00",{"$f":" SUMIFS('Trade Log'!O:O, 'Trade Log'!D:D, \">=19:00:00\", 'Trade Log'!D:D, \"<20:00:00\") + SUMIFS('Trade Log'!P:P, 'Trade Log'!D:D, \">=19:00:00\", 'Trade Log'!D:D, \"<20:00:00\") + SUMIFS('Trade Log'!Q:Q, 'Trade Log'!D:D, \">=19:00:00\", 'Trade Log'!D:D, \"<20:00:00\") + SUMIFS('Trade Log'!R:R, 'Trade Log'!D:D, \">=19:00:00\", 'Trade Log'!D:D, \"<20:00:00\")+ SUMIFS('Trade Log'!S:S, 'Trade Log'!D:D, \">=19:00:00\", 'Trade Log'!D:D, \"<20:00:00\") + SUMIFS('Trade Log'!T:T, 'Trade Log'!D:D, \">=19:00:00\", 'Trade Log'!D:D, \"<20:00:00\")","v":0},{"$f":" SUMIFS('Trade Log'!EL:EL, 'Trade Log'!F:F, \">=19:00:00\", 'Trade Log'!F:F, \"<20:00:00\", 'Trade Log'!EL:EL, \">0\")","v":0},{"$f":" ABS(SUMIFS('Trade Log'!EL:EL, 'Trade Log'!F:F, \">=19:00:00\", 'Trade Log'!F:F, \"<20:00:00\", 'Trade Log'!EL:EL, \"<0\"))","v":0}]
[null,"% CPC Index",{"$f":" IFERROR(C41*C45*'Wins|Losses|BE''s'!R10,\"\")","v":""},null,null,null,"Downside Deviation $ **",{"$f":" IFERROR('Trade Log'!FJ24,\"\")","v":""},null,null,null,null,null,null,null,null,null,null,null,null,null,null,null,null,null,null,"20:00:00",{"$f":" SUMIFS('Trade Log'!O:O, 'Trade Log'!D:D, \">=20:00:00\", 'Trade Log'!D:D, \"<21:00:00\") + SUMIFS('Trade Log'!P:P, 'Trade Log'!D:D, \">=20:00:00\", 'Trade Log'!D:D, \"<21:00:00\") + SUMIFS('Trade Log'!Q:Q, 'Trade Log'!D:D, \">=20:00:00\", 'Trade Log'!D:D, \"<21:00:00\") + SUMIFS('Trade Log'!R:R, 'Trade Log'!D:D, \">=20:00:00\", 'Trade Log'!D:D, \"<21:00:00\")+ SUMIFS('Trade Log'!S:S, 'Trade Log'!D:D, \">=20:00:00\", 'Trade Log'!D:D, \"<21:00:00\") + SUMIFS('Trade Log'!T:T, 'Trade Log'!D:D, \">=20:00:00\", 'Trade Log'!D:D, \"<21:00:00\")","v":0},{"$f":" SUMIFS('Trade Log'!EL:EL, 'Trade Log'!F:F, \">=20:00:00\", 'Trade Log'!F:F, \"<21:00:00\", 'Trade Log'!EL:EL, \">0\")","v":0},{"$f":" ABS(SUMIFS('Trade Log'!EL:EL, 'Trade Log'!F:F, \">=20:00:00\", 'Trade Log'!F:F, \"<21:00:00\", 'Trade Log'!EL:EL, \"<0\"))","v":0}]
[null,"TradersIQ Index",{"$f":" IFERROR(('Wins|Losses|BE''s'!R11*(1 + C44)),\"\")","v":""},null,null,null,"Downside Deviation % **",{"$f":" IFERROR('Trade Log'!FJ19,\"\")","v":""},null,null,null,null,null,null,null,null,null,null,null,null,null,null,null,null,null,null,"21:00:00",{"$f":" SUMIFS('Trade Log'!O:O, 'Trade Log'!D:D, \">=21:00:00\", 'Trade Log'!D:D, \"<22:00:00\") + SUMIFS('Trade Log'!P:P, 'Trade Log'!D:D, \">=21:00:00\", 'Trade Log'!D:D, \"<22:00:00\") + SUMIFS('Trade Log'!Q:Q, 'Trade Log'!D:D, \">=21:00:00\", 'Trade Log'!D:D, \"<22:00:00\") + SUMIFS('Trade Log'!R:R, 'Trade Log'!D:D, \">=21:00:00\", 'Trade Log'!D:D, \"<22:00:00\")+ SUMIFS('Trade Log'!S:S, 'Trade Log'!D:D, \">=21:00:00\", 'Trade Log'!D:D, \"<22:00:00\") + SUMIFS('Trade Log'!T:T, 'Trade Log'!D:D, \">=21:00:00\", 'Trade Log'!D:D, \"<22:00:00\")","v":0},{"$f":" SUMIFS('Trade Log'!EL:EL, 'Trade Log'!F:F, \">=21:00:00\", 'Trade Log'!F:F, \"<22:00:00\", 'Trade Log'!EL:EL, \">0\")","v":0},{"$f":" ABS(SUMIFS('Trade Log'!EL:EL, 'Trade Log'!F:F, \">=21:00:00\", 'Trade Log'!F:F, \"<22:00:00\", 'Trade Log'!EL:EL, \"<0\"))","v":0}]
[null,null,null,null,null,null,null,null,null,null,null,null,null,null,null,null,null,null,null,null,null,null,null,null,null,null,"22:00:00",{"$f":" SUMIFS('Trade Log'!O:O, 'Trade Log'!D:D, \">=22:00:00\", 'Trade Log'!D:D, \"<23:00:00\") + SUMIFS('Trade Log'!P:P, 'Trade Log'!D:D, \">=22:00:00\", 'Trade Log'!D:D, \"<23:00:00\") + SUMIFS('Trade Log'!Q:Q, 'Trade Log'!D:D, \">=22:00:00\", 'Trade Log'!D:D, \"<23:00:00\") + SUMIFS('Trade Log'!R:R, 'Trade Log'!D:D, \">=22:00:00\", 'Trade Log'!D:D, \"<23:00:00\")+ SUMIFS('Trade Log'!S:S, 'Trade Log'!D:D, \">=22:00:00\", 'Trade Log'!D:D, \"<23:00:00\") + SUMIFS('Trade Log'!T:T, 'Trade Log'!D:D, \">=22:00:00\", 'Trade Log'!D:D, \"<23:00:00\")","v":0},{"$f":" SUMIFS('Trade Log'!EL:EL, 'Trade Log'!F:F, \">=22:00:00\", 'Trade Log'!F:F, \"<23:00:00\", 'Trade Log'!EL:EL, \">0\")","v":0},{"$f":" ABS(SUMIFS('Trade Log'!EL:EL, 'Trade Log'!F:F, \">=22:00:00\", 'Trade Log'!F:F, \"<23:00:00\", 'Trade Log'!EL:EL, \"<0\"))","v":0}]
[null,null,null,null,null,null,null,null,null,null,null,null,null,null,null,null,null,null,null,null,null,null,null,null,null,null,"23:00:00",{"$f":" SUMIFS('Trade Log'!O:O, 'Trade Log'!D:D, \">=23:00:00\", 'Trade Log'!D:D, \"<24:00:00\") + SUMIFS('Trade Log'!P:P, 'Trade Log'!D:D, \">=23:00:00\", 'Trade Log'!D:D, \"<24:00:00\") + SUMIFS('Trade Log'!Q:Q, 'Trade Log'!D:D, \">=23:00:00\", 'Trade Log'!D:D, \"<24:00:00\") + SUMIFS('Trade Log'!R:R, 'Trade Log'!D:D, \">=23:00:00\", 'Trade Log'!D:D, \"<24:00:00\")+ SUMIFS('Trade Log'!S:S, 'Trade Log'!D:D, \">=23:00:00\", 'Trade Log'!D:D, \"<24:00:00\") + SUMIFS('Trade Log'!T:T, 'Trade Log'!D:D, \">=23:00:00\", 'Trade Log'!D:D, \"<24:00:00\")","v":0},{"$f":" SUMIFS('Trade Log'!EL:EL, 'Trade Log'!F:F, \">=23:00:00\", 'Trade Log'!F:F, \"<24:00:00\", 'Trade Log'!EL:EL, \">0\")","v":0},{"$f":" ABS(SUMIFS('Trade Log'!EL:EL, 'Trade Log'!F:F, \">=23:00:00\", 'Trade Log'!F:F, \"<24:00:00\", 'Trade Log'!EL:EL, \"<0\"))","v":0}]

{"sheet":"Wins|Losses|BE's","index":4,"n_rows":31,"n_cols":20,"rows_kept":31,"cut":false,"hidden":false,"merged":[[10,12,10,14],[5,11,5,14],[6,11,6,14],[7,12,7,14],[8,12,8,14],[9,12,9,14],[23,1,23,4],[23,6,23,9],[22,2,22,4],[22,7,22,9],[19,2,19,4],[19,7,19,9],[20,2,20,4],[20,7,20,9],[21,2,21,4],[21,7,21,9],[16,2,16,4],[16,7,16,9],[17,2,17,4],[17,7,17,9],[18,2,18,4],[18,7,18,9],[15,2,15,4],[15,7,15,9],[10,2,10,4],[10,7,10,9],[11,2,11,4],[11,7,11,9],[12,2,12,4],[12,7,12,9],[13,2,13,4],[13,7,13,9],[9,2,9,4],[9,7,9,9],[14,2,14,4],[14,7,14,9],[0,15,0,16],[7,2,7,4],[7,7,7,9],[8,2,8,4],[8,7,8,9],[1,1,1,14],[3,1,3,14],[5,1,5,4],[5,6,5,9],[6,1,6,4],[6,6,6,9],[11,11,11,14]]}
[]
[null," "]
[]
[null,"Wins|Losses|BE's"]
[]
[null,"Winning Trade Analysis",null,null,null,null,"Losing Trade Analysis",null,null,null,null,"Break-Even Trade Analysis",null,null,null,null,null,"Wins","Losses","BE's"]
[null,"Overall",null,null,null,null,"Overall",null,null,null,null,"Overall",null,null,null,null,null,{"$f":" C8","v":0},{"$f":" H8","v":0},{"$f":" M8","v":0}]
[null,"Total # of Winning Trades",{"$f":" SUBTOTAL(109, ('Trade Log'!O:O)) + SUBTOTAL(109, ('Trade Log'!P:P))","v":0},null,null,null,"Total # of Losing Trades",{"$f":" SUBTOTAL(109, ('Trade Log'!Q:Q)) + SUBTOTAL(109, ('Trade Log'!R:R))","v":0},null,null,null,"Total # of BE Trades",{"$f":" SUBTOTAL(109, ('Trade Log'!S:S)) + SUBTOTAL(109, ('Trade Log'!T:T))","v":0},null,null,null,null,{"$f":" SUM(R7+S7+T7)-R7","v":0},{"$f":" SUM(R7+S7+T7)-S7","v":0},{"$f":" SUM(R7+S7+T7)-T7","v":0}]
[null,"Gross Profits $ ******",{"$f":" SUMIF('Trade Log'!BT:BT, \">0\")","v":0},null,null,null,"Gross Losses $ ******",{"$f":" SUMIF('Trade Log'!BT:BT, \"<0\")","v":0},null,null,null,"Average Holding Time ******",{"$f":" IFERROR(INT('Trade Log'!FJ8)&\" d,\"&\" \"&HOUR('Trade Log'!FJ8)&\" h,\"&\" \"&MINUTE('Trade Log'!FJ8)&\" m,\"&\" \"&SECOND('Trade Log'!FJ8)&\" s\"&\" \",\"\")","v":""},null,null,null,null,{"$f":" SUM(R7+S7)-R7","v":0},{"$f":" SUM(R7+S7)-S7","v":0}]
[null,"Average Win $",{"$f":" IFERROR(C9/C8,\"\")","v":""},null,null,null,"Average Loss $",{"$f":"IFERROR(H9/H8,\"\")","v":""},null,null,null,"Most Consecutive BE's",{"$f":" IF(SUBTOTAL(104, ('Trade Log'!BS:BS))>1, SUBTOTAL(104, ('Trade Log'!BS:BS))&\" BE's \", IF(M8 = 0, \"0 BE's \", \"1 BE \"))","v":"0 BE's "},null,null,null,null,{"$f":" R7/SUM(R7+S7+T7)","v":{"$error":"#DIV/0!"}},{"$f":" S7/SUM(R7+S7+T7)","v":{"$error":"#DIV/0!"}},{"$f":" T7/SUM(R7+S7+T7)","v":{"$error":"#DIV/0!"}}]
[null,"Average P/L Per Win % (Arith.) ******",{"$f":" IFERROR('Trade Log'!FK19/C8,\"\")","v":""},null,null,null,"Average P/L Per Loss % (Arith.) ******",{"$f":" IFERROR('Trade Log'!FK20/H8,\"\")","v":""},null,null,null,"Average Consecutive BE's",{"$f":" IFERROR(IF(SUBTOTAL(101, ('Trade Log'!BS:BS))>1, SUBTOTAL(101, ('Trade Log'!BS:BS))&\" BE's\", IF(M8 = 0, \"0 BE's\", \"1 BE\")),\"\")","v":""},null,null,null,null,{"$f":" R7/SUM(R7+S7)","v":{"$error":"#DIV/0!"}},{"$f":" S7/SUM(R7+S7)","v":{"$error":"#DIV/0!"}}]
[null,"Largest Win $",{"$f":" SUBTOTAL(104, ('Trade Log'!BT:BT))","v":0},null,null,null,"Largest Loss $",{"$f":" SUBTOTAL(105, ('Trade Log'!BT:BT))","v":0},null,null,null,"Longs / Shorts"]
[null,"Largest Win %",{"$f":" SUBTOTAL(104, ('Trade Log'!BX:BX))","v":0},null,null,null,"Largest Loss %",{"$f":" SUBTOTAL(105, ('Trade Log'!BX:BX))","v":0},null,null,null,"Long / Short (BE Rate %)",{"$f":" SUBTOTAL(109, ('Trade Log'!S:S))/(SUBTOTAL(109, ('Trade Log'!O:O)) + SUBTOTAL(109, ('Trade Log'!Q:Q)) + SUBTOTAL(109, ('Trade Log'!S:S)))","v":{"$error":"#DIV/0!"}},"/",{"$f":" SUBTOTAL(109, ('Trade Log'!T:T))/(SUBTOTAL(109, ('Trade Log'!P:P)) + SUBTOTAL(109, ('Trade Log'!R:R)) + SUBTOTAL(109, ('Trade Log'!T:T)))","v":{"$error":"#DIV/0!"}}]
[null,"Total Pips Gained ******",{"$f":" IFERROR('Trade Log'!FK15,\"\")","v":0},null,null,null,"Total Pips Lost ******",{"$f":" IFERROR('Trade Log'!FK16,\"\")","v":0},null,null,null,"Long / Short (Trades)",{"$f":" IF(SUBTOTAL(109, ('Trade Log'!S:S)) = 1, \"1 Long \",SUBTOTAL(109, ('Trade Log'!S:S))&\" Longs \")","v":"0 Longs "},"/",{"$f":" IF(SUBTOTAL(109, ('Trade Log'!T:T))  = 1, \"1 Short \", SUBTOTAL(109, ('Trade Log'!T:T)) &\" Shorts \")","v":"0 Shorts "}]
[null,"Average Pips Gained ******",{"$f":" IFERROR('Trade Log'!FK15/C8,\"\")","v":""},null,null,null,"Average Pips Lost ******",{"$f":" IFERROR('Trade Log'!FK16/H8,\"\")","v":""},null,null,null,"% Long Trades / % of Total",{"$f":" IFERROR(SUBTOTAL(109, ('Trade Log'!S:S))/M8,\"\")","v":""},"/",{"$f":" IFERROR(SUBTOTAL(109, ('Trade Log'!S:S))/'Overall Performance'!C10,\"\")","v":""}]
[null,"Average Holding Time ******",{"$f":" IFERROR(INT('Trade Log'!FJ6)&\" d,\"&\" \"&HOUR('Trade Log'!FJ6)&\" h,\"&\" \"&MINUTE('Trade Log'!FJ6)&\" m,\"&\" \"&SECOND('Trade Log'!FJ6)&\" s\"&\" \",\"\")","v":""},null,null,null,"Average Holding Time ******",{"$f":" IFERROR(INT('Trade Log'!FJ7)&\" d,\"&\" \"&HOUR('Trade Log'!FJ7)&\" h,\"&\" \"&MINUTE('Trade Log'!FJ7)&\" m,\"&\" \"&SECOND('Trade Log'!FJ7)&\" s\"&\" \",\"\")","v":""},null,null,null,"% Short Trades / % of Total",{"$f":" IFERROR(SUBTOTAL(109, ('Trade Log'!T:T))/M8,\"\")","v":""},"/",{"$f":" IFERROR(SUBTOTAL(109, ('Trade Log'!T:T))/'Overall Performance'!C10,\"\")","v":""}]
[null,"Largest Winner as % of Gross Profits",{"$f":"C12/C9","v":{"$error":"#DIV/0!"}},null,null,null,"Largest Loser as % of Gross Losses",{"$f":"H12/H9","v":{"$error":"#DIV/0!"}}]
[null,"Standard Deviation $ ******",{"$f":" _xlfn.STDEV.P(IF('Trade Log'!BT:BT > 0, 'Trade Log'!BT:BT))","v":{"$error":"#DIV/0!"}},null,null,null,"Standard Deviation $ ******",{"$f":" _xlfn.STDEV.P(IF('Trade Log'!BT:BT < 0, 'Trade Log'!BT:BT))","v":{"$error":"#DIV/0!"}}]
[null,"Standard Deviation % ******",{"$f":" _xlfn.STDEV.P(IF('Trade Log'!BX:BX > 0, 'Trade Log'!BX:BX))","v":{"$error":"#DIV/0!"}},null,null,null,"Standard Deviation % *******",{"$f":" _xlfn.STDEV.P(IF('Trade Log'!BX:BX < 0, 'Trade Log'!BX:BX))","v":{"$error":"#DIV/0!"}}]
[null,"Coefficient of Variation $",{"$f":" C18/C10","v":{"$error":"#DIV/0!"}},null,null,null,"Coefficient of Variation $",{"$f":" (H18/H10)","v":{"$error":"#DIV/0!"}}]
[null,"Coefficient of Variation %",{"$f":" C19/C11","v":{"$error":"#DIV/0!"}},null,null,null,"Coefficient of Variation %",{"$f":" (H19/H11)","v":{"$error":"#DIV/0!"}}]
[null,"Most Consecutive Wins",{"$f":" IF(SUBTOTAL(104, ('Trade Log'!BQ:BQ))>1, SUBTOTAL(104, ('Trade Log'!BQ:BQ))&\" Wins \", IF(C8 = 0, \"0 Wins \", \"1 Win \"))","v":"0 Wins "},null,null,null,"Most Consecutive Losses",{"$f":" IF(SUBTOTAL(104, ('Trade Log'!BR:BR))>1, SUBTOTAL(104, ('Trade Log'!BR:BR))&\" Losses \", IF(H8 = 0,\"0 Losses \", \"1 Loss \"))","v":"0 Losses "}]
[null,"Average Consecutive Wins",{"$f":" IFERROR(IF(SUBTOTAL(101, ('Trade Log'!BQ:BQ))>1, SUBTOTAL(101, ('Trade Log'!BQ:BQ))&\" Wins \", IF(C8 = 0, \"0 Wins \", \"1 Win \")),\"\")","v":""},null,null,null,"Average Consecutive Losses",{"$f":" IFERROR(IF(SUBTOTAL(101, ('Trade Log'!BR:BR))>1, SUBTOTAL(101, ('Trade Log'!BR:BR))&\" Losses \", IF(H8 = 0,\"0 Losses \", \"1 Loss\")),\"\")","v":""}]
[null,"Longs / Shorts",null,null,null,null,"Longs / Shorts"]
[null,"Long / Short (Win Rate %)",{"$f":" SUBTOTAL(109, ('Trade Log'!O:O))/(SUBTOTAL(109, ('Trade Log'!O:O)) + SUBTOTAL(109, ('Trade Log'!Q:Q)) + SUBTOTAL(109, ('Trade Log'!S:S)))","v":{"$error":"#DIV/0!"}},"/",{"$f":" SUBTOTAL(109, ('Trade Log'!P:P))/(SUBTOTAL(109, ('Trade Log'!P:P)) + SUBTOTAL(109, ('Trade Log'!R:R)) + SUBTOTAL(109, ('Trade Log'!T:T)))","v":{"$error":"#DIV/0!"}},null,"Long / Short (Losing Rate %)",{"$f":" SUBTOTAL(109, ('Trade Log'!Q:Q))/(SUBTOTAL(109, ('Trade Log'!O:O)) + SUBTOTAL(109, ('Trade Log'!Q:Q)) + SUBTOTAL(109, ('Trade Log'!S:S)))","v":{"$error":"#DIV/0!"}},"/",{"$f":" SUBTOTAL(109, ('Trade Log'!R:R))/(SUBTOTAL(109, ('Trade Log'!P:P)) + SUBTOTAL(109, ('Trade Log'!R:R)) + SUBTOTAL(109, ('Trade Log'!T:T)))","v":{"$error":"#DIV/0!"}}]
[null,"Long / Short (Trades)",{"$f":" IF(SUBTOTAL(109, ('Trade Log'!O:O)) = 1, \"1 Long \",SUBTOTAL(109, ('Trade Log'!O:O))&\" Longs \")","v":"0 Longs "},"/",{"$f":" IF(SUBTOTAL(109, ('Trade Log'!P:P))  = 1, \"1 Short \", SUBTOTAL(109, ('Trade Log'!P:P)) &\" Shorts \")","v":"0 Shorts "},null,"Long / Short (Trades)",{"$f":" IF(SUBTOTAL(109, ('Trade Log'!Q:Q))  = 1, \"1 Long \", SUBTOTAL(109, ('Trade Log'!Q:Q)) &\" Longs \")","v":"0 Longs "},"/",{"$f":" IF(SUBTOTAL(109, ('Trade Log'!R:R))  = 1, \"1 Short \", SUBTOTAL(109, ('Trade Log'!R:R)) &\" Shorts \")","v":"0 Shorts "}]
[null,"Long / Short (Profits $) ******",{"$f":" SUMIFS('Trade Log'!BT:BT, 'Trade Log'!H:H, \"Win\", 'Trade Log'!N:N, \"Buy\")","v":0},"/",{"$f":" SUMIFS('Trade Log'!BT:BT, 'Trade Log'!H:H, \"Win\", 'Trade Log'!N:N, \"Sell\")","v":0},null,"Long / Short (Losses $) ******",{"$f":" SUMIFS('Trade Log'!BT:BT, 'Trade Log'!H:H, \"Loss\", 'Trade Log'!N:N, \"Buy\")","v":0},"/",{"$f":" SUMIFS('Trade Log'!BT:BT, 'Trade Log'!H:H, \"Loss\", 'Trade Log'!N:N, \"Sell\")","v":0}]
[null,"Average Win $ (Long / Short)",{"$f":" IFERROR(C27/SUBTOTAL(109, ('Trade Log'!O:O)),\"\")","v":""},"/",{"$f":" IFERROR(E27/SUBTOTAL(109, ('Trade Log'!P:P)),\"\")","v":""},null,"Average Loss $ (Long / Short)",{"$f":"IFERROR(H27/SUBTOTAL(109, ('Trade Log'!Q:Q)),\"\")","v":""},"/",{"$f":" IFERROR(J27/SUBTOTAL(109, ('Trade Log'!R:R)),\"\")","v":""}]
[null,"Average Win % (Long / Short) ******",{"$f":" IFERROR(AVERAGEIF('Trade Log'!O:O, \">0\",'Trade Log'!BX:BX),\"\")","v":""},"/",{"$f":" IFERROR(AVERAGEIF('Trade Log'!P:P, \">0\",'Trade Log'!BX:BX),\"\")","v":""},null,"Average Loss % (Long / Short) ******",{"$f":" IFERROR(AVERAGEIF('Trade Log'!Q:Q, \">0\",'Trade Log'!BX:BX),\"\")","v":""},"/",{"$f":" IFERROR(AVERAGEIF('Trade Log'!R:R, \">0\",'Trade Log'!BX:BX),\"\")","v":""}]
[null,"% Long Trades / % of Total",{"$f":" IFERROR(SUBTOTAL(109, ('Trade Log'!O:O))/C8,\"\")","v":""},"/",{"$f":" IFERROR(SUBTOTAL(109, ('Trade Log'!O:O))/'Overall Performance'!C10,\"\")","v":""},null,"% Long Trades / % of Total",{"$f":" IFERROR(SUBTOTAL(109, ('Trade Log'!Q:Q))/H8,\"\")","v":""},"/",{"$f":" IFERROR(SUBTOTAL(109, ('Trade Log'!Q:Q))/'Overall Performance'!C10,\"\")","v":""}]
[null,"% Short Trades / % of Total",{"$f":" IFERROR(SUBTOTAL(109, ('Trade Log'!P:P))/C8,\"\")","v":""},"/",{"$f":" IFERROR(SUBTOTAL(109, ('Trade Log'!P:P))/'Overall Performance'!C10,\"\")","v":""},null,"% Short Trades / % of Total",{"$f":" IFERROR(SUBTOTAL(109, ('Trade Log'!R:R))/H8,\"\")","v":""},"/",{"$f":" IFERROR(SUBTOTAL(109, ('Trade Log'!R:R))/'Overall Performance'!C10,\"\")","v":""}]

{"sheet":"Drawdown|Run-up","index":5,"n_rows":21,"n_cols":26,"rows_kept":21,"cut":false,"hidden":false,"merged":[[10,2,10,4],[10,7,10,9],[11,2,11,4],[11,7,11,9],[12,2,12,4],[12,7,12,9],[16,2,16,4],[16,7,16,9],[13,2,13,4],[13,7,13,9],[14,2,14,4],[14,7,14,9],[15,2,15,4],[15,7,15,9],[1,1,1,21],[5,1,5,4],[5,6,5,9],[6,2,6,4],[9,7,9,9],[3,1,3,21],[7,2,7,4],[7,7,7,9],[8,2,8,4],[8,7,8,9],[6,7,6,9],[9,2,9,4],[21,1,29,9],[18,1,19,1],[18,2,19,4],[18,6,19,6],[18,7,19,9]]}
[]
[" ",null,null,null,null,null,null,null,null,null,null,null,null,null,null,null,null,null,null,null,null,null,null,null,null,{"$f":" Z3*100","v":42.857142857142854}]
[null,null,null,null,null,null,null,null,null,null,null,null,null,null,null,null,null,null,null,null,null,null,null,null,null,0.42857142857142855]
[null,"Drawdown|Run-up",null,null,null,null,null,null,null,null,null,null,null,null,null,null,null,null,null,null,null,null,null,null,null,{"$f":" Y4/100","v":0}]
[null,null,null,null,null,null,null,null,null,null,null,null,null,null,null,null,null,null,null,null,null,null,null,null,{"$f":" probofstreak(Y2,Y3,1-Z4)","v":0}]
[null,"Run-up Analysis",null,null,null,null,"Drawdown Analysis"]
[null,"Maximum Run-up $",{"$f":" SUBTOTAL(104, ('Trade Log'!AW:AW))","v":0},null,null,null,"Maximum Drawdown $",{"$f":" SUBTOTAL(105, ('Trade Log'!BE:BE))","v":0}]
[null,"Maximum Run-up %",{"$f":" SUBTOTAL(104, ('Trade Log'!AX:AX))","v":0},null,null,null,"Maximum Drawdown %",{"$f":" SUBTOTAL(105, ('Trade Log'!BF:BF))","v":0},null,null,null,null,null,null,null,null,null,null,null,null,null,null,null,null,null,{"$f":" TEXT(C7/ABS(H7), \"0.000\") & \" / \" &TEXT(C8/ABS(H8), \"0.000\")","v":{"$error":"#DIV/0!"}}]
[null,"Date of Maximum Run-Up",{"$f":" TEXT('Trade Log'!FM18, \"mm/dd/yyyy\")","v":{"$error":"#N/A"}},null,null,null,"Date of Maximum Drawdown",{"$f":" TEXT('Trade Log'!FM19, \"mm/dd/yyyy\")","v":{"$error":"#N/A"}},null,null,null,null,null,null,null,null,null,null,null,null,null,null,null,null,null,{"$f":" TEXT(C12/ABS(H12), \"0.000\") & \" / \" &TEXT(C13/ABS(H13), \"0.000\")","v":{"$error":"#DIV/0!"}}]
[null,"Average Maximum Run-up $ ******",{"$f":" AVERAGE('Trade Log'!FK6:FK10)","v":{"$error":"#DIV/0!"}},null,null,null,"Average Maximum Drawdown $ ******",{"$f":" AVERAGE('Trade Log'!FL6:FL10)","v":{"$error":"#DIV/0!"}}]
[null,"Average Maximum Run-up % ******",{"$f":" AVERAGE('Trade Log'!FM20:FM24)","v":{"$error":"#DIV/0!"}},null,null,null,"Average Maximum Drawdown % ******",{"$f":" AVERAGE('Trade Log'!FN20:FN24)","v":{"$error":"#DIV/0!"}}]
[null,"Average Run-up $",{"$f":" SUBTOTAL(101, ('Trade Log'!BB:BB))","v":{"$error":"#DIV/0!"}},null,null,null,"Average Drawdown $",{"$f":" SUBTOTAL(101, ('Trade Log'!BJ:BJ))","v":{"$error":"#DIV/0!"}}]
[null,"Average Run-up %",{"$f":" SUBTOTAL(101, ('Trade Log'!BC:BC))","v":{"$error":"#DIV/0!"}},null,null,null,"Average Drawdown %",{"$f":" SUBTOTAL(101, ('Trade Log'!BK:BK))","v":{"$error":"#DIV/0!"}}]
[null,"Longest Run-up Period ******",{"$f":" IFERROR(INT(SUBTOTAL(104, ('Trade Log'!BA:BA)))&\" d,\"&\" \"&HOUR(SUBTOTAL(104, ('Trade Log'!BA:BA)))&\" h,\"&\" \"&MINUTE(SUBTOTAL(104, ('Trade Log'!BA:BA)))&\" m,\"&\" \"&SECOND(SUBTOTAL(104, ('Trade Log'!BA:BA)))&\" s\"&\" \",\"\")","v":"0 d, 0 h, 0 m, 0 s "},null,null,null,"Longest Drawdown Period ******",{"$f":" IFERROR(INT(SUBTOTAL(104, ('Trade Log'!BI:BI)))&\" d,\"&\" \"&HOUR(SUBTOTAL(104, ('Trade Log'!BI:BI)))&\" h,\"&\" \"&MINUTE(SUBTOTAL(104, ('Trade Log'!BI:BI)))&\" m,\"&\" \"&SECOND(SUBTOTAL(104, ('Trade Log'!BI:BI)))&\" s\"&\" \",\"\")","v":"0 d, 0 h, 0 m, 0 s "}]
[null,"Average Run-up Period",{"$f":" IFERROR(INT(SUBTOTAL(101, ('Trade Log'!BA:BA)))&\" d,\"&\" \"&HOUR(SUBTOTAL(101, ('Trade Log'!BA:BA)))&\" h,\"&\" \"&MINUTE(SUBTOTAL(101, ('Trade Log'!BA:BA)))&\" m,\"&\" \"&SECOND(SUBTOTAL(101, ('Trade Log'!BA:BA)))&\" s\"&\" \",\"\")","v":""},null,null,null,"Average Drawdown Period",{"$f":" IFERROR(INT(SUBTOTAL(101, ('Trade Log'!BI:BI)))&\" d,\"&\" \"&HOUR(SUBTOTAL(101, ('Trade Log'!BI:BI)))&\" h,\"&\" \"&MINUTE(SUBTOTAL(101, ('Trade Log'!BI:BI)))&\" m,\"&\" \"&SECOND(SUBTOTAL(101, ('Trade Log'!BI:BI)))&\" s\"&\" \",\"\")","v":""}]
[null,"Absolute Run-up $",{"$f":" SUBTOTAL(104, ('Trade Log'!BU:BU)) -'Overall Performance'!L7","v":0},null,null,null,"Absolute Drawdown $",{"$f":" SUBTOTAL(105, ('Trade Log'!BU:BU)) -'Overall Performance'!L7","v":0}]
[null,"Absolute Run-up %",{"$f":" C16/'Overall Performance'!L7","v":{"$error":"#DIV/0!"}},null,null,null,"Absolute Drawdown %",{"$f":"H16/'Overall Performance'!L7","v":{"$error":"#DIV/0!"}}]
[]
[null,null,null,null,null,null,null,null,null,null,null,null,null,null,null,null,null,null,null,null,null,null,null,null,"Ratio Value ($,%): "]
[null,null,null,null,null,null,null,null,null,null,null,null,null,null,null,null,null,null,null,null,null,null,null,null,{"$f":" TEXT(C7/ABS(H7),\"0.000\") & \", \" & TEXT(C8/ABS(H8),\"0.000\")","v":{"$error":"#DIV/0!"}}]
[null,null,null,null,null,null,null,null,null,null,null,null,null,null,null,null,null,null,null,null,null,null,null,null,{"$f":" TEXT(C12/ABS(H12),\"0.000\") & \", \" & TEXT(C13/ABS(H13),\"0.000\")","v":{"$error":"#DIV/0!"}}]

{"sheet":"Money Management","index":6,"n_rows":29,"n_cols":26,"rows_kept":29,"cut":false,"hidden":false,"merged":[[15,2,15,4],[9,2,9,4],[19,2,19,4],[28,2,28,4],[24,1,24,4],[25,2,25,4],[26,2,26,4],[27,2,27,4],[1,1,1,22],[3,1,3,22],[22,2,22,4],[20,2,20,4],[21,2,21,4],[5,1,5,4],[11,2,11,4],[6,2,6,4],[10,2,10,4],[13,1,13,4],[17,2,17,4],[14,2,14,4],[16,2,16,4],[18,2,18,4],[7,2,7,4],[8,2,8,4]]}
[]
[null,null,null,null,null,null,null,null,null,null,null,null,null,null,null,null,null,null,null,null,null,null,null,null,null,{"$f":" IFERROR(SUBSTITUTE(TEXT(SUBTOTAL(101, ('Trade Log'!CM:CM)),\"#,###0.000 - 1 \"),\"-\",\":\"),\"\")","v":""}]
[null,null,null,null,null,null,null,null,null,null,null,null,null,null,null,null,null,null,null,null,null,null,null,null,null,{"$f":" SUBTOTAL(101, ('Trade Log'!EY:EY))","v":{"$error":"#DIV/0!"}}]
[null,"Money Management",null,null,null,null,null,null,null,null,null,null,null,null,null,null,null,null,null,null,null,null,null,null,null,{"$f":" IFERROR(TEXT(SUBTOTAL(101, ('Trade Log'!CO:CO))/ABS(SUBTOTAL(101, ('Trade Log'!CP:CP))),\"#,###0.000\")& \" R \",\"\")","v":""}]
[null,null,null,null,null,null,null,null,null,null,null,null,null,null,null,null,null,null,null,null,null,null,null,null,null,{"$f":"TEXT((SUBTOTAL(101, ('Trade Log'!CO:CO))/ABS(SUBTOTAL(101, ('Trade Log'!CP:CP))))/AVERAGEIF('Trade Log'!CM:CM,\"<>\"\"\"),\"0.000\")","v":{"$error":"#DIV/0!"}}]
[null,"Money Management Strategies"]
[null,"Optimal f ******",{"$f":"'Trade Log'!FL18","v":{"$error":"#VALUE!"}},null,null,null,null,null,null,null,null,null,null,null,null,null,null,null,null,null,null,null,null,null,null,{"$f":" SUBTOTAL(101, ('Trade Log'!CO:CO))/ABS(SUBTOTAL(101, ('Trade Log'!CP:CP)))","v":{"$error":"#DIV/0!"}}]
[null,"Optimal Leverage ",{"$f":" ABS(C7/'Wins|Losses|BE''s'!H13)","v":{"$error":"#VALUE!"}}]
[null,"Theoretical Unit Size",{"$f":" 'Wins|Losses|BE''s'!H12/-C7","v":{"$error":"#VALUE!"}}]
[null,"Roy's Safety First Criterion",{"$f":" ('Fund Report'!AH8-'Fund Report'!BE10)/'Fund Report'!AH23","v":{"$error":"#VALUE!"}}]
[null,"Kelly Criterion",{"$f":" IFERROR(('Wins|Losses|BE''s'!R10*((SUBTOTAL(101, ('Trade Log'!CO:CO))/ABS(SUBTOTAL(101, ('Trade Log'!CP:CP))))+1) - 1)/(SUBTOTAL(101, ('Trade Log'!CO:CO))/ABS(SUBTOTAL(101, ('Trade Log'!CP:CP)))),\"\")","v":""},null,null,null,null,null,null,null,null,null,null,null,null,null,null,null,null,null,null,null,null,null,null,-1]
[null,"Larry Williams (Using Average Risk %)",{"$f":" ('Overall Performance'!N7*Z3)/ABS('Wins|Losses|BE''s'!H12)","v":{"$error":"#DIV/0!"}},null,null,null,null,null,null,null,null,null,null,null,null,null,null,null,null,null,null,null,null,null,null,{"$f":" SUBTOTAL(101, ('Trade Log'!CM:CM))","v":{"$error":"#DIV/0!"}}]
[null,null,null,null,null,null,null,null,null,null,null,null,null,null,null,null,null,null,null,null,null,null,null,null,null,{"$f":" Z7","v":{"$error":"#DIV/0!"}}]
[null,"R-Multiple Analysis"]
[null,"Total R-Multiple",{"$f":" IFERROR(SUBSTITUTE(TEXT(SUBTOTAL(109, ('Trade Log'!CN:CN)),\"#,###0.000 - \"),\" - \",\" R \"),\"\")","v":"0.000 R "}]
[null,"Weighted R-Multiple Ratio",{"$f":" IFERROR(SUBSTITUTE(TEXT(SUBTOTAL(101, ('Trade Log'!DH:DH))/-SUBTOTAL(101, ('Trade Log'!DI:DI)),\"#,###0.000 - \"),\" - \",\" R \"),\"\")","v":""},null,null,null,null,null,null,null,null,null,null,null,null,null,null,null,null,null,null,null,null,null,null,{"$f":" SUBTOTAL(101, ('Trade Log'!DH:DH))/-SUBTOTAL(101, ('Trade Log'!DI:DI))","v":{"$error":"#DIV/0!"}}]
[null,"Average R-Multiple ",{"$f":" IFERROR(SUBSTITUTE(TEXT(SUBTOTAL(101, ('Trade Log'!CN:CN)),\"#,###0.000 - \"),\" - \",\" R \"),\"\")","v":""}]
[null,"Standard Deviation",{"$f":" IFERROR(SUBSTITUTE(TEXT(SUBTOTAL(108, ('Trade Log'!CN:CN)),\"#,###0.000 - \"),\" - \",\" R \"),\"\")","v":""}]
[null,"Coefficient of Variation",{"$f":" IFERROR(SUBTOTAL(108, ('Trade Log'!CN:CN))/SUBTOTAL(101, ('Trade Log'!CN:CN)),\"\")","v":""}]
[null,"Average R-Multiple for Wins",{"$f":" IFERROR(SUBSTITUTE(TEXT(SUBTOTAL(101, ('Trade Log'!CO:CO)),\"#,###0.000 - \"),\" - \",\" R \"),\"\")","v":""}]
[null,"Largest R-Multiple (Win)",{"$f":" SUBSTITUTE(TEXT(SUBTOTAL(104, ('Trade Log'!CN:CN)),\"#,###0.000 - \"),\" - \",\" R \")","v":"0.000 R "}]
[null,"Average R-Multiple for Losses",{"$f":" IFERROR(SUBSTITUTE(TEXT(SUBTOTAL(101, ('Trade Log'!CP:CP)),\"#,###0.000 - \"),\" - \",\" R \"),\"\")","v":""}]
[null,"Largest R-Multiple (Loss)",{"$f":" SUBSTITUTE(TEXT(SUBTOTAL(105, ('Trade Log'!CN:CN)),\"#,###0.000 - \"),\" - \",\" R \")","v":"0.000 R "}]
[]
[null,"Reward : Risk Analysis"]
[null,"Total RRR",{"$f":" IFERROR(SUBSTITUTE(TEXT(SUBTOTAL(109, ('Trade Log'!DR:DR)),\"#,###0.000 - 1 \"),\" - \",\" : \"),\"\")","v":"0.000 : 1 "}]
[null,"RRR Ratio",{"$f":" IFERROR((SUBTOTAL(101, ('Trade Log'!DS:DS))/SUBTOTAL(101, ('Trade Log'!DT:DT))),\"\")","v":""}]
[null,"Standard Deviation",{"$f":" IFERROR(SUBSTITUTE(TEXT(SUBTOTAL(108, ('Trade Log'!CM:CM)),\"#,###0.000 - 1 \"),\" - \",\" : \"),\"\")","v":""}]
[null,"Coefficient of Variation",{"$f":" IFERROR(_xlfn.STDEV.P('Trade Log'!DR:DR)/AVERAGE('Trade Log'!CM:CM),\"\")","v":""}]

{"sheet":"Efficiency & MAE|MFE","index":7,"n_rows":40,"n_cols":26,"rows_kept":40,"cut":false,"hidden":false,"merged":[[39,2,39,4],[33,2,33,4],[34,2,34,4],[35,2,35,4],[37,2,37,4],[38,2,38,4],[30,2,30,4],[31,2,31,4],[29,2,29,4],[36,1,36,4],[32,1,32,4],[27,1,27,4],[28,1,28,4],[1,1,1,21],[3,1,3,21],[5,1,5,9],[6,1,6,9],[21,1,21,9],[16,1,16,9],[11,1,11,9],[0,22,0,23],[11,25,11,27],[12,25,12,27],[6,25,6,27],[7,25,7,27],[8,25,8,27],[9,24,9,27],[10,25,10,27],[1,24,1,27],[2,25,2,27],[3,25,3,27],[4,25,4,27],[5,24,5,27],[1,22,4999,23]]}
[]
[null,"  ",null,null,null,null,null,null,null,null,null,null,null,null,null,null,null,null,null,null,null,null,null,null,"Total"]
[null,null,null,null,null,null,null,null,null,null,null,null,null,null,null,null,null,null,null,null,null,null,null,null,"Wins",{"$f":" IFERROR(AVERAGEIF('Trade Log'!H:H, \"=Win\",'Trade Log'!EI:EI),#N/A)","v":{"$error":"#N/A"}}]
[null,"Efficiency & MAE|MFE",null,null,null,null,null,null,null,null,null,null,null,null,null,null,null,null,null,null,null,null,null,null,"Losses",{"$f":" IFERROR(AVERAGEIF('Trade Log'!H:H, \"=Loss\",'Trade Log'!EI:EI),#N/A)","v":{"$error":"#N/A"}}]
[null,null,null,null,null,null,null,null,null,null,null,null,null,null,null,null,null,null,null,null,null,null,null,null,"BE's",{"$f":" IFERROR(AVERAGEIF('Trade Log'!H:H, \"=BE\",'Trade Log'!EI:EI),#N/A)","v":{"$error":"#N/A"}}]
[null,"MAE/MFE Analysis",null,null,null,null,null,null,null,null,null,null,null,null,null,null,null,null,null,null,null,null,null,null,"Entry"]
[null,"Total",null,null,null,null,null,null,null,null,null,null,null,null,null,null,null,null,null,null,null,null,null,null,"Wins",{"$f":" IFERROR(AVERAGEIF('Trade Log'!H:H, \"=Win\",'Trade Log'!EJ:EJ),#N/A)","v":{"$error":"#N/A"}}]
[null,"Total MAE/MFE $",{"$f":" SUBTOTAL(109, ('Trade Log'!CW:CW))","v":0},"/",{"$f":"  SUBTOTAL(109, ('Trade Log'!CY:CY))","v":0},null,"Average MAE/MFE $",{"$f":" SUBTOTAL(101, ('Trade Log'!CW:CW))","v":{"$error":"#DIV/0!"}},"/",{"$f":" SUBTOTAL(101, ('Trade Log'!CY:CY))","v":{"$error":"#DIV/0!"}},null,null,null,null,null,null,null,null,null,null,null,null,null,null,"Losses",{"$f":" IFERROR(AVERAGEIF('Trade Log'!H:H, \"=Loss\",'Trade Log'!EJ:EJ),#N/A)","v":{"$error":"#N/A"}}]
[null,"Total MAE/MFE (Pips)",{"$f":"  SUBTOTAL(109, ('Trade Log'!CV:CV))","v":0},"/",{"$f":"  SUBTOTAL(109, ('Trade Log'!CX:CX))","v":0},null,"Average MAE/MFE (Pips)",{"$f":" SUBTOTAL(101, ('Trade Log'!CV:CV))","v":{"$error":"#DIV/0!"}},"/",{"$f":" SUBTOTAL(101, ('Trade Log'!CX:CX))","v":{"$error":"#DIV/0!"}},null,null,null,null,null,null,null,null,null,null,null,null,null,null,"BE's",{"$f":" IFERROR(AVERAGEIF('Trade Log'!H:H, \"=BE\",'Trade Log'!EJ:EJ),#N/A)","v":{"$error":"#N/A"}}]
[null,"Standard Deviation MAE/MFE $",{"$f":" SUBTOTAL(108, ('Trade Log'!CW:CW))","v":{"$error":"#DIV/0!"}},"/",{"$f":"  SUBTOTAL(108, ('Trade Log'!CY:CY))","v":{"$error":"#DIV/0!"}},null,"Coefficient of Variation MAE/MFE $",{"$f":" (C10/H8)","v":{"$error":"#DIV/0!"}},"/",{"$f":" E10/J8","v":{"$error":"#DIV/0!"}},null,null,null,null,null,null,null,null,null,null,null,null,null,null,"Exit"]
[null,"Standard Deviation MAE/MFE (Pips)",{"$f":"  SUBTOTAL(108, ('Trade Log'!CV:CV))","v":{"$error":"#DIV/0!"}},"/",{"$f":"  SUBTOTAL(108, ('Trade Log'!CX:CX))","v":{"$error":"#DIV/0!"}},null,"Coefficient of Variation MAE/MFE (Pips)",{"$f":" (C11/H9)","v":{"$error":"#DIV/0!"}},"/",{"$f":" E11/J9","v":{"$error":"#DIV/0!"}},null,null,null,null,null,null,null,null,null,null,null,null,null,null,"Wins",{"$f":" IFERROR(AVERAGEIF('Trade Log'!H:H, \"=Win\",'Trade Log'!EK:EK),#N/A)","v":{"$error":"#N/A"}}]
[null,"Winning Trades",null,null,null,null,null,null,null,null,null,null,null,null,null,null,null,null,null,null,null,null,null,null,"Losses",{"$f":" IFERROR(AVERAGEIF('Trade Log'!H:H, \"=Loss\",'Trade Log'!EK:EK),#N/A)","v":{"$error":"#N/A"}}]
[null,"Total MAE/MFE $ ******",{"$f":" IFERROR(SUMIF('Trade Log'!H:H, \"=Win\",'Trade Log'!CW:CW),\"\")","v":0},"/",{"$f":" IFERROR(SUMIF('Trade Log'!H:H, \"=Win\",'Trade Log'!CY:CY),\"\")","v":0},null,"Average MAE/MFE $ ******",{"$f":" IFERROR(AVERAGEIF('Trade Log'!H:H, \"=Win\",'Trade Log'!CW:CW),\"\")","v":""},"/",{"$f":" IFERROR(AVERAGEIF('Trade Log'!H:H, \"=Win\",'Trade Log'!CY:CY),\"\")","v":""},null,null,null,null,null,null,null,null,null,null,null,null,null,null,"BE's",{"$f":" IFERROR(AVERAGEIF('Trade Log'!H:H, \"=BE\",'Trade Log'!EK:EK),#N/A)","v":{"$error":"#N/A"}}]
[null,"Total MAE/MFE (Pips) ******",{"$f":" IFERROR(SUMIF('Trade Log'!H:H, \"=Win\",'Trade Log'!CV:CV),\"\")","v":0},"/",{"$f":" IFERROR(SUMIF('Trade Log'!H:H, \"=Win\",'Trade Log'!CX:CX),\"\")","v":0},null,"Average MAE/MFE (Pips) ******",{"$f":" IFERROR(AVERAGEIF('Trade Log'!H:H, \"=Win\",'Trade Log'!CV:CV),\"\")","v":""},"/",{"$f":" IFERROR(AVERAGEIF('Trade Log'!H:H, \"=Win\",'Trade Log'!CX:CX),\"\")","v":""}]
[null,"Standard Deviation MAE/MFE $ ******",{"$f":" _xlfn.STDEV.P(IF('Trade Log'!H:H = \"Win\", 'Trade Log'!CW:CW))","v":{"$error":"#DIV/0!"}},"/",{"$f":" _xlfn.STDEV.P(IF('Trade Log'!H:H = \"Win\", 'Trade Log'!CY:CY))","v":{"$error":"#DIV/0!"}},null,"Coefficient of Variation MAE/MFE $",{"$f":" (C15/H13)","v":{"$error":"#DIV/0!"}},"/",{"$f":" E15/J13","v":{"$error":"#DIV/0!"}}]
[null,"Standard Deviation MAE/MFE (Pips) ******",{"$f":" _xlfn.STDEV.P(IF('Trade Log'!H:H = \"Win\", 'Trade Log'!CV:CV))","v":{"$error":"#DIV/0!"}},"/",{"$f":" _xlfn.STDEV.P(IF('Trade Log'!H:H = \"Win\", 'Trade Log'!CX:CX))","v":{"$error":"#DIV/0!"}},null,"Coefficient of Variation MAE/MFE (Pips)",{"$f":" (C16/H14)","v":{"$error":"#DIV/0!"}},"/",{"$f":" E16/J14","v":{"$error":"#DIV/0!"}}]
[null,"Losing Trades",null,null,null,null,null,null,null,null,null,null,null,null,null,null,null,null,null,null,null,null,null,null,0]
[null,"Total MAE/MFE $ ******",{"$f":" IFERROR(SUMIF('Trade Log'!H:H, \"=Loss\",'Trade Log'!CW:CW),\"\")","v":0},"/",{"$f":" IFERROR(SUMIF('Trade Log'!H:H, \"=Loss\",'Trade Log'!CY:CY),\"\")","v":0},null,"Average MAE/MFE $ ******",{"$f":" IFERROR(AVERAGEIF('Trade Log'!H:H, \"=Loss\",'Trade Log'!CW:CW),\"\")","v":""},"/",{"$f":" IFERROR(AVERAGEIF('Trade Log'!H:H, \"=Loss\",'Trade Log'!CY:CY),\"\")","v":""}]
[null,"Total MAE/MFE (Pips) ******",{"$f":" IFERROR(SUMIF('Trade Log'!H:H, \"=Loss\",'Trade Log'!CV:CV),\"\")","v":0},"/",{"$f":" IFERROR(SUMIF('Trade Log'!H:H, \"=Loss\",'Trade Log'!CX:CX),\"\")","v":0},null,"Average MAE/MFE (Pips) ******",{"$f":" IFERROR(AVERAGEIF('Trade Log'!H:H, \"=Loss\",'Trade Log'!CV:CV),\"\")","v":""},"/",{"$f":" IFERROR(AVERAGEIF('Trade Log'!H:H, \"=Loss\",'Trade Log'!CX:CX),\"\")","v":""}]
[null,"Standard Deviation MAE/MFE $ ******",{"$f":" _xlfn.STDEV.P(IF('Trade Log'!H:H = \"Loss\", 'Trade Log'!CW:CW))","v":{"$error":"#DIV/0!"}},"/",{"$f":" _xlfn.STDEV.P(IF('Trade Log'!H:H = \"Loss\", 'Trade Log'!CY:CY))","v":{"$error":"#DIV/0!"}},null,"Coefficient of Variation MAE/MFE $",{"$f":" (C20/H18)","v":{"$error":"#DIV/0!"}},"/",{"$f":" E20/J18","v":{"$error":"#DIV/0!"}}]
[null,"Standard Deviation MAE/MFE (Pips) ******",{"$f":" _xlfn.STDEV.P(IF('Trade Log'!H:H = \"Loss\", 'Trade Log'!CV:CV))","v":{"$error":"#DIV/0!"}},"/",{"$f":" _xlfn.STDEV.P(IF('Trade Log'!H:H = \"Loss\", 'Trade Log'!CX:CX))","v":{"$error":"#DIV/0!"}},null,"Coefficient of Variation MAE/MFE (Pips)",{"$f":" (C21/H19)","v":{"$error":"#DIV/0!"}},"/",{"$f":" E21/J19","v":{"$error":"#DIV/0!"}}]
[null,"BE Trades"]
[null,"Total MAE/MFE $ ******",{"$f":" IFERROR(SUMIF('Trade Log'!H:H, \"=BE\",'Trade Log'!CW:CW),\"\")","v":0},"/",{"$f":" IFERROR(SUMIF('Trade Log'!H:H, \"=BE\",'Trade Log'!CY:CY),\"\")","v":0},null,"Average MAE/MFE $ ******",{"$f":" IFERROR(AVERAGEIF('Trade Log'!H:H, \"=BE\",'Trade Log'!CW:CW),\"\")","v":""},"/",{"$f":" IFERROR(AVERAGEIF('Trade Log'!H:H, \"=BE\",'Trade Log'!CY:CY),\"\")","v":""}]
[null,"Total MAE/MFE (Pips) ******",{"$f":" IFERROR(SUMIF('Trade Log'!H:H, \"=BE\",'Trade Log'!CV:CV),\"\")","v":0},"/",{"$f":" IFERROR(SUMIF('Trade Log'!H:H, \"=BE\",'Trade Log'!CX:CX),\"\")","v":0},null,"Average MAE/MFE (Pips) ******",{"$f":" IFERROR(AVERAGEIF('Trade Log'!H:H, \"=BE\",'Trade Log'!CV:CV),\"\")","v":""},"/",{"$f":" IFERROR(AVERAGEIF('Trade Log'!H:H, \"=BE\",'Trade Log'!CX:CX),\"\")","v":""}]
[null,"Standard Deviation MAE/MFE $ ******",{"$f":" _xlfn.STDEV.P(IF('Trade Log'!H:H = \"BE\", 'Trade Log'!CW:CW))","v":{"$error":"#DIV/0!"}},"/",{"$f":" _xlfn.STDEV.P(IF('Trade Log'!H:H = \"BE\", 'Trade Log'!CY:CY))","v":{"$error":"#DIV/0!"}},null,"Coefficient of Variation MAE/MFE $",{"$f":" IFERROR((C25/H23),\"\")","v":""},"/",{"$f":" IFERROR(E25/J23,\"\")","v":""}]
[null,"Standard Deviation MAE/MFE (Pips) ******",{"$f":" _xlfn.STDEV.P(IF('Trade Log'!H:H = \"BE\", 'Trade Log'!CV:CV))","v":{"$error":"#DIV/0!"}},"/",{"$f":" _xlfn.STDEV.P(IF('Trade Log'!H:H = \"BE\", 'Trade Log'!CX:CX))","v":{"$error":"#DIV/0!"}},null,"Coefficient of Variation MAE/MFE (Pips)",{"$f":" IFERROR((C26/H24),\"\")","v":""},"/",{"$f":" IFERROR(E26/J24,\"\")","v":""}]
[]
[null,"Efficiency Analysis (All Trades)"]
[null,"Total"]
[null,"Average Efficiency ",{"$f":" SUBTOTAL(101, ('Trade Log'!EI:EI))","v":{"$error":"#DIV/0!"}}]
[null,"Standard Deviation ",{"$f":" SUBTOTAL(108, ('Trade Log'!EI:EI))","v":{"$error":"#DIV/0!"}}]
[null,"Coefficient of Variation ",{"$f":" C31/C30","v":{"$error":"#DIV/0!"}}]
[null,"Entry"]
[null,"Average Efficiency ",{"$f":" SUBTOTAL(101, ('Trade Log'!EJ:EJ))","v":{"$error":"#DIV/0!"}}]
[null,"Standard Deviation ",{"$f":" SUBTOTAL(108, ('Trade Log'!EJ:EJ))","v":{"$error":"#DIV/0!"}}]
[null,"Coefficient of Variation ",{"$f":" C35/C34","v":{"$error":"#DIV/0!"}}]
[null,"Exit"]
[null,"Average Efficiency ",{"$f":" SUBTOTAL(101, ('Trade Log'!EK:EK))","v":{"$error":"#DIV/0!"}}]
[null,"Standard Deviation ",{"$f":" SUBTOTAL(108, ('Trade Log'!EK:EK))","v":{"$error":"#DIV/0!"}}]
[null,"Coefficient of Variation ",{"$f":" C39/C38","v":{"$error":"#DIV/0!"}}]

{"sheet":"Fund Report","index":8,"n_rows":5000,"n_cols":57,"rows_kept":1125,"cut":true,"hidden":false,"merged":[[26,33,26,35],[23,48,23,50],[24,48,24,50],[25,48,25,50],[26,48,26,50],[25,33,25,35],[23,33,23,35],[26,38,26,40],[25,38,25,40],[12,38,12,40],[13,38,13,40],[23,38,23,40],[16,38,16,40],[17,48,17,50],[18,48,18,50],[21,48,21,50],[22,48,22,50],[13,47,14,50],[15,48,15,50],[16,48,16,50],[15,38,15,40],[10,33,10,35],[24,38,24,40],[17,38,17,40],[24,33,24,35],[11,33,11,35],[15,33,15,35],[14,38,14,40],[11,38,11,40],[13,33,13,35],[12,33,12,35],[10,38,10,40],[21,38,21,40],[22,38,22,40],[17,33,17,35],[18,38,18,40],[16,33,16,35],[8,33,8,35],[6,38,6,40],[7,38,7,40],[8,38,8,40],[9,38,9,40],[9,33,9,35],[1,1,1,50],[5,1,5,30],[5,32,5,40],[6,33,6,35],[7,33,7,35],[3,1,3,50],[14,33,14,35],[22,33,22,35],[21,33,21,35],[13,42,14,45],[19,48,19,50],[18,33,18,35],[20,48,20,50],[19,33,19,35],[20,33,20,35],[19,38,19,40],[20,38,20,40]],"bounds":{"rows_first":500,"rows_last":125,"rows_between":500,"halvings":2}}
[]
[]
[null,null,null,null,null,null,null,null,null,null,null,null,null,null,null,null,null,null,null,null,null,null,null,null,null,null,null,null,null,null,null,null,null,null,null,null,null,null,null,null,null,null,null,null,null,null,null,null,null,null,""]
[null,"Fund Report"]
[]
[null,"Annual Log",null,null,null,null,null,null,null,null,null,null,null,null,null,null,null,null,null,null,null,null,null,null,null,null,null,null,null,null,null,null,"Annual Fund Metrics",null,null,null,null,null,null,null,null,null,null,null,null,null,null,null,null,null,null,null,null,null,null,{"$f":" (1 + ('Treasury Bill Data'!#REF!)/100) -1","v":{"$error":"#REF!"}}]
[null,"Year","P/L $","Market P/L %","Market blank","Multiplier market","Market hide %","Multiplier","P/L %","P/L $","P/L %","Calc for LPM","Calc for HPM","Negative Yearly Excess %","Negative Yearly $","Yearly Excess Multiplier","Yearly Excess",{"$f":" IF(IF(AD8 = 0,AE7, AE8-C8) = \"EOY Balance\", \"\", IF(AD8 = 0,AE7, AE8-C8))","v":""},"Difference","Drawdown %","D^2","Gold P/L %","Gold Blank","GBPUSD P/L %","GBPUSD Blank","VIX P/L %","VIX Blank","P/L %","P/L in Pips","Trades","EOY Balance",null,"Average P/L $",{"$f":" IFERROR(SUBTOTAL(101, ('Trade Log'!AR6:AR1048576)),\"\")","v":""},null,null,null,"Average Number of Trades Per Year",{"$f":" IFERROR(FLOOR(SUBTOTAL(101, ('Trade Log'!AQ6:AQ1048576)),1),\"\")","v":""},null,null,null,null,null,null,null,null,null,null,null,null,null,null,null,{"$f":" INDIRECT(\"I\"&MATCH(YEAR(TODAY()), B:B))","v":""},"Current Year:",{"$f":" YEAR(TODAY())","v":2024}]
[null,null,{"$f":" SUMIF('Trade Log'!AP:AP,B8, 'Trade Log'!BT:BT)","v":0},{"$f":" IFERROR(INDIRECT(\"'SP500 Data'!B\"&MATCH(B8, 'SP500 Data'!A:A,0))/100,\"\")","v":""},{"$f":" IF(I8 = \"\", \"\", D8)","v":""},{"$f":" IF(AD8 = 0, \"\", D8 + 1)","v":""},{"$f":" IF(J8 = \"\", #N/A, D8)","v":{"$error":"#N/A"}},{"$f":" IF(I8=\"\", \"\", I8+1)","v":""},{"$f":" IF(AD8=0, \"\", C8/(AE8-C8))","v":""},{"$f":" IF(AD8=0, \"\", SUMIF('Trade Log'!AP:AP,B8, 'Trade Log'!BT:BT))","v":""},{"$f":" IF(AD8=0, #N/A, IF(AD8=0, 0, C8/(AE8-C8)))","v":{"$error":"#N/A"}},{"$f":" IF(AD8=0, \"\", MAX($BE$10-I8,0)^$BE$11)","v":""},{"$f":" IF(AD8=0, \"\", MAX(0,I8 - $BE$10)^$BE$12)","v":""},{"$f":" IF(AD8 = 0, \"\", IF(AB8>0, 0, Q8))","v":""},{"$f":" IF(AD8 = 0, \"\", IF(AB8>0, 0, C8))","v":""},{"$f":" IF(AD8 = 0, \"\", AB8 - $BD$6 +1)","v":""},{"$f":" IF(AD8 = 0, \"\", AB8 - $BD$6)","v":""},{"$f":" IF(AD9 = 0,AE8, AE9-C9)","v":""},{"$f":" IF(AD8 = 0, \"\", I8-E8)","v":""},{"$f":" IFERROR(IF(AD8 = 0, \"\", IF(AB8=\"\",0,IF(IF(R8=\"\",0,(-1*(MAX(R$7:$R8)-R8)))/MAX($R$7:R8) = 0,0,IF(R8=\"\",0,(-1*(MAX(R$7:$R8)-R8)))/MAX($R$7:R8)))), \"\")","v":""},{"$f":" IF(T8 = \"\", \"\", T8^2)","v":""},{"$f":" IFERROR(INDIRECT(\"'Gold Data'!H\"&MATCH(B8, 'Gold Data'!B:B,0)),\"\")","v":""},{"$f":" IF(AD8=0, \"\", V8)","v":""},{"$f":" IFERROR(INDIRECT(\"'GBPUSD Data'!H\"&MATCH(B8, 'GBPUSD Data'!B:B,0)),\"\")","v":""},{"$f":" IF(AD8=0, \"\", X8)","v":""},{"$f":" IFERROR(INDIRECT(\"'VIX Data'!H\"&MATCH(B8, 'VIX Data'!B:B,0)),\"\")","v":""},{"$f":" IF(AD8=0, \"\", Z8)","v":""},{"$f":" IF(AD8=0, 0, C8/(AE8-C8))","v":0},{"$f":" SUMIF('Trade Log'!AP:AP,B8, 'Trade Log'!EX:EX)","v":0},{"$f":" SUMIF('Trade Log'!AP:AP,B8, 'Trade Log'!O:O) + SUMIF('Trade Log'!AP:AP,B8, 'Trade Log'!P:P) + SUMIF('Trade Log'!AP:AP,B8, 'Trade Log'!Q:Q) + SUMIF('Trade Log'!AP:AP,B8, 'Trade Log'!R:R) + SUMIF('Trade Log'!AP:AP,B8, 'Trade Log'!S:S) + SUMIF('Trade Log'!AP:AP,B8, 'Trade Log'!T:T)","v":0},{"$f":" IF(AD8 = 0, \"\", IFERROR(INDIRECT(\"'Trade Log'!BU\"&MATCH(B8, 'Trade Log'!DY:DY)), \"\"))","v":""},null,"Average P/L %",{"$f":" IFERROR(SUBTOTAL(101, (I8:I108)),\"\")","v":""},null,null,null,"Number of Winning/Losing Years",{"$f":" COUNTIF('Trade Log'!AS:AS,\">0\") & \" / \"& COUNTIF('Trade Log'!AS:AS,\"<0\") & \" \"","v":"0 / 0 "},null,null,null,null,null,null,null,null,null,null,null,null,null,null,null,{"$f":" INDIRECT(\"D\"&MATCH(YEAR(TODAY()), B:B))","v":""},"3 Years Ago:",{"$f":" BE7-3","v":2021}]
[null,{"$f":" B8 + 1","v":1},{"$f":" SUMIF('Trade Log'!AP:AP,B9, 'Trade Log'!BT:BT)","v":0},{"$f":" IFERROR(INDIRECT(\"'SP500 Data'!B\"&MATCH(B9, 'SP500 Data'!A:A,0))/100,\"\")","v":""},{"$f":" IF(I9 = \"\", \"\", D9)","v":""},"",{"$f":" IF(J9 = \"\", #N/A, D9)","v":{"$error":"#N/A"}},{"$f":" IF(I9=\"\", \"\", I9+1)","v":""},"",{"$f":" IF(AD9=0, \"\", SUMIF('Trade Log'!AP:AP,B9, 'Trade Log'!BT:BT))","v":""},{"$error":"#N/A"},"",{"$f":" IF(AD9=0, \"\", MAX(0,I9 - $BE$10)^$BE$12)","v":""},"","",{"$f":" IF(AD9 = 0, \"\", AB9 - $BD$6 +1)","v":""},{"$f":" IF(AD9 = 0, \"\", AB9 - $BD$6)","v":""},"","",{"$f":" IFERROR(IF(AD9 = 0, \"\", IF(AB9=\"\",0,IF(IF(R9=\"\",0,(-1*(MAX(R$7:$R9)-R9)))/MAX($R$7:R9) = 0,0,IF(R9=\"\",0,(-1*(MAX(R$7:$R9)-R9)))/MAX($R$7:R9)))), \"\")","v":""},{"$f":" IF(T9 = \"\", \"\", T9^2)","v":""},{"$f":" IFERROR(INDIRECT(\"'Gold Data'!H\"&MATCH(B9, 'Gold Data'!B:B,0)),\"\")","v":""},{"$f":" IF(AD9=0, \"\", V9)","v":""},{"$f":" IFERROR(INDIRECT(\"'GBPUSD Data'!H\"&MATCH(B9, 'GBPUSD Data'!B:B,0)),\"\")","v":""},{"$f":" IF(AD9=0, \"\", X9)","v":""},{"$f":" IFERROR(INDIRECT(\"'VIX Data'!H\"&MATCH(B9, 'VIX Data'!B:B,0)),\"\")","v":""},{"$f":" IF(AD9=0, \"\", Z9)","v":""},0,{"$f":" SUMIF('Trade Log'!AP:AP,B9, 'Trade Log'!EX:EX)","v":0},{"$f":" SUMIF('Trade Log'!AP:AP,B9, 'Trade Log'!O:O) + SUMIF('Trade Log'!AP:AP,B9, 'Trade Log'!P:P) + SUMIF('Trade Log'!AP:AP,B9, 'Trade Log'!Q:Q) + SUMIF('Trade Log'!AP:AP,B9, 'Trade Log'!R:R) + SUMIF('Trade Log'!AP:AP,B9, 'Trade Log'!S:S) + SUMIF('Trade Log'!AP:AP,B9, 'Trade Log'!T:T)","v":0},{"$f":" IF(AD9 = 0, \"\", IFERROR(INDIRECT(\"'Trade Log'!BU\"&MATCH(B9, 'Trade Log'!DY:DY)), \"\"))","v":""},null,"CAGR % ******",{"$f":" IFERROR(GEOMEAN(H:H) - 1,\"\")","v":""},null,null,null,"Best Year (By $/By %)",{"$f":" INDIRECT(\"B\"&(MATCH(MAX(J8:J108), J8:J108, 0)+7)) & \" / \" & INDIRECT(\"B\"&(MATCH(MAX(I8:I108), I8:I108, 0)+7)) & \" \"","v":{"$error":"#N/A"}},null,null,null,null,null,null,null,null,null,null,null,null,null,null,null,null,null,3]
[null,{"$f":" B9 + 1","v":2},{"$f":" SUMIF('Trade Log'!AP:AP,B10, 'Trade Log'!BT:BT)","v":0},{"$f":" IFERROR(INDIRECT(\"'SP500 Data'!B\"&MATCH(B10, 'SP500 Data'!A:A,0))/100,\"\")","v":""},"","",{"$error":"#N/A"},"","",{"$f":" IF(AD10=0, \"\", SUMIF('Trade Log'!AP:AP,B10, 'Trade Log'!BT:BT))","v":""},{"$error":"#N/A"},"","","","","","","","",{"$f":" IFERROR(IF(AD10 = 0, \"\", IF(AB10=\"\",0,IF(IF(R10=\"\",0,(-1*(MAX(R$7:$R10)-R10)))/MAX($R$7:R10) = 0,0,IF(R10=\"\",0,(-1*(MAX(R$7:$R10)-R10)))/MAX($R$7:R10)))), \"\")","v":""},"",{"$f":" IFERROR(INDIRECT(\"'Gold Data'!H\"&MATCH(B10, 'Gold Data'!B:B,0)),\"\")","v":""},"",{"$f":" IFERROR(INDIRECT(\"'GBPUSD Data'!H\"&MATCH(B10, 'GBPUSD Data'!B:B,0)),\"\")","v":""},"",{"$f":" IFERROR(INDIRECT(\"'VIX Data'!H\"&MATCH(B10, 'VIX Data'!B:B,0)),\"\")","v":""},"",0,{"$f":" SUMIF('Trade Log'!AP:AP,B10, 'Trade Log'!EX:EX)","v":0},{"$f":" SUMIF('Trade Log'!AP:AP,B10, 'Trade Log'!O:O) + SUMIF('Trade Log'!AP:AP,B10, 'Trade Log'!P:P) + SUMIF('Trade Log'!AP:AP,B10, 'Trade Log'!Q:Q) + SUMIF('Trade Log'!AP:AP,B10, 'Trade Log'!R:R) + SUMIF('Trade Log'!AP:AP,B10, 'Trade Log'!S:S) + SUMIF('Trade Log'!AP:AP,B10, 'Trade Log'!T:T)","v":0},{"$f":" IF(AD10 = 0, \"\", IFERROR(INDIRECT(\"'Trade Log'!BU\"&MATCH(B10, 'Trade Log'!DY:DY)), \"\"))","v":""},null,"RAR",{"$f":" SLOPE('Trade Log'!AR:AR, 'Trade Log'!DU:DU)","v":{"$error":"#DIV/0!"}},null,null,null,"Worst Year (By $/By %)",{"$f":" INDIRECT(\"B\"&(MATCH(MIN(J8:J108), J8:J108, 0)+7)) & \" / \" & INDIRECT(\"B\"&(MATCH(MIN(I8:I108), I8:I108, 0)+7)) & \" \"","v":{"$error":"#N/A"}},null,null,null,null,null,null,null,null,null,null,null,null,null,null,null,null,{"$f":" \"I\"&ROW(INDEX(I8:I108,MATCH(TRUE,INDEX((I8:I108<>\"\"),0),0)))&\":I\"&LOOKUP(2, 1/(I:I<>\"\"), ROW(I:I))","v":{"$error":"#N/A"}},{"$f":" BE9/100","v":0.03}]
[null,3,{"$f":" SUMIF('Trade Log'!AP:AP,B11, 'Trade Log'!BT:BT)","v":0},{"$f":" IFERROR(INDIRECT(\"'SP500 Data'!B\"&MATCH(B11, 'SP500 Data'!A:A,0))/100,\"\")","v":""},"","",{"$error":"#N/A"},"","",{"$f":" IF(AD11=0, \"\", SUMIF('Trade Log'!AP:AP,B11, 'Trade Log'!BT:BT))","v":""},{"$error":"#N/A"},"","","","","","","","",{"$f":" IFERROR(IF(AD11 = 0, \"\", IF(AB11=\"\",0,IF(IF(R11=\"\",0,(-1*(MAX(R$7:$R11)-R11)))/MAX($R$7:R11) = 0,0,IF(R11=\"\",0,(-1*(MAX(R$7:$R11)-R11)))/MAX($R$7:R11)))), \"\")","v":""},"",{"$f":" IFERROR(INDIRECT(\"'Gold Data'!H\"&MATCH(B11, 'Gold Data'!B:B,0)),\"\")","v":""},"",{"$f":" IFERROR(INDIRECT(\"'GBPUSD Data'!H\"&MATCH(B11, 'GBPUSD Data'!B:B,0)),\"\")","v":""},"",{"$f":" IFERROR(INDIRECT(\"'VIX Data'!H\"&MATCH(B11, 'VIX Data'!B:B,0)),\"\")","v":""},"",0,{"$f":" SUMIF('Trade Log'!AP:AP,B11, 'Trade Log'!EX:EX)","v":0},{"$f":" SUMIF('Trade Log'!AP:AP,B11, 'Trade Log'!O:O) + SUMIF('Trade Log'!AP:AP,B11, 'Trade Log'!P:P) + SUMIF('Trade Log'!AP:AP,B11, 'Trade Log'!Q:Q) + SUMIF('Trade Log'!AP:AP,B11, 'Trade Log'!R:R) + SUMIF('Trade Log'!AP:AP,B11, 'Trade Log'!S:S) + SUMIF('Trade Log'!AP:AP,B11, 'Trade Log'!T:T)","v":0},{"$f":" IF(AD11 = 0, \"\", IFERROR(INDIRECT(\"'Trade Log'!BU\"&MATCH(B11, 'Trade Log'!DY:DY)), \"\"))","v":""},null,"Alpha ******",{"$f":" AVERAGE(I8:I108) - (('Treasury Bill Data'!#REF!/100) + AH12*(AVERAGE(E8:E108)-'Treasury Bill Data'!#REF!/100))","v":{"$error":"#DIV/0!"}},null,null,null,"Skewness",{"$f":" IFERROR(SKEW('Trade Log'!AR6:AR1048576),\"\")","v":""},null,null,null,null,null,null,null,null,null,null,null,null,null,null,null,{"$f":"AVERAGE(BC13:BC3087)","v":0.12265151515151516},null,3]
[null,4,{"$f":" SUMIF('Trade Log'!AP:AP,B12, 'Trade Log'!BT:BT)","v":0},{"$f":" IFERROR(INDIRECT(\"'SP500 Data'!B\"&MATCH(B12, 'SP500 Data'!A:A,0))/100,\"\")","v":""},"","",{"$error":"#N/A"},"","",{"$f":" IF(AD12=0, \"\", SUMIF('Trade Log'!AP:AP,B12, 'Trade Log'!BT:BT))","v":""},{"$error":"#N/A"},"","","","","","","","",{"$f":" IFERROR(IF(AD12 = 0, \"\", IF(AB12=\"\",0,IF(IF(R12=\"\",0,(-1*(MAX(R$7:$R12)-R12)))/MAX($R$7:R12) = 0,0,IF(R12=\"\",0,(-1*(MAX(R$7:$R12)-R12)))/MAX($R$7:R12)))), \"\")","v":""},"",{"$f":" IFERROR(INDIRECT(\"'Gold Data'!H\"&MATCH(B12, 'Gold Data'!B:B,0)),\"\")","v":""},"",{"$f":" IFERROR(INDIRECT(\"'GBPUSD Data'!H\"&MATCH(B12, 'GBPUSD Data'!B:B,0)),\"\")","v":""},"",{"$f":" IFERROR(INDIRECT(\"'VIX Data'!H\"&MATCH(B12, 'VIX Data'!B:B,0)),\"\")","v":""},"",0,{"$f":" SUMIF('Trade Log'!AP:AP,B12, 'Trade Log'!EX:EX)","v":0},{"$f":" SUMIF('Trade Log'!AP:AP,B12, 'Trade Log'!O:O) + SUMIF('Trade Log'!AP:AP,B12, 'Trade Log'!P:P) + SUMIF('Trade Log'!AP:AP,B12, 'Trade Log'!Q:Q) + SUMIF('Trade Log'!AP:AP,B12, 'Trade Log'!R:R) + SUMIF('Trade Log'!AP:AP,B12, 'Trade Log'!S:S) + SUMIF('Trade Log'!AP:AP,B12, 'Trade Log'!T:T)","v":0},{"$f":" IF(AD12 = 0, \"\", IFERROR(INDIRECT(\"'Trade Log'!BU\"&MATCH(B12, 'Trade Log'!DY:DY)), \"\"))","v":""},null,"Beta ******",{"$f":" _xlfn.COVARIANCE.P(I8:I108, E8:E108)/_xlfn.VAR.P(E8:E108)","v":{"$error":"#DIV/0!"}},null,null,null,"Kurtosis",{"$f":" IFERROR(KURT('Trade Log'!AR6:AR1048576),\"\")","v":""},null,null,null,null,null,null,null,null,null,null,null,null,null,null,null,{"$f":" GEOMEAN(BD13:BD3087) - 1","v":0.10393378037257794},null,1]
[null,5,{"$f":" SUMIF('Trade Log'!AP:AP,B13, 'Trade Log'!BT:BT)","v":0},{"$f":" IFERROR(INDIRECT(\"'SP500 Data'!B\"&MATCH(B13, 'SP500 Data'!A:A,0))/100,\"\")","v":""},"","",{"$error":"#N/A"},"","",{"$f":" IF(AD13=0, \"\", SUMIF('Trade Log'!AP:AP,B13, 'Trade Log'!BT:BT))","v":""},{"$error":"#N/A"},"","","","","","","","",{"$f":" IFERROR(IF(AD13 = 0, \"\", IF(AB13=\"\",0,IF(IF(R13=\"\",0,(-1*(MAX(R$7:$R13)-R13)))/MAX($R$7:R13) = 0,0,IF(R13=\"\",0,(-1*(MAX(R$7:$R13)-R13)))/MAX($R$7:R13)))), \"\")","v":""},"",{"$f":" IFERROR(INDIRECT(\"'Gold Data'!H\"&MATCH(B13, 'Gold Data'!B:B,0)),\"\")","v":""},"",{"$f":" IFERROR(INDIRECT(\"'GBPUSD Data'!H\"&MATCH(B13, 'GBPUSD Data'!B:B,0)),\"\")","v":""},"",{"$f":" IFERROR(INDIRECT(\"'VIX Data'!H\"&MATCH(B13, 'VIX Data'!B:B,0)),\"\")","v":""},"",0,{"$f":" SUMIF('Trade Log'!AP:AP,B13, 'Trade Log'!EX:EX)","v":0},{"$f":" SUMIF('Trade Log'!AP:AP,B13, 'Trade Log'!O:O) + SUMIF('Trade Log'!AP:AP,B13, 'Trade Log'!P:P) + SUMIF('Trade Log'!AP:AP,B13, 'Trade Log'!Q:Q) + SUMIF('Trade Log'!AP:AP,B13, 'Trade Log'!R:R) + SUMIF('Trade Log'!AP:AP,B13, 'Trade Log'!S:S) + SUMIF('Trade Log'!AP:AP,B13, 'Trade Log'!T:T)","v":0},{"$f":" IF(AD13 = 0, \"\", IFERROR(INDIRECT(\"'Trade Log'!BU\"&MATCH(B13, 'Trade Log'!DY:DY)), \"\"))","v":""},null,"Sterling Ratio ******",{"$f":" IFERROR((AVERAGE(I8:I108) - (((1 + ('Treasury Bill Data'!#REF!)/100)) - 1))/AVERAGE(T8:T108),\"\")","v":""},null,null,null,"M2 Measure ******",{"$f":" ((AVERAGE(I8:I108) - (((1 + ('Treasury Bill Data'!#REF!)/100)) - 1))/_xlfn.STDEV.P(I8:I108))*_xlfn.STDEV.P(E8:E108) + (((1 + ('Treasury Bill Data'!#REF!)/100)) - 1)","v":{"$error":"#DIV/0!"}},null,null,null,null,null,null,null,null,null,null,null,null,null,null,1926,{"$f":" IFERROR(INDIRECT(\"'SP500 Data'!B\"&MATCH(BB13, 'SP500 Data'!A:A,0))/100,\"\")","v":0.1162},{"$f":" IFERROR(1 +BC13, \"\")","v":1.1162000000000001}]
[null,6,{"$f":" SUMIF('Trade Log'!AP:AP,B14, 'Trade Log'!BT:BT)","v":0},{"$f":" IFERROR(INDIRECT(\"'SP500 Data'!B\"&MATCH(B14, 'SP500 Data'!A:A,0))/100,\"\")","v":""},"","",{"$error":"#N/A"},"","",{"$f":" IF(AD14=0, \"\", SUMIF('Trade Log'!AP:AP,B14, 'Trade Log'!BT:BT))","v":""},{"$error":"#N/A"},"","","","","","","","",{"$f":" IFERROR(IF(AD14 = 0, \"\", IF(AB14=\"\",0,IF(IF(R14=\"\",0,(-1*(MAX(R$7:$R14)-R14)))/MAX($R$7:R14) = 0,0,IF(R14=\"\",0,(-1*(MAX(R$7:$R14)-R14)))/MAX($R$7:R14)))), \"\")","v":""},"",{"$f":" IFERROR(INDIRECT(\"'Gold Data'!H\"&MATCH(B14, 'Gold Data'!B:B,0)),\"\")","v":""},"",{"$f":" IFERROR(INDIRECT(\"'GBPUSD Data'!H\"&MATCH(B14, 'GBPUSD Data'!B:B,0)),\"\")","v":""},"",{"$f":" IFERROR(INDIRECT(\"'VIX Data'!H\"&MATCH(B14, 'VIX Data'!B:B,0)),\"\")","v":""},"",0,{"$f":" SUMIF('Trade Log'!AP:AP,B14, 'Trade Log'!EX:EX)","v":0},{"$f":" SUMIF('Trade Log'!AP:AP,B14, 'Trade Log'!O:O) + SUMIF('Trade Log'!AP:AP,B14, 'Trade Log'!P:P) + SUMIF('Trade Log'!AP:AP,B14, 'Trade Log'!Q:Q) + SUMIF('Trade Log'!AP:AP,B14, 'Trade Log'!R:R) + SUMIF('Trade Log'!AP:AP,B14, 'Trade Log'!S:S) + SUMIF('Trade Log'!AP:AP,B14, 'Trade Log'!T:T)","v":0},{"$f":" IF(AD14 = 0, \"\", IFERROR(INDIRECT(\"'Trade Log'!BU\"&MATCH(B14, 'Trade Log'!DY:DY)), \"\"))","v":""},null,"Calmar Ratio ******",{"$f":" IFERROR((GEOMEAN(INDIRECT(\"H\"&MATCH(BE8, B:B)&\":H\"&MATCH(BE7, B:B))) - 1)/ABS(MIN(INDIRECT(\"T\"&MATCH(BE8, B:B)&\":T\"&MATCH(BE7, B:B)))),\"\")","v":""},null,null,null,"MAR Ratio",{"$f":"AH9/ABS('Drawdown|Run-up'!H8)","v":{"$error":"#VALUE!"}},null,null,null,"CORRELATION TABLE",null,null,null,null,"COVARIANCE TABLE",null,null,null,null,null,1927,{"$f":" IFERROR(INDIRECT(\"'SP500 Data'!B\"&MATCH(BB14, 'SP500 Data'!A:A,0))/100,\"\")","v":0.37490000000000001},{"$f":" IFERROR(1 +BC14, \"\")","v":1.3749}]
[null,7,{"$f":" SUMIF('Trade Log'!AP:AP,B15, 'Trade Log'!BT:BT)","v":0},{"$f":" IFERROR(INDIRECT(\"'SP500 Data'!B\"&MATCH(B15, 'SP500 Data'!A:A,0))/100,\"\")","v":""},"","",{"$error":"#N/A"},"","",{"$f":" IF(AD15=0, \"\", SUMIF('Trade Log'!AP:AP,B15, 'Trade Log'!BT:BT))","v":""},{"$error":"#N/A"},"","","","","","","","",{"$f":" IFERROR(IF(AD15 = 0, \"\", IF(AB15=\"\",0,IF(IF(R15=\"\",0,(-1*(MAX(R$7:$R15)-R15)))/MAX($R$7:R15) = 0,0,IF(R15=\"\",0,(-1*(MAX(R$7:$R15)-R15)))/MAX($R$7:R15)))), \"\")","v":""},"",{"$f":" IFERROR(INDIRECT(\"'Gold Data'!H\"&MATCH(B15, 'Gold Data'!B:B,0)),\"\")","v":""},"",{"$f":" IFERROR(INDIRECT(\"'GBPUSD Data'!H\"&MATCH(B15, 'GBPUSD Data'!B:B,0)),\"\")","v":""},"",{"$f":" IFERROR(INDIRECT(\"'VIX Data'!H\"&MATCH(B15, 'VIX Data'!B:B,0)),\"\")","v":""},"",0,{"$f":" SUMIF('Trade Log'!AP:AP,B15, 'Trade Log'!EX:EX)","v":0},{"$f":" SUMIF('Trade Log'!AP:AP,B15, 'Trade Log'!O:O) + SUMIF('Trade Log'!AP:AP,B15, 'Trade Log'!P:P) + SUMIF('Trade Log'!AP:AP,B15, 'Trade Log'!Q:Q) + SUMIF('Trade Log'!AP:AP,B15, 'Trade Log'!R:R) + SUMIF('Trade Log'!AP:AP,B15, 'Trade Log'!S:S) + SUMIF('Trade Log'!AP:AP,B15, 'Trade Log'!T:T)","v":0},{"$f":" IF(AD15 = 0, \"\", IFERROR(INDIRECT(\"'Trade Log'!BU\"&MATCH(B15, 'Trade Log'!DY:DY)), \"\"))","v":""},null,"Information Ratio ******",{"$f":" (AVERAGE(S8:S108))/_xlfn.STDEV.P(S8:S108)","v":{"$error":"#DIV/0!"}},null,null,null,"Treynor Ratio ******",{"$f":" (AVERAGE(E8:E108) - (((1 + ('Treasury Bill Data'!#REF!)/100)) - 1))/AH12","v":{"$error":"#DIV/0!"}},null,null,null,null,null,null,null,null,null,null,null,null,null,null,1928,{"$f":" IFERROR(INDIRECT(\"'SP500 Data'!B\"&MATCH(BB15, 'SP500 Data'!A:A,0))/100,\"\")","v":0.43609999999999999},1.4360999999999999]
[null,8,{"$f":" SUMIF('Trade Log'!AP:AP,B16, 'Trade Log'!BT:BT)","v":0},{"$f":" IFERROR(INDIRECT(\"'SP500 Data'!B\"&MATCH(B16, 'SP500 Data'!A:A,0))/100,\"\")","v":""},"","",{"$error":"#N/A"},"","",{"$f":" IF(AD16=0, \"\", SUMIF('Trade Log'!AP:AP,B16, 'Trade Log'!BT:BT))","v":""},{"$error":"#N/A"},"","","","","","","","",{"$f":" IFERROR(IF(AD16 = 0, \"\", IF(AB16=\"\",0,IF(IF(R16=\"\",0,(-1*(MAX(R$7:$R16)-R16)))/MAX($R$7:R16) = 0,0,IF(R16=\"\",0,(-1*(MAX(R$7:$R16)-R16)))/MAX($R$7:R16)))), \"\")","v":""},"",{"$f":" IFERROR(INDIRECT(\"'Gold Data'!H\"&MATCH(B16, 'Gold Data'!B:B,0)),\"\")","v":""},"",{"$f":" IFERROR(INDIRECT(\"'GBPUSD Data'!H\"&MATCH(B16, 'GBPUSD Data'!B:B,0)),\"\")","v":""},"",{"$f":" IFERROR(INDIRECT(\"'VIX Data'!H\"&MATCH(B16, 'VIX Data'!B:B,0)),\"\")","v":""},"",0,{"$f":" SUMIF('Trade Log'!AP:AP,B16, 'Trade Log'!EX:EX)","v":0},{"$f":" SUMIF('Trade Log'!AP:AP,B16, 'Trade Log'!O:O) + SUMIF('Trade Log'!AP:AP,B16, 'Trade Log'!P:P) + SUMIF('Trade Log'!AP:AP,B16, 'Trade Log'!Q:Q) + SUMIF('Trade Log'!AP:AP,B16, 'Trade Log'!R:R) + SUMIF('Trade Log'!AP:AP,B16, 'Trade Log'!S:S) + SUMIF('Trade Log'!AP:AP,B16, 'Trade Log'!T:T)","v":0},{"$f":" IF(AD16 = 0, \"\", IFERROR(INDIRECT(\"'Trade Log'!BU\"&MATCH(B16, 'Trade Log'!DY:DY)), \"\"))","v":""},null,{"$f":" IF(BE11 = 1, \"1st Lower Partial Moment ******\", IF(BE11 = 2, \"2nd Lower Partial Moment ******\", IF(BE11 = 3, \"3rd Lower Partial Moment ******\", BE11&\"th Lower Partial Moment ******\")))","v":"3rd Lower Partial Moment ******"},{"$f":" AVERAGE(L8:L108)","v":{"$error":"#DIV/0!"}},null,null,null,"Return Retracement Ratio ******",{"$f":" IFERROR(AH9/'Trade Log'!FM26,\"\")","v":""},null,null,null,"S&P 500 Correlation (R/R2)",{"$f":" CORREL(E8:E108, I8:I108)","v":{"$error":"#DIV/0!"}},"/",{"$f":" RSQ(E8:E108, I8:I108)","v":{"$error":"#DIV/0!"}},null,"S&P 500 Covariance",{"$f":" _xlfn.COVARIANCE.P(E8:E108, I8:I108)","v":{"$error":"#DIV/0!"}},null,null,null,null,1929,{"$f":" IFERROR(INDIRECT(\"'SP500 Data'!B\"&MATCH(BB16, 'SP500 Data'!A:A,0))/100,\"\")","v":-8.4199999999999997E-2},0.91579999999999995]
[null,9,{"$f":" SUMIF('Trade Log'!AP:AP,B17, 'Trade Log'!BT:BT)","v":0},{"$f":" IFERROR(INDIRECT(\"'SP500 Data'!B\"&MATCH(B17, 'SP500 Data'!A:A,0))/100,\"\")","v":""},"","",{"$error":"#N/A"},"","",{"$f":" IF(AD17=0, \"\", SUMIF('Trade Log'!AP:AP,B17, 'Trade Log'!BT:BT))","v":""},{"$error":"#N/A"},"","","","","","","","",{"$f":" IFERROR(IF(AD17 = 0, \"\", IF(AB17=\"\",0,IF(IF(R17=\"\",0,(-1*(MAX(R$7:$R17)-R17)))/MAX($R$7:R17) = 0,0,IF(R17=\"\",0,(-1*(MAX(R$7:$R17)-R17)))/MAX($R$7:R17)))), \"\")","v":""},"",{"$f":" IFERROR(INDIRECT(\"'Gold Data'!H\"&MATCH(B17, 'Gold Data'!B:B,0)),\"\")","v":""},"",{"$f":" IFERROR(INDIRECT(\"'GBPUSD Data'!H\"&MATCH(B17, 'GBPUSD Data'!B:B,0)),\"\")","v":""},"",{"$f":" IFERROR(INDIRECT(\"'VIX Data'!H\"&MATCH(B17, 'VIX Data'!B:B,0)),\"\")","v":""},"",0,{"$f":" SUMIF('Trade Log'!AP:AP,B17, 'Trade Log'!EX:EX)","v":0},{"$f":" SUMIF('Trade Log'!AP:AP,B17, 'Trade Log'!O:O) + SUMIF('Trade Log'!AP:AP,B17, 'Trade Log'!P:P) + SUMIF('Trade Log'!AP:AP,B17, 'Trade Log'!Q:Q) + SUMIF('Trade Log'!AP:AP,B17, 'Trade Log'!R:R) + SUMIF('Trade Log'!AP:AP,B17, 'Trade Log'!S:S) + SUMIF('Trade Log'!AP:AP,B17, 'Trade Log'!T:T)","v":0},{"$f":" IF(AD17 = 0, \"\", IFERROR(INDIRECT(\"'Trade Log'!BU\"&MATCH(B17, 'Trade Log'!DY:DY)), \"\"))","v":""},null,"Market Risk Premium ******",{"$f":" AH8 - AVERAGE(E8:E108)","v":{"$error":"#VALUE!"}},null,null,null,"Upside Potential Ratio ******",{"$f":" AVERAGE(M8:M108)/SQRT(AVERAGE(L8:L108))","v":{"$error":"#DIV/0!"}},null,null,null,"GBPUSD Correlation (R/R2)",{"$f":" CORREL(Y8:Y108, I8:I108)","v":{"$error":"#DIV/0!"}},"/",{"$f":" RSQ(Y8:Y108, I8:I108)","v":{"$error":"#DIV/0!"}},null,"GBPUSD Covariance",{"$f":" _xlfn.COVARIANCE.P(Y8:Y108, I8:I108)","v":{"$error":"#DIV/0!"}},null,null,null,null,1930,{"$f":" IFERROR(INDIRECT(\"'SP500 Data'!B\"&MATCH(BB17, 'SP500 Data'!A:A,0))/100,\"\")","v":-0.249},0.751]
[null,10,{"$f":" SUMIF('Trade Log'!AP:AP,B18, 'Trade Log'!BT:BT)","v":0},{"$f":" IFERROR(INDIRECT(\"'SP500 Data'!B\"&MATCH(B18, 'SP500 Data'!A:A,0))/100,\"\")","v":""},"","",{"$error":"#N/A"},"","",{"$f":" IF(AD18=0, \"\", SUMIF('Trade Log'!AP:AP,B18, 'Trade Log'!BT:BT))","v":""},{"$error":"#N/A"},"","","","","","","","",{"$f":" IFERROR(IF(AD18 = 0, \"\", IF(AB18=\"\",0,IF(IF(R18=\"\",0,(-1*(MAX(R$7:$R18)-R18)))/MAX($R$7:R18) = 0,0,IF(R18=\"\",0,(-1*(MAX(R$7:$R18)-R18)))/MAX($R$7:R18)))), \"\")","v":""},"",{"$f":" IFERROR(INDIRECT(\"'Gold Data'!H\"&MATCH(B18, 'Gold Data'!B:B,0)),\"\")","v":""},"",{"$f":" IFERROR(INDIRECT(\"'GBPUSD Data'!H\"&MATCH(B18, 'GBPUSD Data'!B:B,0)),\"\")","v":""},"",{"$f":" IFERROR(INDIRECT(\"'VIX Data'!H\"&MATCH(B18, 'VIX Data'!B:B,0)),\"\")","v":""},"",0,{"$f":" SUMIF('Trade Log'!AP:AP,B18, 'Trade Log'!EX:EX)","v":0},{"$f":" SUMIF('Trade Log'!AP:AP,B18, 'Trade Log'!O:O) + SUMIF('Trade Log'!AP:AP,B18, 'Trade Log'!P:P) + SUMIF('Trade Log'!AP:AP,B18, 'Trade Log'!Q:Q) + SUMIF('Trade Log'!AP:AP,B18, 'Trade Log'!R:R) + SUMIF('Trade Log'!AP:AP,B18, 'Trade Log'!S:S) + SUMIF('Trade Log'!AP:AP,B18, 'Trade Log'!T:T)","v":0},{"$f":" IF(AD18 = 0, \"\", IFERROR(INDIRECT(\"'Trade Log'!BU\"&MATCH(B18, 'Trade Log'!DY:DY)), \"\"))","v":""},null,"Burke Ratio ******",{"$f":" IFERROR((AVERAGE(I8:I108) - (((1 + ('Treasury Bill Data'!#REF!)/100)) - 1))/SQRT(SUM(U8:U108)),\"\")","v":""},null,null,null,{"$f":" \"Kappa \"& BE11 & \" ratio ******\"","v":"Kappa 3 ratio ******"},{"$f":" IFERROR((AVERAGE(I8:I108) - (((1 + ('Treasury Bill Data'!#REF!)/100)) - 1))/(AH16^(1/BE11)),\"\")","v":""},null,null,null,"VIX Correlation (R/R2)",{"$f":" CORREL(AA8:AA108, I8:I108)","v":{"$error":"#DIV/0!"}},"/",{"$f":" RSQ(AA8:AA108, I8:I108)","v":{"$error":"#DIV/0!"}},null,"VIX Covariance",{"$f":" _xlfn.COVARIANCE.P(AA8:AA108, I8:I108)","v":{"$error":"#DIV/0!"}},null,null,null,null,1931,{"$f":" IFERROR(INDIRECT(\"'SP500 Data'!B\"&MATCH(BB18, 'SP500 Data'!A:A,0))/100,\"\")","v":-0.43340000000000001},0.56659999999999999]
[null,11,{"$f":" SUMIF('Trade Log'!AP:AP,B19, 'Trade Log'!BT:BT)","v":0},{"$f":" IFERROR(INDIRECT(\"'SP500 Data'!B\"&MATCH(B19, 'SP500 Data'!A:A,0))/100,\"\")","v":""},"","",{"$error":"#N/A"},"","",{"$f":" IF(AD19=0, \"\", SUMIF('Trade Log'!AP:AP,B19, 'Trade Log'!BT:BT))","v":""},{"$error":"#N/A"},"","","","","","","","",{"$f":" IFERROR(IF(AD19 = 0, \"\", IF(AB19=\"\",0,IF(IF(R19=\"\",0,(-1*(MAX(R$7:$R19)-R19)))/MAX($R$7:R19) = 0,0,IF(R19=\"\",0,(-1*(MAX(R$7:$R19)-R19)))/MAX($R$7:R19)))), \"\")","v":""},"",{"$f":" IFERROR(INDIRECT(\"'Gold Data'!H\"&MATCH(B19, 'Gold Data'!B:B,0)),\"\")","v":""},"",{"$f":" IFERROR(INDIRECT(\"'GBPUSD Data'!H\"&MATCH(B19, 'GBPUSD Data'!B:B,0)),\"\")","v":""},"",{"$f":" IFERROR(INDIRECT(\"'VIX Data'!H\"&MATCH(B19, 'VIX Data'!B:B,0)),\"\")","v":""},"",0,{"$f":" SUMIF('Trade Log'!AP:AP,B19, 'Trade Log'!EX:EX)","v":0},{"$f":" SUMIF('Trade Log'!AP:AP,B19, 'Trade Log'!O:O) + SUMIF('Trade Log'!AP:AP,B19, 'Trade Log'!P:P) + SUMIF('Trade Log'!AP:AP,B19, 'Trade Log'!Q:Q) + SUMIF('Trade Log'!AP:AP,B19, 'Trade Log'!R:R) + SUMIF('Trade Log'!AP:AP,B19, 'Trade Log'!S:S) + SUMIF('Trade Log'!AP:AP,B19, 'Trade Log'!T:T)","v":0},{"$f":" IF(AD19 = 0, \"\", IFERROR(INDIRECT(\"'Trade Log'!BU\"&MATCH(B19, 'Trade Log'!DY:DY)), \"\"))","v":""},null,"Omega Ratio ******",{"$f":"SUM(IF(INDIRECT(BD10) > BE10, INDIRECT(BD10)- BE10,\"\"))/-SUM(IF(INDIRECT(BD10)< BE10, INDIRECT(BD10)-BE10,\"\"))","v":{"$error":"#N/A"}},null,null,null,"Gain-Loss Ratio ******",{"$f":" AVERAGE(M8:M108)/(AVERAGE(L8:L108))","v":{"$error":"#DIV/0!"}},null,null,null,"Gold Correlation (R/R2)",{"$f":" CORREL(W8:W108, I8:I108)","v":{"$error":"#DIV/0!"}},"/",{"$f":" RSQ(W8:W108, I8:I108)","v":{"$error":"#DIV/0!"}},null,"Gold Covariance",{"$f":" _xlfn.COVARIANCE.P(W8:W108, I8:I108)","v":{"$error":"#DIV/0!"}},null,null,null,null,1932,{"$f":" IFERROR(INDIRECT(\"'SP500 Data'!B\"&MATCH(BB19, 'SP500 Data'!A:A,0))/100,\"\")","v":-8.1900000000000001E-2},0.91810000000000003]
[null,12,{"$f":" SUMIF('Trade Log'!AP:AP,B20, 'Trade Log'!BT:BT)","v":0},{"$f":" IFERROR(INDIRECT(\"'SP500 Data'!B\"&MATCH(B20, 'SP500 Data'!A:A,0))/100,\"\")","v":""},"","",{"$error":"#N/A"},"","",{"$f":" IF(AD20=0, \"\", SUMIF('Trade Log'!AP:AP,B20, 'Trade Log'!BT:BT))","v":""},{"$error":"#N/A"},"","","","","","","","",{"$f":" IFERROR(IF(AD20 = 0, \"\", IF(AB20=\"\",0,IF(IF(R20=\"\",0,(-1*(MAX(R$7:$R20)-R20)))/MAX($R$7:R20) = 0,0,IF(R20=\"\",0,(-1*(MAX(R$7:$R20)-R20)))/MAX($R$7:R20)))), \"\")","v":""},"",{"$f":" IFERROR(INDIRECT(\"'Gold Data'!H\"&MATCH(B20, 'Gold Data'!B:B,0)),\"\")","v":""},"",{"$f":" IFERROR(INDIRECT(\"'GBPUSD Data'!H\"&MATCH(B20, 'GBPUSD Data'!B:B,0)),\"\")","v":""},"",{"$f":" IFERROR(INDIRECT(\"'VIX Data'!H\"&MATCH(B20, 'VIX Data'!B:B,0)),\"\")","v":""},"",0,{"$f":" SUMIF('Trade Log'!AP:AP,B20, 'Trade Log'!EX:EX)","v":0},{"$f":" SUMIF('Trade Log'!AP:AP,B20, 'Trade Log'!O:O) + SUMIF('Trade Log'!AP:AP,B20, 'Trade Log'!P:P) + SUMIF('Trade Log'!AP:AP,B20, 'Trade Log'!Q:Q) + SUMIF('Trade Log'!AP:AP,B20, 'Trade Log'!R:R) + SUMIF('Trade Log'!AP:AP,B20, 'Trade Log'!S:S) + SUMIF('Trade Log'!AP:AP,B20, 'Trade Log'!T:T)","v":0},{"$f":" IF(AD20 = 0, \"\", IFERROR(INDIRECT(\"'Trade Log'!BU\"&MATCH(B20, 'Trade Log'!DY:DY)), \"\"))","v":""},null,"Sharpe Ratio (Arith./Geo.) ******",{"$f":" TEXT((AVERAGE(I8:I108) - (((1 + ('Treasury Bill Data'!#REF!)/100)) - 1))/_xlfn.STDEV.P(I8:I108), \"0.000\") & \" / \" & TEXT((AH9 - (((1 + ('Treasury Bill Data'!#REF!)/100)) - 1))/_xlfn.STDEV.P(I8:I108), \"0.000\") & \" \"","v":{"$error":"#DIV/0!"}},null,null,null,"Sharpe Ratio (Arith./Geo.) ******",{"$f":"IFERROR(TEXT(('Trade Log'!FJ15-'Trade Log'!FJ14)/'Trade Log'!FJ17, \"0.000\"),\"\") & \" / \" & IFERROR(TEXT(('Trade Log'!FJ16-'Trade Log'!FJ14)/'Trade Log'!FJ17, \"0.000\"),\"\") & \" \"","v":" /  "},null,null,null,null,null,null,null,null,null,null,null,null,null,null,1933,{"$f":" IFERROR(INDIRECT(\"'SP500 Data'!B\"&MATCH(BB20, 'SP500 Data'!A:A,0))/100,\"\")","v":0.53990000000000005},1.5399]
[null,13,{"$f":" SUMIF('Trade Log'!AP:AP,B21, 'Trade Log'!BT:BT)","v":0},{"$f":" IFERROR(INDIRECT(\"'SP500 Data'!B\"&MATCH(B21, 'SP500 Data'!A:A,0))/100,\"\")","v":""},"","",{"$error":"#N/A"},"","",{"$f":" IF(AD21=0, \"\", SUMIF('Trade Log'!AP:AP,B21, 'Trade Log'!BT:BT))","v":""},{"$error":"#N/A"},"","","","","","","","",{"$f":" IFERROR(IF(AD21 = 0, \"\", IF(AB21=\"\",0,IF(IF(R21=\"\",0,(-1*(MAX(R$7:$R21)-R21)))/MAX($R$7:R21) = 0,0,IF(R21=\"\",0,(-1*(MAX(R$7:$R21)-R21)))/MAX($R$7:R21)))), \"\")","v":""},"",{"$f":" IFERROR(INDIRECT(\"'Gold Data'!H\"&MATCH(B21, 'Gold Data'!B:B,0)),\"\")","v":""},"",{"$f":" IFERROR(INDIRECT(\"'GBPUSD Data'!H\"&MATCH(B21, 'GBPUSD Data'!B:B,0)),\"\")","v":""},"",{"$f":" IFERROR(INDIRECT(\"'VIX Data'!H\"&MATCH(B21, 'VIX Data'!B:B,0)),\"\")","v":""},"",0,{"$f":" SUMIF('Trade Log'!AP:AP,B21, 'Trade Log'!EX:EX)","v":0},{"$f":" SUMIF('Trade Log'!AP:AP,B21, 'Trade Log'!O:O) + SUMIF('Trade Log'!AP:AP,B21, 'Trade Log'!P:P) + SUMIF('Trade Log'!AP:AP,B21, 'Trade Log'!Q:Q) + SUMIF('Trade Log'!AP:AP,B21, 'Trade Log'!R:R) + SUMIF('Trade Log'!AP:AP,B21, 'Trade Log'!S:S) + SUMIF('Trade Log'!AP:AP,B21, 'Trade Log'!T:T)","v":0},{"$f":" IF(AD21 = 0, \"\", IFERROR(INDIRECT(\"'Trade Log'!BU\"&MATCH(B21, 'Trade Log'!DY:DY)), \"\"))","v":""},null,"Sortino Ratio (Arith./Geo.) ******",{"$f":" TEXT((AVERAGE(I8:I108) - (((1 + ('Treasury Bill Data'!#REF!)/100)) - 1))/((SUMSQ(N:N)/COUNT(N:N))^0.5),\"0.000\") & \" / \" & TEXT((AH9 - (((1 + ('Treasury Bill Data'!#REF!)/100)) - 1))/((SUMSQ(N:N)/COUNT(N:N))^0.5),\"0.000\") & \" \"","v":{"$error":"#DIV/0!"}},null,null,null,"Sortino Ratio (Arith./Geo.) ******",{"$f":"IFERROR(TEXT(('Trade Log'!FJ15-'Trade Log'!FJ14)/'Trade Log'!FJ18, \"0.000\"),\"\") & \" / \" & IFERROR(TEXT(('Trade Log'!FJ16-'Trade Log'!FJ14)/'Trade Log'!FJ18, \"0.000\"),\"\") & \" \"","v":" /  "},null,null,null,null,null,null,null,null,null,null,null,null,null,null,1934,{"$f":" IFERROR(INDIRECT(\"'SP500 Data'!B\"&MATCH(BB21, 'SP500 Data'!A:A,0))/100,\"\")","v":-1.44E-2},0.98560000000000003]
[null,14,{"$f":" SUMIF('Trade Log'!AP:AP,B22, 'Trade Log'!BT:BT)","v":0},{"$f":" IFERROR(INDIRECT(\"'SP500 Data'!B\"&MATCH(B22, 'SP500 Data'!A:A,0))/100,\"\")","v":""},"","",{"$error":"#N/A"},"","",{"$f":" IF(AD22=0, \"\", SUMIF('Trade Log'!AP:AP,B22, 'Trade Log'!BT:BT))","v":""},{"$error":"#N/A"},"","","","","","","","",{"$f":" IFERROR(IF(AD22 = 0, \"\", IF(AB22=\"\",0,IF(IF(R22=\"\",0,(-1*(MAX(R$7:$R22)-R22)))/MAX($R$7:R22) = 0,0,IF(R22=\"\",0,(-1*(MAX(R$7:$R22)-R22)))/MAX($R$7:R22)))), \"\")","v":""},"",{"$f":" IFERROR(INDIRECT(\"'Gold Data'!H\"&MATCH(B22, 'Gold Data'!B:B,0)),\"\")","v":""},"",{"$f":" IFERROR(INDIRECT(\"'GBPUSD Data'!H\"&MATCH(B22, 'GBPUSD Data'!B:B,0)),\"\")","v":""},"",{"$f":" IFERROR(INDIRECT(\"'VIX Data'!H\"&MATCH(B22, 'VIX Data'!B:B,0)),\"\")","v":""},"",0,{"$f":" SUMIF('Trade Log'!AP:AP,B22, 'Trade Log'!EX:EX)","v":0},{"$f":" SUMIF('Trade Log'!AP:AP,B22, 'Trade Log'!O:O) + SUMIF('Trade Log'!AP:AP,B22, 'Trade Log'!P:P) + SUMIF('Trade Log'!AP:AP,B22, 'Trade Log'!Q:Q) + SUMIF('Trade Log'!AP:AP,B22, 'Trade Log'!R:R) + SUMIF('Trade Log'!AP:AP,B22, 'Trade Log'!S:S) + SUMIF('Trade Log'!AP:AP,B22, 'Trade Log'!T:T)","v":0},{"$f":" IF(AD22 = 0, \"\", IFERROR(INDIRECT(\"'Trade Log'!BU\"&MATCH(B22, 'Trade Log'!DY:DY)), \"\"))","v":""},null,"Standard Deviation $",{"$f":" IFERROR(SUBTOTAL(108, ('Trade Log'!AR6:AR1048576)),\"\")","v":""},null,null,null,"Standard Deviation $ ******",{"$f":" IFERROR('Trade Log'!FK13,\"\")","v":""},null,null,null,null,null,null,null,null,null,null,null,null,null,null,1935,{"$f":" IFERROR(INDIRECT(\"'SP500 Data'!B\"&MATCH(BB22, 'SP500 Data'!A:A,0))/100,\"\")","v":0.47670000000000001},1.4767000000000001]
[null,15,{"$f":" SUMIF('Trade Log'!AP:AP,B23, 'Trade Log'!BT:BT)","v":0},{"$f":" IFERROR(INDIRECT(\"'SP500 Data'!B\"&MATCH(B23, 'SP500 Data'!A:A,0))/100,\"\")","v":""},"","",{"$error":"#N/A"},"","",{"$f":" IF(AD23=0, \"\", SUMIF('Trade Log'!AP:AP,B23, 'Trade Log'!BT:BT))","v":""},{"$error":"#N/A"},"","","","","","","","",{"$f":" IFERROR(IF(AD23 = 0, \"\", IF(AB23=\"\",0,IF(IF(R23=\"\",0,(-1*(MAX(R$7:$R23)-R23)))/MAX($R$7:R23) = 0,0,IF(R23=\"\",0,(-1*(MAX(R$7:$R23)-R23)))/MAX($R$7:R23)))), \"\")","v":""},"",{"$f":" IFERROR(INDIRECT(\"'Gold Data'!H\"&MATCH(B23, 'Gold Data'!B:B,0)),\"\")","v":""},"",{"$f":" IFERROR(INDIRECT(\"'GBPUSD Data'!H\"&MATCH(B23, 'GBPUSD Data'!B:B,0)),\"\")","v":""},"",{"$f":" IFERROR(INDIRECT(\"'VIX Data'!H\"&MATCH(B23, 'VIX Data'!B:B,0)),\"\")","v":""},"",0,{"$f":" SUMIF('Trade Log'!AP:AP,B23, 'Trade Log'!EX:EX)","v":0},{"$f":" SUMIF('Trade Log'!AP:AP,B23, 'Trade Log'!O:O) + SUMIF('Trade Log'!AP:AP,B23, 'Trade Log'!P:P) + SUMIF('Trade Log'!AP:AP,B23, 'Trade Log'!Q:Q) + SUMIF('Trade Log'!AP:AP,B23, 'Trade Log'!R:R) + SUMIF('Trade Log'!AP:AP,B23, 'Trade Log'!S:S) + SUMIF('Trade Log'!AP:AP,B23, 'Trade Log'!T:T)","v":0},{"$f":" IF(AD23 = 0, \"\", IFERROR(INDIRECT(\"'Trade Log'!BU\"&MATCH(B23, 'Trade Log'!DY:DY)), \"\"))","v":""},null,"Standard Deviation %",{"$f":" IFERROR(SUBTOTAL(108, ('Trade Log'!AS:AS)),\"\")","v":""},null,null,null,"Standard Deviation % ******",{"$f":" IFERROR('Trade Log'!FJ17,\"\")","v":""},null,null,null,null,null,null,null,null,null,null,null,null,null,null,1936,{"$f":" IFERROR(INDIRECT(\"'SP500 Data'!B\"&MATCH(BB23, 'SP500 Data'!A:A,0))/100,\"\")","v":0.3392},1.3391999999999999]
[null,16,{"$f":" SUMIF('Trade Log'!AP:AP,B24, 'Trade Log'!BT:BT)","v":0},{"$f":" IFERROR(INDIRECT(\"'SP500 Data'!B\"&MATCH(B24, 'SP500 Data'!A:A,0))/100,\"\")","v":""},"","",{"$error":"#N/A"},"","",{"$f":" IF(AD24=0, \"\", SUMIF('Trade Log'!AP:AP,B24, 'Trade Log'!BT:BT))","v":""},{"$error":"#N/A"},"","","","","","","","",{"$f":" IFERROR(IF(AD24 = 0, \"\", IF(AB24=\"\",0,IF(IF(R24=\"\",0,(-1*(MAX(R$7:$R24)-R24)))/MAX($R$7:R24) = 0,0,IF(R24=\"\",0,(-1*(MAX(R$7:$R24)-R24)))/MAX($R$7:R24)))), \"\")","v":""},"",{"$f":" IFERROR(INDIRECT(\"'Gold Data'!H\"&MATCH(B24, 'Gold Data'!B:B,0)),\"\")","v":""},"",{"$f":" IFERROR(INDIRECT(\"'GBPUSD Data'!H\"&MATCH(B24, 'GBPUSD Data'!B:B,0)),\"\")","v":""},"",{"$f":" IFERROR(INDIRECT(\"'VIX Data'!H\"&MATCH(B24, 'VIX Data'!B:B,0)),\"\")","v":""},"",0,{"$f":" SUMIF('Trade Log'!AP:AP,B24, 'Trade Log'!EX:EX)","v":0},{"$f":" SUMIF('Trade Log'!AP:AP,B24, 'Trade Log'!O:O) + SUMIF('Trade Log'!AP:AP,B24, 'Trade Log'!P:P) + SUMIF('Trade Log'!AP:AP,B24, 'Trade Log'!Q:Q) + SUMIF('Trade Log'!AP:AP,B24, 'Trade Log'!R:R) + SUMIF('Trade Log'!AP:AP,B24, 'Trade Log'!S:S) + SUMIF('Trade Log'!AP:AP,B24, 'Trade Log'!T:T)","v":0},{"$f":" IF(AD24 = 0, \"\", IFERROR(INDIRECT(\"'Trade Log'!BU\"&MATCH(B24, 'Trade Log'!DY:DY)), \"\"))","v":""},null,"Coefficient of Variation $",{"$f":"AH22/AH7","v":{"$error":"#VALUE!"}},null,null,null,"Coefficient of Variation $  ******",{"$f":" AM22/'Overall Performance'!H9","v":{"$error":"#VALUE!"}},null,null,null,null,null,null,null,null,null,null,null,null,null,null,1937,{"$f":" IFERROR(INDIRECT(\"'SP500 Data'!B\"&MATCH(BB24, 'SP500 Data'!A:A,0))/100,\"\")","v":-0.3503},0.64969999999999994]
[null,17,{"$f":" SUMIF('Trade Log'!AP:AP,B25, 'Trade Log'!BT:BT)","v":0},{"$f":" IFERROR(INDIRECT(\"'SP500 Data'!B\"&MATCH(B25, 'SP500 Data'!A:A,0))/100,\"\")","v":""},"","",{"$error":"#N/A"},"","",{"$f":" IF(AD25=0, \"\", SUMIF('Trade Log'!AP:AP,B25, 'Trade Log'!BT:BT))","v":""},{"$error":"#N/A"},"","","","","","","","",{"$f":" IFERROR(IF(AD25 = 0, \"\", IF(AB25=\"\",0,IF(IF(R25=\"\",0,(-1*(MAX(R$7:$R25)-R25)))/MAX($R$7:R25) = 0,0,IF(R25=\"\",0,(-1*(MAX(R$7:$R25)-R25)))/MAX($R$7:R25)))), \"\")","v":""},"",{"$f":" IFERROR(INDIRECT(\"'Gold Data'!H\"&MATCH(B25, 'Gold Data'!B:B,0)),\"\")","v":""},"",{"$f":" IFERROR(INDIRECT(\"'GBPUSD Data'!H\"&MATCH(B25, 'GBPUSD Data'!B:B,0)),\"\")","v":""},"",{"$f":" IFERROR(INDIRECT(\"'VIX Data'!H\"&MATCH(B25, 'VIX Data'!B:B,0)),\"\")","v":""},"",0,{"$f":" SUMIF('Trade Log'!AP:AP,B25, 'Trade Log'!EX:EX)","v":0},{"$f":" SUMIF('Trade Log'!AP:AP,B25, 'Trade Log'!O:O) + SUMIF('Trade Log'!AP:AP,B25, 'Trade Log'!P:P) + SUMIF('Trade Log'!AP:AP,B25, 'Trade Log'!Q:Q) + SUMIF('Trade Log'!AP:AP,B25, 'Trade Log'!R:R) + SUMIF('Trade Log'!AP:AP,B25, 'Trade Log'!S:S) + SUMIF('Trade Log'!AP:AP,B25, 'Trade Log'!T:T)","v":0},{"$f":" IF(AD25 = 0, \"\", IFERROR(INDIRECT(\"'Trade Log'!BU\"&MATCH(B25, 'Trade Log'!DY:DY)), \"\"))","v":""},null,"Coefficient of Variation %",{"$f":" AH23/AH8","v":{"$error":"#VALUE!"}},null,null,null,"Coefficient of Variation % ******",{"$f":" AM23/'Overall Performance'!H12","v":{"$error":"#VALUE!"}},null,null,null,null,null,null,null,null,null,null,null,null,null,null,1938,{"$f":" IFERROR(INDIRECT(\"'SP500 Data'!B\"&MATCH(BB25, 'SP500 Data'!A:A,0))/100,\"\")","v":0.31120000000000003},1.3111999999999999]
[null,18,{"$f":" SUMIF('Trade Log'!AP:AP,B26, 'Trade Log'!BT:BT)","v":0},{"$f":" IFERROR(INDIRECT(\"'SP500 Data'!B\"&MATCH(B26, 'SP500 Data'!A:A,0))/100,\"\")","v":""},"","",{"$error":"#N/A"},"","",{"$f":" IF(AD26=0, \"\", SUMIF('Trade Log'!AP:AP,B26, 'Trade Log'!BT:BT))","v":""},{"$error":"#N/A"},"","","","","","","","",{"$f":" IFERROR(IF(AD26 = 0, \"\", IF(AB26=\"\",0,IF(IF(R26=\"\",0,(-1*(MAX(R$7:$R26)-R26)))/MAX($R$7:R26) = 0,0,IF(R26=\"\",0,(-1*(MAX(R$7:$R26)-R26)))/MAX($R$7:R26)))), \"\")","v":""},"",{"$f":" IFERROR(INDIRECT(\"'Gold Data'!H\"&MATCH(B26, 'Gold Data'!B:B,0)),\"\")","v":""},"",{"$f":" IFERROR(INDIRECT(\"'GBPUSD Data'!H\"&MATCH(B26, 'GBPUSD Data'!B:B,0)),\"\")","v":""},"",{"$f":" IFERROR(INDIRECT(\"'VIX Data'!H\"&MATCH(B26, 'VIX Data'!B:B,0)),\"\")","v":""},"",0,{"$f":" SUMIF('Trade Log'!AP:AP,B26, 'Trade Log'!EX:EX)","v":0},{"$f":" SUMIF('Trade Log'!AP:AP,B26, 'Trade Log'!O:O) + SUMIF('Trade Log'!AP:AP,B26, 'Trade Log'!P:P) + SUMIF('Trade Log'!AP:AP,B26, 'Trade Log'!Q:Q) + SUMIF('Trade Log'!AP:AP,B26, 'Trade Log'!R:R) + SUMIF('Trade Log'!AP:AP,B26, 'Trade Log'!S:S) + SUMIF('Trade Log'!AP:AP,B26, 'Trade Log'!T:T)","v":0},{"$f":" IF(AD26 = 0, \"\", IFERROR(INDIRECT(\"'Trade Log'!BU\"&MATCH(B26, 'Trade Log'!DY:DY)), \"\"))","v":""},null,"Downside Deviation $ ******",{"$f":"(SUMSQ(O:O)/COUNT(O:O))^0.5","v":{"$error":"#DIV/0!"}},null,null,null,"Downside Deviation $ ******",{"$f":" IFERROR('Trade Log'!FJ23,\"\")","v":""},null,null,null,null,null,null,null,null,null,null,null,null,null,null,1939,{"$f":" IFERROR(INDIRECT(\"'SP500 Data'!B\"&MATCH(BB26, 'SP500 Data'!A:A,0))/100,\"\")","v":-4.0999999999999995E-3},0.99590000000000001]
[null,19,{"$f":" SUMIF('Trade Log'!AP:AP,B27, 'Trade Log'!BT:BT)","v":0},{"$f":" IFERROR(INDIRECT(\"'SP500 Data'!B\"&MATCH(B27, 'SP500 Data'!A:A,0))/100,\"\")","v":""},"","",{"$error":"#N/A"},"","",{"$f":" IF(AD27=0, \"\", SUMIF('Trade Log'!AP:AP,B27, 'Trade Log'!BT:BT))","v":""},{"$error":"#N/A"},"","","","","","","","",{"$f":" IFERROR(IF(AD27 = 0, \"\", IF(AB27=\"\",0,IF(IF(R27=\"\",0,(-1*(MAX(R$7:$R27)-R27)))/MAX($R$7:R27) = 0,0,IF(R27=\"\",0,(-1*(MAX(R$7:$R27)-R27)))/MAX($R$7:R27)))), \"\")","v":""},"",{"$f":" IFERROR(INDIRECT(\"'Gold Data'!H\"&MATCH(B27, 'Gold Data'!B:B,0)),\"\")","v":""},"",{"$f":" IFERROR(INDIRECT(\"'GBPUSD Data'!H\"&MATCH(B27, 'GBPUSD Data'!B:B,0)),\"\")","v":""},"",{"$f":" IFERROR(INDIRECT(\"'VIX Data'!H\"&MATCH(B27, 'VIX Data'!B:B,0)),\"\")","v":""},"",0,{"$f":" SUMIF('Trade Log'!AP:AP,B27, 'Trade Log'!EX:EX)","v":0},{"$f":" SUMIF('Trade Log'!AP:AP,B27, 'Trade Log'!O:O) + SUMIF('Trade Log'!AP:AP,B27, 'Trade Log'!P:P) + SUMIF('Trade Log'!AP:AP,B27, 'Trade Log'!Q:Q) + SUMIF('Trade Log'!AP:AP,B27, 'Trade Log'!R:R) + SUMIF('Trade Log'!AP:AP,B27, 'Trade Log'!S:S) + SUMIF('Trade Log'!AP:AP,B27, 'Trade Log'!T:T)","v":0},{"$f":" IF(AD27 = 0, \"\", IFERROR(INDIRECT(\"'Trade Log'!BU\"&MATCH(B27, 'Trade Log'!DY:DY)), \"\"))","v":""},null,"Downside Deviation % ******",{"$f":"(SUMSQ(N:N)/COUNT(N:N))^0.5","v":{"$error":"#DIV/0!"}},null,null,null,"Downside Deviation % ******",{"$f":" IFERROR('Trade Log'!FJ18,\"\")","v":""},null,null,null,null,null,null,null,null,null,null,null,null,null,null,1940,{"$f":" IFERROR(INDIRECT(\"'SP500 Data'!B\"&MATCH(BB27, 'SP500 Data'!A:A,0))/100,\"\")","v":-9.7799999999999998E-2},0.9022]
[null,20,{"$f":" SUMIF('Trade Log'!AP:AP,B28, 'Trade Log'!BT:BT)","v":0},{"$f":" IFERROR(INDIRECT(\"'SP500 Data'!B\"&MATCH(B28, 'SP500 Data'!A:A,0))/100,\"\")","v":""},"","",{"$error":"#N/A"},"","",{"$f":" IF(AD28=0, \"\", SUMIF('Trade Log'!AP:AP,B28, 'Trade Log'!BT:BT))","v":""},{"$error":"#N/A"},"","","","","","","","",{"$f":" IFERROR(IF(AD28 = 0, \"\", IF(AB28=\"\",0,IF(IF(R28=\"\",0,(-1*(MAX(R$7:$R28)-R28)))/MAX($R$7:R28) = 0,0,IF(R28=\"\",0,(-1*(MAX(R$7:$R28)-R28)))/MAX($R$7:R28)))), \"\")","v":""},"",{"$f":" IFERROR(INDIRECT(\"'Gold Data'!H\"&MATCH(B28, 'Gold Data'!B:B,0)),\"\")","v":""},"",{"$f":" IFERROR(INDIRECT(\"'GBPUSD Data'!H\"&MATCH(B28, 'GBPUSD Data'!B:B,0)),\"\")","v":""},"",{"$f":" IFERROR(INDIRECT(\"'VIX Data'!H\"&MATCH(B28, 'VIX Data'!B:B,0)),\"\")","v":""},"",0,{"$f":" SUMIF('Trade Log'!AP:AP,B28, 'Trade Log'!EX:EX)","v":0},{"$f":" SUMIF('Trade Log'!AP:AP,B28, 'Trade Log'!O:O) + SUMIF('Trade Log'!AP:AP,B28, 'Trade Log'!P:P) + SUMIF('Trade Log'!AP:AP,B28, 'Trade Log'!Q:Q) + SUMIF('Trade Log'!AP:AP,B28, 'Trade Log'!R:R) + SUMIF('Trade Log'!AP:AP,B28, 'Trade Log'!S:S) + SUMIF('Trade Log'!AP:AP,B28, 'Trade Log'!T:T)","v":0},{"$f":" IF(AD28 = 0, \"\", IFERROR(INDIRECT(\"'Trade Log'!BU\"&MATCH(B28, 'Trade Log'!DY:DY)), \"\"))","v":""},null,null,null,null,null,null,null,null,null,null,null,null,null,null,null,null,null,null,null,null,null,null,1941,{"$f":" IFERROR(INDIRECT(\"'SP500 Data'!B\"&MATCH(BB28, 'SP500 Data'!A:A,0))/100,\"\")","v":-0.1159},0.8841]
[null,21,{"$f":" SUMIF('Trade Log'!AP:AP,B29, 'Trade Log'!BT:BT)","v":0},{"$f":" IFERROR(INDIRECT(\"'SP500 Data'!B\"&MATCH(B29, 'SP500 Data'!A:A,0))/100,\"\")","v":""},"","",{"$error":"#N/A"},"","",{"$f":" IF(AD29=0, \"\", SUMIF('Trade Log'!AP:AP,B29, 'Trade Log'!BT:BT))","v":""},{"$error":"#N/A"},"","","","","","","","",{"$f":" IFERROR(IF(AD29 = 0, \"\", IF(AB29=\"\",0,IF(IF(R29=\"\",0,(-1*(MAX(R$7:$R29)-R29)))/MAX($R$7:R29) = 0,0,IF(R29=\"\",0,(-1*(MAX(R$7:$R29)-R29)))/MAX($R$7:R29)))), \"\")","v":""},"",{"$f":" IFERROR(INDIRECT(\"'Gold Data'!H\"&MATCH(B29, 'Gold Data'!B:B,0)),\"\")","v":""},"",{"$f":" IFERROR(INDIRECT(\"'GBPUSD Data'!H\"&MATCH(B29, 'GBPUSD Data'!B:B,0)),\"\")","v":""},"",{"$f":" IFERROR(INDIRECT(\"'VIX Data'!H\"&MATCH(B29, 'VIX Data'!B:B,0)),\"\")","v":""},"",0,{"$f":" SUMIF('Trade Log'!AP:AP,B29, 'Trade Log'!EX:EX)","v":0},{"$f":" SUMIF('Trade Log'!AP:AP,B29, 'Trade Log'!O:O) + SUMIF('Trade Log'!AP:AP,B29, 'Trade Log'!P:P) + SUMIF('Trade Log'!AP:AP,B29, 'Trade Log'!Q:Q) + SUMIF('Trade Log'!AP:AP,B29, 'Trade Log'!R:R) + SUMIF('Trade Log'!AP:AP,B29, 'Trade Log'!S:S) + SUMIF('Trade Log'!AP:AP,B29, 'Trade Log'!T:T)","v":0},{"$f":" IF(AD29 = 0, \"\", IFERROR(INDIRECT(\"'Trade Log'!BU\"&MATCH(B29, 'Trade Log'!DY:DY)), \"\"))","v":""},null,null,null,null,null,null,null,null,null,null,null,null,null,null,null,null,null,null,null,null,null,null,1942,{"$f":" IFERROR(INDIRECT(\"'SP500 Data'!B\"&MATCH(BB29, 'SP500 Data'!A:A,0))/100,\"\")","v":0.2034},1.2034]
[null,22,{"$f":" SUMIF('Trade Log'!AP:AP,B30, 'Trade Log'!BT:BT)","v":0},{"$f":" IFERROR(INDIRECT(\"'SP500 Data'!B\"&MATCH(B30, 'SP500 Data'!A:A,0))/100,\"\")","v":""},"","",{"$error":"#N/A"},"","",{"$f":" IF(AD30=0, \"\", SUMIF('Trade Log'!AP:AP,B30, 'Trade Log'!BT:BT))","v":""},{"$error":"#N/A"},"","","","","","","","",{"$f":" IFERROR(IF(AD30 = 0, \"\", IF(AB30=\"\",0,IF(IF(R30=\"\",0,(-1*(MAX(R$7:$R30)-R30)))/MAX($R$7:R30) = 0,0,IF(R30=\"\",0,(-1*(MAX(R$7:$R30)-R30)))/MAX($R$7:R30)))), \"\")","v":""},"",{"$f":" IFERROR(INDIRECT(\"'Gold Data'!H\"&MATCH(B30, 'Gold Data'!B:B,0)),\"\")","v":""},"",{"$f":" IFERROR(INDIRECT(\"'GBPUSD Data'!H\"&MATCH(B30, 'GBPUSD Data'!B:B,0)),\"\")","v":""},"",{"$f":" IFERROR(INDIRECT(\"'VIX Data'!H\"&MATCH(B30, 'VIX Data'!B:B,0)),\"\")","v":""},"",0,{"$f":" SUMIF('Trade Log'!AP:AP,B30, 'Trade Log'!EX:EX)","v":0},{"$f":" SUMIF('Trade Log'!AP:AP,B30, 'Trade Log'!O:O) + SUMIF('Trade Log'!AP:AP,B30, 'Trade Log'!P:P) + SUMIF('Trade Log'!AP:AP,B30, 'Trade Log'!Q:Q) + SUMIF('Trade Log'!AP:AP,B30, 'Trade Log'!R:R) + SUMIF('Trade Log'!AP:AP,B30, 'Trade Log'!S:S) + SUMIF('Trade Log'!AP:AP,B30, 'Trade Log'!T:T)","v":0},{"$f":" IF(AD30 = 0, \"\", IFERROR(INDIRECT(\"'Trade Log'!BU\"&MATCH(B30, 'Trade Log'!DY:DY)), \"\"))","v":""},null,null,null,null,null,null,null,null,null,null,null,null,null,null,null,null,null,null,null,null,null,null,1943,{"$f":" IFERROR(INDIRECT(\"'SP500 Data'!B\"&MATCH(BB30, 'SP500 Data'!A:A,0))/100,\"\")","v":0.25900000000000001},1.2589999999999999]
[null,23,{"$f":" SUMIF('Trade Log'!AP:AP,B31, 'Trade Log'!BT:BT)","v":0},{"$f":" IFERROR(INDIRECT(\"'SP500 Data'!B\"&MATCH(B31, 'SP500 Data'!A:A,0))/100,\"\")","v":""},"","",{"$error":"#N/A"},"","",{"$f":" IF(AD31=0, \"\", SUMIF('Trade Log'!AP:AP,B31, 'Trade Log'!BT:BT))","v":""},{"$error":"#N/A"},"","","","","","","","",{"$f":" IFERROR(IF(AD31 = 0, \"\", IF(AB31=\"\",0,IF(IF(R31=\"\",0,(-1*(MAX(R$7:$R31)-R31)))/MAX($R$7:R31) = 0,0,IF(R31=\"\",0,(-1*(MAX(R$7:$R31)-R31)))/MAX($R$7:R31)))), \"\")","v":""},"",{"$f":" IFERROR(INDIRECT(\"'Gold Data'!H\"&MATCH(B31, 'Gold Data'!B:B,0)),\"\")","v":""},"",{"$f":" IFERROR(INDIRECT(\"'GBPUSD Data'!H\"&MATCH(B31, 'GBPUSD Data'!B:B,0)),\"\")","v":""},"",{"$f":" IFERROR(INDIRECT(\"'VIX Data'!H\"&MATCH(B31, 'VIX Data'!B:B,0)),\"\")","v":""},"",0,{"$f":" SUMIF('Trade Log'!AP:AP,B31, 'Trade Log'!EX:EX)","v":0},{"$f":" SUMIF('Trade Log'!AP:AP,B31, 'Trade Log'!O:O) + SUMIF('Trade Log'!AP:AP,B31, 'Trade Log'!P:P) + SUMIF('Trade Log'!AP:AP,B31, 'Trade Log'!Q:Q) + SUMIF('Trade Log'!AP:AP,B31, 'Trade Log'!R:R) + SUMIF('Trade Log'!AP:AP,B31, 'Trade Log'!S:S) + SUMIF('Trade Log'!AP:AP,B31, 'Trade Log'!T:T)","v":0},{"$f":" IF(AD31 = 0, \"\", IFERROR(INDIRECT(\"'Trade Log'!BU\"&MATCH(B31, 'Trade Log'!DY:DY)), \"\"))","v":""},null,null,null,null,null,null,null,null,null,null,null,null,null,null,null,null,null,null,null,null,null,null,1944,{"$f":" IFERROR(INDIRECT(\"'SP500 Data'!B\"&MATCH(BB31, 'SP500 Data'!A:A,0))/100,\"\")","v":0.19750000000000001},1.1975]
[null,24,{"$f":" SUMIF('Trade Log'!AP:AP,B32, 'Trade Log'!BT:BT)","v":0},{"$f":" IFERROR(INDIRECT(\"'SP500 Data'!B\"&MATCH(B32, 'SP500 Data'!A:A,0))/100,\"\")","v":""},"","",{"$error":"#N/A"},"","",{"$f":" IF(AD32=0, \"\", SUMIF('Trade Log'!AP:AP,B32, 'Trade Log'!BT:BT))","v":""},{"$error":"#N/A"},"","","","","","","","",{"$f":" IFERROR(IF(AD32 = 0, \"\", IF(AB32=\"\",0,IF(IF(R32=\"\",0,(-1*(MAX(R$7:$R32)-R32)))/MAX($R$7:R32) = 0,0,IF(R32=\"\",0,(-1*(MAX(R$7:$R32)-R32)))/MAX($R$7:R32)))), \"\")","v":""},"",{"$f":" IFERROR(INDIRECT(\"'Gold Data'!H\"&MATCH(B32, 'Gold Data'!B:B,0)),\"\")","v":""},"",{"$f":" IFERROR(INDIRECT(\"'GBPUSD Data'!H\"&MATCH(B32, 'GBPUSD Data'!B:B,0)),\"\")","v":""},"",{"$f":" IFERROR(INDIRECT(\"'VIX Data'!H\"&MATCH(B32, 'VIX Data'!B:B,0)),\"\")","v":""},"",0,{"$f":" SUMIF('Trade Log'!AP:AP,B32, 'Trade Log'!EX:EX)","v":0},{"$f":" SUMIF('Trade Log'!AP:AP,B32, 'Trade Log'!O:O) + SUMIF('Trade Log'!AP:AP,B32, 'Trade Log'!P:P) + SUMIF('Trade Log'!AP:AP,B32, 'Trade Log'!Q:Q) + SUMIF('Trade Log'!AP:AP,B32, 'Trade Log'!R:R) + SUMIF('Trade Log'!AP:AP,B32, 'Trade Log'!S:S) + SUMIF('Trade Log'!AP:AP,B32, 'Trade Log'!T:T)","v":0},{"$f":" IF(AD32 = 0, \"\", IFERROR(INDIRECT(\"'Trade Log'!BU\"&MATCH(B32, 'Trade Log'!DY:DY)), \"\"))","v":""},null,null,null,null,null,null,null,null,null,null,null,null,null,null,null,null,null,null,null,null,null,null,1945,{"$f":" IFERROR(INDIRECT(\"'SP500 Data'!B\"&MATCH(BB32, 'SP500 Data'!A:A,0))/100,\"\")","v":0.3644},1.3644000000000001]
[null,25,{"$f":" SUMIF('Trade Log'!AP:AP,B33, 'Trade Log'!BT:BT)","v":0},{"$f":" IFERROR(INDIRECT(\"'SP500 Data'!B\"&MATCH(B33, 'SP500 Data'!A:A,0))/100,\"\")","v":""},"","",{"$error":"#N/A"},"","",{"$f":" IF(AD33=0, \"\", SUMIF('Trade Log'!AP:AP,B33, 'Trade Log'!BT:BT))","v":""},{"$error":"#N/A"},"","","","","","","","",{"$f":" IFERROR(IF(AD33 = 0, \"\", IF(AB33=\"\",0,IF(IF(R33=\"\",0,(-1*(MAX(R$7:$R33)-R33)))/MAX($R$7:R33) = 0,0,IF(R33=\"\",0,(-1*(MAX(R$7:$R33)-R33)))/MAX($R$7:R33)))), \"\")","v":""},"",{"$f":" IFERROR(INDIRECT(\"'Gold Data'!H\"&MATCH(B33, 'Gold Data'!B:B,0)),\"\")","v":""},"",{"$f":" IFERROR(INDIRECT(\"'GBPUSD Data'!H\"&MATCH(B33, 'GBPUSD Data'!B:B,0)),\"\")","v":""},"",{"$f":" IFERROR(INDIRECT(\"'VIX Data'!H\"&MATCH(B33, 'VIX Data'!B:B,0)),\"\")","v":""},"",0,{"$f":" SUMIF('Trade Log'!AP:AP,B33, 'Trade Log'!EX:EX)","v":0},{"$f":" SUMIF('Trade Log'!AP:AP,B33, 'Trade Log'!O:O) + SUMIF('Trade Log'!AP:AP,B33, 'Trade Log'!P:P) + SUMIF('Trade Log'!AP:AP,B33, 'Trade Log'!Q:Q) + SUMIF('Trade Log'!AP:AP,B33, 'Trade Log'!R:R) + SUMIF('Trade Log'!AP:AP,B33, 'Trade Log'!S:S) + SUMIF('Trade Log'!AP:AP,B33, 'Trade Log'!T:T)","v":0},{"$f":" IF(AD33 = 0, \"\", IFERROR(INDIRECT(\"'Trade Log'!BU\"&MATCH(B33, 'Trade Log'!DY:DY)), \"\"))","v":""},null,null,null,null,null,null,null,null,null,null,null,null,null,null,null,null,null,null,null,null,null,null,1946,{"$f":" IFERROR(INDIRECT(\"'SP500 Data'!B\"&MATCH(BB33, 'SP500 Data'!A:A,0))/100,\"\")","v":-8.0700000000000008E-2},0.91930000000000001]
[null,26,{"$f":" SUMIF('Trade Log'!AP:AP,B34, 'Trade Log'!BT:BT)","v":0},{"$f":" IFERROR(INDIRECT(\"'SP500 Data'!B\"&MATCH(B34, 'SP500 Data'!A:A,0))/100,\"\")","v":""},"","",{"$error":"#N/A"},"","",{"$f":" IF(AD34=0, \"\", SUMIF('Trade Log'!AP:AP,B34, 'Trade Log'!BT:BT))","v":""},{"$error":"#N/A"},"","","","","","","","",{"$f":" IFERROR(IF(AD34 = 0, \"\", IF(AB34=\"\",0,IF(IF(R34=\"\",0,(-1*(MAX(R$7:$R34)-R34)))/MAX($R$7:R34) = 0,0,IF(R34=\"\",0,(-1*(MAX(R$7:$R34)-R34)))/MAX($R$7:R34)))), \"\")","v":""},"",{"$f":" IFERROR(INDIRECT(\"'Gold Data'!H\"&MATCH(B34, 'Gold Data'!B:B,0)),\"\")","v":""},"",{"$f":" IFERROR(INDIRECT(\"'GBPUSD Data'!H\"&MATCH(B34, 'GBPUSD Data'!B:B,0)),\"\")","v":""},"",{"$f":" IFERROR(INDIRECT(\"'VIX Data'!H\"&MATCH(B34, 'VIX Data'!B:B,0)),\"\")","v":""},"",0,{"$f":" SUMIF('Trade Log'!AP:AP,B34, 'Trade Log'!EX:EX)","v":0},{"$f":" SUMIF('Trade Log'!AP:AP,B34, 'Trade Log'!O:O) + SUMIF('Trade Log'!AP:AP,B34, 'Trade Log'!P:P) + SUMIF('Trade Log'!AP:AP,B34, 'Trade Log'!Q:Q) + SUMIF('Trade Log'!AP:AP,B34, 'Trade Log'!R:R) + SUMIF('Trade Log'!AP:AP,B34, 'Trade Log'!S:S) + SUMIF('Trade Log'!AP:AP,B34, 'Trade Log'!T:T)","v":0},{"$f":" IF(AD34 = 0, \"\", IFERROR(INDIRECT(\"'Trade Log'!BU\"&MATCH(B34, 'Trade Log'!DY:DY)), \"\"))","v":""},null,null,null,null,null,null,null,null,null,null,null,null,null,null,null,null,null,null,null,null,null,null,1947,{"$f":" IFERROR(INDIRECT(\"'SP500 Data'!B\"&MATCH(BB34, 'SP500 Data'!A:A,0))/100,\"\")","v":5.7099999999999998E-2},1.0570999999999999]
[null,27,{"$f":" SUMIF('Trade Log'!AP:AP,B35, 'Trade Log'!BT:BT)","v":0},{"$f":" IFERROR(INDIRECT(\"'SP500 Data'!B\"&MATCH(B35, 'SP500 Data'!A:A,0))/100,\"\")","v":""},"","",{"$error":"#N/A"},"","",{"$f":" IF(AD35=0, \"\", SUMIF('Trade Log'!AP:AP,B35, 'Trade Log'!BT:BT))","v":""},{"$error":"#N/A"},"","","","","","","","",{"$f":" IFERROR(IF(AD35 = 0, \"\", IF(AB35=\"\",0,IF(IF(R35=\"\",0,(-1*(MAX(R$7:$R35)-R35)))/MAX($R$7:R35) = 0,0,IF(R35=\"\",0,(-1*(MAX(R$7:$R35)-R35)))/MAX($R$7:R35)))), \"\")","v":""},"",{"$f":" IFERROR(INDIRECT(\"'Gold Data'!H\"&MATCH(B35, 'Gold Data'!B:B,0)),\"\")","v":""},"",{"$f":" IFERROR(INDIRECT(\"'GBPUSD Data'!H\"&MATCH(B35, 'GBPUSD Data'!B:B,0)),\"\")","v":""},"",{"$f":" IFERROR(INDIRECT(\"'VIX Data'!H\"&MATCH(B35, 'VIX Data'!B:B,0)),\"\")","v":""},"",0,{"$f":" SUMIF('Trade Log'!AP:AP,B35, 'Trade Log'!EX:EX)","v":0},{"$f":" SUMIF('Trade Log'!AP:AP,B35, 'Trade Log'!O:O) + SUMIF('Trade Log'!AP:AP,B35, 'Trade Log'!P:P) + SUMIF('Trade Log'!AP:AP,B35, 'Trade Log'!Q:Q) + SUMIF('Trade Log'!AP:AP,B35, 'Trade Log'!R:R) + SUMIF('Trade Log'!AP:AP,B35, 'Trade Log'!S:S) + SUMIF('Trade Log'!AP:AP,B35, 'Trade Log'!T:T)","v":0},{"$f":" IF(AD35 = 0, \"\", IFERROR(INDIRECT(\"'Trade Log'!BU\"&MATCH(B35, 'Trade Log'!DY:DY)), \"\"))","v":""},null,null,null,null,null,null,null,null,null,null,null,null,null,null,null,null,null,null,null,null,null,null,1948,{"$f":" IFERROR(INDIRECT(\"'SP500 Data'!B\"&MATCH(BB35, 'SP500 Data'!A:A,0))/100,\"\")","v":5.5E-2},1.0549999999999999]
[null,28,{"$f":" SUMIF('Trade Log'!AP:AP,B36, 'Trade Log'!BT:BT)","v":0},{"$f":" IFERROR(INDIRECT(\"'SP500 Data'!B\"&MATCH(B36, 'SP500 Data'!A:A,0))/100,\"\")","v":""},"","",{"$error":"#N/A"},"","",{"$f":" IF(AD36=0, \"\", SUMIF('Trade Log'!AP:AP,B36, 'Trade Log'!BT:BT))","v":""},{"$error":"#N/A"},"","","","","","","","",{"$f":" IFERROR(IF(AD36 = 0, \"\", IF(AB36=\"\",0,IF(IF(R36=\"\",0,(-1*(MAX(R$7:$R36)-R36)))/MAX($R$7:R36) = 0,0,IF(R36=\"\",0,(-1*(MAX(R$7:$R36)-R36)))/MAX($R$7:R36)))), \"\")","v":""},"",{"$f":" IFERROR(INDIRECT(\"'Gold Data'!H\"&MATCH(B36, 'Gold Data'!B:B,0)),\"\")","v":""},"",{"$f":" IFERROR(INDIRECT(\"'GBPUSD Data'!H\"&MATCH(B36, 'GBPUSD Data'!B:B,0)),\"\")","v":""},"",{"$f":" IFERROR(INDIRECT(\"'VIX Data'!H\"&MATCH(B36, 'VIX Data'!B:B,0)),\"\")","v":""},"",0,{"$f":" SUMIF('Trade Log'!AP:AP,B36, 'Trade Log'!EX:EX)","v":0},{"$f":" SUMIF('Trade Log'!AP:AP,B36, 'Trade Log'!O:O) + SUMIF('Trade Log'!AP:AP,B36, 'Trade Log'!P:P) + SUMIF('Trade Log'!AP:AP,B36, 'Trade Log'!Q:Q) + SUMIF('Trade Log'!AP:AP,B36, 'Trade Log'!R:R) + SUMIF('Trade Log'!AP:AP,B36, 'Trade Log'!S:S) + SUMIF('Trade Log'!AP:AP,B36, 'Trade Log'!T:T)","v":0},{"$f":" IF(AD36 = 0, \"\", IFERROR(INDIRECT(\"'Trade Log'!BU\"&MATCH(B36, 'Trade Log'!DY:DY)), \"\"))","v":""},null,null,null,null,null,null,null,null,null,null,null,null,null,null,null,null,null,null,null,null,null,null,1949,{"$f":" IFERROR(INDIRECT(\"'SP500 Data'!B\"&MATCH(BB36, 'SP500 Data'!A:A,0))/100,\"\")","v":0.18789999999999998},1.1879]
[null,29,{"$f":" SUMIF('Trade Log'!AP:AP,B37, 'Trade Log'!BT:BT)","v":0},{"$f":" IFERROR(INDIRECT(\"'SP500 Data'!B\"&MATCH(B37, 'SP500 Data'!A:A,0))/100,\"\")","v":""},"","",{"$error":"#N/A"},"","",{"$f":" IF(AD37=0, \"\", SUMIF('Trade Log'!AP:AP,B37, 'Trade Log'!BT:BT))","v":""},{"$error":"#N/A"},"","","","","","","","",{"$f":" IFERROR(IF(AD37 = 0, \"\", IF(AB37=\"\",0,IF(IF(R37=\"\",0,(-1*(MAX(R$7:$R37)-R37)))/MAX($R$7:R37) = 0,0,IF(R37=\"\",0,(-1*(MAX(R$7:$R37)-R37)))/MAX($R$7:R37)))), \"\")","v":""},"",{"$f":" IFERROR(INDIRECT(\"'Gold Data'!H\"&MATCH(B37, 'Gold Data'!B:B,0)),\"\")","v":""},"",{"$f":" IFERROR(INDIRECT(\"'GBPUSD Data'!H\"&MATCH(B37, 'GBPUSD Data'!B:B,0)),\"\")","v":""},"",{"$f":" IFERROR(INDIRECT(\"'VIX Data'!H\"&MATCH(B37, 'VIX Data'!B:B,0)),\"\")","v":""},"",0,{"$f":" SUMIF('Trade Log'!AP:AP,B37, 'Trade Log'!EX:EX)","v":0},{"$f":" SUMIF('Trade Log'!AP:AP,B37, 'Trade Log'!O:O) + SUMIF('Trade Log'!AP:AP,B37, 'Trade Log'!P:P) + SUMIF('Trade Log'!AP:AP,B37, 'Trade Log'!Q:Q) + SUMIF('Trade Log'!AP:AP,B37, 'Trade Log'!R:R) + SUMIF('Trade Log'!AP:AP,B37, 'Trade Log'!S:S) + SUMIF('Trade Log'!AP:AP,B37, 'Trade Log'!T:T)","v":0},{"$f":" IF(AD37 = 0, \"\", IFERROR(INDIRECT(\"'Trade Log'!BU\"&MATCH(B37, 'Trade Log'!DY:DY)), \"\"))","v":""},null,null,null,null,null,null,null,null,null,null,null,null,null,null,null,null,null,null,null,null,null,null,1950,{"$f":" IFERROR(INDIRECT(\"'SP500 Data'!B\"&MATCH(BB37, 'SP500 Data'!A:A,0))/100,\"\")","v":0.31709999999999999},1.3170999999999999]
[null,30,{"$f":" SUMIF('Trade Log'!AP:AP,B38, 'Trade Log'!BT:BT)","v":0},{"$f":" IFERROR(INDIRECT(\"'SP500 Data'!B\"&MATCH(B38, 'SP500 Data'!A:A,0))/100,\"\")","v":""},"","",{"$error":"#N/A"},"","",{"$f":" IF(AD38=0, \"\", SUMIF('Trade Log'!AP:AP,B38, 'Trade Log'!BT:BT))","v":""},{"$error":"#N/A"},"","","","","","","","",{"$f":" IFERROR(IF(AD38 = 0, \"\", IF(AB38=\"\",0,IF(IF(R38=\"\",0,(-1*(MAX(R$7:$R38)-R38)))/MAX($R$7:R38) = 0,0,IF(R38=\"\",0,(-1*(MAX(R$7:$R38)-R38)))/MAX($R$7:R38)))), \"\")","v":""},"",{"$f":" IFERROR(INDIRECT(\"'Gold Data'!H\"&MATCH(B38, 'Gold Data'!B:B,0)),\"\")","v":""},"",{"$f":" IFERROR(INDIRECT(\"'GBPUSD Data'!H\"&MATCH(B38, 'GBPUSD Data'!B:B,0)),\"\")","v":""},"",{"$f":" IFERROR(INDIRECT(\"'VIX Data'!H\"&MATCH(B38, 'VIX Data'!B:B,0)),\"\")","v":""},"",0,{"$f":" SUMIF('Trade Log'!AP:AP,B38, 'Trade Log'!EX:EX)","v":0},{"$f":" SUMIF('Trade Log'!AP:AP,B38, 'Trade Log'!O:O) + SUMIF('Trade Log'!AP:AP,B38, 'Trade Log'!P:P) + SUMIF('Trade Log'!AP:AP,B38, 'Trade Log'!Q:Q) + SUMIF('Trade Log'!AP:AP,B38, 'Trade Log'!R:R) + SUMIF('Trade Log'!AP:AP,B38, 'Trade Log'!S:S) + SUMIF('Trade Log'!AP:AP,B38, 'Trade Log'!T:T)","v":0},{"$f":" IF(AD38 = 0, \"\", IFERROR(INDIRECT(\"'Trade Log'!BU\"&MATCH(B38, 'Trade Log'!DY:DY)), \"\"))","v":""},null,null,null,null,null,null,null,null,null,null,null,null,null,null,null,null,null,null,null,null,null,null,1951,{"$f":" IFERROR(INDIRECT(\"'SP500 Data'!B\"&MATCH(BB38, 'SP500 Data'!A:A,0))/100,\"\")","v":0.2402},1.2402]
[null,31,{"$f":" SUMIF('Trade Log'!AP:AP,B39, 'Trade Log'!BT:BT)","v":0},{"$f":" IFERROR(INDIRECT(\"'SP500 Data'!B\"&MATCH(B39, 'SP500 Data'!A:A,0))/100,\"\")","v":""},"","",{"$error":"#N/A"},"","",{"$f":" IF(AD39=0, \"\", SUMIF('Trade Log'!AP:AP,B39, 'Trade Log'!BT:BT))","v":""},{"$error":"#N/A"},"","","","","","","","",{"$f":" IFERROR(IF(AD39 = 0, \"\", IF(AB39=\"\",0,IF(IF(R39=\"\",0,(-1*(MAX(R$7:$R39)-R39)))/MAX($R$7:R39) = 0,0,IF(R39=\"\",0,(-1*(MAX(R$7:$R39)-R39)))/MAX($R$7:R39)))), \"\")","v":""},"",{"$f":" IFERROR(INDIRECT(\"'Gold Data'!H\"&MATCH(B39, 'Gold Data'!B:B,0)),\"\")","v":""},"",{"$f":" IFERROR(INDIRECT(\"'GBPUSD Data'!H\"&MATCH(B39, 'GBPUSD Data'!B:B,0)),\"\")","v":""},"",{"$f":" IFERROR(INDIRECT(\"'VIX Data'!H\"&MATCH(B39, 'VIX Data'!B:B,0)),\"\")","v":""},"",0,{"$f":" SUMIF('Trade Log'!AP:AP,B39, 'Trade Log'!EX:EX)","v":0},{"$f":" SUMIF('Trade Log'!AP:AP,B39, 'Trade Log'!O:O) + SUMIF('Trade Log'!AP:AP,B39, 'Trade Log'!P:P) + SUMIF('Trade Log'!AP:AP,B39, 'Trade Log'!Q:Q) + SUMIF('Trade Log'!AP:AP,B39, 'Trade Log'!R:R) + SUMIF('Trade Log'!AP:AP,B39, 'Trade Log'!S:S) + SUMIF('Trade Log'!AP:AP,B39, 'Trade Log'!T:T)","v":0},{"$f":" IF(AD39 = 0, \"\", IFERROR(INDIRECT(\"'Trade Log'!BU\"&MATCH(B39, 'Trade Log'!DY:DY)), \"\"))","v":""},null,null,null,null,null,null,null,null,null,null,null,null,null,null,null,null,null,null,null,null,null,null,1952,{"$f":" IFERROR(INDIRECT(\"'SP500 Data'!B\"&MATCH(BB39, 'SP500 Data'!A:A,0))/100,\"\")","v":0.1837},1.1837]
[null,32,{"$f":" SUMIF('Trade Log'!AP:AP,B40, 'Trade Log'!BT:BT)","v":0},{"$f":" IFERROR(INDIRECT(\"'SP500 Data'!B\"&MATCH(B40, 'SP500 Data'!A:A,0))/100,\"\")","v":""},"",{"$f":" IF(AD40 = 0, \"\", D40 + 1)","v":""},{"$error":"#N/A"},"",{"$f":" IF(AD40=0, \"\", C40/(AE40-C40))","v":""},{"$f":" IF(AD40=0, \"\", SUMIF('Trade Log'!AP:AP,B40, 'Trade Log'!BT:BT))","v":""},{"$f":" IF(AD40=0, #N/A, IF(AD40=0, 0, C40/(AE40-C40)))","v":{"$error":"#N/A"}},{"$f":" IF(AD40=0, \"\", MAX($BE$10-I40,0)^$BE$11)","v":""},"",{"$f":" IF(AD40 = 0, \"\", IF(AB40>0, 0, Q40))","v":""},{"$f":" IF(AD40 = 0, \"\", IF(AB40>0, 0, C40))","v":""},"","","",{"$f":" IF(AD40 = 0, \"\", I40-E40)","v":""},{"$f":" IFERROR(IF(AD40 = 0, \"\", IF(AB40=\"\",0,IF(IF(R40=\"\",0,(-1*(MAX(R$7:$R40)-R40)))/MAX($R$7:R40) = 0,0,IF(R40=\"\",0,(-1*(MAX(R$7:$R40)-R40)))/MAX($R$7:R40)))), \"\")","v":""},"",{"$f":" IFERROR(INDIRECT(\"'Gold Data'!H\"&MATCH(B40, 'Gold Data'!B:B,0)),\"\")","v":""},"",{"$f":" IFERROR(INDIRECT(\"'GBPUSD Data'!H\"&MATCH(B40, 'GBPUSD Data'!B:B,0)),\"\")","v":""},"",{"$f":" IFERROR(INDIRECT(\"'VIX Data'!H\"&MATCH(B40, 'VIX Data'!B:B,0)),\"\")","v":""},"",{"$f":" IF(AD40=0, 0, C40/(AE40-C40))","v":0},{"$f":" SUMIF('Trade Log'!AP:AP,B40, 'Trade Log'!EX:EX)","v":0},{"$f":" SUMIF('Trade Log'!AP:AP,B40, 'Trade Log'!O:O) + SUMIF('Trade Log'!AP:AP,B40, 'Trade Log'!P:P) + SUMIF('Trade Log'!AP:AP,B40, 'Trade Log'!Q:Q) + SUMIF('Trade Log'!AP:AP,B40, 'Trade Log'!R:R) + SUMIF('Trade Log'!AP:AP,B40, 'Trade Log'!S:S) + SUMIF('Trade Log'!AP:AP,B40, 'Trade Log'!T:T)","v":0},{"$f":" IF(AD40 = 0, \"\", IFERROR(INDIRECT(\"'Trade Log'!BU\"&MATCH(B40, 'Trade Log'!DY:DY)), \"\"))","v":""},null,null,null,null,null,null,null,null,null,null,null,null,null,null,null,null,null,null,null,null,null,null,1953,{"$f":" IFERROR(INDIRECT(\"'SP500 Data'!B\"&MATCH(BB40, 'SP500 Data'!A:A,0))/100,\"\")","v":-9.8999999999999991E-3},0.99009999999999998]
[null,33,{"$f":" SUMIF('Trade Log'!AP:AP,B41, 'Trade Log'!BT:BT)","v":0},{"$f":" IFERROR(INDIRECT(\"'SP500 Data'!B\"&MATCH(B41, 'SP500 Data'!A:A,0))/100,\"\")","v":""},"","",{"$error":"#N/A"},"","",{"$f":" IF(AD41=0, \"\", SUMIF('Trade Log'!AP:AP,B41, 'Trade Log'!BT:BT))","v":""},{"$error":"#N/A"},"","","","","","","","",{"$f":" IFERROR(IF(AD41 = 0, \"\", IF(AB41=\"\",0,IF(IF(R41=\"\",0,(-1*(MAX(R$7:$R41)-R41)))/MAX($R$7:R41) = 0,0,IF(R41=\"\",0,(-1*(MAX(R$7:$R41)-R41)))/MAX($R$7:R41)))), \"\")","v":""},"",{"$f":" IFERROR(INDIRECT(\"'Gold Data'!H\"&MATCH(B41, 'Gold Data'!B:B,0)),\"\")","v":""},"",{"$f":" IFERROR(INDIRECT(\"'GBPUSD Data'!H\"&MATCH(B41, 'GBPUSD Data'!B:B,0)),\"\")","v":""},"",{"$f":" IFERROR(INDIRECT(\"'VIX Data'!H\"&MATCH(B41, 'VIX Data'!B:B,0)),\"\")","v":""},"",0,{"$f":" SUMIF('Trade Log'!AP:AP,B41, 'Trade Log'!EX:EX)","v":0},{"$f":" SUMIF('Trade Log'!AP:AP,B41, 'Trade Log'!O:O) + SUMIF('Trade Log'!AP:AP,B41, 'Trade Log'!P:P) + SUMIF('Trade Log'!AP:AP,B41, 'Trade Log'!Q:Q) + SUMIF('Trade Log'!AP:AP,B41, 'Trade Log'!R:R) + SUMIF('Trade Log'!AP:AP,B41, 'Trade Log'!S:S) + SUMIF('Trade Log'!AP:AP,B41, 'Trade Log'!T:T)","v":0},{"$f":" IF(AD41 = 0, \"\", IFERROR(INDIRECT(\"'Trade Log'!BU\"&MATCH(B41, 'Trade Log'!DY:DY)), \"\"))","v":""},null,null,null,null,null,null,null,null,null,null,null,null,null,null,null,null,null,null,null,null,null,null,1954,{"$f":" IFERROR(INDIRECT(\"'SP500 Data'!B\"&MATCH(BB41, 'SP500 Data'!A:A,0))/100,\"\")","v":0.5262},1.5262]
[null,34,{"$f":" SUMIF('Trade Log'!AP:AP,B42, 'Trade Log'!BT:BT)","v":0},{"$f":" IFERROR(INDIRECT(\"'SP500 Data'!B\"&MATCH(B42, 'SP500 Data'!A:A,0))/100,\"\")","v":""},"","",{"$error":"#N/A"},"","",{"$f":" IF(AD42=0, \"\", SUMIF('Trade Log'!AP:AP,B42, 'Trade Log'!BT:BT))","v":""},{"$error":"#N/A"},"","","","","","","","",{"$f":" IFERROR(IF(AD42 = 0, \"\", IF(AB42=\"\",0,IF(IF(R42=\"\",0,(-1*(MAX(R$7:$R42)-R42)))/MAX($R$7:R42) = 0,0,IF(R42=\"\",0,(-1*(MAX(R$7:$R42)-R42)))/MAX($R$7:R42)))), \"\")","v":""},"",{"$f":" IFERROR(INDIRECT(\"'Gold Data'!H\"&MATCH(B42, 'Gold Data'!B:B,0)),\"\")","v":""},"",{"$f":" IFERROR(INDIRECT(\"'GBPUSD Data'!H\"&MATCH(B42, 'GBPUSD Data'!B:B,0)),\"\")","v":""},"",{"$f":" IFERROR(INDIRECT(\"'VIX Data'!H\"&MATCH(B42, 'VIX Data'!B:B,0)),\"\")","v":""},"",0,{"$f":" SUMIF('Trade Log'!AP:AP,B42, 'Trade Log'!EX:EX)","v":0},{"$f":" SUMIF('Trade Log'!AP:AP,B42, 'Trade Log'!O:O) + SUMIF('Trade Log'!AP:AP,B42, 'Trade Log'!P:P) + SUMIF('Trade Log'!AP:AP,B42, 'Trade Log'!Q:Q) + SUMIF('Trade Log'!AP:AP,B42, 'Trade Log'!R:R) + SUMIF('Trade Log'!AP:AP,B42, 'Trade Log'!S:S) + SUMIF('Trade Log'!AP:AP,B42, 'Trade Log'!T:T)","v":0},{"$f":" IF(AD42 = 0, \"\", IFERROR(INDIRECT(\"'Trade Log'!BU\"&MATCH(B42, 'Trade Log'!DY:DY)), \"\"))","v":""},null,null,null,null,null,null,null,null,null,null,null,null,null,null,null,null,null,null,null,null,null,null,1955,{"$f":" IFERROR(INDIRECT(\"'SP500 Data'!B\"&MATCH(BB42, 'SP500 Data'!A:A,0))/100,\"\")","v":0.31559999999999999},1.3155999999999999]
[null,35,{"$f":" SUMIF('Trade Log'!AP:AP,B43, 'Trade Log'!BT:BT)","v":0},{"$f":" IFERROR(INDIRECT(\"'SP500 Data'!B\"&MATCH(B43, 'SP500 Data'!A:A,0))/100,\"\")","v":""},"","",{"$error":"#N/A"},"","",{"$f":" IF(AD43=0, \"\", SUMIF('Trade Log'!AP:AP,B43, 'Trade Log'!BT:BT))","v":""},{"$error":"#N/A"},"","","","","","","","",{"$f":" IFERROR(IF(AD43 = 0, \"\", IF(AB43=\"\",0,IF(IF(R43=\"\",0,(-1*(MAX(R$7:$R43)-R43)))/MAX($R$7:R43) = 0,0,IF(R43=\"\",0,(-1*(MAX(R$7:$R43)-R43)))/MAX($R$7:R43)))), \"\")","v":""},"",{"$f":" IFERROR(INDIRECT(\"'Gold Data'!H\"&MATCH(B43, 'Gold Data'!B:B,0)),\"\")","v":""},"",{"$f":" IFERROR(INDIRECT(\"'GBPUSD Data'!H\"&MATCH(B43, 'GBPUSD Data'!B:B,0)),\"\")","v":""},"",{"$f":" IFERROR(INDIRECT(\"'VIX Data'!H\"&MATCH(B43, 'VIX Data'!B:B,0)),\"\")","v":""},"",0,{"$f":" SUMIF('Trade Log'!AP:AP,B43, 'Trade Log'!EX:EX)","v":0},{"$f":" SUMIF('Trade Log'!AP:AP,B43, 'Trade Log'!O:O) + SUMIF('Trade Log'!AP:AP,B43, 'Trade Log'!P:P) + SUMIF('Trade Log'!AP:AP,B43, 'Trade Log'!Q:Q) + SUMIF('Trade Log'!AP:AP,B43, 'Trade Log'!R:R) + SUMIF('Trade Log'!AP:AP,B43, 'Trade Log'!S:S) + SUMIF('Trade Log'!AP:AP,B43, 'Trade Log'!T:T)","v":0},{"$f":" IF(AD43 = 0, \"\", IFERROR(INDIRECT(\"'Trade Log'!BU\"&MATCH(B43, 'Trade Log'!DY:DY)), \"\"))","v":""},null,null,null,null,null,null,null,null,null,null,null,null,null,null,null,null,null,null,null,null,null,null,1956,{"$f":" IFERROR(INDIRECT(\"'SP500 Data'!B\"&MATCH(BB43, 'SP500 Data'!A:A,0))/100,\"\")","v":6.5599999999999992E-2},1.0655999999999999]
[null,36,{"$f":" SUMIF('Trade Log'!AP:AP,B44, 'Trade Log'!BT:BT)","v":0},{"$f":" IFERROR(INDIRECT(\"'SP500 Data'!B\"&MATCH(B44, 'SP500 Data'!A:A,0))/100,\"\")","v":""},"","",{"$error":"#N/A"},"","",{"$f":" IF(AD44=0, \"\", SUMIF('Trade Log'!AP:AP,B44, 'Trade Log'!BT:BT))","v":""},{"$error":"#N/A"},"","","","","","","","",{"$f":" IFERROR(IF(AD44 = 0, \"\", IF(AB44=\"\",0,IF(IF(R44=\"\",0,(-1*(MAX(R$7:$R44)-R44)))/MAX($R$7:R44) = 0,0,IF(R44=\"\",0,(-1*(MAX(R$7:$R44)-R44)))/MAX($R$7:R44)))), \"\")","v":""},"",{"$f":" IFERROR(INDIRECT(\"'Gold Data'!H\"&MATCH(B44, 'Gold Data'!B:B,0)),\"\")","v":""},"",{"$f":" IFERROR(INDIRECT(\"'GBPUSD Data'!H\"&MATCH(B44, 'GBPUSD Data'!B:B,0)),\"\")","v":""},"",{"$f":" IFERROR(INDIRECT(\"'VIX Data'!H\"&MATCH(B44, 'VIX Data'!B:B,0)),\"\")","v":""},"",0,{"$f":" SUMIF('Trade Log'!AP:AP,B44, 'Trade Log'!EX:EX)","v":0},{"$f":" SUMIF('Trade Log'!AP:AP,B44, 'Trade Log'!O:O) + SUMIF('Trade Log'!AP:AP,B44, 'Trade Log'!P:P) + SUMIF('Trade Log'!AP:AP,B44, 'Trade Log'!Q:Q) + SUMIF('Trade Log'!AP:AP,B44, 'Trade Log'!R:R) + SUMIF('Trade Log'!AP:AP,B44, 'Trade Log'!S:S) + SUMIF('Trade Log'!AP:AP,B44, 'Trade Log'!T:T)","v":0},{"$f":" IF(AD44 = 0, \"\", IFERROR(INDIRECT(\"'Trade Log'!BU\"&MATCH(B44, 'Trade Log'!DY:DY)), \"\"))","v":""},null,null,null,null,null,null,null,null,null,null,null,null,null,null,null,null,null,null,null,null,null,null,1957,{"$f":" IFERROR(INDIRECT(\"'SP500 Data'!B\"&MATCH(BB44, 'SP500 Data'!A:A,0))/100,\"\")","v":-0.10779999999999999},0.89219999999999999]
[null,37,{"$f":" SUMIF('Trade Log'!AP:AP,B45, 'Trade Log'!BT:BT)","v":0},{"$f":" IFERROR(INDIRECT(\"'SP500 Data'!B\"&MATCH(B45, 'SP500 Data'!A:A,0))/100,\"\")","v":""},"","",{"$error":"#N/A"},"","",{"$f":" IF(AD45=0, \"\", SUMIF('Trade Log'!AP:AP,B45, 'Trade Log'!BT:BT))","v":""},{"$error":"#N/A"},"","","","","","","","",{"$f":" IFERROR(IF(AD45 = 0, \"\", IF(AB45=\"\",0,IF(IF(R45=\"\",0,(-1*(MAX(R$7:$R45)-R45)))/MAX($R$7:R45) = 0,0,IF(R45=\"\",0,(-1*(MAX(R$7:$R45)-R45)))/MAX($R$7:R45)))), \"\")","v":""},"",{"$f":" IFERROR(INDIRECT(\"'Gold Data'!H\"&MATCH(B45, 'Gold Data'!B:B,0)),\"\")","v":""},"",{"$f":" IFERROR(INDIRECT(\"'GBPUSD Data'!H\"&MATCH(B45, 'GBPUSD Data'!B:B,0)),\"\")","v":""},"",{"$f":" IFERROR(INDIRECT(\"'VIX Data'!H\"&MATCH(B45, 'VIX Data'!B:B,0)),\"\")","v":""},"",0,{"$f":" SUMIF('Trade Log'!AP:AP,B45, 'Trade Log'!EX:EX)","v":0},{"$f":" SUMIF('Trade Log'!AP:AP,B45, 'Trade Log'!O:O) + SUMIF('Trade Log'!AP:AP,B45, 'Trade Log'!P:P) + SUMIF('Trade Log'!AP:AP,B45, 'Trade Log'!Q:Q) + SUMIF('Trade Log'!AP:AP,B45, 'Trade Log'!R:R) + SUMIF('Trade Log'!AP:AP,B45, 'Trade Log'!S:S) + SUMIF('Trade Log'!AP:AP,B45, 'Trade Log'!T:T)","v":0},{"$f":" IF(AD45 = 0, \"\", IFERROR(INDIRECT(\"'Trade Log'!BU\"&MATCH(B45, 'Trade Log'!DY:DY)), \"\"))","v":""},null,null,null,null,null,null,null,null,null,null,null,null,null,null,null,null,null,null,null,null,null,null,1958,{"$f":" IFERROR(INDIRECT(\"'SP500 Data'!B\"&MATCH(BB45, 'SP500 Data'!A:A,0))/100,\"\")","v":0.43359999999999999},1.4336]
[null,38,{"$f":" SUMIF('Trade Log'!AP:AP,B46, 'Trade Log'!BT:BT)","v":0},{"$f":" IFERROR(INDIRECT(\"'SP500 Data'!B\"&MATCH(B46, 'SP500 Data'!A:A,0))/100,\"\")","v":""},"","",{"$error":"#N/A"},"","",{"$f":" IF(AD46=0, \"\", SUMIF('Trade Log'!AP:AP,B46, 'Trade Log'!BT:BT))","v":""},{"$error":"#N/A"},"","","","","","","","",{"$f":" IFERROR(IF(AD46 = 0, \"\", IF(AB46=\"\",0,IF(IF(R46=\"\",0,(-1*(MAX(R$7:$R46)-R46)))/MAX($R$7:R46) = 0,0,IF(R46=\"\",0,(-1*(MAX(R$7:$R46)-R46)))/MAX($R$7:R46)))), \"\")","v":""},"",{"$f":" IFERROR(INDIRECT(\"'Gold Data'!H\"&MATCH(B46, 'Gold Data'!B:B,0)),\"\")","v":""},"",{"$f":" IFERROR(INDIRECT(\"'GBPUSD Data'!H\"&MATCH(B46, 'GBPUSD Data'!B:B,0)),\"\")","v":""},"",{"$f":" IFERROR(INDIRECT(\"'VIX Data'!H\"&MATCH(B46, 'VIX Data'!B:B,0)),\"\")","v":""},"",0,{"$f":" SUMIF('Trade Log'!AP:AP,B46, 'Trade Log'!EX:EX)","v":0},{"$f":" SUMIF('Trade Log'!AP:AP,B46, 'Trade Log'!O:O) + SUMIF('Trade Log'!AP:AP,B46, 'Trade Log'!P:P) + SUMIF('Trade Log'!AP:AP,B46, 'Trade Log'!Q:Q) + SUMIF('Trade Log'!AP:AP,B46, 'Trade Log'!R:R) + SUMIF('Trade Log'!AP:AP,B46, 'Trade Log'!S:S) + SUMIF('Trade Log'!AP:AP,B46, 'Trade Log'!T:T)","v":0},{"$f":" IF(AD46 = 0, \"\", IFERROR(INDIRECT(\"'Trade Log'!BU\"&MATCH(B46, 'Trade Log'!DY:DY)), \"\"))","v":""},null,null,null,null,null,null,null,null,null,null,null,null,null,null,null,null,null,null,null,null,null,null,1959,{"$f":" IFERROR(INDIRECT(\"'SP500 Data'!B\"&MATCH(BB46, 'SP500 Data'!A:A,0))/100,\"\")","v":0.11960000000000001},1.1195999999999999]
[null,39,{"$f":" SUMIF('Trade Log'!AP:AP,B47, 'Trade Log'!BT:BT)","v":0},{"$f":" IFERROR(INDIRECT(\"'SP500 Data'!B\"&MATCH(B47, 'SP500 Data'!A:A,0))/100,\"\")","v":""},"","",{"$error":"#N/A"},"","",{"$f":" IF(AD47=0, \"\", SUMIF('Trade Log'!AP:AP,B47, 'Trade Log'!BT:BT))","v":""},{"$error":"#N/A"},"","","","","","","","",{"$f":" IFERROR(IF(AD47 = 0, \"\", IF(AB47=\"\",0,IF(IF(R47=\"\",0,(-1*(MAX(R$7:$R47)-R47)))/MAX($R$7:R47) = 0,0,IF(R47=\"\",0,(-1*(MAX(R$7:$R47)-R47)))/MAX($R$7:R47)))), \"\")","v":""},"",{"$f":" IFERROR(INDIRECT(\"'Gold Data'!H\"&MATCH(B47, 'Gold Data'!B:B,0)),\"\")","v":""},"",{"$f":" IFERROR(INDIRECT(\"'GBPUSD Data'!H\"&MATCH(B47, 'GBPUSD Data'!B:B,0)),\"\")","v":""},"",{"$f":" IFERROR(INDIRECT(\"'VIX Data'!H\"&MATCH(B47, 'VIX Data'!B:B,0)),\"\")","v":""},"",0,{"$f":" SUMIF('Trade Log'!AP:AP,B47, 'Trade Log'!EX:EX)","v":0},{"$f":" SUMIF('Trade Log'!AP:AP,B47, 'Trade Log'!O:O) + SUMIF('Trade Log'!AP:AP,B47, 'Trade Log'!P:P) + SUMIF('Trade Log'!AP:AP,B47, 'Trade Log'!Q:Q) + SUMIF('Trade Log'!AP:AP,B47, 'Trade Log'!R:R) + SUMIF('Trade Log'!AP:AP,B47, 'Trade Log'!S:S) + SUMIF('Trade Log'!AP:AP,B47, 'Trade Log'!T:T)","v":0},{"$f":" IF(AD47 = 0, \"\", IFERROR(INDIRECT(\"'Trade Log'!BU\"&MATCH(B47, 'Trade Log'!DY:DY)), \"\"))","v":""},null,null,null,null,null,null,null,null,null,null,null,null,null,null,null,null,null,null,null,null,null,null,1960,{"$f":" IFERROR(INDIRECT(\"'SP500 Data'!B\"&MATCH(BB47, 'SP500 Data'!A:A,0))/100,\"\")","v":4.6999999999999993E-3},1.0046999999999999]
[null,40,{"$f":" SUMIF('Trade Log'!AP:AP,B48, 'Trade Log'!BT:BT)","v":0},{"$f":" IFERROR(INDIRECT(\"'SP500 Data'!B\"&MATCH(B48, 'SP500 Data'!A:A,0))/100,\"\")","v":""},"","",{"$error":"#N/A"},"","",{"$f":" IF(AD48=0, \"\", SUMIF('Trade Log'!AP:AP,B48, 'Trade Log'!BT:BT))","v":""},{"$error":"#N/A"},"","","","","","","","",{"$f":" IFERROR(IF(AD48 = 0, \"\", IF(AB48=\"\",0,IF(IF(R48=\"\",0,(-1*(MAX(R$7:$R48)-R48)))/MAX($R$7:R48) = 0,0,IF(R48=\"\",0,(-1*(MAX(R$7:$R48)-R48)))/MAX($R$7:R48)))), \"\")","v":""},"",{"$f":" IFERROR(INDIRECT(\"'Gold Data'!H\"&MATCH(B48, 'Gold Data'!B:B,0)),\"\")","v":""},"",{"$f":" IFERROR(INDIRECT(\"'GBPUSD Data'!H\"&MATCH(B48, 'GBPUSD Data'!B:B,0)),\"\")","v":""},"",{"$f":" IFERROR(INDIRECT(\"'VIX Data'!H\"&MATCH(B48, 'VIX Data'!B:B,0)),\"\")","v":""},"",0,{"$f":" SUMIF('Trade Log'!AP:AP,B48, 'Trade Log'!EX:EX)","v":0},{"$f":" SUMIF('Trade Log'!AP:AP,B48, 'Trade Log'!O:O) + SUMIF('Trade Log'!AP:AP,B48, 'Trade Log'!P:P) + SUMIF('Trade Log'!AP:AP,B48, 'Trade Log'!Q:Q) + SUMIF('Trade Log'!AP:AP,B48, 'Trade Log'!R:R) + SUMIF('Trade Log'!AP:AP,B48, 'Trade Log'!S:S) + SUMIF('Trade Log'!AP:AP,B48, 'Trade Log'!T:T)","v":0},{"$f":" IF(AD48 = 0, \"\", IFERROR(INDIRECT(\"'Trade Log'!BU\"&MATCH(B48, 'Trade Log'!DY:DY)), \"\"))","v":""},null,null,null,null,null,null,null,null,null,null,null,null,null,null,null,null,null,null,null,null,null,null,1961,{"$f":" IFERROR(INDIRECT(\"'SP500 Data'!B\"&MATCH(BB48, 'SP500 Data'!A:A,0))/100,\"\")","v":0.26890000000000003},1.2688999999999999]
[null,41,{"$f":" SUMIF('Trade Log'!AP:AP,B49, 'Trade Log'!BT:BT)","v":0},{"$f":" IFERROR(INDIRECT(\"'SP500 Data'!B\"&MATCH(B49, 'SP500 Data'!A:A,0))/100,\"\")","v":""},"","",{"$error":"#N/A"},"","",{"$f":" IF(AD49=0, \"\", SUMIF('Trade Log'!AP:AP,B49, 'Trade Log'!BT:BT))","v":""},{"$error":"#N/A"},"","","","","","",{"$f":" IF(AD50 = 0,\"\", AE50-C50)","v":""},"",{"$f":" IFERROR(IF(AD49 = 0, \"\", IF(AB49=\"\",0,IF(IF(R49=\"\",0,(-1*(MAX(R$7:$R49)-R49)))/MAX($R$7:R49) = 0,0,IF(R49=\"\",0,(-1*(MAX(R$7:$R49)-R49)))/MAX($R$7:R49)))), \"\")","v":""},"",{"$f":" IFERROR(INDIRECT(\"'Gold Data'!H\"&MATCH(B49, 'Gold Data'!B:B,0)),\"\")","v":""},"",{"$f":" IFERROR(INDIRECT(\"'GBPUSD Data'!H\"&MATCH(B49, 'GBPUSD Data'!B:B,0)),\"\")","v":""},"",{"$f":" IFERROR(INDIRECT(\"'VIX Data'!H\"&MATCH(B49, 'VIX Data'!B:B,0)),\"\")","v":""},"",0,{"$f":" SUMIF('Trade Log'!AP:AP,B49, 'Trade Log'!EX:EX)","v":0},{"$f":" SUMIF('Trade Log'!AP:AP,B49, 'Trade Log'!O:O) + SUMIF('Trade Log'!AP:AP,B49, 'Trade Log'!P:P) + SUMIF('Trade Log'!AP:AP,B49, 'Trade Log'!Q:Q) + SUMIF('Trade Log'!AP:AP,B49, 'Trade Log'!R:R) + SUMIF('Trade Log'!AP:AP,B49, 'Trade Log'!S:S) + SUMIF('Trade Log'!AP:AP,B49, 'Trade Log'!T:T)","v":0},{"$f":" IF(AD49 = 0, \"\", IFERROR(INDIRECT(\"'Trade Log'!BU\"&MATCH(B49, 'Trade Log'!DY:DY)), \"\"))","v":""},null,null,null,null,null,null,null,null,null,null,null,null,null,null,null,null,null,null,null,null,null,null,1962,{"$f":" IFERROR(INDIRECT(\"'SP500 Data'!B\"&MATCH(BB49, 'SP500 Data'!A:A,0))/100,\"\")","v":-8.7300000000000003E-2},0.91269999999999996]
[null,42,{"$f":" SUMIF('Trade Log'!AP:AP,B50, 'Trade Log'!BT:BT)","v":0},{"$f":" IFERROR(INDIRECT(\"'SP500 Data'!B\"&MATCH(B50, 'SP500 Data'!A:A,0))/100,\"\")","v":""},"","",{"$error":"#N/A"},"","",{"$f":" IF(AD50=0, \"\", SUMIF('Trade Log'!AP:AP,B50, 'Trade Log'!BT:BT))","v":""},{"$error":"#N/A"},"","","","","","","","",{"$f":" IFERROR(IF(AD50 = 0, \"\", IF(AB50=\"\",0,IF(IF(R50=\"\",0,(-1*(MAX(R$7:$R50)-R50)))/MAX($R$7:R50) = 0,0,IF(R50=\"\",0,(-1*(MAX(R$7:$R50)-R50)))/MAX($R$7:R50)))), \"\")","v":""},"",{"$f":" IFERROR(INDIRECT(\"'Gold Data'!H\"&MATCH(B50, 'Gold Data'!B:B,0)),\"\")","v":""},"",{"$f":" IFERROR(INDIRECT(\"'GBPUSD Data'!H\"&MATCH(B50, 'GBPUSD Data'!B:B,0)),\"\")","v":""},"",{"$f":" IFERROR(INDIRECT(\"'VIX Data'!H\"&MATCH(B50, 'VIX Data'!B:B,0)),\"\")","v":""},"",0,{"$f":" SUMIF('Trade Log'!AP:AP,B50, 'Trade Log'!EX:EX)","v":0},{"$f":" SUMIF('Trade Log'!AP:AP,B50, 'Trade Log'!O:O) + SUMIF('Trade Log'!AP:AP,B50, 'Trade Log'!P:P) + SUMIF('Trade Log'!AP:AP,B50, 'Trade Log'!Q:Q) + SUMIF('Trade Log'!AP:AP,B50, 'Trade Log'!R:R) + SUMIF('Trade Log'!AP:AP,B50, 'Trade Log'!S:S) + SUMIF('Trade Log'!AP:AP,B50, 'Trade Log'!T:T)","v":0},{"$f":" IF(AD50 = 0, \"\", IFERROR(INDIRECT(\"'Trade Log'!BU\"&MATCH(B50, 'Trade Log'!DY:DY)), \"\"))","v":""},null,null,null,null,null,null,null,null,null,null,null,null,null,null,null,null,null,null,null,null,null,null,1963,{"$f":" IFERROR(INDIRECT(\"'SP500 Data'!B\"&MATCH(BB50, 'SP500 Data'!A:A,0))/100,\"\")","v":0.22800000000000001},1.228]
[null,43,{"$f":" SUMIF('Trade Log'!AP:AP,B51, 'Trade Log'!BT:BT)","v":0},{"$f":" IFERROR(INDIRECT(\"'SP500 Data'!B\"&MATCH(B51, 'SP500 Data'!A:A,0))/100,\"\")","v":""},"","",{"$error":"#N/A"},"","",{"$f":" IF(AD51=0, \"\", SUMIF('Trade Log'!AP:AP,B51, 'Trade Log'!BT:BT))","v":""},{"$error":"#N/A"},"","","","","","","","",{"$f":" IFERROR(IF(AD51 = 0, \"\", IF(AB51=\"\",0,IF(IF(R51=\"\",0,(-1*(MAX(R$7:$R51)-R51)))/MAX($R$7:R51) = 0,0,IF(R51=\"\",0,(-1*(MAX(R$7:$R51)-R51)))/MAX($R$7:R51)))), \"\")","v":""},"",{"$f":" IFERROR(INDIRECT(\"'Gold Data'!H\"&MATCH(B51, 'Gold Data'!B:B,0)),\"\")","v":""},"",{"$f":" IFERROR(INDIRECT(\"'GBPUSD Data'!H\"&MATCH(B51, 'GBPUSD Data'!B:B,0)),\"\")","v":""},"",{"$f":" IFERROR(INDIRECT(\"'VIX Data'!H\"&MATCH(B51, 'VIX Data'!B:B,0)),\"\")","v":""},"",0,{"$f":" SUMIF('Trade Log'!AP:AP,B51, 'Trade Log'!EX:EX)","v":0},{"$f":" SUMIF('Trade Log'!AP:AP,B51, 'Trade Log'!O:O) + SUMIF('Trade Log'!AP:AP,B51, 'Trade Log'!P:P) + SUMIF('Trade Log'!AP:AP,B51, 'Trade Log'!Q:Q) + SUMIF('Trade Log'!AP:AP,B51, 'Trade Log'!R:R) + SUMIF('Trade Log'!AP:AP,B51, 'Trade Log'!S:S) + SUMIF('Trade Log'!AP:AP,B51, 'Trade Log'!T:T)","v":0},{"$f":" IF(AD51 = 0, \"\", IFERROR(INDIRECT(\"'Trade Log'!BU\"&MATCH(B51, 'Trade Log'!DY:DY)), \"\"))","v":""},null,null,null,null,null,null,null,null,null,null,null,null,null,null,null,null,null,null,null,null,null,null,1964,{"$f":" IFERROR(INDIRECT(\"'SP500 Data'!B\"&MATCH(BB51, 'SP500 Data'!A:A,0))/100,\"\")","v":0.1648},1.1648000000000001]
[null,44,{"$f":" SUMIF('Trade Log'!AP:AP,B52, 'Trade Log'!BT:BT)","v":0},{"$f":" IFERROR(INDIRECT(\"'SP500 Data'!B\"&MATCH(B52, 'SP500 Data'!A:A,0))/100,\"\")","v":""},"","",{"$error":"#N/A"},"","",{"$f":" IF(AD52=0, \"\", SUMIF('Trade Log'!AP:AP,B52, 'Trade Log'!BT:BT))","v":""},{"$error":"#N/A"},"","","","","","","","",{"$f":" IFERROR(IF(AD52 = 0, \"\", IF(AB52=\"\",0,IF(IF(R52=\"\",0,(-1*(MAX(R$7:$R52)-R52)))/MAX($R$7:R52) = 0,0,IF(R52=\"\",0,(-1*(MAX(R$7:$R52)-R52)))/MAX($R$7:R52)))), \"\")","v":""},"",{"$f":" IFERROR(INDIRECT(\"'Gold Data'!H\"&MATCH(B52, 'Gold Data'!B:B,0)),\"\")","v":""},"",{"$f":" IFERROR(INDIRECT(\"'GBPUSD Data'!H\"&MATCH(B52, 'GBPUSD Data'!B:B,0)),\"\")","v":""},"",{"$f":" IFERROR(INDIRECT(\"'VIX Data'!H\"&MATCH(B52, 'VIX Data'!B:B,0)),\"\")","v":""},"",0,{"$f":" SUMIF('Trade Log'!AP:AP,B52, 'Trade Log'!EX:EX)","v":0},{"$f":" SUMIF('Trade Log'!AP:AP,B52, 'Trade Log'!O:O) + SUMIF('Trade Log'!AP:AP,B52, 'Trade Log'!P:P) + SUMIF('Trade Log'!AP:AP,B52, 'Trade Log'!Q:Q) + SUMIF('Trade Log'!AP:AP,B52, 'Trade Log'!R:R) + SUMIF('Trade Log'!AP:AP,B52, 'Trade Log'!S:S) + SUMIF('Trade Log'!AP:AP,B52, 'Trade Log'!T:T)","v":0},{"$f":" IF(AD52 = 0, \"\", IFERROR(INDIRECT(\"'Trade Log'!BU\"&MATCH(B52, 'Trade Log'!DY:DY)), \"\"))","v":""},null,null,null,null,null,null,null,null,null,null,null,null,null,null,null,null,null,null,null,null,null,null,1965,{"$f":" IFERROR(INDIRECT(\"'SP500 Data'!B\"&MATCH(BB52, 'SP500 Data'!A:A,0))/100,\"\")","v":0.1245},1.1245000000000001]
[null,45,{"$f":" SUMIF('Trade Log'!AP:AP,B53, 'Trade Log'!BT:BT)","v":0},{"$f":" IFERROR(INDIRECT(\"'SP500 Data'!B\"&MATCH(B53, 'SP500 Data'!A:A,0))/100,\"\")","v":""},"","",{"$error":"#N/A"},"","",{"$f":" IF(AD53=0, \"\", SUMIF('Trade Log'!AP:AP,B53, 'Trade Log'!BT:BT))","v":""},{"$error":"#N/A"},"","","","","","","","",{"$f":" IFERROR(IF(AD53 = 0, \"\", IF(AB53=\"\",0,IF(IF(R53=\"\",0,(-1*(MAX(R$7:$R53)-R53)))/MAX($R$7:R53) = 0,0,IF(R53=\"\",0,(-1*(MAX(R$7:$R53)-R53)))/MAX($R$7:R53)))), \"\")","v":""},"",{"$f":" IFERROR(INDIRECT(\"'Gold Data'!H\"&MATCH(B53, 'Gold Data'!B:B,0)),\"\")","v":""},"",{"$f":" IFERROR(INDIRECT(\"'GBPUSD Data'!H\"&MATCH(B53, 'GBPUSD Data'!B:B,0)),\"\")","v":""},"",{"$f":" IFERROR(INDIRECT(\"'VIX Data'!H\"&MATCH(B53, 'VIX Data'!B:B,0)),\"\")","v":""},"",0,{"$f":" SUMIF('Trade Log'!AP:AP,B53, 'Trade Log'!EX:EX)","v":0},{"$f":" SUMIF('Trade Log'!AP:AP,B53, 'Trade Log'!O:O) + SUMIF('Trade Log'!AP:AP,B53, 'Trade Log'!P:P) + SUMIF('Trade Log'!AP:AP,B53, 'Trade Log'!Q:Q) + SUMIF('Trade Log'!AP:AP,B53, 'Trade Log'!R:R) + SUMIF('Trade Log'!AP:AP,B53, 'Trade Log'!S:S) + SUMIF('Trade Log'!AP:AP,B53, 'Trade Log'!T:T)","v":0},{"$f":" IF(AD53 = 0, \"\", IFERROR(INDIRECT(\"'Trade Log'!BU\"&MATCH(B53, 'Trade Log'!DY:DY)), \"\"))","v":""},null,null,null,null,null,null,null,null,null,null,null,null,null,null,null,null,null,null,null,null,null,null,1966,{"$f":" IFERROR(INDIRECT(\"'SP500 Data'!B\"&MATCH(BB53, 'SP500 Data'!A:A,0))/100,\"\")","v":-0.10060000000000001},0.89939999999999998]
[null,46,{"$f":" SUMIF('Trade Log'!AP:AP,B54, 'Trade Log'!BT:BT)","v":0},{"$f":" IFERROR(INDIRECT(\"'SP500 Data'!B\"&MATCH(B54, 'SP500 Data'!A:A,0))/100,\"\")","v":""},"","",{"$error":"#N/A"},"","",{"$f":" IF(AD54=0, \"\", SUMIF('Trade Log'!AP:AP,B54, 'Trade Log'!BT:BT))","v":""},{"$error":"#N/A"},"","","","","","","","",{"$f":" IFERROR(IF(AD54 = 0, \"\", IF(AB54=\"\",0,IF(IF(R54=\"\",0,(-1*(MAX(R$7:$R54)-R54)))/MAX($R$7:R54) = 0,0,IF(R54=\"\",0,(-1*(MAX(R$7:$R54)-R54)))/MAX($R$7:R54)))), \"\")","v":""},"",{"$f":" IFERROR(INDIRECT(\"'Gold Data'!H\"&MATCH(B54, 'Gold Data'!B:B,0)),\"\")","v":""},"",{"$f":" IFERROR(INDIRECT(\"'GBPUSD Data'!H\"&MATCH(B54, 'GBPUSD Data'!B:B,0)),\"\")","v":""},"",{"$f":" IFERROR(INDIRECT(\"'VIX Data'!H\"&MATCH(B54, 'VIX Data'!B:B,0)),\"\")","v":""},"",0,{"$f":" SUMIF('Trade Log'!AP:AP,B54, 'Trade Log'!EX:EX)","v":0},{"$f":" SUMIF('Trade Log'!AP:AP,B54, 'Trade Log'!O:O) + SUMIF('Trade Log'!AP:AP,B54, 'Trade Log'!P:P) + SUMIF('Trade Log'!AP:AP,B54, 'Trade Log'!Q:Q) + SUMIF('Trade Log'!AP:AP,B54, 'Trade Log'!R:R) + SUMIF('Trade Log'!AP:AP,B54, 'Trade Log'!S:S) + SUMIF('Trade Log'!AP:AP,B54, 'Trade Log'!T:T)","v":0},{"$f":" IF(AD54 = 0, \"\", IFERROR(INDIRECT(\"'Trade Log'!BU\"&MATCH(B54, 'Trade Log'!DY:DY)), \"\"))","v":""},null,null,null,null,null,null,null,null,null,null,null,null,null,null,null,null,null,null,null,null,null,null,1967,{"$f":" IFERROR(INDIRECT(\"'SP500 Data'!B\"&MATCH(BB54, 'SP500 Data'!A:A,0))/100,\"\")","v":0.23980000000000001},1.2398]
[null,47,{"$f":" SUMIF('Trade Log'!AP:AP,B55, 'Trade Log'!BT:BT)","v":0},{"$f":" IFERROR(INDIRECT(\"'SP500 Data'!B\"&MATCH(B55, 'SP500 Data'!A:A,0))/100,\"\")","v":""},"","",{"$error":"#N/A"},"","",{"$f":" IF(AD55=0, \"\", SUMIF('Trade Log'!AP:AP,B55, 'Trade Log'!BT:BT))","v":""},{"$error":"#N/A"},"","","","","","","","",{"$f":" IFERROR(IF(AD55 = 0, \"\", IF(AB55=\"\",0,IF(IF(R55=\"\",0,(-1*(MAX(R$7:$R55)-R55)))/MAX($R$7:R55) = 0,0,IF(R55=\"\",0,(-1*(MAX(R$7:$R55)-R55)))/MAX($R$7:R55)))), \"\")","v":""},"",{"$f":" IFERROR(INDIRECT(\"'Gold Data'!H\"&MATCH(B55, 'Gold Data'!B:B,0)),\"\")","v":""},"",{"$f":" IFERROR(INDIRECT(\"'GBPUSD Data'!H\"&MATCH(B55, 'GBPUSD Data'!B:B,0)),\"\")","v":""},"",{"$f":" IFERROR(INDIRECT(\"'VIX Data'!H\"&MATCH(B55, 'VIX Data'!B:B,0)),\"\")","v":""},"",0,{"$f":" SUMIF('Trade Log'!AP:AP,B55, 'Trade Log'!EX:EX)","v":0},{"$f":" SUMIF('Trade Log'!AP:AP,B55, 'Trade Log'!O:O) + SUMIF('Trade Log'!AP:AP,B55, 'Trade Log'!P:P) + SUMIF('Trade Log'!AP:AP,B55, 'Trade Log'!Q:Q) + SUMIF('Trade Log'!AP:AP,B55, 'Trade Log'!R:R) + SUMIF('Trade Log'!AP:AP,B55, 'Trade Log'!S:S) + SUMIF('Trade Log'!AP:AP,B55, 'Trade Log'!T:T)","v":0},{"$f":" IF(AD55 = 0, \"\", IFERROR(INDIRECT(\"'Trade Log'!BU\"&MATCH(B55, 'Trade Log'!DY:DY)), \"\"))","v":""},null,null,null,null,null,null,null,null,null,null,null,null,null,null,null,null,null,null,null,null,null,null,1968,{"$f":" IFERROR(INDIRECT(\"'SP500 Data'!B\"&MATCH(BB55, 'SP500 Data'!A:A,0))/100,\"\")","v":0.1106},1.1106]
[null,48,{"$f":" SUMIF('Trade Log'!AP:AP,B56, 'Trade Log'!BT:BT)","v":0},{"$f":" IFERROR(INDIRECT(\"'SP500 Data'!B\"&MATCH(B56, 'SP500 Data'!A:A,0))/100,\"\")","v":""},"","",{"$error":"#N/A"},"","",{"$f":" IF(AD56=0, \"\", SUMIF('Trade Log'!AP:AP,B56, 'Trade Log'!BT:BT))","v":""},{"$error":"#N/A"},"","","","","","","","",{"$f":" IFERROR(IF(AD56 = 0, \"\", IF(AB56=\"\",0,IF(IF(R56=\"\",0,(-1*(MAX(R$7:$R56)-R56)))/MAX($R$7:R56) = 0,0,IF(R56=\"\",0,(-1*(MAX(R$7:$R56)-R56)))/MAX($R$7:R56)))), \"\")","v":""},"",{"$f":" IFERROR(INDIRECT(\"'Gold Data'!H\"&MATCH(B56, 'Gold Data'!B:B,0)),\"\")","v":""},"",{"$f":" IFERROR(INDIRECT(\"'GBPUSD Data'!H\"&MATCH(B56, 'GBPUSD Data'!B:B,0)),\"\")","v":""},"",{"$f":" IFERROR(INDIRECT(\"'VIX Data'!H\"&MATCH(B56, 'VIX Data'!B:B,0)),\"\")","v":""},"",0,{"$f":" SUMIF('Trade Log'!AP:AP,B56, 'Trade Log'!EX:EX)","v":0},{"$f":" SUMIF('Trade Log'!AP:AP,B56, 'Trade Log'!O:O) + SUMIF('Trade Log'!AP:AP,B56, 'Trade Log'!P:P) + SUMIF('Trade Log'!AP:AP,B56, 'Trade Log'!Q:Q) + SUMIF('Trade Log'!AP:AP,B56, 'Trade Log'!R:R) + SUMIF('Trade Log'!AP:AP,B56, 'Trade Log'!S:S) + SUMIF('Trade Log'!AP:AP,B56, 'Trade Log'!T:T)","v":0},{"$f":" IF(AD56 = 0, \"\", IFERROR(INDIRECT(\"'Trade Log'!BU\"&MATCH(B56, 'Trade Log'!DY:DY)), \"\"))","v":""},null,null,null,null,null,null,null,null,null,null,null,null,null,null,null,null,null,null,null,null,null,null,1969,{"$f":" IFERROR(INDIRECT(\"'SP500 Data'!B\"&MATCH(BB56, 'SP500 Data'!A:A,0))/100,\"\")","v":-8.5000000000000006E-2},0.91500000000000004]
[null,{"$f":" B56 + 1","v":49},{"$f":" SUMIF('Trade Log'!AP:AP,B57, 'Trade Log'!BT:BT)","v":0},{"$f":" IFERROR(INDIRECT(\"'SP500 Data'!B\"&MATCH(B57, 'SP500 Data'!A:A,0))/100,\"\")","v":""},"","",{"$error":"#N/A"},"","",{"$f":" IF(AD57=0, \"\", SUMIF('Trade Log'!AP:AP,B57, 'Trade Log'!BT:BT))","v":""},{"$error":"#N/A"},"","","","","","","","",{"$f":" IFERROR(IF(AD57 = 0, \"\", IF(AB57=\"\",0,IF(IF(R57=\"\",0,(-1*(MAX(R$7:$R57)-R57)))/MAX($R$7:R57) = 0,0,IF(R57=\"\",0,(-1*(MAX(R$7:$R57)-R57)))/MAX($R$7:R57)))), \"\")","v":""},"",{"$f":" IFERROR(INDIRECT(\"'Gold Data'!H\"&MATCH(B57, 'Gold Data'!B:B,0)),\"\")","v":""},"",{"$f":" IFERROR(INDIRECT(\"'GBPUSD Data'!H\"&MATCH(B57, 'GBPUSD Data'!B:B,0)),\"\")","v":""},"",{"$f":" IFERROR(INDIRECT(\"'VIX Data'!H\"&MATCH(B57, 'VIX Data'!B:B,0)),\"\")","v":""},"",0,{"$f":" SUMIF('Trade Log'!AP:AP,B57, 'Trade Log'!EX:EX)","v":0},{"$f":" SUMIF('Trade Log'!AP:AP,B57, 'Trade Log'!O:O) + SUMIF('Trade Log'!AP:AP,B57, 'Trade Log'!P:P) + SUMIF('Trade Log'!AP:AP,B57, 'Trade Log'!Q:Q) + SUMIF('Trade Log'!AP:AP,B57, 'Trade Log'!R:R) + SUMIF('Trade Log'!AP:AP,B57, 'Trade Log'!S:S) + SUMIF('Trade Log'!AP:AP,B57, 'Trade Log'!T:T)","v":0},{"$f":" IF(AD57 = 0, \"\", IFERROR(INDIRECT(\"'Trade Log'!BU\"&MATCH(B57, 'Trade Log'!DY:DY)), \"\"))","v":""},null,null,null,null,null,null,null,null,null,null,null,null,null,null,null,null,null,null,null,null,null,null,1970,{"$f":" IFERROR(INDIRECT(\"'SP500 Data'!B\"&MATCH(BB57, 'SP500 Data'!A:A,0))/100,\"\")","v":4.0099999999999997E-2},1.0401]
[null,50,{"$f":" SUMIF('Trade Log'!AP:AP,B58, 'Trade Log'!BT:BT)","v":0},{"$f":" IFERROR(INDIRECT(\"'SP500 Data'!B\"&MATCH(B58, 'SP500 Data'!A:A,0))/100,\"\")","v":""},"","",{"$error":"#N/A"},"","",{"$f":" IF(AD58=0, \"\", SUMIF('Trade Log'!AP:AP,B58, 'Trade Log'!BT:BT))","v":""},{"$error":"#N/A"},"","","","","","","","",{"$f":" IFERROR(IF(AD58 = 0, \"\", IF(AB58=\"\",0,IF(IF(R58=\"\",0,(-1*(MAX(R$7:$R58)-R58)))/MAX($R$7:R58) = 0,0,IF(R58=\"\",0,(-1*(MAX(R$7:$R58)-R58)))/MAX($R$7:R58)))), \"\")","v":""},"",{"$f":" IFERROR(INDIRECT(\"'Gold Data'!H\"&MATCH(B58, 'Gold Data'!B:B,0)),\"\")","v":""},"",{"$f":" IFERROR(INDIRECT(\"'GBPUSD Data'!H\"&MATCH(B58, 'GBPUSD Data'!B:B,0)),\"\")","v":""},"",{"$f":" IFERROR(INDIRECT(\"'VIX Data'!H\"&MATCH(B58, 'VIX Data'!B:B,0)),\"\")","v":""},"",0,{"$f":" SUMIF('Trade Log'!AP:AP,B58, 'Trade Log'!EX:EX)","v":0},{"$f":" SUMIF('Trade Log'!AP:AP,B58, 'Trade Log'!O:O) + SUMIF('Trade Log'!AP:AP,B58, 'Trade Log'!P:P) + SUMIF('Trade Log'!AP:AP,B58, 'Trade Log'!Q:Q) + SUMIF('Trade Log'!AP:AP,B58, 'Trade Log'!R:R) + SUMIF('Trade Log'!AP:AP,B58, 'Trade Log'!S:S) + SUMIF('Trade Log'!AP:AP,B58, 'Trade Log'!T:T)","v":0},{"$f":" IF(AD58 = 0, \"\", IFERROR(INDIRECT(\"'Trade Log'!BU\"&MATCH(B58, 'Trade Log'!DY:DY)), \"\"))","v":""},null,null,null,null,null,null,null,null,null,null,null,null,null,null,null,null,null,null,null,null,null,null,1971,{"$f":" IFERROR(INDIRECT(\"'SP500 Data'!B\"&MATCH(BB58, 'SP500 Data'!A:A,0))/100,\"\")","v":0.1431},1.1431]
[null,51,{"$f":" SUMIF('Trade Log'!AP:AP,B59, 'Trade Log'!BT:BT)","v":0},{"$f":" IFERROR(INDIRECT(\"'SP500 Data'!B\"&MATCH(B59, 'SP500 Data'!A:A,0))/100,\"\")","v":""},"","",{"$error":"#N/A"},"","",{"$f":" IF(AD59=0, \"\", SUMIF('Trade Log'!AP:AP,B59, 'Trade Log'!BT:BT))","v":""},{"$error":"#N/A"},"","","","","","","","",{"$f":" IFERROR(IF(AD59 = 0, \"\", IF(AB59=\"\",0,IF(IF(R59=\"\",0,(-1*(MAX(R$7:$R59)-R59)))/MAX($R$7:R59) = 0,0,IF(R59=\"\",0,(-1*(MAX(R$7:$R59)-R59)))/MAX($R$7:R59)))), \"\")","v":""},"",{"$f":" IFERROR(INDIRECT(\"'Gold Data'!H\"&MATCH(B59, 'Gold Data'!B:B,0)),\"\")","v":""},"",{"$f":" IFERROR(INDIRECT(\"'GBPUSD Data'!H\"&MATCH(B59, 'GBPUSD Data'!B:B,0)),\"\")","v":""},"",{"$f":" IFERROR(INDIRECT(\"'VIX Data'!H\"&MATCH(B59, 'VIX Data'!B:B,0)),\"\")","v":""},"",0,{"$f":" SUMIF('Trade Log'!AP:AP,B59, 'Trade Log'!EX:EX)","v":0},{"$f":" SUMIF('Trade Log'!AP:AP,B59, 'Trade Log'!O:O) + SUMIF('Trade Log'!AP:AP,B59, 'Trade Log'!P:P) + SUMIF('Trade Log'!AP:AP,B59, 'Trade Log'!Q:Q) + SUMIF('Trade Log'!AP:AP,B59, 'Trade Log'!R:R) + SUMIF('Trade Log'!AP:AP,B59, 'Trade Log'!S:S) + SUMIF('Trade Log'!AP:AP,B59, 'Trade Log'!T:T)","v":0},{"$f":" IF(AD59 = 0, \"\", IFERROR(INDIRECT(\"'Trade Log'!BU\"&MATCH(B59, 'Trade Log'!DY:DY)), \"\"))","v":""},null,null,null,null,null,null,null,null,null,null,null,null,null,null,null,null,null,null,null,null,null,null,1972,{"$f":" IFERROR(INDIRECT(\"'SP500 Data'!B\"&MATCH(BB59, 'SP500 Data'!A:A,0))/100,\"\")","v":0.1898},1.1898]
[null,52,{"$f":" SUMIF('Trade Log'!AP:AP,B60, 'Trade Log'!BT:BT)","v":0},{"$f":" IFERROR(INDIRECT(\"'SP500 Data'!B\"&MATCH(B60, 'SP500 Data'!A:A,0))/100,\"\")","v":""},"","",{"$error":"#N/A"},"","",{"$f":" IF(AD60=0, \"\", SUMIF('Trade Log'!AP:AP,B60, 'Trade Log'!BT:BT))","v":""},{"$error":"#N/A"},"","","","","","","","",{"$f":" IFERROR(IF(AD60 = 0, \"\", IF(AB60=\"\",0,IF(IF(R60=\"\",0,(-1*(MAX(R$7:$R60)-R60)))/MAX($R$7:R60) = 0,0,IF(R60=\"\",0,(-1*(MAX(R$7:$R60)-R60)))/MAX($R$7:R60)))), \"\")","v":""},"",{"$f":" IFERROR(INDIRECT(\"'Gold Data'!H\"&MATCH(B60, 'Gold Data'!B:B,0)),\"\")","v":""},"",{"$f":" IFERROR(INDIRECT(\"'GBPUSD Data'!H\"&MATCH(B60, 'GBPUSD Data'!B:B,0)),\"\")","v":""},"",{"$f":" IFERROR(INDIRECT(\"'VIX Data'!H\"&MATCH(B60, 'VIX Data'!B:B,0)),\"\")","v":""},"",0,{"$f":" SUMIF('Trade Log'!AP:AP,B60, 'Trade Log'!EX:EX)","v":0},{"$f":" SUMIF('Trade Log'!AP:AP,B60, 'Trade Log'!O:O) + SUMIF('Trade Log'!AP:AP,B60, 'Trade Log'!P:P) + SUMIF('Trade Log'!AP:AP,B60, 'Trade Log'!Q:Q) + SUMIF('Trade Log'!AP:AP,B60, 'Trade Log'!R:R) + SUMIF('Trade Log'!AP:AP,B60, 'Trade Log'!S:S) + SUMIF('Trade Log'!AP:AP,B60, 'Trade Log'!T:T)","v":0},{"$f":" IF(AD60 = 0, \"\", IFERROR(INDIRECT(\"'Trade Log'!BU\"&MATCH(B60, 'Trade Log'!DY:DY)), \"\"))","v":""},null,null,null,null,null,null,null,null,null,null,null,null,null,null,null,null,null,null,null,null,null,null,1973,{"$f":" IFERROR(INDIRECT(\"'SP500 Data'!B\"&MATCH(BB60, 'SP500 Data'!A:A,0))/100,\"\")","v":-0.14660000000000001},0.85339999999999994]
[null,53,{"$f":" SUMIF('Trade Log'!AP:AP,B61, 'Trade Log'!BT:BT)","v":0},{"$f":" IFERROR(INDIRECT(\"'SP500 Data'!B\"&MATCH(B61, 'SP500 Data'!A:A,0))/100,\"\")","v":""},"","",{"$error":"#N/A"},"","",{"$f":" IF(AD61=0, \"\", SUMIF('Trade Log'!AP:AP,B61, 'Trade Log'!BT:BT))","v":""},{"$error":"#N/A"},"","","","","","","","",{"$f":" IFERROR(IF(AD61 = 0, \"\", IF(AB61=\"\",0,IF(IF(R61=\"\",0,(-1*(MAX(R$7:$R61)-R61)))/MAX($R$7:R61) = 0,0,IF(R61=\"\",0,(-1*(MAX(R$7:$R61)-R61)))/MAX($R$7:R61)))), \"\")","v":""},"",{"$f":" IFERROR(INDIRECT(\"'Gold Data'!H\"&MATCH(B61, 'Gold Data'!B:B,0)),\"\")","v":""},"",{"$f":" IFERROR(INDIRECT(\"'GBPUSD Data'!H\"&MATCH(B61, 'GBPUSD Data'!B:B,0)),\"\")","v":""},"",{"$f":" IFERROR(INDIRECT(\"'VIX Data'!H\"&MATCH(B61, 'VIX Data'!B:B,0)),\"\")","v":""},"",0,{"$f":" SUMIF('Trade Log'!AP:AP,B61, 'Trade Log'!EX:EX)","v":0},{"$f":" SUMIF('Trade Log'!AP:AP,B61, 'Trade Log'!O:O) + SUMIF('Trade Log'!AP:AP,B61, 'Trade Log'!P:P) + SUMIF('Trade Log'!AP:AP,B61, 'Trade Log'!Q:Q) + SUMIF('Trade Log'!AP:AP,B61, 'Trade Log'!R:R) + SUMIF('Trade Log'!AP:AP,B61, 'Trade Log'!S:S) + SUMIF('Trade Log'!AP:AP,B61, 'Trade Log'!T:T)","v":0},{"$f":" IF(AD61 = 0, \"\", IFERROR(INDIRECT(\"'Trade Log'!BU\"&MATCH(B61, 'Trade Log'!DY:DY)), \"\"))","v":""},null,null,null,null,null,null,null,null,null,null,null,null,null,null,null,null,null,null,null,null,null,null,1974,{"$f":" IFERROR(INDIRECT(\"'SP500 Data'!B\"&MATCH(BB61, 'SP500 Data'!A:A,0))/100,\"\")","v":-0.26469999999999999},0.73530000000000006]
[null,54,{"$f":" SUMIF('Trade Log'!AP:AP,B62, 'Trade Log'!BT:BT)","v":0},{"$f":" IFERROR(INDIRECT(\"'SP500 Data'!B\"&MATCH(B62, 'SP500 Data'!A:A,0))/100,\"\")","v":""},"","",{"$error":"#N/A"},"","",{"$f":" IF(AD62=0, \"\", SUMIF('Trade Log'!AP:AP,B62, 'Trade Log'!BT:BT))","v":""},{"$error":"#N/A"},"","","","","","","","",{"$f":" IFERROR(IF(AD62 = 0, \"\", IF(AB62=\"\",0,IF(IF(R62=\"\",0,(-1*(MAX(R$7:$R62)-R62)))/MAX($R$7:R62) = 0,0,IF(R62=\"\",0,(-1*(MAX(R$7:$R62)-R62)))/MAX($R$7:R62)))), \"\")","v":""},"",{"$f":" IFERROR(INDIRECT(\"'Gold Data'!H\"&MATCH(B62, 'Gold Data'!B:B,0)),\"\")","v":""},"",{"$f":" IFERROR(INDIRECT(\"'GBPUSD Data'!H\"&MATCH(B62, 'GBPUSD Data'!B:B,0)),\"\")","v":""},"",{"$f":" IFERROR(INDIRECT(\"'VIX Data'!H\"&MATCH(B62, 'VIX Data'!B:B,0)),\"\")","v":""},"",0,{"$f":" SUMIF('Trade Log'!AP:AP,B62, 'Trade Log'!EX:EX)","v":0},{"$f":" SUMIF('Trade Log'!AP:AP,B62, 'Trade Log'!O:O) + SUMIF('Trade Log'!AP:AP,B62, 'Trade Log'!P:P) + SUMIF('Trade Log'!AP:AP,B62, 'Trade Log'!Q:Q) + SUMIF('Trade Log'!AP:AP,B62, 'Trade Log'!R:R) + SUMIF('Trade Log'!AP:AP,B62, 'Trade Log'!S:S) + SUMIF('Trade Log'!AP:AP,B62, 'Trade Log'!T:T)","v":0},{"$f":" IF(AD62 = 0, \"\", IFERROR(INDIRECT(\"'Trade Log'!BU\"&MATCH(B62, 'Trade Log'!DY:DY)), \"\"))","v":""},null,null,null,null,null,null,null,null,null,null,null,null,null,null,null,null,null,null,null,null,null,null,1975,{"$f":" IFERROR(INDIRECT(\"'SP500 Data'!B\"&MATCH(BB62, 'SP500 Data'!A:A,0))/100,\"\")","v":0.37200000000000005},1.3720000000000001]
[null,55,{"$f":" SUMIF('Trade Log'!AP:AP,B63, 'Trade Log'!BT:BT)","v":0},{"$f":" IFERROR(INDIRECT(\"'SP500 Data'!B\"&MATCH(B63, 'SP500 Data'!A:A,0))/100,\"\")","v":""},"","",{"$error":"#N/A"},"","",{"$f":" IF(AD63=0, \"\", SUMIF('Trade Log'!AP:AP,B63, 'Trade Log'!BT:BT))","v":""},{"$error":"#N/A"},"","","","","","","","",{"$f":" IFERROR(IF(AD63 = 0, \"\", IF(AB63=\"\",0,IF(IF(R63=\"\",0,(-1*(MAX(R$7:$R63)-R63)))/MAX($R$7:R63) = 0,0,IF(R63=\"\",0,(-1*(MAX(R$7:$R63)-R63)))/MAX($R$7:R63)))), \"\")","v":""},"",{"$f":" IFERROR(INDIRECT(\"'Gold Data'!H\"&MATCH(B63, 'Gold Data'!B:B,0)),\"\")","v":""},"",{"$f":" IFERROR(INDIRECT(\"'GBPUSD Data'!H\"&MATCH(B63, 'GBPUSD Data'!B:B,0)),\"\")","v":""},"",{"$f":" IFERROR(INDIRECT(\"'VIX Data'!H\"&MATCH(B63, 'VIX Data'!B:B,0)),\"\")","v":""},"",0,{"$f":" SUMIF('Trade Log'!AP:AP,B63, 'Trade Log'!EX:EX)","v":0},{"$f":" SUMIF('Trade Log'!AP:AP,B63, 'Trade Log'!O:O) + SUMIF('Trade Log'!AP:AP,B63, 'Trade Log'!P:P) + SUMIF('Trade Log'!AP:AP,B63, 'Trade Log'!Q:Q) + SUMIF('Trade Log'!AP:AP,B63, 'Trade Log'!R:R) + SUMIF('Trade Log'!AP:AP,B63, 'Trade Log'!S:S) + SUMIF('Trade Log'!AP:AP,B63, 'Trade Log'!T:T)","v":0},{"$f":" IF(AD63 = 0, \"\", IFERROR(INDIRECT(\"'Trade Log'!BU\"&MATCH(B63, 'Trade Log'!DY:DY)), \"\"))","v":""},null,null,null,null,null,null,null,null,null,null,null,null,null,null,null,null,null,null,null,null,null,null,1976,{"$f":" IFERROR(INDIRECT(\"'SP500 Data'!B\"&MATCH(BB63, 'SP500 Data'!A:A,0))/100,\"\")","v":0.2384},1.2383999999999999]
[null,56,{"$f":" SUMIF('Trade Log'!AP:AP,B64, 'Trade Log'!BT:BT)","v":0},{"$f":" IFERROR(INDIRECT(\"'SP500 Data'!B\"&MATCH(B64, 'SP500 Data'!A:A,0))/100,\"\")","v":""},"","",{"$error":"#N/A"},"","",{"$f":" IF(AD64=0, \"\", SUMIF('Trade Log'!AP:AP,B64, 'Trade Log'!BT:BT))","v":""},{"$error":"#N/A"},"","","","","","","","",{"$f":" IFERROR(IF(AD64 = 0, \"\", IF(AB64=\"\",0,IF(IF(R64=\"\",0,(-1*(MAX(R$7:$R64)-R64)))/MAX($R$7:R64) = 0,0,IF(R64=\"\",0,(-1*(MAX(R$7:$R64)-R64)))/MAX($R$7:R64)))), \"\")","v":""},"",{"$f":" IFERROR(INDIRECT(\"'Gold Data'!H\"&MATCH(B64, 'Gold Data'!B:B,0)),\"\")","v":""},"",{"$f":" IFERROR(INDIRECT(\"'GBPUSD Data'!H\"&MATCH(B64, 'GBPUSD Data'!B:B,0)),\"\")","v":""},"",{"$f":" IFERROR(INDIRECT(\"'VIX Data'!H\"&MATCH(B64, 'VIX Data'!B:B,0)),\"\")","v":""},"",0,{"$f":" SUMIF('Trade Log'!AP:AP,B64, 'Trade Log'!EX:EX)","v":0},{"$f":" SUMIF('Trade Log'!AP:AP,B64, 'Trade Log'!O:O) + SUMIF('Trade Log'!AP:AP,B64, 'Trade Log'!P:P) + SUMIF('Trade Log'!AP:AP,B64, 'Trade Log'!Q:Q) + SUMIF('Trade Log'!AP:AP,B64, 'Trade Log'!R:R) + SUMIF('Trade Log'!AP:AP,B64, 'Trade Log'!S:S) + SUMIF('Trade Log'!AP:AP,B64, 'Trade Log'!T:T)","v":0},{"$f":" IF(AD64 = 0, \"\", IFERROR(INDIRECT(\"'Trade Log'!BU\"&MATCH(B64, 'Trade Log'!DY:DY)), \"\"))","v":""},null,null,null,null,null,null,null,null,null,null,null,null,null,null,null,null,null,null,null,null,null,null,1977,{"$f":" IFERROR(INDIRECT(\"'SP500 Data'!B\"&MATCH(BB64, 'SP500 Data'!A:A,0))/100,\"\")","v":-7.1800000000000003E-2},0.92820000000000003]
[null,57,{"$f":" SUMIF('Trade Log'!AP:AP,B65, 'Trade Log'!BT:BT)","v":0},{"$f":" IFERROR(INDIRECT(\"'SP500 Data'!B\"&MATCH(B65, 'SP500 Data'!A:A,0))/100,\"\")","v":""},"","",{"$error":"#N/A"},"","",{"$f":" IF(AD65=0, \"\", SUMIF('Trade Log'!AP:AP,B65, 'Trade Log'!BT:BT))","v":""},{"$error":"#N/A"},"","","","","","","","",{"$f":" IFERROR(IF(AD65 = 0, \"\", IF(AB65=\"\",0,IF(IF(R65=\"\",0,(-1*(MAX(R$7:$R65)-R65)))/MAX($R$7:R65) = 0,0,IF(R65=\"\",0,(-1*(MAX(R$7:$R65)-R65)))/MAX($R$7:R65)))), \"\")","v":""},"",{"$f":" IFERROR(INDIRECT(\"'Gold Data'!H\"&MATCH(B65, 'Gold Data'!B:B,0)),\"\")","v":""},"",{"$f":" IFERROR(INDIRECT(\"'GBPUSD Data'!H\"&MATCH(B65, 'GBPUSD Data'!B:B,0)),\"\")","v":""},"",{"$f":" IFERROR(INDIRECT(\"'VIX Data'!H\"&MATCH(B65, 'VIX Data'!B:B,0)),\"\")","v":""},"",0,{"$f":" SUMIF('Trade Log'!AP:AP,B65, 'Trade Log'!EX:EX)","v":0},{"$f":" SUMIF('Trade Log'!AP:AP,B65, 'Trade Log'!O:O) + SUMIF('Trade Log'!AP:AP,B65, 'Trade Log'!P:P) + SUMIF('Trade Log'!AP:AP,B65, 'Trade Log'!Q:Q) + SUMIF('Trade Log'!AP:AP,B65, 'Trade Log'!R:R) + SUMIF('Trade Log'!AP:AP,B65, 'Trade Log'!S:S) + SUMIF('Trade Log'!AP:AP,B65, 'Trade Log'!T:T)","v":0},{"$f":" IF(AD65 = 0, \"\", IFERROR(INDIRECT(\"'Trade Log'!BU\"&MATCH(B65, 'Trade Log'!DY:DY)), \"\"))","v":""},null,null,null,null,null,null,null,null,null,null,null,null,null,null,null,null,null,null,null,null,null,null,1978,{"$f":" IFERROR(INDIRECT(\"'SP500 Data'!B\"&MATCH(BB65, 'SP500 Data'!A:A,0))/100,\"\")","v":6.5599999999999992E-2},1.0655999999999999]
[null,58,{"$f":" SUMIF('Trade Log'!AP:AP,B66, 'Trade Log'!BT:BT)","v":0},{"$f":" IFERROR(INDIRECT(\"'SP500 Data'!B\"&MATCH(B66, 'SP500 Data'!A:A,0))/100,\"\")","v":""},"","",{"$error":"#N/A"},"","",{"$f":" IF(AD66=0, \"\", SUMIF('Trade Log'!AP:AP,B66, 'Trade Log'!BT:BT))","v":""},{"$error":"#N/A"},"","","","","","","","",{"$f":" IFERROR(IF(AD66 = 0, \"\", IF(AB66=\"\",0,IF(IF(R66=\"\",0,(-1*(MAX(R$7:$R66)-R66)))/MAX($R$7:R66) = 0,0,IF(R66=\"\",0,(-1*(MAX(R$7:$R66)-R66)))/MAX($R$7:R66)))), \"\")","v":""},"",{"$f":" IFERROR(INDIRECT(\"'Gold Data'!H\"&MATCH(B66, 'Gold Data'!B:B,0)),\"\")","v":""},"",{"$f":" IFERROR(INDIRECT(\"'GBPUSD Data'!H\"&MATCH(B66, 'GBPUSD Data'!B:B,0)),\"\")","v":""},"",{"$f":" IFERROR(INDIRECT(\"'VIX Data'!H\"&MATCH(B66, 'VIX Data'!B:B,0)),\"\")","v":""},"",0,{"$f":" SUMIF('Trade Log'!AP:AP,B66, 'Trade Log'!EX:EX)","v":0},{"$f":" SUMIF('Trade Log'!AP:AP,B66, 'Trade Log'!O:O) + SUMIF('Trade Log'!AP:AP,B66, 'Trade Log'!P:P) + SUMIF('Trade Log'!AP:AP,B66, 'Trade Log'!Q:Q) + SUMIF('Trade Log'!AP:AP,B66, 'Trade Log'!R:R) + SUMIF('Trade Log'!AP:AP,B66, 'Trade Log'!S:S) + SUMIF('Trade Log'!AP:AP,B66, 'Trade Log'!T:T)","v":0},{"$f":" IF(AD66 = 0, \"\", IFERROR(INDIRECT(\"'Trade Log'!BU\"&MATCH(B66, 'Trade Log'!DY:DY)), \"\"))","v":""},null,null,null,null,null,null,null,null,null,null,null,null,null,null,null,null,null,null,null,null,null,null,1979,{"$f":" IFERROR(INDIRECT(\"'SP500 Data'!B\"&MATCH(BB66, 'SP500 Data'!A:A,0))/100,\"\")","v":0.18440000000000001},1.1844000000000001]
[null,59,{"$f":" SUMIF('Trade Log'!AP:AP,B67, 'Trade Log'!BT:BT)","v":0},{"$f":" IFERROR(INDIRECT(\"'SP500 Data'!B\"&MATCH(B67, 'SP500 Data'!A:A,0))/100,\"\")","v":""},"","",{"$error":"#N/A"},"","",{"$f":" IF(AD67=0, \"\", SUMIF('Trade Log'!AP:AP,B67, 'Trade Log'!BT:BT))","v":""},{"$error":"#N/A"},"","","","","","","","",{"$f":" IFERROR(IF(AD67 = 0, \"\", IF(AB67=\"\",0,IF(IF(R67=\"\",0,(-1*(MAX(R$7:$R67)-R67)))/MAX($R$7:R67) = 0,0,IF(R67=\"\",0,(-1*(MAX(R$7:$R67)-R67)))/MAX($R$7:R67)))), \"\")","v":""},"",{"$f":" IFERROR(INDIRECT(\"'Gold Data'!H\"&MATCH(B67, 'Gold Data'!B:B,0)),\"\")","v":""},"",{"$f":" IFERROR(INDIRECT(\"'GBPUSD Data'!H\"&MATCH(B67, 'GBPUSD Data'!B:B,0)),\"\")","v":""},"",{"$f":" IFERROR(INDIRECT(\"'VIX Data'!H\"&MATCH(B67, 'VIX Data'!B:B,0)),\"\")","v":""},"",0,{"$f":" SUMIF('Trade Log'!AP:AP,B67, 'Trade Log'!EX:EX)","v":0},{"$f":" SUMIF('Trade Log'!AP:AP,B67, 'Trade Log'!O:O) + SUMIF('Trade Log'!AP:AP,B67, 'Trade Log'!P:P) + SUMIF('Trade Log'!AP:AP,B67, 'Trade Log'!Q:Q) + SUMIF('Trade Log'!AP:AP,B67, 'Trade Log'!R:R) + SUMIF('Trade Log'!AP:AP,B67, 'Trade Log'!S:S) + SUMIF('Trade Log'!AP:AP,B67, 'Trade Log'!T:T)","v":0},{"$f":" IF(AD67 = 0, \"\", IFERROR(INDIRECT(\"'Trade Log'!BU\"&MATCH(B67, 'Trade Log'!DY:DY)), \"\"))","v":""},null,null,null,null,null,null,null,null,null,null,null,null,null,null,null,null,null,null,null,null,null,null,1980,{"$f":" IFERROR(INDIRECT(\"'SP500 Data'!B\"&MATCH(BB67, 'SP500 Data'!A:A,0))/100,\"\")","v":0.32420000000000004},1.3242]
[null,60,{"$f":" SUMIF('Trade Log'!AP:AP,B68, 'Trade Log'!BT:BT)","v":0},{"$f":" IFERROR(INDIRECT(\"'SP500 Data'!B\"&MATCH(B68, 'SP500 Data'!A:A,0))/100,\"\")","v":""},"","",{"$error":"#N/A"},"","",{"$f":" IF(AD68=0, \"\", SUMIF('Trade Log'!AP:AP,B68, 'Trade Log'!BT:BT))","v":""},{"$error":"#N/A"},"","","","","","","","",{"$f":" IFERROR(IF(AD68 = 0, \"\", IF(AB68=\"\",0,IF(IF(R68=\"\",0,(-1*(MAX(R$7:$R68)-R68)))/MAX($R$7:R68) = 0,0,IF(R68=\"\",0,(-1*(MAX(R$7:$R68)-R68)))/MAX($R$7:R68)))), \"\")","v":""},"",{"$f":" IFERROR(INDIRECT(\"'Gold Data'!H\"&MATCH(B68, 'Gold Data'!B:B,0)),\"\")","v":""},"",{"$f":" IFERROR(INDIRECT(\"'GBPUSD Data'!H\"&MATCH(B68, 'GBPUSD Data'!B:B,0)),\"\")","v":""},"",{"$f":" IFERROR(INDIRECT(\"'VIX Data'!H\"&MATCH(B68, 'VIX Data'!B:B,0)),\"\")","v":""},"",0,{"$f":" SUMIF('Trade Log'!AP:AP,B68, 'Trade Log'!EX:EX)","v":0},{"$f":" SUMIF('Trade Log'!AP:AP,B68, 'Trade Log'!O:O) + SUMIF('Trade Log'!AP:AP,B68, 'Trade Log'!P:P) + SUMIF('Trade Log'!AP:AP,B68, 'Trade Log'!Q:Q) + SUMIF('Trade Log'!AP:AP,B68, 'Trade Log'!R:R) + SUMIF('Trade Log'!AP:AP,B68, 'Trade Log'!S:S) + SUMIF('Trade Log'!AP:AP,B68, 'Trade Log'!T:T)","v":0},{"$f":" IF(AD68 = 0, \"\", IFERROR(INDIRECT(\"'Trade Log'!BU\"&MATCH(B68, 'Trade Log'!DY:DY)), \"\"))","v":""},null,null,null,null,null,null,null,null,null,null,null,null,null,null,null,null,null,null,null,null,null,null,1981,{"$f":" IFERROR(INDIRECT(\"'SP500 Data'!B\"&MATCH(BB68, 'SP500 Data'!A:A,0))/100,\"\")","v":-4.9100000000000005E-2},0.95089999999999997]
[null,61,{"$f":" SUMIF('Trade Log'!AP:AP,B69, 'Trade Log'!BT:BT)","v":0},{"$f":" IFERROR(INDIRECT(\"'SP500 Data'!B\"&MATCH(B69, 'SP500 Data'!A:A,0))/100,\"\")","v":""},"","",{"$error":"#N/A"},"","",{"$f":" IF(AD69=0, \"\", SUMIF('Trade Log'!AP:AP,B69, 'Trade Log'!BT:BT))","v":""},{"$error":"#N/A"},"","","","","","","","",{"$f":" IFERROR(IF(AD69 = 0, \"\", IF(AB69=\"\",0,IF(IF(R69=\"\",0,(-1*(MAX(R$7:$R69)-R69)))/MAX($R$7:R69) = 0,0,IF(R69=\"\",0,(-1*(MAX(R$7:$R69)-R69)))/MAX($R$7:R69)))), \"\")","v":""},"",{"$f":" IFERROR(INDIRECT(\"'Gold Data'!H\"&MATCH(B69, 'Gold Data'!B:B,0)),\"\")","v":""},"",{"$f":" IFERROR(INDIRECT(\"'GBPUSD Data'!H\"&MATCH(B69, 'GBPUSD Data'!B:B,0)),\"\")","v":""},"",{"$f":" IFERROR(INDIRECT(\"'VIX Data'!H\"&MATCH(B69, 'VIX Data'!B:B,0)),\"\")","v":""},"",0,{"$f":" SUMIF('Trade Log'!AP:AP,B69, 'Trade Log'!EX:EX)","v":0},{"$f":" SUMIF('Trade Log'!AP:AP,B69, 'Trade Log'!O:O) + SUMIF('Trade Log'!AP:AP,B69, 'Trade Log'!P:P) + SUMIF('Trade Log'!AP:AP,B69, 'Trade Log'!Q:Q) + SUMIF('Trade Log'!AP:AP,B69, 'Trade Log'!R:R) + SUMIF('Trade Log'!AP:AP,B69, 'Trade Log'!S:S) + SUMIF('Trade Log'!AP:AP,B69, 'Trade Log'!T:T)","v":0},{"$f":" IF(AD69 = 0, \"\", IFERROR(INDIRECT(\"'Trade Log'!BU\"&MATCH(B69, 'Trade Log'!DY:DY)), \"\"))","v":""},null,null,null,null,null,null,null,null,null,null,null,null,null,null,null,null,null,null,null,null,null,null,1982,{"$f":" IFERROR(INDIRECT(\"'SP500 Data'!B\"&MATCH(BB69, 'SP500 Data'!A:A,0))/100,\"\")","v":0.2155},1.2155]
[null,62,{"$f":" SUMIF('Trade Log'!AP:AP,B70, 'Trade Log'!BT:BT)","v":0},{"$f":" IFERROR(INDIRECT(\"'SP500 Data'!B\"&MATCH(B70, 'SP500 Data'!A:A,0))/100,\"\")","v":""},"","",{"$error":"#N/A"},"","",{"$f":" IF(AD70=0, \"\", SUMIF('Trade Log'!AP:AP,B70, 'Trade Log'!BT:BT))","v":""},{"$error":"#N/A"},"","","","","","","","",{"$f":" IFERROR(IF(AD70 = 0, \"\", IF(AB70=\"\",0,IF(IF(R70=\"\",0,(-1*(MAX(R$7:$R70)-R70)))/MAX($R$7:R70) = 0,0,IF(R70=\"\",0,(-1*(MAX(R$7:$R70)-R70)))/MAX($R$7:R70)))), \"\")","v":""},"",{"$f":" IFERROR(INDIRECT(\"'Gold Data'!H\"&MATCH(B70, 'Gold Data'!B:B,0)),\"\")","v":""},"",{"$f":" IFERROR(INDIRECT(\"'GBPUSD Data'!H\"&MATCH(B70, 'GBPUSD Data'!B:B,0)),\"\")","v":""},"",{"$f":" IFERROR(INDIRECT(\"'VIX Data'!H\"&MATCH(B70, 'VIX Data'!B:B,0)),\"\")","v":""},"",0,{"$f":" SUMIF('Trade Log'!AP:AP,B70, 'Trade Log'!EX:EX)","v":0},{"$f":" SUMIF('Trade Log'!AP:AP,B70, 'Trade Log'!O:O) + SUMIF('Trade Log'!AP:AP,B70, 'Trade Log'!P:P) + SUMIF('Trade Log'!AP:AP,B70, 'Trade Log'!Q:Q) + SUMIF('Trade Log'!AP:AP,B70, 'Trade Log'!R:R) + SUMIF('Trade Log'!AP:AP,B70, 'Trade Log'!S:S) + SUMIF('Trade Log'!AP:AP,B70, 'Trade Log'!T:T)","v":0},{"$f":" IF(AD70 = 0, \"\", IFERROR(INDIRECT(\"'Trade Log'!BU\"&MATCH(B70, 'Trade Log'!DY:DY)), \"\"))","v":""},null,null,null,null,null,null,null,null,null,null,null,null,null,null,null,null,null,null,null,null,null,null,1983,{"$f":" IFERROR(INDIRECT(\"'SP500 Data'!B\"&MATCH(BB70, 'SP500 Data'!A:A,0))/100,\"\")","v":0.22559999999999999},1.2256]
[null,63,{"$f":" SUMIF('Trade Log'!AP:AP,B71, 'Trade Log'!BT:BT)","v":0},{"$f":" IFERROR(INDIRECT(\"'SP500 Data'!B\"&MATCH(B71, 'SP500 Data'!A:A,0))/100,\"\")","v":""},"","",{"$error":"#N/A"},"","",{"$f":" IF(AD71=0, \"\", SUMIF('Trade Log'!AP:AP,B71, 'Trade Log'!BT:BT))","v":""},{"$error":"#N/A"},"","","","","","","","",{"$f":" IFERROR(IF(AD71 = 0, \"\", IF(AB71=\"\",0,IF(IF(R71=\"\",0,(-1*(MAX(R$7:$R71)-R71)))/MAX($R$7:R71) = 0,0,IF(R71=\"\",0,(-1*(MAX(R$7:$R71)-R71)))/MAX($R$7:R71)))), \"\")","v":""},"",{"$f":" IFERROR(INDIRECT(\"'Gold Data'!H\"&MATCH(B71, 'Gold Data'!B:B,0)),\"\")","v":""},"",{"$f":" IFERROR(INDIRECT(\"'GBPUSD Data'!H\"&MATCH(B71, 'GBPUSD Data'!B:B,0)),\"\")","v":""},"",{"$f":" IFERROR(INDIRECT(\"'VIX Data'!H\"&MATCH(B71, 'VIX Data'!B:B,0)),\"\")","v":""},"",0,{"$f":" SUMIF('Trade Log'!AP:AP,B71, 'Trade Log'!EX:EX)","v":0},{"$f":" SUMIF('Trade Log'!AP:AP,B71, 'Trade Log'!O:O) + SUMIF('Trade Log'!AP:AP,B71, 'Trade Log'!P:P) + SUMIF('Trade Log'!AP:AP,B71, 'Trade Log'!Q:Q) + SUMIF('Trade Log'!AP:AP,B71, 'Trade Log'!R:R) + SUMIF('Trade Log'!AP:AP,B71, 'Trade Log'!S:S) + SUMIF('Trade Log'!AP:AP,B71, 'Trade Log'!T:T)","v":0},{"$f":" IF(AD71 = 0, \"\", IFERROR(INDIRECT(\"'Trade Log'!BU\"&MATCH(B71, 'Trade Log'!DY:DY)), \"\"))","v":""},null,null,null,null,null,null,null,null,null,null,null,null,null,null,null,null,null,null,null,null,null,null,1984,{"$f":" IFERROR(INDIRECT(\"'SP500 Data'!B\"&MATCH(BB71, 'SP500 Data'!A:A,0))/100,\"\")","v":6.2699999999999992E-2},1.0627]
[null,64,{"$f":" SUMIF('Trade Log'!AP:AP,B72, 'Trade Log'!BT:BT)","v":0},{"$f":" IFERROR(INDIRECT(\"'SP500 Data'!B\"&MATCH(B72, 'SP500 Data'!A:A,0))/100,\"\")","v":""},"",{"$f":" IF(AD72 = 0, \"\", D72 + 1)","v":""},{"$error":"#N/A"},"",{"$f":" IF(AD72=0, \"\", C72/(AE72-C72))","v":""},{"$f":" IF(AD72=0, \"\", SUMIF('Trade Log'!AP:AP,B72, 'Trade Log'!BT:BT))","v":""},{"$f":" IF(AD72=0, #N/A, IF(AD72=0, 0, C72/(AE72-C72)))","v":{"$error":"#N/A"}},{"$f":" IF(AD72=0, \"\", MAX($BE$10-I72,0)^$BE$11)","v":""},"",{"$f":" IF(AD72 = 0, \"\", IF(AB72>0, 0, Q72))","v":""},{"$f":" IF(AD72 = 0, \"\", IF(AB72>0, 0, C72))","v":""},"","","",{"$f":" IF(AD72 = 0, \"\", I72-E72)","v":""},{"$f":" IFERROR(IF(AD72 = 0, \"\", IF(AB72=\"\",0,IF(IF(R72=\"\",0,(-1*(MAX(R$7:$R72)-R72)))/MAX($R$7:R72) = 0,0,IF(R72=\"\",0,(-1*(MAX(R$7:$R72)-R72)))/MAX($R$7:R72)))), \"\")","v":""},"",{"$f":" IFERROR(INDIRECT(\"'Gold Data'!H\"&MATCH(B72, 'Gold Data'!B:B,0)),\"\")","v":""},"",{"$f":" IFERROR(INDIRECT(\"'GBPUSD Data'!H\"&MATCH(B72, 'GBPUSD Data'!B:B,0)),\"\")","v":""},"",{"$f":" IFERROR(INDIRECT(\"'VIX Data'!H\"&MATCH(B72, 'VIX Data'!B:B,0)),\"\")","v":""},"",{"$f":" IF(AD72=0, 0, C72/(AE72-C72))","v":0},{"$f":" SUMIF('Trade Log'!AP:AP,B72, 'Trade Log'!EX:EX)","v":0},{"$f":" SUMIF('Trade Log'!AP:AP,B72, 'Trade Log'!O:O) + SUMIF('Trade Log'!AP:AP,B72, 'Trade Log'!P:P) + SUMIF('Trade Log'!AP:AP,B72, 'Trade Log'!Q:Q) + SUMIF('Trade Log'!AP:AP,B72, 'Trade Log'!R:R) + SUMIF('Trade Log'!AP:AP,B72, 'Trade Log'!S:S) + SUMIF('Trade Log'!AP:AP,B72, 'Trade Log'!T:T)","v":0},{"$f":" IF(AD72 = 0, \"\", IFERROR(INDIRECT(\"'Trade Log'!BU\"&MATCH(B72, 'Trade Log'!DY:DY)), \"\"))","v":""},null,null,null,null,null,null,null,null,null,null,null,null,null,null,null,null,null,null,null,null,null,null,1985,{"$f":" IFERROR(INDIRECT(\"'SP500 Data'!B\"&MATCH(BB72, 'SP500 Data'!A:A,0))/100,\"\")","v":0.31730000000000003},1.3172999999999999]
[null,65,{"$f":" SUMIF('Trade Log'!AP:AP,B73, 'Trade Log'!BT:BT)","v":0},{"$f":" IFERROR(INDIRECT(\"'SP500 Data'!B\"&MATCH(B73, 'SP500 Data'!A:A,0))/100,\"\")","v":""},{"$f":" IF(I73 = \"\", \"\", D73)","v":""},"",{"$f":" IF(J73 = \"\", #N/A, D73)","v":{"$error":"#N/A"}},{"$f":" IF(I73=\"\", \"\", I73+1)","v":""},"",{"$f":" IF(AD73=0, \"\", SUMIF('Trade Log'!AP:AP,B73, 'Trade Log'!BT:BT))","v":""},{"$error":"#N/A"},"",{"$f":" IF(AD73=0, \"\", MAX(0,I73 - $BE$10)^$BE$12)","v":""},"","",{"$f":" IF(AD73 = 0, \"\", AB73 - $BD$6 +1)","v":""},{"$f":" IF(AD73 = 0, \"\", AB73 - $BD$6)","v":""},"","",{"$f":" IFERROR(IF(AD73 = 0, \"\", IF(AB73=\"\",0,IF(IF(R73=\"\",0,(-1*(MAX(R$7:$R73)-R73)))/MAX($R$7:R73) = 0,0,IF(R73=\"\",0,(-1*(MAX(R$7:$R73)-R73)))/MAX($R$7:R73)))), \"\")","v":""},{"$f":" IF(T73 = \"\", \"\", T73^2)","v":""},{"$f":" IFERROR(INDIRECT(\"'Gold Data'!H\"&MATCH(B73, 'Gold Data'!B:B,0)),\"\")","v":""},{"$f":" IF(AD73=0, \"\", V73)","v":""},{"$f":" IFERROR(INDIRECT(\"'GBPUSD Data'!H\"&MATCH(B73, 'GBPUSD Data'!B:B,0)),\"\")","v":""},{"$f":" IF(AD73=0, \"\", X73)","v":""},{"$f":" IFERROR(INDIRECT(\"'VIX Data'!H\"&MATCH(B73, 'VIX Data'!B:B,0)),\"\")","v":""},{"$f":" IF(AD73=0, \"\", Z73)","v":""},0,{"$f":" SUMIF('Trade Log'!AP:AP,B73, 'Trade Log'!EX:EX)","v":0},{"$f":" SUMIF('Trade Log'!AP:AP,B73, 'Trade Log'!O:O) + SUMIF('Trade Log'!AP:AP,B73, 'Trade Log'!P:P) + SUMIF('Trade Log'!AP:AP,B73, 'Trade Log'!Q:Q) + SUMIF('Trade Log'!AP:AP,B73, 'Trade Log'!R:R) + SUMIF('Trade Log'!AP:AP,B73, 'Trade Log'!S:S) + SUMIF('Trade Log'!AP:AP,B73, 'Trade Log'!T:T)","v":0},{"$f":" IF(AD73 = 0, \"\", IFERROR(INDIRECT(\"'Trade Log'!BU\"&MATCH(B73, 'Trade Log'!DY:DY)), \"\"))","v":""},null,null,null,null,null,null,null,null,null,null,null,null,null,null,null,null,null,null,null,null,null,null,1986,{"$f":" IFERROR(INDIRECT(\"'SP500 Data'!B\"&MATCH(BB73, 'SP500 Data'!A:A,0))/100,\"\")","v":0.1867},1.1867000000000001]
[null,{"$f":" B73 + 1","v":66},{"$f":" SUMIF('Trade Log'!AP:AP,B74, 'Trade Log'!BT:BT)","v":0},{"$f":" IFERROR(INDIRECT(\"'SP500 Data'!B\"&MATCH(B74, 'SP500 Data'!A:A,0))/100,\"\")","v":""},"","",{"$error":"#N/A"},"","",{"$f":" IF(AD74=0, \"\", SUMIF('Trade Log'!AP:AP,B74, 'Trade Log'!BT:BT))","v":""},{"$error":"#N/A"},"","","","","","","","",{"$f":" IFERROR(IF(AD74 = 0, \"\", IF(AB74=\"\",0,IF(IF(R74=\"\",0,(-1*(MAX(R$7:$R74)-R74)))/MAX($R$7:R74) = 0,0,IF(R74=\"\",0,(-1*(MAX(R$7:$R74)-R74)))/MAX($R$7:R74)))), \"\")","v":""},"",{"$f":" IFERROR(INDIRECT(\"'Gold Data'!H\"&MATCH(B74, 'Gold Data'!B:B,0)),\"\")","v":""},"",{"$f":" IFERROR(INDIRECT(\"'GBPUSD Data'!H\"&MATCH(B74, 'GBPUSD Data'!B:B,0)),\"\")","v":""},"",{"$f":" IFERROR(INDIRECT(\"'VIX Data'!H\"&MATCH(B74, 'VIX Data'!B:B,0)),\"\")","v":""},"",0,{"$f":" SUMIF('Trade Log'!AP:AP,B74, 'Trade Log'!EX:EX)","v":0},{"$f":" SUMIF('Trade Log'!AP:AP,B74, 'Trade Log'!O:O) + SUMIF('Trade Log'!AP:AP,B74, 'Trade Log'!P:P) + SUMIF('Trade Log'!AP:AP,B74, 'Trade Log'!Q:Q) + SUMIF('Trade Log'!AP:AP,B74, 'Trade Log'!R:R) + SUMIF('Trade Log'!AP:AP,B74, 'Trade Log'!S:S) + SUMIF('Trade Log'!AP:AP,B74, 'Trade Log'!T:T)","v":0},{"$f":" IF(AD74 = 0, \"\", IFERROR(INDIRECT(\"'Trade Log'!BU\"&MATCH(B74, 'Trade Log'!DY:DY)), \"\"))","v":""},null,null,null,null,null,null,null,null,null,null,null,null,null,null,null,null,null,null,null,null,null,null,1987,{"$f":" IFERROR(INDIRECT(\"'SP500 Data'!B\"&MATCH(BB74, 'SP500 Data'!A:A,0))/100,\"\")","v":5.2499999999999998E-2},1.0525]
[null,67,{"$f":" SUMIF('Trade Log'!AP:AP,B75, 'Trade Log'!BT:BT)","v":0},{"$f":" IFERROR(INDIRECT(\"'SP500 Data'!B\"&MATCH(B75, 'SP500 Data'!A:A,0))/100,\"\")","v":""},"","",{"$error":"#N/A"},"","",{"$f":" IF(AD75=0, \"\", SUMIF('Trade Log'!AP:AP,B75, 'Trade Log'!BT:BT))","v":""},{"$error":"#N/A"},"","","","","","","","",{"$f":" IFERROR(IF(AD75 = 0, \"\", IF(AB75=\"\",0,IF(IF(R75=\"\",0,(-1*(MAX(R$7:$R75)-R75)))/MAX($R$7:R75) = 0,0,IF(R75=\"\",0,(-1*(MAX(R$7:$R75)-R75)))/MAX($R$7:R75)))), \"\")","v":""},"",{"$f":" IFERROR(INDIRECT(\"'Gold Data'!H\"&MATCH(B75, 'Gold Data'!B:B,0)),\"\")","v":""},"",{"$f":" IFERROR(INDIRECT(\"'GBPUSD Data'!H\"&MATCH(B75, 'GBPUSD Data'!B:B,0)),\"\")","v":""},"",{"$f":" IFERROR(INDIRECT(\"'VIX Data'!H\"&MATCH(B75, 'VIX Data'!B:B,0)),\"\")","v":""},"",0,{"$f":" SUMIF('Trade Log'!AP:AP,B75, 'Trade Log'!EX:EX)","v":0},{"$f":" SUMIF('Trade Log'!AP:AP,B75, 'Trade Log'!O:O) + SUMIF('Trade Log'!AP:AP,B75, 'Trade Log'!P:P) + SUMIF('Trade Log'!AP:AP,B75, 'Trade Log'!Q:Q) + SUMIF('Trade Log'!AP:AP,B75, 'Trade Log'!R:R) + SUMIF('Trade Log'!AP:AP,B75, 'Trade Log'!S:S) + SUMIF('Trade Log'!AP:AP,B75, 'Trade Log'!T:T)","v":0},{"$f":" IF(AD75 = 0, \"\", IFERROR(INDIRECT(\"'Trade Log'!BU\"&MATCH(B75, 'Trade Log'!DY:DY)), \"\"))","v":""},null,null,null,null,null,null,null,null,null,null,null,null,null,null,null,null,null,null,null,null,null,null,1988,{"$f":" IFERROR(INDIRECT(\"'SP500 Data'!B\"&MATCH(BB75, 'SP500 Data'!A:A,0))/100,\"\")","v":0.1661},1.1660999999999999]
[null,68,{"$f":" SUMIF('Trade Log'!AP:AP,B76, 'Trade Log'!BT:BT)","v":0},{"$f":" IFERROR(INDIRECT(\"'SP500 Data'!B\"&MATCH(B76, 'SP500 Data'!A:A,0))/100,\"\")","v":""},"","",{"$error":"#N/A"},"","",{"$f":" IF(AD76=0, \"\", SUMIF('Trade Log'!AP:AP,B76, 'Trade Log'!BT:BT))","v":""},{"$error":"#N/A"},"","","","","","","","",{"$f":" IFERROR(IF(AD76 = 0, \"\", IF(AB76=\"\",0,IF(IF(R76=\"\",0,(-1*(MAX(R$7:$R76)-R76)))/MAX($R$7:R76) = 0,0,IF(R76=\"\",0,(-1*(MAX(R$7:$R76)-R76)))/MAX($R$7:R76)))), \"\")","v":""},"",{"$f":" IFERROR(INDIRECT(\"'Gold Data'!H\"&MATCH(B76, 'Gold Data'!B:B,0)),\"\")","v":""},"",{"$f":" IFERROR(INDIRECT(\"'GBPUSD Data'!H\"&MATCH(B76, 'GBPUSD Data'!B:B,0)),\"\")","v":""},"",{"$f":" IFERROR(INDIRECT(\"'VIX Data'!H\"&MATCH(B76, 'VIX Data'!B:B,0)),\"\")","v":""},"",0,{"$f":" SUMIF('Trade Log'!AP:AP,B76, 'Trade Log'!EX:EX)","v":0},{"$f":" SUMIF('Trade Log'!AP:AP,B76, 'Trade Log'!O:O) + SUMIF('Trade Log'!AP:AP,B76, 'Trade Log'!P:P) + SUMIF('Trade Log'!AP:AP,B76, 'Trade Log'!Q:Q) + SUMIF('Trade Log'!AP:AP,B76, 'Trade Log'!R:R) + SUMIF('Trade Log'!AP:AP,B76, 'Trade Log'!S:S) + SUMIF('Trade Log'!AP:AP,B76, 'Trade Log'!T:T)","v":0},{"$f":" IF(AD76 = 0, \"\", IFERROR(INDIRECT(\"'Trade Log'!BU\"&MATCH(B76, 'Trade Log'!DY:DY)), \"\"))","v":""},null,null,null,null,null,null,null,null,null,null,null,null,null,null,null,null,null,null,null,null,null,null,1989,{"$f":" IFERROR(INDIRECT(\"'SP500 Data'!B\"&MATCH(BB76, 'SP500 Data'!A:A,0))/100,\"\")","v":0.31690000000000002},1.3169]
[null,69,{"$f":" SUMIF('Trade Log'!AP:AP,B77, 'Trade Log'!BT:BT)","v":0},{"$f":" IFERROR(INDIRECT(\"'SP500 Data'!B\"&MATCH(B77, 'SP500 Data'!A:A,0))/100,\"\")","v":""},"","",{"$error":"#N/A"},"","",{"$f":" IF(AD77=0, \"\", SUMIF('Trade Log'!AP:AP,B77, 'Trade Log'!BT:BT))","v":""},{"$error":"#N/A"},"","","","","","","","",{"$f":" IFERROR(IF(AD77 = 0, \"\", IF(AB77=\"\",0,IF(IF(R77=\"\",0,(-1*(MAX(R$7:$R77)-R77)))/MAX($R$7:R77) = 0,0,IF(R77=\"\",0,(-1*(MAX(R$7:$R77)-R77)))/MAX($R$7:R77)))), \"\")","v":""},"",{"$f":" IFERROR(INDIRECT(\"'Gold Data'!H\"&MATCH(B77, 'Gold Data'!B:B,0)),\"\")","v":""},"",{"$f":" IFERROR(INDIRECT(\"'GBPUSD Data'!H\"&MATCH(B77, 'GBPUSD Data'!B:B,0)),\"\")","v":""},"",{"$f":" IFERROR(INDIRECT(\"'VIX Data'!H\"&MATCH(B77, 'VIX Data'!B:B,0)),\"\")","v":""},"",0,{"$f":" SUMIF('Trade Log'!AP:AP,B77, 'Trade Log'!EX:EX)","v":0},{"$f":" SUMIF('Trade Log'!AP:AP,B77, 'Trade Log'!O:O) + SUMIF('Trade Log'!AP:AP,B77, 'Trade Log'!P:P) + SUMIF('Trade Log'!AP:AP,B77, 'Trade Log'!Q:Q) + SUMIF('Trade Log'!AP:AP,B77, 'Trade Log'!R:R) + SUMIF('Trade Log'!AP:AP,B77, 'Trade Log'!S:S) + SUMIF('Trade Log'!AP:AP,B77, 'Trade Log'!T:T)","v":0},{"$f":" IF(AD77 = 0, \"\", IFERROR(INDIRECT(\"'Trade Log'!BU\"&MATCH(B77, 'Trade Log'!DY:DY)), \"\"))","v":""},null,null,null,null,null,null,null,null,null,null,null,null,null,null,null,null,null,null,null,null,null,null,1990,{"$f":" IFERROR(INDIRECT(\"'SP500 Data'!B\"&MATCH(BB77, 'SP500 Data'!A:A,0))/100,\"\")","v":-3.1E-2},0.96899999999999997]
[null,70,{"$f":" SUMIF('Trade Log'!AP:AP,B78, 'Trade Log'!BT:BT)","v":0},{"$f":" IFERROR(INDIRECT(\"'SP500 Data'!B\"&MATCH(B78, 'SP500 Data'!A:A,0))/100,\"\")","v":""},"","",{"$error":"#N/A"},"","",{"$f":" IF(AD78=0, \"\", SUMIF('Trade Log'!AP:AP,B78, 'Trade Log'!BT:BT))","v":""},{"$error":"#N/A"},"","","","","","","","",{"$f":" IFERROR(IF(AD78 = 0, \"\", IF(AB78=\"\",0,IF(IF(R78=\"\",0,(-1*(MAX(R$7:$R78)-R78)))/MAX($R$7:R78) = 0,0,IF(R78=\"\",0,(-1*(MAX(R$7:$R78)-R78)))/MAX($R$7:R78)))), \"\")","v":""},"",{"$f":" IFERROR(INDIRECT(\"'Gold Data'!H\"&MATCH(B78, 'Gold Data'!B:B,0)),\"\")","v":""},"",{"$f":" IFERROR(INDIRECT(\"'GBPUSD Data'!H\"&MATCH(B78, 'GBPUSD Data'!B:B,0)),\"\")","v":""},"",{"$f":" IFERROR(INDIRECT(\"'VIX Data'!H\"&MATCH(B78, 'VIX Data'!B:B,0)),\"\")","v":""},"",0,{"$f":" SUMIF('Trade Log'!AP:AP,B78, 'Trade Log'!EX:EX)","v":0},{"$f":" SUMIF('Trade Log'!AP:AP,B78, 'Trade Log'!O:O) + SUMIF('Trade Log'!AP:AP,B78, 'Trade Log'!P:P) + SUMIF('Trade Log'!AP:AP,B78, 'Trade Log'!Q:Q) + SUMIF('Trade Log'!AP:AP,B78, 'Trade Log'!R:R) + SUMIF('Trade Log'!AP:AP,B78, 'Trade Log'!S:S) + SUMIF('Trade Log'!AP:AP,B78, 'Trade Log'!T:T)","v":0},{"$f":" IF(AD78 = 0, \"\", IFERROR(INDIRECT(\"'Trade Log'!BU\"&MATCH(B78, 'Trade Log'!DY:DY)), \"\"))","v":""},null,null,null,null,null,null,null,null,null,null,null,null,null,null,null,null,null,null,null,null,null,null,1991,{"$f":" IFERROR(INDIRECT(\"'SP500 Data'!B\"&MATCH(BB78, 'SP500 Data'!A:A,0))/100,\"\")","v":0.30469999999999997},{"$f":" IFERROR(1 +BC78, \"\")","v":1.3047}]
[null,71,{"$f":" SUMIF('Trade Log'!AP:AP,B79, 'Trade Log'!BT:BT)","v":0},{"$f":" IFERROR(INDIRECT(\"'SP500 Data'!B\"&MATCH(B79, 'SP500 Data'!A:A,0))/100,\"\")","v":""},"","",{"$error":"#N/A"},"","",{"$f":" IF(AD79=0, \"\", SUMIF('Trade Log'!AP:AP,B79, 'Trade Log'!BT:BT))","v":""},{"$error":"#N/A"},"","","","","","","","",{"$f":" IFERROR(IF(AD79 = 0, \"\", IF(AB79=\"\",0,IF(IF(R79=\"\",0,(-1*(MAX(R$7:$R79)-R79)))/MAX($R$7:R79) = 0,0,IF(R79=\"\",0,(-1*(MAX(R$7:$R79)-R79)))/MAX($R$7:R79)))), \"\")","v":""},"",{"$f":" IFERROR(INDIRECT(\"'Gold Data'!H\"&MATCH(B79, 'Gold Data'!B:B,0)),\"\")","v":""},"",{"$f":" IFERROR(INDIRECT(\"'GBPUSD Data'!H\"&MATCH(B79, 'GBPUSD Data'!B:B,0)),\"\")","v":""},"",{"$f":" IFERROR(INDIRECT(\"'VIX Data'!H\"&MATCH(B79, 'VIX Data'!B:B,0)),\"\")","v":""},"",0,{"$f":" SUMIF('Trade Log'!AP:AP,B79, 'Trade Log'!EX:EX)","v":0},{"$f":" SUMIF('Trade Log'!AP:AP,B79, 'Trade Log'!O:O) + SUMIF('Trade Log'!AP:AP,B79, 'Trade Log'!P:P) + SUMIF('Trade Log'!AP:AP,B79, 'Trade Log'!Q:Q) + SUMIF('Trade Log'!AP:AP,B79, 'Trade Log'!R:R) + SUMIF('Trade Log'!AP:AP,B79, 'Trade Log'!S:S) + SUMIF('Trade Log'!AP:AP,B79, 'Trade Log'!T:T)","v":0},{"$f":" IF(AD79 = 0, \"\", IFERROR(INDIRECT(\"'Trade Log'!BU\"&MATCH(B79, 'Trade Log'!DY:DY)), \"\"))","v":""},null,null,null,null,null,null,null,null,null,null,null,null,null,null,null,null,null,null,null,null,null,null,1992,{"$f":" IFERROR(INDIRECT(\"'SP500 Data'!B\"&MATCH(BB79, 'SP500 Data'!A:A,0))/100,\"\")","v":7.6200000000000004E-2},1.0762]
[null,72,{"$f":" SUMIF('Trade Log'!AP:AP,B80, 'Trade Log'!BT:BT)","v":0},{"$f":" IFERROR(INDIRECT(\"'SP500 Data'!B\"&MATCH(B80, 'SP500 Data'!A:A,0))/100,\"\")","v":""},"","",{"$error":"#N/A"},"","",{"$f":" IF(AD80=0, \"\", SUMIF('Trade Log'!AP:AP,B80, 'Trade Log'!BT:BT))","v":""},{"$error":"#N/A"},"","","","","","","","",{"$f":" IFERROR(IF(AD80 = 0, \"\", IF(AB80=\"\",0,IF(IF(R80=\"\",0,(-1*(MAX(R$7:$R80)-R80)))/MAX($R$7:R80) = 0,0,IF(R80=\"\",0,(-1*(MAX(R$7:$R80)-R80)))/MAX($R$7:R80)))), \"\")","v":""},"",{"$f":" IFERROR(INDIRECT(\"'Gold Data'!H\"&MATCH(B80, 'Gold Data'!B:B,0)),\"\")","v":""},"",{"$f":" IFERROR(INDIRECT(\"'GBPUSD Data'!H\"&MATCH(B80, 'GBPUSD Data'!B:B,0)),\"\")","v":""},"",{"$f":" IFERROR(INDIRECT(\"'VIX Data'!H\"&MATCH(B80, 'VIX Data'!B:B,0)),\"\")","v":""},"",0,{"$f":" SUMIF('Trade Log'!AP:AP,B80, 'Trade Log'!EX:EX)","v":0},{"$f":" SUMIF('Trade Log'!AP:AP,B80, 'Trade Log'!O:O) + SUMIF('Trade Log'!AP:AP,B80, 'Trade Log'!P:P) + SUMIF('Trade Log'!AP:AP,B80, 'Trade Log'!Q:Q) + SUMIF('Trade Log'!AP:AP,B80, 'Trade Log'!R:R) + SUMIF('Trade Log'!AP:AP,B80, 'Trade Log'!S:S) + SUMIF('Trade Log'!AP:AP,B80, 'Trade Log'!T:T)","v":0},{"$f":" IF(AD80 = 0, \"\", IFERROR(INDIRECT(\"'Trade Log'!BU\"&MATCH(B80, 'Trade Log'!DY:DY)), \"\"))","v":""},null,null,null,null,null,null,null,null,null,null,null,null,null,null,null,null,null,null,null,null,null,null,1993,{"$f":" IFERROR(INDIRECT(\"'SP500 Data'!B\"&MATCH(BB80, 'SP500 Data'!A:A,0))/100,\"\")","v":0.1008},1.1008]
[null,73,{"$f":" SUMIF('Trade Log'!AP:AP,B81, 'Trade Log'!BT:BT)","v":0},{"$f":" IFERROR(INDIRECT(\"'SP500 Data'!B\"&MATCH(B81, 'SP500 Data'!A:A,0))/100,\"\")","v":""},"","",{"$error":"#N/A"},"","",{"$f":" IF(AD81=0, \"\", SUMIF('Trade Log'!AP:AP,B81, 'Trade Log'!BT:BT))","v":""},{"$error":"#N/A"},"","","","","","",{"$f":" IF(AD82 = 0,\"\", AE82-C82)","v":""},"",{"$f":" IFERROR(IF(AD81 = 0, \"\", IF(AB81=\"\",0,IF(IF(R81=\"\",0,(-1*(MAX(R$7:$R81)-R81)))/MAX($R$7:R81) = 0,0,IF(R81=\"\",0,(-1*(MAX(R$7:$R81)-R81)))/MAX($R$7:R81)))), \"\")","v":""},"",{"$f":" IFERROR(INDIRECT(\"'Gold Data'!H\"&MATCH(B81, 'Gold Data'!B:B,0)),\"\")","v":""},"",{"$f":" IFERROR(INDIRECT(\"'GBPUSD Data'!H\"&MATCH(B81, 'GBPUSD Data'!B:B,0)),\"\")","v":""},"",{"$f":" IFERROR(INDIRECT(\"'VIX Data'!H\"&MATCH(B81, 'VIX Data'!B:B,0)),\"\")","v":""},"",0,{"$f":" SUMIF('Trade Log'!AP:AP,B81, 'Trade Log'!EX:EX)","v":0},{"$f":" SUMIF('Trade Log'!AP:AP,B81, 'Trade Log'!O:O) + SUMIF('Trade Log'!AP:AP,B81, 'Trade Log'!P:P) + SUMIF('Trade Log'!AP:AP,B81, 'Trade Log'!Q:Q) + SUMIF('Trade Log'!AP:AP,B81, 'Trade Log'!R:R) + SUMIF('Trade Log'!AP:AP,B81, 'Trade Log'!S:S) + SUMIF('Trade Log'!AP:AP,B81, 'Trade Log'!T:T)","v":0},{"$f":" IF(AD81 = 0, \"\", IFERROR(INDIRECT(\"'Trade Log'!BU\"&MATCH(B81, 'Trade Log'!DY:DY)), \"\"))","v":""},null,null,null,null,null,null,null,null,null,null,null,null,null,null,null,null,null,null,null,null,null,null,1994,{"$f":" IFERROR(INDIRECT(\"'SP500 Data'!B\"&MATCH(BB81, 'SP500 Data'!A:A,0))/100,\"\")","v":1.32E-2},1.0132000000000001]
[null,74,{"$f":" SUMIF('Trade Log'!AP:AP,B82, 'Trade Log'!BT:BT)","v":0},{"$f":" IFERROR(INDIRECT(\"'SP500 Data'!B\"&MATCH(B82, 'SP500 Data'!A:A,0))/100,\"\")","v":""},"","",{"$error":"#N/A"},"","",{"$f":" IF(AD82=0, \"\", SUMIF('Trade Log'!AP:AP,B82, 'Trade Log'!BT:BT))","v":""},{"$error":"#N/A"},"","","","","","","","",{"$f":" IFERROR(IF(AD82 = 0, \"\", IF(AB82=\"\",0,IF(IF(R82=\"\",0,(-1*(MAX(R$7:$R82)-R82)))/MAX($R$7:R82) = 0,0,IF(R82=\"\",0,(-1*(MAX(R$7:$R82)-R82)))/MAX($R$7:R82)))), \"\")","v":""},"",{"$f":" IFERROR(INDIRECT(\"'Gold Data'!H\"&MATCH(B82, 'Gold Data'!B:B,0)),\"\")","v":""},"",{"$f":" IFERROR(INDIRECT(\"'GBPUSD Data'!H\"&MATCH(B82, 'GBPUSD Data'!B:B,0)),\"\")","v":""},"",{"$f":" IFERROR(INDIRECT(\"'VIX Data'!H\"&MATCH(B82, 'VIX Data'!B:B,0)),\"\")","v":""},"",0,{"$f":" SUMIF('Trade Log'!AP:AP,B82, 'Trade Log'!EX:EX)","v":0},{"$f":" SUMIF('Trade Log'!AP:AP,B82, 'Trade Log'!O:O) + SUMIF('Trade Log'!AP:AP,B82, 'Trade Log'!P:P) + SUMIF('Trade Log'!AP:AP,B82, 'Trade Log'!Q:Q) + SUMIF('Trade Log'!AP:AP,B82, 'Trade Log'!R:R) + SUMIF('Trade Log'!AP:AP,B82, 'Trade Log'!S:S) + SUMIF('Trade Log'!AP:AP,B82, 'Trade Log'!T:T)","v":0},{"$f":" IF(AD82 = 0, \"\", IFERROR(INDIRECT(\"'Trade Log'!BU\"&MATCH(B82, 'Trade Log'!DY:DY)), \"\"))","v":""},null,null,null,null,null,null,null,null,null,null,null,null,null,null,null,null,null,null,null,null,null,null,1995,{"$f":" IFERROR(INDIRECT(\"'SP500 Data'!B\"&MATCH(BB82, 'SP500 Data'!A:A,0))/100,\"\")","v":0.37579999999999997},1.3757999999999999]
[null,75,{"$f":" SUMIF('Trade Log'!AP:AP,B83, 'Trade Log'!BT:BT)","v":0},{"$f":" IFERROR(INDIRECT(\"'SP500 Data'!B\"&MATCH(B83, 'SP500 Data'!A:A,0))/100,\"\")","v":""},"","",{"$error":"#N/A"},"","",{"$f":" IF(AD83=0, \"\", SUMIF('Trade Log'!AP:AP,B83, 'Trade Log'!BT:BT))","v":""},{"$error":"#N/A"},"","","","","","","","",{"$f":" IFERROR(IF(AD83 = 0, \"\", IF(AB83=\"\",0,IF(IF(R83=\"\",0,(-1*(MAX(R$7:$R83)-R83)))/MAX($R$7:R83) = 0,0,IF(R83=\"\",0,(-1*(MAX(R$7:$R83)-R83)))/MAX($R$7:R83)))), \"\")","v":""},"",{"$f":" IFERROR(INDIRECT(\"'Gold Data'!H\"&MATCH(B83, 'Gold Data'!B:B,0)),\"\")","v":""},"",{"$f":" IFERROR(INDIRECT(\"'GBPUSD Data'!H\"&MATCH(B83, 'GBPUSD Data'!B:B,0)),\"\")","v":""},"",{"$f":" IFERROR(INDIRECT(\"'VIX Data'!H\"&MATCH(B83, 'VIX Data'!B:B,0)),\"\")","v":""},"",0,{"$f":" SUMIF('Trade Log'!AP:AP,B83, 'Trade Log'!EX:EX)","v":0},{"$f":" SUMIF('Trade Log'!AP:AP,B83, 'Trade Log'!O:O) + SUMIF('Trade Log'!AP:AP,B83, 'Trade Log'!P:P) + SUMIF('Trade Log'!AP:AP,B83, 'Trade Log'!Q:Q) + SUMIF('Trade Log'!AP:AP,B83, 'Trade Log'!R:R) + SUMIF('Trade Log'!AP:AP,B83, 'Trade Log'!S:S) + SUMIF('Trade Log'!AP:AP,B83, 'Trade Log'!T:T)","v":0},{"$f":" IF(AD83 = 0, \"\", IFERROR(INDIRECT(\"'Trade Log'!BU\"&MATCH(B83, 'Trade Log'!DY:DY)), \"\"))","v":""},null,null,null,null,null,null,null,null,null,null,null,null,null,null,null,null,null,null,null,null,null,null,1996,{"$f":" IFERROR(INDIRECT(\"'SP500 Data'!B\"&MATCH(BB83, 'SP500 Data'!A:A,0))/100,\"\")","v":0.2296},1.2296]
[null,76,{"$f":" SUMIF('Trade Log'!AP:AP,B84, 'Trade Log'!BT:BT)","v":0},{"$f":" IFERROR(INDIRECT(\"'SP500 Data'!B\"&MATCH(B84, 'SP500 Data'!A:A,0))/100,\"\")","v":""},"","",{"$error":"#N/A"},"","",{"$f":" IF(AD84=0, \"\", SUMIF('Trade Log'!AP:AP,B84, 'Trade Log'!BT:BT))","v":""},{"$error":"#N/A"},"","","","","","","","",{"$f":" IFERROR(IF(AD84 = 0, \"\", IF(AB84=\"\",0,IF(IF(R84=\"\",0,(-1*(MAX(R$7:$R84)-R84)))/MAX($R$7:R84) = 0,0,IF(R84=\"\",0,(-1*(MAX(R$7:$R84)-R84)))/MAX($R$7:R84)))), \"\")","v":""},"",{"$f":" IFERROR(INDIRECT(\"'Gold Data'!H\"&MATCH(B84, 'Gold Data'!B:B,0)),\"\")","v":""},"",{"$f":" IFERROR(INDIRECT(\"'GBPUSD Data'!H\"&MATCH(B84, 'GBPUSD Data'!B:B,0)),\"\")","v":""},"",{"$f":" IFERROR(INDIRECT(\"'VIX Data'!H\"&MATCH(B84, 'VIX Data'!B:B,0)),\"\")","v":""},"",0,{"$f":" SUMIF('Trade Log'!AP:AP,B84, 'Trade Log'!EX:EX)","v":0},{"$f":" SUMIF('Trade Log'!AP:AP,B84, 'Trade Log'!O:O) + SUMIF('Trade Log'!AP:AP,B84, 'Trade Log'!P:P) + SUMIF('Trade Log'!AP:AP,B84, 'Trade Log'!Q:Q) + SUMIF('Trade Log'!AP:AP,B84, 'Trade Log'!R:R) + SUMIF('Trade Log'!AP:AP,B84, 'Trade Log'!S:S) + SUMIF('Trade Log'!AP:AP,B84, 'Trade Log'!T:T)","v":0},{"$f":" IF(AD84 = 0, \"\", IFERROR(INDIRECT(\"'Trade Log'!BU\"&MATCH(B84, 'Trade Log'!DY:DY)), \"\"))","v":""},null,null,null,null,null,null,null,null,null,null,null,null,null,null,null,null,null,null,null,null,null,null,1997,{"$f":" IFERROR(INDIRECT(\"'SP500 Data'!B\"&MATCH(BB84, 'SP500 Data'!A:A,0))/100,\"\")","v":0.33360000000000001},1.3336000000000001]
[null,77,{"$f":" SUMIF('Trade Log'!AP:AP,B85, 'Trade Log'!BT:BT)","v":0},{"$f":" IFERROR(INDIRECT(\"'SP500 Data'!B\"&MATCH(B85, 'SP500 Data'!A:A,0))/100,\"\")","v":""},"","",{"$error":"#N/A"},"","",{"$f":" IF(AD85=0, \"\", SUMIF('Trade Log'!AP:AP,B85, 'Trade Log'!BT:BT))","v":""},{"$error":"#N/A"},"","","","","","","","",{"$f":" IFERROR(IF(AD85 = 0, \"\", IF(AB85=\"\",0,IF(IF(R85=\"\",0,(-1*(MAX(R$7:$R85)-R85)))/MAX($R$7:R85) = 0,0,IF(R85=\"\",0,(-1*(MAX(R$7:$R85)-R85)))/MAX($R$7:R85)))), \"\")","v":""},"",{"$f":" IFERROR(INDIRECT(\"'Gold Data'!H\"&MATCH(B85, 'Gold Data'!B:B,0)),\"\")","v":""},"",{"$f":" IFERROR(INDIRECT(\"'GBPUSD Data'!H\"&MATCH(B85, 'GBPUSD Data'!B:B,0)),\"\")","v":""},"",{"$f":" IFERROR(INDIRECT(\"'VIX Data'!H\"&MATCH(B85, 'VIX Data'!B:B,0)),\"\")","v":""},"",0,{"$f":" SUMIF('Trade Log'!AP:AP,B85, 'Trade Log'!EX:EX)","v":0},{"$f":" SUMIF('Trade Log'!AP:AP,B85, 'Trade Log'!O:O) + SUMIF('Trade Log'!AP:AP,B85, 'Trade Log'!P:P) + SUMIF('Trade Log'!AP:AP,B85, 'Trade Log'!Q:Q) + SUMIF('Trade Log'!AP:AP,B85, 'Trade Log'!R:R) + SUMIF('Trade Log'!AP:AP,B85, 'Trade Log'!S:S) + SUMIF('Trade Log'!AP:AP,B85, 'Trade Log'!T:T)","v":0},{"$f":" IF(AD85 = 0, \"\", IFERROR(INDIRECT(\"'Trade Log'!BU\"&MATCH(B85, 'Trade Log'!DY:DY)), \"\"))","v":""},null,null,null,null,null,null,null,null,null,null,null,null,null,null,null,null,null,null,null,null,null,null,1998,{"$f":" IFERROR(INDIRECT(\"'SP500 Data'!B\"&MATCH(BB85, 'SP500 Data'!A:A,0))/100,\"\")","v":0.2858},1.2858000000000001]
[null,78,{"$f":" SUMIF('Trade Log'!AP:AP,B86, 'Trade Log'!BT:BT)","v":0},{"$f":" IFERROR(INDIRECT(\"'SP500 Data'!B\"&MATCH(B86, 'SP500 Data'!A:A,0))/100,\"\")","v":""},"","",{"$error":"#N/A"},"","",{"$f":" IF(AD86=0, \"\", SUMIF('Trade Log'!AP:AP,B86, 'Trade Log'!BT:BT))","v":""},{"$error":"#N/A"},"","","","","","","","",{"$f":" IFERROR(IF(AD86 = 0, \"\", IF(AB86=\"\",0,IF(IF(R86=\"\",0,(-1*(MAX(R$7:$R86)-R86)))/MAX($R$7:R86) = 0,0,IF(R86=\"\",0,(-1*(MAX(R$7:$R86)-R86)))/MAX($R$7:R86)))), \"\")","v":""},"",{"$f":" IFERROR(INDIRECT(\"'Gold Data'!H\"&MATCH(B86, 'Gold Data'!B:B,0)),\"\")","v":""},"",{"$f":" IFERROR(INDIRECT(\"'GBPUSD Data'!H\"&MATCH(B86, 'GBPUSD Data'!B:B,0)),\"\")","v":""},"",{"$f":" IFERROR(INDIRECT(\"'VIX Data'!H\"&MATCH(B86, 'VIX Data'!B:B,0)),\"\")","v":""},"",0,{"$f":" SUMIF('Trade Log'!AP:AP,B86, 'Trade Log'!EX:EX)","v":0},{"$f":" SUMIF('Trade Log'!AP:AP,B86, 'Trade Log'!O:O) + SUMIF('Trade Log'!AP:AP,B86, 'Trade Log'!P:P) + SUMIF('Trade Log'!AP:AP,B86, 'Trade Log'!Q:Q) + SUMIF('Trade Log'!AP:AP,B86, 'Trade Log'!R:R) + SUMIF('Trade Log'!AP:AP,B86, 'Trade Log'!S:S) + SUMIF('Trade Log'!AP:AP,B86, 'Trade Log'!T:T)","v":0},{"$f":" IF(AD86 = 0, \"\", IFERROR(INDIRECT(\"'Trade Log'!BU\"&MATCH(B86, 'Trade Log'!DY:DY)), \"\"))","v":""},null,null,null,null,null,null,null,null,null,null,null,null,null,null,null,null,null,null,null,null,null,null,1999,{"$f":" IFERROR(INDIRECT(\"'SP500 Data'!B\"&MATCH(BB86, 'SP500 Data'!A:A,0))/100,\"\")","v":0.2104},1.2103999999999999]
[null,79,{"$f":" SUMIF('Trade Log'!AP:AP,B87, 'Trade Log'!BT:BT)","v":0},{"$f":" IFERROR(INDIRECT(\"'SP500 Data'!B\"&MATCH(B87, 'SP500 Data'!A:A,0))/100,\"\")","v":""},"","",{"$error":"#N/A"},"","",{"$f":" IF(AD87=0, \"\", SUMIF('Trade Log'!AP:AP,B87, 'Trade Log'!BT:BT))","v":""},{"$error":"#N/A"},"","","","","","","","",{"$f":" IFERROR(IF(AD87 = 0, \"\", IF(AB87=\"\",0,IF(IF(R87=\"\",0,(-1*(MAX(R$7:$R87)-R87)))/MAX($R$7:R87) = 0,0,IF(R87=\"\",0,(-1*(MAX(R$7:$R87)-R87)))/MAX($R$7:R87)))), \"\")","v":""},"",{"$f":" IFERROR(INDIRECT(\"'Gold Data'!H\"&MATCH(B87, 'Gold Data'!B:B,0)),\"\")","v":""},"",{"$f":" IFERROR(INDIRECT(\"'GBPUSD Data'!H\"&MATCH(B87, 'GBPUSD Data'!B:B,0)),\"\")","v":""},"",{"$f":" IFERROR(INDIRECT(\"'VIX Data'!H\"&MATCH(B87, 'VIX Data'!B:B,0)),\"\")","v":""},"",0,{"$f":" SUMIF('Trade Log'!AP:AP,B87, 'Trade Log'!EX:EX)","v":0},{"$f":" SUMIF('Trade Log'!AP:AP,B87, 'Trade Log'!O:O) + SUMIF('Trade Log'!AP:AP,B87, 'Trade Log'!P:P) + SUMIF('Trade Log'!AP:AP,B87, 'Trade Log'!Q:Q) + SUMIF('Trade Log'!AP:AP,B87, 'Trade Log'!R:R) + SUMIF('Trade Log'!AP:AP,B87, 'Trade Log'!S:S) + SUMIF('Trade Log'!AP:AP,B87, 'Trade Log'!T:T)","v":0},{"$f":" IF(AD87 = 0, \"\", IFERROR(INDIRECT(\"'Trade Log'!BU\"&MATCH(B87, 'Trade Log'!DY:DY)), \"\"))","v":""},null,null,null,null,null,null,null,null,null,null,null,null,null,null,null,null,null,null,null,null,null,null,2000,{"$f":" IFERROR(INDIRECT(\"'SP500 Data'!B\"&MATCH(BB87, 'SP500 Data'!A:A,0))/100,\"\")","v":-9.0999999999999998E-2},0.90900000000000003]
[null,80,{"$f":" SUMIF('Trade Log'!AP:AP,B88, 'Trade Log'!BT:BT)","v":0},{"$f":" IFERROR(INDIRECT(\"'SP500 Data'!B\"&MATCH(B88, 'SP500 Data'!A:A,0))/100,\"\")","v":""},"","",{"$error":"#N/A"},"","",{"$f":" IF(AD88=0, \"\", SUMIF('Trade Log'!AP:AP,B88, 'Trade Log'!BT:BT))","v":""},{"$error":"#N/A"},"","","","","","","","",{"$f":" IFERROR(IF(AD88 = 0, \"\", IF(AB88=\"\",0,IF(IF(R88=\"\",0,(-1*(MAX(R$7:$R88)-R88)))/MAX($R$7:R88) = 0,0,IF(R88=\"\",0,(-1*(MAX(R$7:$R88)-R88)))/MAX($R$7:R88)))), \"\")","v":""},"",{"$f":" IFERROR(INDIRECT(\"'Gold Data'!H\"&MATCH(B88, 'Gold Data'!B:B,0)),\"\")","v":""},"",{"$f":" IFERROR(INDIRECT(\"'GBPUSD Data'!H\"&MATCH(B88, 'GBPUSD Data'!B:B,0)),\"\")","v":""},"",{"$f":" IFERROR(INDIRECT(\"'VIX Data'!H\"&MATCH(B88, 'VIX Data'!B:B,0)),\"\")","v":""},"",0,{"$f":" SUMIF('Trade Log'!AP:AP,B88, 'Trade Log'!EX:EX)","v":0},{"$f":" SUMIF('Trade Log'!AP:AP,B88, 'Trade Log'!O:O) + SUMIF('Trade Log'!AP:AP,B88, 'Trade Log'!P:P) + SUMIF('Trade Log'!AP:AP,B88, 'Trade Log'!Q:Q) + SUMIF('Trade Log'!AP:AP,B88, 'Trade Log'!R:R) + SUMIF('Trade Log'!AP:AP,B88, 'Trade Log'!S:S) + SUMIF('Trade Log'!AP:AP,B88, 'Trade Log'!T:T)","v":0},{"$f":" IF(AD88 = 0, \"\", IFERROR(INDIRECT(\"'Trade Log'!BU\"&MATCH(B88, 'Trade Log'!DY:DY)), \"\"))","v":""},null,null,null,null,null,null,null,null,null,null,null,null,null,null,null,null,null,null,null,null,null,null,2001,{"$f":" IFERROR(INDIRECT(\"'SP500 Data'!B\"&MATCH(BB88, 'SP500 Data'!A:A,0))/100,\"\")","v":-0.11890000000000001},0.88109999999999999]
[null,81,{"$f":" SUMIF('Trade Log'!AP:AP,B89, 'Trade Log'!BT:BT)","v":0},{"$f":" IFERROR(INDIRECT(\"'SP500 Data'!B\"&MATCH(B89, 'SP500 Data'!A:A,0))/100,\"\")","v":""},"","",{"$error":"#N/A"},"","",{"$f":" IF(AD89=0, \"\", SUMIF('Trade Log'!AP:AP,B89, 'Trade Log'!BT:BT))","v":""},{"$error":"#N/A"},"","","","","","","","",{"$f":" IFERROR(IF(AD89 = 0, \"\", IF(AB89=\"\",0,IF(IF(R89=\"\",0,(-1*(MAX(R$7:$R89)-R89)))/MAX($R$7:R89) = 0,0,IF(R89=\"\",0,(-1*(MAX(R$7:$R89)-R89)))/MAX($R$7:R89)))), \"\")","v":""},"",{"$f":" IFERROR(INDIRECT(\"'Gold Data'!H\"&MATCH(B89, 'Gold Data'!B:B,0)),\"\")","v":""},"",{"$f":" IFERROR(INDIRECT(\"'GBPUSD Data'!H\"&MATCH(B89, 'GBPUSD Data'!B:B,0)),\"\")","v":""},"",{"$f":" IFERROR(INDIRECT(\"'VIX Data'!H\"&MATCH(B89, 'VIX Data'!B:B,0)),\"\")","v":""},"",0,{"$f":" SUMIF('Trade Log'!AP:AP,B89, 'Trade Log'!EX:EX)","v":0},{"$f":" SUMIF('Trade Log'!AP:AP,B89, 'Trade Log'!O:O) + SUMIF('Trade Log'!AP:AP,B89, 'Trade Log'!P:P) + SUMIF('Trade Log'!AP:AP,B89, 'Trade Log'!Q:Q) + SUMIF('Trade Log'!AP:AP,B89, 'Trade Log'!R:R) + SUMIF('Trade Log'!AP:AP,B89, 'Trade Log'!S:S) + SUMIF('Trade Log'!AP:AP,B89, 'Trade Log'!T:T)","v":0},{"$f":" IF(AD89 = 0, \"\", IFERROR(INDIRECT(\"'Trade Log'!BU\"&MATCH(B89, 'Trade Log'!DY:DY)), \"\"))","v":""},null,null,null,null,null,null,null,null,null,null,null,null,null,null,null,null,null,null,null,null,null,null,2002,{"$f":" IFERROR(INDIRECT(\"'SP500 Data'!B\"&MATCH(BB89, 'SP500 Data'!A:A,0))/100,\"\")","v":-0.221},0.77900000000000003]
[null,82,{"$f":" SUMIF('Trade Log'!AP:AP,B90, 'Trade Log'!BT:BT)","v":0},{"$f":" IFERROR(INDIRECT(\"'SP500 Data'!B\"&MATCH(B90, 'SP500 Data'!A:A,0))/100,\"\")","v":""},"","",{"$error":"#N/A"},"","",{"$f":" IF(AD90=0, \"\", SUMIF('Trade Log'!AP:AP,B90, 'Trade Log'!BT:BT))","v":""},{"$error":"#N/A"},"","","","","","","","",{"$f":" IFERROR(IF(AD90 = 0, \"\", IF(AB90=\"\",0,IF(IF(R90=\"\",0,(-1*(MAX(R$7:$R90)-R90)))/MAX($R$7:R90) = 0,0,IF(R90=\"\",0,(-1*(MAX(R$7:$R90)-R90)))/MAX($R$7:R90)))), \"\")","v":""},"",{"$f":" IFERROR(INDIRECT(\"'Gold Data'!H\"&MATCH(B90, 'Gold Data'!B:B,0)),\"\")","v":""},"",{"$f":" IFERROR(INDIRECT(\"'GBPUSD Data'!H\"&MATCH(B90, 'GBPUSD Data'!B:B,0)),\"\")","v":""},"",{"$f":" IFERROR(INDIRECT(\"'VIX Data'!H\"&MATCH(B90, 'VIX Data'!B:B,0)),\"\")","v":""},"",0,{"$f":" SUMIF('Trade Log'!AP:AP,B90, 'Trade Log'!EX:EX)","v":0},{"$f":" SUMIF('Trade Log'!AP:AP,B90, 'Trade Log'!O:O) + SUMIF('Trade Log'!AP:AP,B90, 'Trade Log'!P:P) + SUMIF('Trade Log'!AP:AP,B90, 'Trade Log'!Q:Q) + SUMIF('Trade Log'!AP:AP,B90, 'Trade Log'!R:R) + SUMIF('Trade Log'!AP:AP,B90, 'Trade Log'!S:S) + SUMIF('Trade Log'!AP:AP,B90, 'Trade Log'!T:T)","v":0},{"$f":" IF(AD90 = 0, \"\", IFERROR(INDIRECT(\"'Trade Log'!BU\"&MATCH(B90, 'Trade Log'!DY:DY)), \"\"))","v":""},null,null,null,null,null,null,null,null,null,null,null,null,null,null,null,null,null,null,null,null,null,null,2003,{"$f":" IFERROR(INDIRECT(\"'SP500 Data'!B\"&MATCH(BB90, 'SP500 Data'!A:A,0))/100,\"\")","v":0.2868},1.2867999999999999]
[null,83,{"$f":" SUMIF('Trade Log'!AP:AP,B91, 'Trade Log'!BT:BT)","v":0},{"$f":" IFERROR(INDIRECT(\"'SP500 Data'!B\"&MATCH(B91, 'SP500 Data'!A:A,0))/100,\"\")","v":""},"","",{"$error":"#N/A"},"","",{"$f":" IF(AD91=0, \"\", SUMIF('Trade Log'!AP:AP,B91, 'Trade Log'!BT:BT))","v":""},{"$error":"#N/A"},"","","","","","","","",{"$f":" IFERROR(IF(AD91 = 0, \"\", IF(AB91=\"\",0,IF(IF(R91=\"\",0,(-1*(MAX(R$7:$R91)-R91)))/MAX($R$7:R91) = 0,0,IF(R91=\"\",0,(-1*(MAX(R$7:$R91)-R91)))/MAX($R$7:R91)))), \"\")","v":""},"",{"$f":" IFERROR(INDIRECT(\"'Gold Data'!H\"&MATCH(B91, 'Gold Data'!B:B,0)),\"\")","v":""},"",{"$f":" IFERROR(INDIRECT(\"'GBPUSD Data'!H\"&MATCH(B91, 'GBPUSD Data'!B:B,0)),\"\")","v":""},"",{"$f":" IFERROR(INDIRECT(\"'VIX Data'!H\"&MATCH(B91, 'VIX Data'!B:B,0)),\"\")","v":""},"",0,{"$f":" SUMIF('Trade Log'!AP:AP,B91, 'Trade Log'!EX:EX)","v":0},{"$f":" SUMIF('Trade Log'!AP:AP,B91, 'Trade Log'!O:O) + SUMIF('Trade Log'!AP:AP,B91, 'Trade Log'!P:P) + SUMIF('Trade Log'!AP:AP,B91, 'Trade Log'!Q:Q) + SUMIF('Trade Log'!AP:AP,B91, 'Trade Log'!R:R) + SUMIF('Trade Log'!AP:AP,B91, 'Trade Log'!S:S) + SUMIF('Trade Log'!AP:AP,B91, 'Trade Log'!T:T)","v":0},{"$f":" IF(AD91 = 0, \"\", IFERROR(INDIRECT(\"'Trade Log'!BU\"&MATCH(B91, 'Trade Log'!DY:DY)), \"\"))","v":""},null,null,null,null,null,null,null,null,null,null,null,null,null,null,null,null,null,null,null,null,null,null,2004,{"$f":" IFERROR(INDIRECT(\"'SP500 Data'!B\"&MATCH(BB91, 'SP500 Data'!A:A,0))/100,\"\")","v":0.10880000000000001},1.1088]
[null,84,{"$f":" SUMIF('Trade Log'!AP:AP,B92, 'Trade Log'!BT:BT)","v":0},{"$f":" IFERROR(INDIRECT(\"'SP500 Data'!B\"&MATCH(B92, 'SP500 Data'!A:A,0))/100,\"\")","v":""},"","",{"$error":"#N/A"},"","",{"$f":" IF(AD92=0, \"\", SUMIF('Trade Log'!AP:AP,B92, 'Trade Log'!BT:BT))","v":""},{"$error":"#N/A"},"","","","","","","","",{"$f":" IFERROR(IF(AD92 = 0, \"\", IF(AB92=\"\",0,IF(IF(R92=\"\",0,(-1*(MAX(R$7:$R92)-R92)))/MAX($R$7:R92) = 0,0,IF(R92=\"\",0,(-1*(MAX(R$7:$R92)-R92)))/MAX($R$7:R92)))), \"\")","v":""},"",{"$f":" IFERROR(INDIRECT(\"'Gold Data'!H\"&MATCH(B92, 'Gold Data'!B:B,0)),\"\")","v":""},"",{"$f":" IFERROR(INDIRECT(\"'GBPUSD Data'!H\"&MATCH(B92, 'GBPUSD Data'!B:B,0)),\"\")","v":""},"",{"$f":" IFERROR(INDIRECT(\"'VIX Data'!H\"&MATCH(B92, 'VIX Data'!B:B,0)),\"\")","v":""},"",0,{"$f":" SUMIF('Trade Log'!AP:AP,B92, 'Trade Log'!EX:EX)","v":0},{"$f":" SUMIF('Trade Log'!AP:AP,B92, 'Trade Log'!O:O) + SUMIF('Trade Log'!AP:AP,B92, 'Trade Log'!P:P) + SUMIF('Trade Log'!AP:AP,B92, 'Trade Log'!Q:Q) + SUMIF('Trade Log'!AP:AP,B92, 'Trade Log'!R:R) + SUMIF('Trade Log'!AP:AP,B92, 'Trade Log'!S:S) + SUMIF('Trade Log'!AP:AP,B92, 'Trade Log'!T:T)","v":0},{"$f":" IF(AD92 = 0, \"\", IFERROR(INDIRECT(\"'Trade Log'!BU\"&MATCH(B92, 'Trade Log'!DY:DY)), \"\"))","v":""},null,null,null,null,null,null,null,null,null,null,null,null,null,null,null,null,null,null,null,null,null,null,2005,{"$f":" IFERROR(INDIRECT(\"'SP500 Data'!B\"&MATCH(BB92, 'SP500 Data'!A:A,0))/100,\"\")","v":4.9100000000000005E-2},1.0490999999999999]
[null,85,{"$f":" SUMIF('Trade Log'!AP:AP,B93, 'Trade Log'!BT:BT)","v":0},{"$f":" IFERROR(INDIRECT(\"'SP500 Data'!B\"&MATCH(B93, 'SP500 Data'!A:A,0))/100,\"\")","v":""},"","",{"$error":"#N/A"},"","",{"$f":" IF(AD93=0, \"\", SUMIF('Trade Log'!AP:AP,B93, 'Trade Log'!BT:BT))","v":""},{"$error":"#N/A"},"","","","","","","","",{"$f":" IFERROR(IF(AD93 = 0, \"\", IF(AB93=\"\",0,IF(IF(R93=\"\",0,(-1*(MAX(R$7:$R93)-R93)))/MAX($R$7:R93) = 0,0,IF(R93=\"\",0,(-1*(MAX(R$7:$R93)-R93)))/MAX($R$7:R93)))), \"\")","v":""},"",{"$f":" IFERROR(INDIRECT(\"'Gold Data'!H\"&MATCH(B93, 'Gold Data'!B:B,0)),\"\")","v":""},"",{"$f":" IFERROR(INDIRECT(\"'GBPUSD Data'!H\"&MATCH(B93, 'GBPUSD Data'!B:B,0)),\"\")","v":""},"",{"$f":" IFERROR(INDIRECT(\"'VIX Data'!H\"&MATCH(B93, 'VIX Data'!B:B,0)),\"\")","v":""},"",0,{"$f":" SUMIF('Trade Log'!AP:AP,B93, 'Trade Log'!EX:EX)","v":0},{"$f":" SUMIF('Trade Log'!AP:AP,B93, 'Trade Log'!O:O) + SUMIF('Trade Log'!AP:AP,B93, 'Trade Log'!P:P) + SUMIF('Trade Log'!AP:AP,B93, 'Trade Log'!Q:Q) + SUMIF('Trade Log'!AP:AP,B93, 'Trade Log'!R:R) + SUMIF('Trade Log'!AP:AP,B93, 'Trade Log'!S:S) + SUMIF('Trade Log'!AP:AP,B93, 'Trade Log'!T:T)","v":0},{"$f":" IF(AD93 = 0, \"\", IFERROR(INDIRECT(\"'Trade Log'!BU\"&MATCH(B93, 'Trade Log'!DY:DY)), \"\"))","v":""},null,null,null,null,null,null,null,null,null,null,null,null,null,null,null,null,null,null,null,null,null,null,2006,{"$f":" IFERROR(INDIRECT(\"'SP500 Data'!B\"&MATCH(BB93, 'SP500 Data'!A:A,0))/100,\"\")","v":0.15789999999999998},1.1578999999999999]
[null,86,{"$f":" SUMIF('Trade Log'!AP:AP,B94, 'Trade Log'!BT:BT)","v":0},{"$f":" IFERROR(INDIRECT(\"'SP500 Data'!B\"&MATCH(B94, 'SP500 Data'!A:A,0))/100,\"\")","v":""},"","",{"$error":"#N/A"},"","",{"$f":" IF(AD94=0, \"\", SUMIF('Trade Log'!AP:AP,B94, 'Trade Log'!BT:BT))","v":""},{"$error":"#N/A"},"","","","","","","","",{"$f":" IFERROR(IF(AD94 = 0, \"\", IF(AB94=\"\",0,IF(IF(R94=\"\",0,(-1*(MAX(R$7:$R94)-R94)))/MAX($R$7:R94) = 0,0,IF(R94=\"\",0,(-1*(MAX(R$7:$R94)-R94)))/MAX($R$7:R94)))), \"\")","v":""},"",{"$f":" IFERROR(INDIRECT(\"'Gold Data'!H\"&MATCH(B94, 'Gold Data'!B:B,0)),\"\")","v":""},"",{"$f":" IFERROR(INDIRECT(\"'GBPUSD Data'!H\"&MATCH(B94, 'GBPUSD Data'!B:B,0)),\"\")","v":""},"",{"$f":" IFERROR(INDIRECT(\"'VIX Data'!H\"&MATCH(B94, 'VIX Data'!B:B,0)),\"\")","v":""},"",0,{"$f":" SUMIF('Trade Log'!AP:AP,B94, 'Trade Log'!EX:EX)","v":0},{"$f":" SUMIF('Trade Log'!AP:AP,B94, 'Trade Log'!O:O) + SUMIF('Trade Log'!AP:AP,B94, 'Trade Log'!P:P) + SUMIF('Trade Log'!AP:AP,B94, 'Trade Log'!Q:Q) + SUMIF('Trade Log'!AP:AP,B94, 'Trade Log'!R:R) + SUMIF('Trade Log'!AP:AP,B94, 'Trade Log'!S:S) + SUMIF('Trade Log'!AP:AP,B94, 'Trade Log'!T:T)","v":0},{"$f":" IF(AD94 = 0, \"\", IFERROR(INDIRECT(\"'Trade Log'!BU\"&MATCH(B94, 'Trade Log'!DY:DY)), \"\"))","v":""},null,null,null,null,null,null,null,null,null,null,null,null,null,null,null,null,null,null,null,null,null,null,2007,{"$f":" IFERROR(INDIRECT(\"'SP500 Data'!B\"&MATCH(BB94, 'SP500 Data'!A:A,0))/100,\"\")","v":5.4900000000000004E-2},1.0548999999999999]
[null,87,{"$f":" SUMIF('Trade Log'!AP:AP,B95, 'Trade Log'!BT:BT)","v":0},{"$f":" IFERROR(INDIRECT(\"'SP500 Data'!B\"&MATCH(B95, 'SP500 Data'!A:A,0))/100,\"\")","v":""},"","",{"$error":"#N/A"},"","",{"$f":" IF(AD95=0, \"\", SUMIF('Trade Log'!AP:AP,B95, 'Trade Log'!BT:BT))","v":""},{"$error":"#N/A"},"","","","","","","","",{"$f":" IFERROR(IF(AD95 = 0, \"\", IF(AB95=\"\",0,IF(IF(R95=\"\",0,(-1*(MAX(R$7:$R95)-R95)))/MAX($R$7:R95) = 0,0,IF(R95=\"\",0,(-1*(MAX(R$7:$R95)-R95)))/MAX($R$7:R95)))), \"\")","v":""},"",{"$f":" IFERROR(INDIRECT(\"'Gold Data'!H\"&MATCH(B95, 'Gold Data'!B:B,0)),\"\")","v":""},"",{"$f":" IFERROR(INDIRECT(\"'GBPUSD Data'!H\"&MATCH(B95, 'GBPUSD Data'!B:B,0)),\"\")","v":""},"",{"$f":" IFERROR(INDIRECT(\"'VIX Data'!H\"&MATCH(B95, 'VIX Data'!B:B,0)),\"\")","v":""},"",0,{"$f":" SUMIF('Trade Log'!AP:AP,B95, 'Trade Log'!EX:EX)","v":0},{"$f":" SUMIF('Trade Log'!AP:AP,B95, 'Trade Log'!O:O) + SUMIF('Trade Log'!AP:AP,B95, 'Trade Log'!P:P) + SUMIF('Trade Log'!AP:AP,B95, 'Trade Log'!Q:Q) + SUMIF('Trade Log'!AP:AP,B95, 'Trade Log'!R:R) + SUMIF('Trade Log'!AP:AP,B95, 'Trade Log'!S:S) + SUMIF('Trade Log'!AP:AP,B95, 'Trade Log'!T:T)","v":0},{"$f":" IF(AD95 = 0, \"\", IFERROR(INDIRECT(\"'Trade Log'!BU\"&MATCH(B95, 'Trade Log'!DY:DY)), \"\"))","v":""},null,null,null,null,null,null,null,null,null,null,null,null,null,null,null,null,null,null,null,null,null,null,2008,{"$f":" IFERROR(INDIRECT(\"'SP500 Data'!B\"&MATCH(BB95, 'SP500 Data'!A:A,0))/100,\"\")","v":-0.37},0.63]
[null,88,{"$f":" SUMIF('Trade Log'!AP:AP,B96, 'Trade Log'!BT:BT)","v":0},{"$f":" IFERROR(INDIRECT(\"'SP500 Data'!B\"&MATCH(B96, 'SP500 Data'!A:A,0))/100,\"\")","v":""},"","",{"$error":"#N/A"},"","",{"$f":" IF(AD96=0, \"\", SUMIF('Trade Log'!AP:AP,B96, 'Trade Log'!BT:BT))","v":""},{"$error":"#N/A"},"","","","","","","","",{"$f":" IFERROR(IF(AD96 = 0, \"\", IF(AB96=\"\",0,IF(IF(R96=\"\",0,(-1*(MAX(R$7:$R96)-R96)))/MAX($R$7:R96) = 0,0,IF(R96=\"\",0,(-1*(MAX(R$7:$R96)-R96)))/MAX($R$7:R96)))), \"\")","v":""},"",{"$f":" IFERROR(INDIRECT(\"'Gold Data'!H\"&MATCH(B96, 'Gold Data'!B:B,0)),\"\")","v":""},"",{"$f":" IFERROR(INDIRECT(\"'GBPUSD Data'!H\"&MATCH(B96, 'GBPUSD Data'!B:B,0)),\"\")","v":""},"",{"$f":" IFERROR(INDIRECT(\"'VIX Data'!H\"&MATCH(B96, 'VIX Data'!B:B,0)),\"\")","v":""},"",0,{"$f":" SUMIF('Trade Log'!AP:AP,B96, 'Trade Log'!EX:EX)","v":0},{"$f":" SUMIF('Trade Log'!AP:AP,B96, 'Trade Log'!O:O) + SUMIF('Trade Log'!AP:AP,B96, 'Trade Log'!P:P) + SUMIF('Trade Log'!AP:AP,B96, 'Trade Log'!Q:Q) + SUMIF('Trade Log'!AP:AP,B96, 'Trade Log'!R:R) + SUMIF('Trade Log'!AP:AP,B96, 'Trade Log'!S:S) + SUMIF('Trade Log'!AP:AP,B96, 'Trade Log'!T:T)","v":0},{"$f":" IF(AD96 = 0, \"\", IFERROR(INDIRECT(\"'Trade Log'!BU\"&MATCH(B96, 'Trade Log'!DY:DY)), \"\"))","v":""},null,null,null,null,null,null,null,null,null,null,null,null,null,null,null,null,null,null,null,null,null,null,2009,{"$f":" IFERROR(INDIRECT(\"'SP500 Data'!B\"&MATCH(BB96, 'SP500 Data'!A:A,0))/100,\"\")","v":0.2646},1.2645999999999999]
[null,89,{"$f":" SUMIF('Trade Log'!AP:AP,B97, 'Trade Log'!BT:BT)","v":0},{"$f":" IFERROR(INDIRECT(\"'SP500 Data'!B\"&MATCH(B97, 'SP500 Data'!A:A,0))/100,\"\")","v":""},"","",{"$error":"#N/A"},"","",{"$f":" IF(AD97=0, \"\", SUMIF('Trade Log'!AP:AP,B97, 'Trade Log'!BT:BT))","v":""},{"$error":"#N/A"},"","","","","","","","",{"$f":" IFERROR(IF(AD97 = 0, \"\", IF(AB97=\"\",0,IF(IF(R97=\"\",0,(-1*(MAX(R$7:$R97)-R97)))/MAX($R$7:R97) = 0,0,IF(R97=\"\",0,(-1*(MAX(R$7:$R97)-R97)))/MAX($R$7:R97)))), \"\")","v":""},"",{"$f":" IFERROR(INDIRECT(\"'Gold Data'!H\"&MATCH(B97, 'Gold Data'!B:B,0)),\"\")","v":""},"",{"$f":" IFERROR(INDIRECT(\"'GBPUSD Data'!H\"&MATCH(B97, 'GBPUSD Data'!B:B,0)),\"\")","v":""},"",{"$f":" IFERROR(INDIRECT(\"'VIX Data'!H\"&MATCH(B97, 'VIX Data'!B:B,0)),\"\")","v":""},"",0,{"$f":" SUMIF('Trade Log'!AP:AP,B97, 'Trade Log'!EX:EX)","v":0},{"$f":" SUMIF('Trade Log'!AP:AP,B97, 'Trade Log'!O:O) + SUMIF('Trade Log'!AP:AP,B97, 'Trade Log'!P:P) + SUMIF('Trade Log'!AP:AP,B97, 'Trade Log'!Q:Q) + SUMIF('Trade Log'!AP:AP,B97, 'Trade Log'!R:R) + SUMIF('Trade Log'!AP:AP,B97, 'Trade Log'!S:S) + SUMIF('Trade Log'!AP:AP,B97, 'Trade Log'!T:T)","v":0},{"$f":" IF(AD97 = 0, \"\", IFERROR(INDIRECT(\"'Trade Log'!BU\"&MATCH(B97, 'Trade Log'!DY:DY)), \"\"))","v":""},null,null,null,null,null,null,null,null,null,null,null,null,null,null,null,null,null,null,null,null,null,null,2010,{"$f":" IFERROR(INDIRECT(\"'SP500 Data'!B\"&MATCH(BB97, 'SP500 Data'!A:A,0))/100,\"\")","v":0.15060000000000001},1.1506000000000001]
[null,90,{"$f":" SUMIF('Trade Log'!AP:AP,B98, 'Trade Log'!BT:BT)","v":0},{"$f":" IFERROR(INDIRECT(\"'SP500 Data'!B\"&MATCH(B98, 'SP500 Data'!A:A,0))/100,\"\")","v":""},"","",{"$error":"#N/A"},"","",{"$f":" IF(AD98=0, \"\", SUMIF('Trade Log'!AP:AP,B98, 'Trade Log'!BT:BT))","v":""},{"$error":"#N/A"},"","","","","","","","",{"$f":" IFERROR(IF(AD98 = 0, \"\", IF(AB98=\"\",0,IF(IF(R98=\"\",0,(-1*(MAX(R$7:$R98)-R98)))/MAX($R$7:R98) = 0,0,IF(R98=\"\",0,(-1*(MAX(R$7:$R98)-R98)))/MAX($R$7:R98)))), \"\")","v":""},"",{"$f":" IFERROR(INDIRECT(\"'Gold Data'!H\"&MATCH(B98, 'Gold Data'!B:B,0)),\"\")","v":""},"",{"$f":" IFERROR(INDIRECT(\"'GBPUSD Data'!H\"&MATCH(B98, 'GBPUSD Data'!B:B,0)),\"\")","v":""},"",{"$f":" IFERROR(INDIRECT(\"'VIX Data'!H\"&MATCH(B98, 'VIX Data'!B:B,0)),\"\")","v":""},"",0,{"$f":" SUMIF('Trade Log'!AP:AP,B98, 'Trade Log'!EX:EX)","v":0},{"$f":" SUMIF('Trade Log'!AP:AP,B98, 'Trade Log'!O:O) + SUMIF('Trade Log'!AP:AP,B98, 'Trade Log'!P:P) + SUMIF('Trade Log'!AP:AP,B98, 'Trade Log'!Q:Q) + SUMIF('Trade Log'!AP:AP,B98, 'Trade Log'!R:R) + SUMIF('Trade Log'!AP:AP,B98, 'Trade Log'!S:S) + SUMIF('Trade Log'!AP:AP,B98, 'Trade Log'!T:T)","v":0},{"$f":" IF(AD98 = 0, \"\", IFERROR(INDIRECT(\"'Trade Log'!BU\"&MATCH(B98, 'Trade Log'!DY:DY)), \"\"))","v":""},null,null,null,null,null,null,null,null,null,null,null,null,null,null,null,null,null,null,null,null,null,null,2011,{"$f":" IFERROR(INDIRECT(\"'SP500 Data'!B\"&MATCH(BB98, 'SP500 Data'!A:A,0))/100,\"\")","v":2.1099999999999997E-2},1.0210999999999999]
[null,91,{"$f":" SUMIF('Trade Log'!AP:AP,B99, 'Trade Log'!BT:BT)","v":0},{"$f":" IFERROR(INDIRECT(\"'SP500 Data'!B\"&MATCH(B99, 'SP500 Data'!A:A,0))/100,\"\")","v":""},"","",{"$error":"#N/A"},"","",{"$f":" IF(AD99=0, \"\", SUMIF('Trade Log'!AP:AP,B99, 'Trade Log'!BT:BT))","v":""},{"$error":"#N/A"},"","","","","","","","",{"$f":" IFERROR(IF(AD99 = 0, \"\", IF(AB99=\"\",0,IF(IF(R99=\"\",0,(-1*(MAX(R$7:$R99)-R99)))/MAX($R$7:R99) = 0,0,IF(R99=\"\",0,(-1*(MAX(R$7:$R99)-R99)))/MAX($R$7:R99)))), \"\")","v":""},"",{"$f":" IFERROR(INDIRECT(\"'Gold Data'!H\"&MATCH(B99, 'Gold Data'!B:B,0)),\"\")","v":""},"",{"$f":" IFERROR(INDIRECT(\"'GBPUSD Data'!H\"&MATCH(B99, 'GBPUSD Data'!B:B,0)),\"\")","v":""},"",{"$f":" IFERROR(INDIRECT(\"'VIX Data'!H\"&MATCH(B99, 'VIX Data'!B:B,0)),\"\")","v":""},"",0,{"$f":" SUMIF('Trade Log'!AP:AP,B99, 'Trade Log'!EX:EX)","v":0},{"$f":" SUMIF('Trade Log'!AP:AP,B99, 'Trade Log'!O:O) + SUMIF('Trade Log'!AP:AP,B99, 'Trade Log'!P:P) + SUMIF('Trade Log'!AP:AP,B99, 'Trade Log'!Q:Q) + SUMIF('Trade Log'!AP:AP,B99, 'Trade Log'!R:R) + SUMIF('Trade Log'!AP:AP,B99, 'Trade Log'!S:S) + SUMIF('Trade Log'!AP:AP,B99, 'Trade Log'!T:T)","v":0},{"$f":" IF(AD99 = 0, \"\", IFERROR(INDIRECT(\"'Trade Log'!BU\"&MATCH(B99, 'Trade Log'!DY:DY)), \"\"))","v":""},null,null,null,null,null,null,null,null,null,null,null,null,null,null,null,null,null,null,null,null,null,null,2012,{"$f":" IFERROR(INDIRECT(\"'SP500 Data'!B\"&MATCH(BB99, 'SP500 Data'!A:A,0))/100,\"\")","v":0.16},1.1599999999999999]
[null,92,{"$f":" SUMIF('Trade Log'!AP:AP,B100, 'Trade Log'!BT:BT)","v":0},{"$f":" IFERROR(INDIRECT(\"'SP500 Data'!B\"&MATCH(B100, 'SP500 Data'!A:A,0))/100,\"\")","v":""},"","",{"$error":"#N/A"},"","",{"$f":" IF(AD100=0, \"\", SUMIF('Trade Log'!AP:AP,B100, 'Trade Log'!BT:BT))","v":""},{"$error":"#N/A"},"","","","","","","","",{"$f":" IFERROR(IF(AD100 = 0, \"\", IF(AB100=\"\",0,IF(IF(R100=\"\",0,(-1*(MAX(R$7:$R100)-R100)))/MAX($R$7:R100) = 0,0,IF(R100=\"\",0,(-1*(MAX(R$7:$R100)-R100)))/MAX($R$7:R100)))), \"\")","v":""},"",{"$f":" IFERROR(INDIRECT(\"'Gold Data'!H\"&MATCH(B100, 'Gold Data'!B:B,0)),\"\")","v":""},"",{"$f":" IFERROR(INDIRECT(\"'GBPUSD Data'!H\"&MATCH(B100, 'GBPUSD Data'!B:B,0)),\"\")","v":""},"",{"$f":" IFERROR(INDIRECT(\"'VIX Data'!H\"&MATCH(B100, 'VIX Data'!B:B,0)),\"\")","v":""},"",0,{"$f":" SUMIF('Trade Log'!AP:AP,B100, 'Trade Log'!EX:EX)","v":0},{"$f":" SUMIF('Trade Log'!AP:AP,B100, 'Trade Log'!O:O) + SUMIF('Trade Log'!AP:AP,B100, 'Trade Log'!P:P) + SUMIF('Trade Log'!AP:AP,B100, 'Trade Log'!Q:Q) + SUMIF('Trade Log'!AP:AP,B100, 'Trade Log'!R:R) + SUMIF('Trade Log'!AP:AP,B100, 'Trade Log'!S:S) + SUMIF('Trade Log'!AP:AP,B100, 'Trade Log'!T:T)","v":0},{"$f":" IF(AD100 = 0, \"\", IFERROR(INDIRECT(\"'Trade Log'!BU\"&MATCH(B100, 'Trade Log'!DY:DY)), \"\"))","v":""},null,null,null,null,null,null,null,null,null,null,null,null,null,null,null,null,null,null,null,null,null,null,2013,{"$f":" IFERROR(INDIRECT(\"'SP500 Data'!B\"&MATCH(BB100, 'SP500 Data'!A:A,0))/100,\"\")","v":0.32390000000000002},1.3239000000000001]
[null,93,{"$f":" SUMIF('Trade Log'!AP:AP,B101, 'Trade Log'!BT:BT)","v":0},{"$f":" IFERROR(INDIRECT(\"'SP500 Data'!B\"&MATCH(B101, 'SP500 Data'!A:A,0))/100,\"\")","v":""},"","",{"$error":"#N/A"},"","",{"$f":" IF(AD101=0, \"\", SUMIF('Trade Log'!AP:AP,B101, 'Trade Log'!BT:BT))","v":""},{"$error":"#N/A"},"","","","","","","","",{"$f":" IFERROR(IF(AD101 = 0, \"\", IF(AB101=\"\",0,IF(IF(R101=\"\",0,(-1*(MAX(R$7:$R101)-R101)))/MAX($R$7:R101) = 0,0,IF(R101=\"\",0,(-1*(MAX(R$7:$R101)-R101)))/MAX($R$7:R101)))), \"\")","v":""},"",{"$f":" IFERROR(INDIRECT(\"'Gold Data'!H\"&MATCH(B101, 'Gold Data'!B:B,0)),\"\")","v":""},"",{"$f":" IFERROR(INDIRECT(\"'GBPUSD Data'!H\"&MATCH(B101, 'GBPUSD Data'!B:B,0)),\"\")","v":""},"",{"$f":" IFERROR(INDIRECT(\"'VIX Data'!H\"&MATCH(B101, 'VIX Data'!B:B,0)),\"\")","v":""},"",0,{"$f":" SUMIF('Trade Log'!AP:AP,B101, 'Trade Log'!EX:EX)","v":0},{"$f":" SUMIF('Trade Log'!AP:AP,B101, 'Trade Log'!O:O) + SUMIF('Trade Log'!AP:AP,B101, 'Trade Log'!P:P) + SUMIF('Trade Log'!AP:AP,B101, 'Trade Log'!Q:Q) + SUMIF('Trade Log'!AP:AP,B101, 'Trade Log'!R:R) + SUMIF('Trade Log'!AP:AP,B101, 'Trade Log'!S:S) + SUMIF('Trade Log'!AP:AP,B101, 'Trade Log'!T:T)","v":0},{"$f":" IF(AD101 = 0, \"\", IFERROR(INDIRECT(\"'Trade Log'!BU\"&MATCH(B101, 'Trade Log'!DY:DY)), \"\"))","v":""},null,null,null,null,null,null,null,null,null,null,null,null,null,null,null,null,null,null,null,null,null,null,2014,{"$f":" IFERROR(INDIRECT(\"'SP500 Data'!B\"&MATCH(BB101, 'SP500 Data'!A:A,0))/100,\"\")","v":0.13689999999999999},1.1369]
[null,94,{"$f":" SUMIF('Trade Log'!AP:AP,B102, 'Trade Log'!BT:BT)","v":0},{"$f":" IFERROR(INDIRECT(\"'SP500 Data'!B\"&MATCH(B102, 'SP500 Data'!A:A,0))/100,\"\")","v":""},"","",{"$error":"#N/A"},"","",{"$f":" IF(AD102=0, \"\", SUMIF('Trade Log'!AP:AP,B102, 'Trade Log'!BT:BT))","v":""},{"$error":"#N/A"},"","","","","","","","",{"$f":" IFERROR(IF(AD102 = 0, \"\", IF(AB102=\"\",0,IF(IF(R102=\"\",0,(-1*(MAX(R$7:$R102)-R102)))/MAX($R$7:R102) = 0,0,IF(R102=\"\",0,(-1*(MAX(R$7:$R102)-R102)))/MAX($R$7:R102)))), \"\")","v":""},"",{"$f":" IFERROR(INDIRECT(\"'Gold Data'!H\"&MATCH(B102, 'Gold Data'!B:B,0)),\"\")","v":""},"",{"$f":" IFERROR(INDIRECT(\"'GBPUSD Data'!H\"&MATCH(B102, 'GBPUSD Data'!B:B,0)),\"\")","v":""},"",{"$f":" IFERROR(INDIRECT(\"'VIX Data'!H\"&MATCH(B102, 'VIX Data'!B:B,0)),\"\")","v":""},"",0,{"$f":" SUMIF('Trade Log'!AP:AP,B102, 'Trade Log'!EX:EX)","v":0},{"$f":" SUMIF('Trade Log'!AP:AP,B102, 'Trade Log'!O:O) + SUMIF('Trade Log'!AP:AP,B102, 'Trade Log'!P:P) + SUMIF('Trade Log'!AP:AP,B102, 'Trade Log'!Q:Q) + SUMIF('Trade Log'!AP:AP,B102, 'Trade Log'!R:R) + SUMIF('Trade Log'!AP:AP,B102, 'Trade Log'!S:S) + SUMIF('Trade Log'!AP:AP,B102, 'Trade Log'!T:T)","v":0},{"$f":" IF(AD102 = 0, \"\", IFERROR(INDIRECT(\"'Trade Log'!BU\"&MATCH(B102, 'Trade Log'!DY:DY)), \"\"))","v":""},null,null,null,null,null,null,null,null,null,null,null,null,null,null,null,null,null,null,null,null,null,null,2015,{"$f":" IFERROR(INDIRECT(\"'SP500 Data'!B\"&MATCH(BB102, 'SP500 Data'!A:A,0))/100,\"\")","v":1.38E-2},1.0138]
[null,95,{"$f":" SUMIF('Trade Log'!AP:AP,B103, 'Trade Log'!BT:BT)","v":0},{"$f":" IFERROR(INDIRECT(\"'SP500 Data'!B\"&MATCH(B103, 'SP500 Data'!A:A,0))/100,\"\")","v":""},"","",{"$error":"#N/A"},"","",{"$f":" IF(AD103=0, \"\", SUMIF('Trade Log'!AP:AP,B103, 'Trade Log'!BT:BT))","v":""},{"$error":"#N/A"},"","","","","","","","",{"$f":" IFERROR(IF(AD103 = 0, \"\", IF(AB103=\"\",0,IF(IF(R103=\"\",0,(-1*(MAX(R$7:$R103)-R103)))/MAX($R$7:R103) = 0,0,IF(R103=\"\",0,(-1*(MAX(R$7:$R103)-R103)))/MAX($R$7:R103)))), \"\")","v":""},"",{"$f":" IFERROR(INDIRECT(\"'Gold Data'!H\"&MATCH(B103, 'Gold Data'!B:B,0)),\"\")","v":""},"",{"$f":" IFERROR(INDIRECT(\"'GBPUSD Data'!H\"&MATCH(B103, 'GBPUSD Data'!B:B,0)),\"\")","v":""},"",{"$f":" IFERROR(INDIRECT(\"'VIX Data'!H\"&MATCH(B103, 'VIX Data'!B:B,0)),\"\")","v":""},"",0,{"$f":" SUMIF('Trade Log'!AP:AP,B103, 'Trade Log'!EX:EX)","v":0},{"$f":" SUMIF('Trade Log'!AP:AP,B103, 'Trade Log'!O:O) + SUMIF('Trade Log'!AP:AP,B103, 'Trade Log'!P:P) + SUMIF('Trade Log'!AP:AP,B103, 'Trade Log'!Q:Q) + SUMIF('Trade Log'!AP:AP,B103, 'Trade Log'!R:R) + SUMIF('Trade Log'!AP:AP,B103, 'Trade Log'!S:S) + SUMIF('Trade Log'!AP:AP,B103, 'Trade Log'!T:T)","v":0},{"$f":" IF(AD103 = 0, \"\", IFERROR(INDIRECT(\"'Trade Log'!BU\"&MATCH(B103, 'Trade Log'!DY:DY)), \"\"))","v":""},null,null,null,null,null,null,null,null,null,null,null,null,null,null,null,null,null,null,null,null,null,null,2016,{"$f":" IFERROR(INDIRECT(\"'SP500 Data'!B\"&MATCH(BB103, 'SP500 Data'!A:A,0))/100,\"\")","v":0.11960000000000001},1.1195999999999999]
[null,96,{"$f":" SUMIF('Trade Log'!AP:AP,B104, 'Trade Log'!BT:BT)","v":0},{"$f":" IFERROR(INDIRECT(\"'SP500 Data'!B\"&MATCH(B104, 'SP500 Data'!A:A,0))/100,\"\")","v":""},"","",{"$error":"#N/A"},"","",{"$f":" IF(AD104=0, \"\", SUMIF('Trade Log'!AP:AP,B104, 'Trade Log'!BT:BT))","v":""},{"$error":"#N/A"},"","","","","","","","",{"$f":" IFERROR(IF(AD104 = 0, \"\", IF(AB104=\"\",0,IF(IF(R104=\"\",0,(-1*(MAX(R$7:$R104)-R104)))/MAX($R$7:R104) = 0,0,IF(R104=\"\",0,(-1*(MAX(R$7:$R104)-R104)))/MAX($R$7:R104)))), \"\")","v":""},"",{"$f":" IFERROR(INDIRECT(\"'Gold Data'!H\"&MATCH(B104, 'Gold Data'!B:B,0)),\"\")","v":""},"",{"$f":" IFERROR(INDIRECT(\"'GBPUSD Data'!H\"&MATCH(B104, 'GBPUSD Data'!B:B,0)),\"\")","v":""},"",{"$f":" IFERROR(INDIRECT(\"'VIX Data'!H\"&MATCH(B104, 'VIX Data'!B:B,0)),\"\")","v":""},"",0,{"$f":" SUMIF('Trade Log'!AP:AP,B104, 'Trade Log'!EX:EX)","v":0},{"$f":" SUMIF('Trade Log'!AP:AP,B104, 'Trade Log'!O:O) + SUMIF('Trade Log'!AP:AP,B104, 'Trade Log'!P:P) + SUMIF('Trade Log'!AP:AP,B104, 'Trade Log'!Q:Q) + SUMIF('Trade Log'!AP:AP,B104, 'Trade Log'!R:R) + SUMIF('Trade Log'!AP:AP,B104, 'Trade Log'!S:S) + SUMIF('Trade Log'!AP:AP,B104, 'Trade Log'!T:T)","v":0},{"$f":" IF(AD104 = 0, \"\", IFERROR(INDIRECT(\"'Trade Log'!BU\"&MATCH(B104, 'Trade Log'!DY:DY)), \"\"))","v":""},null,null,null,null,null,null,null,null,null,null,null,null,null,null,null,null,null,null,null,null,null,null,2017,{"$f":" IFERROR(INDIRECT(\"'SP500 Data'!B\"&MATCH(BB104, 'SP500 Data'!A:A,0))/100,\"\")","v":0.21829999999999999},1.2182999999999999]
[null,97,{"$f":" SUMIF('Trade Log'!AP:AP,B105, 'Trade Log'!BT:BT)","v":0},{"$f":" IFERROR(INDIRECT(\"'SP500 Data'!B\"&MATCH(B105, 'SP500 Data'!A:A,0))/100,\"\")","v":""},"","",{"$error":"#N/A"},"","",{"$f":" IF(AD105=0, \"\", SUMIF('Trade Log'!AP:AP,B105, 'Trade Log'!BT:BT))","v":""},{"$error":"#N/A"},"","","","","","","","",{"$f":" IFERROR(IF(AD105 = 0, \"\", IF(AB105=\"\",0,IF(IF(R105=\"\",0,(-1*(MAX(R$7:$R105)-R105)))/MAX($R$7:R105) = 0,0,IF(R105=\"\",0,(-1*(MAX(R$7:$R105)-R105)))/MAX($R$7:R105)))), \"\")","v":""},"",{"$f":" IFERROR(INDIRECT(\"'Gold Data'!H\"&MATCH(B105, 'Gold Data'!B:B,0)),\"\")","v":""},"",{"$f":" IFERROR(INDIRECT(\"'GBPUSD Data'!H\"&MATCH(B105, 'GBPUSD Data'!B:B,0)),\"\")","v":""},"",{"$f":" IFERROR(INDIRECT(\"'VIX Data'!H\"&MATCH(B105, 'VIX Data'!B:B,0)),\"\")","v":""},"",0,{"$f":" SUMIF('Trade Log'!AP:AP,B105, 'Trade Log'!EX:EX)","v":0},{"$f":" SUMIF('Trade Log'!AP:AP,B105, 'Trade Log'!O:O) + SUMIF('Trade Log'!AP:AP,B105, 'Trade Log'!P:P) + SUMIF('Trade Log'!AP:AP,B105, 'Trade Log'!Q:Q) + SUMIF('Trade Log'!AP:AP,B105, 'Trade Log'!R:R) + SUMIF('Trade Log'!AP:AP,B105, 'Trade Log'!S:S) + SUMIF('Trade Log'!AP:AP,B105, 'Trade Log'!T:T)","v":0},{"$f":" IF(AD105 = 0, \"\", IFERROR(INDIRECT(\"'Trade Log'!BU\"&MATCH(B105, 'Trade Log'!DY:DY)), \"\"))","v":""},null,null,null,null,null,null,null,null,null,null,null,null,null,null,null,null,null,null,null,null,null,null,2018,{"$f":" IFERROR(INDIRECT(\"'SP500 Data'!B\"&MATCH(BB105, 'SP500 Data'!A:A,0))/100,\"\")","v":-4.3799999999999999E-2},0.95620000000000005]
[null,98,{"$f":" SUMIF('Trade Log'!AP:AP,B106, 'Trade Log'!BT:BT)","v":0},{"$f":" IFERROR(INDIRECT(\"'SP500 Data'!B\"&MATCH(B106, 'SP500 Data'!A:A,0))/100,\"\")","v":""},"","",{"$error":"#N/A"},"","",{"$f":" IF(AD106=0, \"\", SUMIF('Trade Log'!AP:AP,B106, 'Trade Log'!BT:BT))","v":""},{"$error":"#N/A"},"","","","","","","","",{"$f":" IFERROR(IF(AD106 = 0, \"\", IF(AB106=\"\",0,IF(IF(R106=\"\",0,(-1*(MAX(R$7:$R106)-R106)))/MAX($R$7:R106) = 0,0,IF(R106=\"\",0,(-1*(MAX(R$7:$R106)-R106)))/MAX($R$7:R106)))), \"\")","v":""},"",{"$f":" IFERROR(INDIRECT(\"'Gold Data'!H\"&MATCH(B106, 'Gold Data'!B:B,0)),\"\")","v":""},"",{"$f":" IFERROR(INDIRECT(\"'GBPUSD Data'!H\"&MATCH(B106, 'GBPUSD Data'!B:B,0)),\"\")","v":""},"",{"$f":" IFERROR(INDIRECT(\"'VIX Data'!H\"&MATCH(B106, 'VIX Data'!B:B,0)),\"\")","v":""},"",0,{"$f":" SUMIF('Trade Log'!AP:AP,B106, 'Trade Log'!EX:EX)","v":0},{"$f":" SUMIF('Trade Log'!AP:AP,B106, 'Trade Log'!O:O) + SUMIF('Trade Log'!AP:AP,B106, 'Trade Log'!P:P) + SUMIF('Trade Log'!AP:AP,B106, 'Trade Log'!Q:Q) + SUMIF('Trade Log'!AP:AP,B106, 'Trade Log'!R:R) + SUMIF('Trade Log'!AP:AP,B106, 'Trade Log'!S:S) + SUMIF('Trade Log'!AP:AP,B106, 'Trade Log'!T:T)","v":0},{"$f":" IF(AD106 = 0, \"\", IFERROR(INDIRECT(\"'Trade Log'!BU\"&MATCH(B106, 'Trade Log'!DY:DY)), \"\"))","v":""},null,null,null,null,null,null,null,null,null,null,null,null,null,null,null,null,null,null,null,null,null,null,2019,{"$f":" IFERROR(INDIRECT(\"'SP500 Data'!B\"&MATCH(BB106, 'SP500 Data'!A:A,0))/100,\"\")","v":0.31489999999999996},1.3149]
[null,99,{"$f":" SUMIF('Trade Log'!AP:AP,B107, 'Trade Log'!BT:BT)","v":0},{"$f":" IFERROR(INDIRECT(\"'SP500 Data'!B\"&MATCH(B107, 'SP500 Data'!A:A,0))/100,\"\")","v":""},"","",{"$error":"#N/A"},"","",{"$f":" IF(AD107=0, \"\", SUMIF('Trade Log'!AP:AP,B107, 'Trade Log'!BT:BT))","v":""},{"$error":"#N/A"},"","","","","","","","",{"$f":" IFERROR(IF(AD107 = 0, \"\", IF(AB107=\"\",0,IF(IF(R107=\"\",0,(-1*(MAX(R$7:$R107)-R107)))/MAX($R$7:R107) = 0,0,IF(R107=\"\",0,(-1*(MAX(R$7:$R107)-R107)))/MAX($R$7:R107)))), \"\")","v":""},"",{"$f":" IFERROR(INDIRECT(\"'Gold Data'!H\"&MATCH(B107, 'Gold Data'!B:B,0)),\"\")","v":""},"",{"$f":" IFERROR(INDIRECT(\"'GBPUSD Data'!H\"&MATCH(B107, 'GBPUSD Data'!B:B,0)),\"\")","v":""},"",{"$f":" IFERROR(INDIRECT(\"'VIX Data'!H\"&MATCH(B107, 'VIX Data'!B:B,0)),\"\")","v":""},"",0,{"$f":" SUMIF('Trade Log'!AP:AP,B107, 'Trade Log'!EX:EX)","v":0},{"$f":" SUMIF('Trade Log'!AP:AP,B107, 'Trade Log'!O:O) + SUMIF('Trade Log'!AP:AP,B107, 'Trade Log'!P:P) + SUMIF('Trade Log'!AP:AP,B107, 'Trade Log'!Q:Q) + SUMIF('Trade Log'!AP:AP,B107, 'Trade Log'!R:R) + SUMIF('Trade Log'!AP:AP,B107, 'Trade Log'!S:S) + SUMIF('Trade Log'!AP:AP,B107, 'Trade Log'!T:T)","v":0},{"$f":" IF(AD107 = 0, \"\", IFERROR(INDIRECT(\"'Trade Log'!BU\"&MATCH(B107, 'Trade Log'!DY:DY)), \"\"))","v":""},null,null,null,null,null,null,null,null,null,null,null,null,null,null,null,null,null,null,null,null,null,null,2020,{"$f":" IFERROR(INDIRECT(\"'SP500 Data'!B\"&MATCH(BB107, 'SP500 Data'!A:A,0))/100,\"\")","v":0.184},1.1839999999999999]
[null,100,{"$f":" SUMIF('Trade Log'!AP:AP,B108, 'Trade Log'!BT:BT)","v":0},{"$f":" IFERROR(INDIRECT(\"'SP500 Data'!B\"&MATCH(B108, 'SP500 Data'!A:A,0))/100,\"\")","v":""},"","",{"$error":"#N/A"},"","",{"$f":" IF(AD108=0, \"\", SUMIF('Trade Log'!AP:AP,B108, 'Trade Log'!BT:BT))","v":""},{"$error":"#N/A"},"","","","","","","","",{"$f":" IFERROR(IF(AD108 = 0, \"\", IF(AB108=\"\",0,IF(IF(R108=\"\",0,(-1*(MAX(R$7:$R108)-R108)))/MAX($R$7:R108) = 0,0,IF(R108=\"\",0,(-1*(MAX(R$7:$R108)-R108)))/MAX($R$7:R108)))), \"\")","v":""},"",{"$f":" IFERROR(INDIRECT(\"'Gold Data'!H\"&MATCH(B108, 'Gold Data'!B:B,0)),\"\")","v":""},"",{"$f":" IFERROR(INDIRECT(\"'GBPUSD Data'!H\"&MATCH(B108, 'GBPUSD Data'!B:B,0)),\"\")","v":""},"",{"$f":" IFERROR(INDIRECT(\"'VIX Data'!H\"&MATCH(B108, 'VIX Data'!B:B,0)),\"\")","v":""},"",0,{"$f":" SUMIF('Trade Log'!AP:AP,B108, 'Trade Log'!EX:EX)","v":0},{"$f":" SUMIF('Trade Log'!AP:AP,B108, 'Trade Log'!O:O) + SUMIF('Trade Log'!AP:AP,B108, 'Trade Log'!P:P) + SUMIF('Trade Log'!AP:AP,B108, 'Trade Log'!Q:Q) + SUMIF('Trade Log'!AP:AP,B108, 'Trade Log'!R:R) + SUMIF('Trade Log'!AP:AP,B108, 'Trade Log'!S:S) + SUMIF('Trade Log'!AP:AP,B108, 'Trade Log'!T:T)","v":0},{"$f":" IF(AD108 = 0, \"\", IFERROR(INDIRECT(\"'Trade Log'!BU\"&MATCH(B108, 'Trade Log'!DY:DY)), \"\"))","v":""},null,null,null,null,null,null,null,null,null,null,null,null,null,null,null,null,null,null,null,null,null,null,2021,{"$f":" IFERROR(INDIRECT(\"'SP500 Data'!B\"&MATCH(BB108, 'SP500 Data'!A:A,0))/100,\"\")","v":0.28710000000000002},1.2871000000000001]
[null,null,null,null,null,null,null,null,null,null,null,null,null,null,null,null,null,null,null,null,null,null,null,null,null,null,null,null,null,null,null,null,null,null,null,null,null,null,null,null,null,null,null,null,null,null,null,null,null,null,null,null,null,2022,{"$f":" IFERROR(INDIRECT(\"'SP500 Data'!B\"&MATCH(BB109, 'SP500 Data'!A:A,0))/100,\"\")","v":-0.18109999999999998},0.81889999999999996]
[null,null,null,null,null,null,null,null,null,null,null,null,null,null,null,null,null,null,null,null,null,null,null,null,null,null,null,null,null,null,null,null,null,null,null,null,null,null,null,null,null,null,null,null,null,null,null,null,null,null,null,null,null,2023,{"$f":" IFERROR(INDIRECT(\"'SP500 Data'!B\"&MATCH(BB110, 'SP500 Data'!A:A,0))/100,\"\")","v":0.26289999999999997},1.2628999999999999]
[null,null,null,null,null,null,null,null,null,null,null,null,null,null,null,null,null,null,null,null,null,null,null,null,null,null,null,null,null,null,null,null,null,null,null,null,null,null,null,null,null,null,null,null,null,null,null,null,null,null,null,null,null,2024,{"$f":" IFERROR(INDIRECT(\"'SP500 Data'!B\"&MATCH(BB111, 'SP500 Data'!A:A,0))/100,\"\")","v":0.22620000000000001},1.2262]
[null,null,null,null,null,null,null,null,null,null,null,null,null,null,null,null,null,null,null,null,null,null,null,null,null,null,null,null,null,null,null,null,null,null,null,null,null,null,null,null,null,null,null,null,null,null,null,null,null,null,null,null,null,2025,{"$f":" IFERROR(INDIRECT(\"'SP500 Data'!B\"&MATCH(BB112, 'SP500 Data'!A:A,0))/100,\"\")","v":""},""]
[null,null,null,null,null,null,null,null,null,null,null,null,null,null,null,null,null,null,null,null,null,null,null,null,null,null,null,null,null,null,null,null,null,null,null,null,null,null,null,null,null,null,null,null,null,null,null,null,null,null,null,null,null,2026,{"$f":" IFERROR(INDIRECT(\"'SP500 Data'!B\"&MATCH(BB113, 'SP500 Data'!A:A,0))/100,\"\")","v":""},""]
[null,null,null,null,null,null,null,null,null,null,null,null,null,null,null,null,null,null,null,null,null,null,null,null,null,null,null,null,null,null,null,null,null,null,null,null,null,null,null,null,null,null,null,null,null,null,null,null,null,null,null,null,null,2027,{"$f":" IFERROR(INDIRECT(\"'SP500 Data'!B\"&MATCH(BB114, 'SP500 Data'!A:A,0))/100,\"\")","v":""},""]
[null,null,null,null,null,null,null,null,null,null,null,null,null,null,null,null,null,null,null,null,null,null,null,null,null,null,null,null,null,null,null,null,null,null,null,null,null,null,null,null,null,null,null,null,null,null,null,null,null,null,null,null,null,2028,{"$f":" IFERROR(INDIRECT(\"'SP500 Data'!B\"&MATCH(BB115, 'SP500 Data'!A:A,0))/100,\"\")","v":""},""]
[null,null,null,null,null,null,null,null,null,null,null,null,null,null,null,null,null,null,null,null,null,null,null,null,null,null,null,null,null,null,null,null,null,null,null,null,null,null,null,null,null,null,null,null,null,null,null,null,null,null,null,null,null,2029,{"$f":" IFERROR(INDIRECT(\"'SP500 Data'!B\"&MATCH(BB116, 'SP500 Data'!A:A,0))/100,\"\")","v":""},""]
[null,null,null,null,null,null,null,null,null,null,null,null,null,null,null,null,null,null,null,null,null,null,null,null,null,null,null,null,null,null,null,null,null,null,null,null,null,null,null,null,null,null,null,null,null,null,null,null,null,null,null,null,null,2030,{"$f":" IFERROR(INDIRECT(\"'SP500 Data'!B\"&MATCH(BB117, 'SP500 Data'!A:A,0))/100,\"\")","v":""},""]
[null,null,null,null,null,null,null,null,null,null,null,null,null,null,null,null,null,null,null,null,null,null,null,null,null,null,null,null,null,null,null,null,null,null,null,null,null,null,null,null,null,null,null,null,null,null,null,null,null,null,null,null,null,2031,{"$f":" IFERROR(INDIRECT(\"'SP500 Data'!B\"&MATCH(BB118, 'SP500 Data'!A:A,0))/100,\"\")","v":""},""]
[null,null,null,null,null,null,null,null,null,null,null,null,null,null,null,null,null,null,null,null,null,null,null,null,null,null,null,null,null,null,null,null,null,null,null,null,null,null,null,null,null,null,null,null,null,null,null,null,null,null,null,null,null,2032,{"$f":" IFERROR(INDIRECT(\"'SP500 Data'!B\"&MATCH(BB119, 'SP500 Data'!A:A,0))/100,\"\")","v":""},""]
[null,null,null,null,null,null,null,null,null,null,null,null,null,null,null,null,null,null,null,null,null,null,null,null,null,null,null,null,null,null,null,null,null,null,null,null,null,null,null,null,null,null,null,null,null,null,null,null,null,null,null,null,null,2033,{"$f":" IFERROR(INDIRECT(\"'SP500 Data'!B\"&MATCH(BB120, 'SP500 Data'!A:A,0))/100,\"\")","v":""},""]
[null,null,null,null,null,null,null,null,null,null,null,null,null,null,null,null,null,null,null,null,null,null,null,null,null,null,null,null,null,null,null,null,null,null,null,null,null,null,null,null,null,null,null,null,null,null,null,null,null,null,null,null,null,2034,{"$f":" IFERROR(INDIRECT(\"'SP500 Data'!B\"&MATCH(BB121, 'SP500 Data'!A:A,0))/100,\"\")","v":""},""]
[null,null,null,null,null,null,null,null,null,null,null,null,null,null,null,null,null,null,null,null,null,null,null,null,null,null,null,null,null,null,null,null,null,null,null,null,null,null,null,null,null,null,null,null,null,null,null,null,null,null,null,null,null,2035,{"$f":" IFERROR(INDIRECT(\"'SP500 Data'!B\"&MATCH(BB122, 'SP500 Data'!A:A,0))/100,\"\")","v":""},""]
[null,null,null,null,null,null,null,null,null,null,null,null,null,null,null,null,null,null,null,null,null,null,null,null,null,null,null,null,null,null,null,null,null,null,null,null,null,null,null,null,null,null,null,null,null,null,null,null,null,null,null,null,null,2036,{"$f":" IFERROR(INDIRECT(\"'SP500 Data'!B\"&MATCH(BB123, 'SP500 Data'!A:A,0))/100,\"\")","v":""},""]
[null,null,null,null,null,null,null,null,null,null,null,null,null,null,null,null,null,null,null,null,null,null,null,null,null,null,null,null,null,null,null,null,null,null,null,null,null,null,null,null,null,null,null,null,null,null,null,null,null,null,null,null,null,2037,{"$f":" IFERROR(INDIRECT(\"'SP500 Data'!B\"&MATCH(BB124, 'SP500 Data'!A:A,0))/100,\"\")","v":""},""]
[null,null,null,null,null,null,null,null,null,null,null,null,null,null,null,null,null,null,null,null,null,null,null,null,null,null,null,null,null,null,null,null,null,null,null,null,null,null,null,null,null,null,null,null,null,null,null,null,null,null,null,null,null,2038,{"$f":" IFERROR(INDIRECT(\"'SP500 Data'!B\"&MATCH(BB125, 'SP500 Data'!A:A,0))/100,\"\")","v":""},""]
[null,null,null,null,null,null,null,null,null,null,null,null,null,null,null,null,null,null,null,null,null,null,null,null,null,null,null,null,null,null,null,null,null,null,null,null,null,null,null,null,null,null,null,null,null,null,null,null,null,null,null,null,null,2039,{"$f":" IFERROR(INDIRECT(\"'SP500 Data'!B\"&MATCH(BB126, 'SP500 Data'!A:A,0))/100,\"\")","v":""},""]
[null,null,null,null,null,null,null,null,null,null,null,null,null,null,null,null,null,null,null,null,null,null,null,null,null,null,null,null,null,null,null,null,null,null,null,null,null,null,null,null,null,null,null,null,null,null,null,null,null,null,null,null,null,2040,{"$f":" IFERROR(INDIRECT(\"'SP500 Data'!B\"&MATCH(BB127, 'SP500 Data'!A:A,0))/100,\"\")","v":""},""]
[null,null,null,null,null,null,null,null,null,null,null,null,null,null,null,null,null,null,null,null,null,null,null,null,null,null,null,null,null,null,null,null,null,null,null,null,null,null,null,null,null,null,null,null,null,null,null,null,null,null,null,null,null,2041,{"$f":" IFERROR(INDIRECT(\"'SP500 Data'!B\"&MATCH(BB128, 'SP500 Data'!A:A,0))/100,\"\")","v":""},""]
[null,null,null,null,null,null,null,null,null,null,null,null,null,null,null,null,null,null,null,null,null,null,null,null,null,null,null,null,null,null,null,null,null,null,null,null,null,null,null,null,null,null,null,null,null,null,null,null,null,null,null,null,null,2042,{"$f":" IFERROR(INDIRECT(\"'SP500 Data'!B\"&MATCH(BB129, 'SP500 Data'!A:A,0))/100,\"\")","v":""},""]
[null,null,null,null,null,null,null,null,null,null,null,null,null,null,null,null,null,null,null,null,null,null,null,null,null,null,null,null,null,null,null,null,null,null,null,null,null,null,null,null,null,null,null,null,null,null,null,null,null,null,null,null,null,2043,{"$f":" IFERROR(INDIRECT(\"'SP500 Data'!B\"&MATCH(BB130, 'SP500 Data'!A:A,0))/100,\"\")","v":""},""]
[null,null,null,null,null,null,null,null,null,null,null,null,null,null,null,null,null,null,null,null,null,null,null,null,null,null,null,null,null,null,null,null,null,null,null,null,null,null,null,null,null,null,null,null,null,null,null,null,null,null,null,null,null,2044,{"$f":" IFERROR(INDIRECT(\"'SP500 Data'!B\"&MATCH(BB131, 'SP500 Data'!A:A,0))/100,\"\")","v":""},""]
[null,null,null,null,null,null,null,null,null,null,null,null,null,null,null,null,null,null,null,null,null,null,null,null,null,null,null,null,null,null,null,null,null,null,null,null,null,null,null,null,null,null,null,null,null,null,null,null,null,null,null,null,null,2045,{"$f":" IFERROR(INDIRECT(\"'SP500 Data'!B\"&MATCH(BB132, 'SP500 Data'!A:A,0))/100,\"\")","v":""},""]
[null,null,null,null,null,null,null,null,null,null,null,null,null,null,null,null,null,null,null,null,null,null,null,null,null,null,null,null,null,null,null,null,null,null,null,null,null,null,null,null,null,null,null,null,null,null,null,null,null,null,null,null,null,2046,{"$f":" IFERROR(INDIRECT(\"'SP500 Data'!B\"&MATCH(BB133, 'SP500 Data'!A:A,0))/100,\"\")","v":""},""]
[null,null,null,null,null,null,null,null,null,null,null,null,null,null,null,null,null,null,null,null,null,null,null,null,null,null,null,null,null,null,null,null,null,null,null,null,null,null,null,null,null,null,null,null,null,null,null,null,null,null,null,null,null,2047,{"$f":" IFERROR(INDIRECT(\"'SP500 Data'!B\"&MATCH(BB134, 'SP500 Data'!A:A,0))/100,\"\")","v":""},""]
[null,null,null,null,null,null,null,null,null,null,null,null,null,null,null,null,null,null,null,null,null,null,null,null,null,null,null,null,null,null,null,null,null,null,null,null,null,null,null,null,null,null,null,null,null,null,null,null,null,null,null,null,null,2048,{"$f":" IFERROR(INDIRECT(\"'SP500 Data'!B\"&MATCH(BB135, 'SP500 Data'!A:A,0))/100,\"\")","v":""},""]
[null,null,null,null,null,null,null,null,null,null,null,null,null,null,null,null,null,null,null,null,null,null,null,null,null,null,null,null,null,null,null,null,null,null,null,null,null,null,null,null,null,null,null,null,null,null,null,null,null,null,null,null,null,2049,{"$f":" IFERROR(INDIRECT(\"'SP500 Data'!B\"&MATCH(BB136, 'SP500 Data'!A:A,0))/100,\"\")","v":""},""]
[null,null,null,null,null,null,null,null,null,null,null,null,null,null,null,null,null,null,null,null,null,null,null,null,null,null,null,null,null,null,null,null,null,null,null,null,null,null,null,null,null,null,null,null,null,null,null,null,null,null,null,null,null,2050,{"$f":" IFERROR(INDIRECT(\"'SP500 Data'!B\"&MATCH(BB137, 'SP500 Data'!A:A,0))/100,\"\")","v":""},""]
[null,null,null,null,null,null,null,null,null,null,null,null,null,null,null,null,null,null,null,null,null,null,null,null,null,null,null,null,null,null,null,null,null,null,null,null,null,null,null,null,null,null,null,null,null,null,null,null,null,null,null,null,null,2051,{"$f":" IFERROR(INDIRECT(\"'SP500 Data'!B\"&MATCH(BB138, 'SP500 Data'!A:A,0))/100,\"\")","v":""},""]
[null,null,null,null,null,null,null,null,null,null,null,null,null,null,null,null,null,null,null,null,null,null,null,null,null,null,null,null,null,null,null,null,null,null,null,null,null,null,null,null,null,null,null,null,null,null,null,null,null,null,null,null,null,2052,{"$f":" IFERROR(INDIRECT(\"'SP500 Data'!B\"&MATCH(BB139, 'SP500 Data'!A:A,0))/100,\"\")","v":""},""]
[null,null,null,null,null,null,null,null,null,null,null,null,null,null,null,null,null,null,null,null,null,null,null,null,null,null,null,null,null,null,null,null,null,null,null,null,null,null,null,null,null,null,null,null,null,null,null,null,null,null,null,null,null,2053,{"$f":" IFERROR(INDIRECT(\"'SP500 Data'!B\"&MATCH(BB140, 'SP500 Data'!A:A,0))/100,\"\")","v":""},""]
[null,null,null,null,null,null,null,null,null,null,null,null,null,null,null,null,null,null,null,null,null,null,null,null,null,null,null,null,null,null,null,null,null,null,null,null,null,null,null,null,null,null,null,null,null,null,null,null,null,null,null,null,null,2054,{"$f":" IFERROR(INDIRECT(\"'SP500 Data'!B\"&MATCH(BB141, 'SP500 Data'!A:A,0))/100,\"\")","v":""},""]
[null,null,null,null,null,null,null,null,null,null,null,null,null,null,null,null,null,null,null,null,null,null,null,null,null,null,null,null,null,null,null,null,null,null,null,null,null,null,null,null,null,null,null,null,null,null,null,null,null,null,null,null,null,2055,{"$f":" IFERROR(INDIRECT(\"'SP500 Data'!B\"&MATCH(BB142, 'SP500 Data'!A:A,0))/100,\"\")","v":""},{"$f":" IFERROR(1 +BC142, \"\")","v":""}]
[null,null,null,null,null,null,null,null,null,null,null,null,null,null,null,null,null,null,null,null,null,null,null,null,null,null,null,null,null,null,null,null,null,null,null,null,null,null,null,null,null,null,null,null,null,null,null,null,null,null,null,null,null,2056,{"$f":" IFERROR(INDIRECT(\"'SP500 Data'!B\"&MATCH(BB143, 'SP500 Data'!A:A,0))/100,\"\")","v":""},""]
[null,null,null,null,null,null,null,null,null,null,null,null,null,null,null,null,null,null,null,null,null,null,null,null,null,null,null,null,null,null,null,null,null,null,null,null,null,null,null,null,null,null,null,null,null,null,null,null,null,null,null,null,null,2057,{"$f":" IFERROR(INDIRECT(\"'SP500 Data'!B\"&MATCH(BB144, 'SP500 Data'!A:A,0))/100,\"\")","v":""},""]
[null,null,null,null,null,null,null,null,null,null,null,null,null,null,null,null,null,null,null,null,null,null,null,null,null,null,null,null,null,null,null,null,null,null,null,null,null,null,null,null,null,null,null,null,null,null,null,null,null,null,null,null,null,2058,{"$f":" IFERROR(INDIRECT(\"'SP500 Data'!B\"&MATCH(BB145, 'SP500 Data'!A:A,0))/100,\"\")","v":""},""]
[null,null,null,null,null,null,null,null,null,null,null,null,null,null,null,null,null,null,null,null,null,null,null,null,null,null,null,null,null,null,null,null,null,null,null,null,null,null,null,null,null,null,null,null,null,null,null,null,null,null,null,null,null,2059,{"$f":" IFERROR(INDIRECT(\"'SP500 Data'!B\"&MATCH(BB146, 'SP500 Data'!A:A,0))/100,\"\")","v":""},""]
[null,null,null,null,null,null,null,null,null,null,null,null,null,null,null,null,null,null,null,null,null,null,null,null,null,null,null,null,null,null,null,null,null,null,null,null,null,null,null,null,null,null,null,null,null,null,null,null,null,null,null,null,null,2060,{"$f":" IFERROR(INDIRECT(\"'SP500 Data'!B\"&MATCH(BB147, 'SP500 Data'!A:A,0))/100,\"\")","v":""},""]
[null,null,null,null,null,null,null,null,null,null,null,null,null,null,null,null,null,null,null,null,null,null,null,null,null,null,null,null,null,null,null,null,null,null,null,null,null,null,null,null,null,null,null,null,null,null,null,null,null,null,null,null,null,2061,{"$f":" IFERROR(INDIRECT(\"'SP500 Data'!B\"&MATCH(BB148, 'SP500 Data'!A:A,0))/100,\"\")","v":""},""]
[null,null,null,null,null,null,null,null,null,null,null,null,null,null,null,null,null,null,null,null,null,null,null,null,null,null,null,null,null,null,null,null,null,null,null,null,null,null,null,null,null,null,null,null,null,null,null,null,null,null,null,null,null,2062,{"$f":" IFERROR(INDIRECT(\"'SP500 Data'!B\"&MATCH(BB149, 'SP500 Data'!A:A,0))/100,\"\")","v":""},""]
[null,null,null,null,null,null,null,null,null,null,null,null,null,null,null,null,null,null,null,null,null,null,null,null,null,null,null,null,null,null,null,null,null,null,null,null,null,null,null,null,null,null,null,null,null,null,null,null,null,null,null,null,null,2063,{"$f":" IFERROR(INDIRECT(\"'SP500 Data'!B\"&MATCH(BB150, 'SP500 Data'!A:A,0))/100,\"\")","v":""},""]
[null,null,null,null,null,null,null,null,null,null,null,null,null,null,null,null,null,null,null,null,null,null,null,null,null,null,null,null,null,null,null,null,null,null,null,null,null,null,null,null,null,null,null,null,null,null,null,null,null,null,null,null,null,2064,{"$f":" IFERROR(INDIRECT(\"'SP500 Data'!B\"&MATCH(BB151, 'SP500 Data'!A:A,0))/100,\"\")","v":""},""]
[null,null,null,null,null,null,null,null,null,null,null,null,null,null,null,null,null,null,null,null,null,null,null,null,null,null,null,null,null,null,null,null,null,null,null,null,null,null,null,null,null,null,null,null,null,null,null,null,null,null,null,null,null,2065,{"$f":" IFERROR(INDIRECT(\"'SP500 Data'!B\"&MATCH(BB152, 'SP500 Data'!A:A,0))/100,\"\")","v":""},""]
[null,null,null,null,null,null,null,null,null,null,null,null,null,null,null,null,null,null,null,null,null,null,null,null,null,null,null,null,null,null,null,null,null,null,null,null,null,null,null,null,null,null,null,null,null,null,null,null,null,null,null,null,null,2066,{"$f":" IFERROR(INDIRECT(\"'SP500 Data'!B\"&MATCH(BB153, 'SP500 Data'!A:A,0))/100,\"\")","v":""},""]
[null,null,null,null,null,null,null,null,null,null,null,null,null,null,null,null,null,null,null,null,null,null,null,null,null,null,null,null,null,null,null,null,null,null,null,null,null,null,null,null,null,null,null,null,null,null,null,null,null,null,null,null,null,2067,{"$f":" IFERROR(INDIRECT(\"'SP500 Data'!B\"&MATCH(BB154, 'SP500 Data'!A:A,0))/100,\"\")","v":""},""]
[null,null,null,null,null,null,null,null,null,null,null,null,null,null,null,null,null,null,null,null,null,null,null,null,null,null,null,null,null,null,null,null,null,null,null,null,null,null,null,null,null,null,null,null,null,null,null,null,null,null,null,null,null,2068,{"$f":" IFERROR(INDIRECT(\"'SP500 Data'!B\"&MATCH(BB155, 'SP500 Data'!A:A,0))/100,\"\")","v":""},""]
[null,null,null,null,null,null,null,null,null,null,null,null,null,null,null,null,null,null,null,null,null,null,null,null,null,null,null,null,null,null,null,null,null,null,null,null,null,null,null,null,null,null,null,null,null,null,null,null,null,null,null,null,null,2069,{"$f":" IFERROR(INDIRECT(\"'SP500 Data'!B\"&MATCH(BB156, 'SP500 Data'!A:A,0))/100,\"\")","v":""},""]
[null,null,null,null,null,null,null,null,null,null,null,null,null,null,null,null,null,null,null,null,null,null,null,null,null,null,null,null,null,null,null,null,null,null,null,null,null,null,null,null,null,null,null,null,null,null,null,null,null,null,null,null,null,2070,{"$f":" IFERROR(INDIRECT(\"'SP500 Data'!B\"&MATCH(BB157, 'SP500 Data'!A:A,0))/100,\"\")","v":""},""]
[null,null,null,null,null,null,null,null,null,null,null,null,null,null,null,null,null,null,null,null,null,null,null,null,null,null,null,null,null,null,null,null,null,null,null,null,null,null,null,null,null,null,null,null,null,null,null,null,null,null,null,null,null,2071,{"$f":" IFERROR(INDIRECT(\"'SP500 Data'!B\"&MATCH(BB158, 'SP500 Data'!A:A,0))/100,\"\")","v":""},""]
[null,null,null,null,null,null,null,null,null,null,null,null,null,null,null,null,null,null,null,null,null,null,null,null,null,null,null,null,null,null,null,null,null,null,null,null,null,null,null,null,null,null,null,null,null,null,null,null,null,null,null,null,null,2072,{"$f":" IFERROR(INDIRECT(\"'SP500 Data'!B\"&MATCH(BB159, 'SP500 Data'!A:A,0))/100,\"\")","v":""},""]
[null,null,null,null,null,null,null,null,null,null,null,null,null,null,null,null,null,null,null,null,null,null,null,null,null,null,null,null,null,null,null,null,null,null,null,null,null,null,null,null,null,null,null,null,null,null,null,null,null,null,null,null,null,2073,{"$f":" IFERROR(INDIRECT(\"'SP500 Data'!B\"&MATCH(BB160, 'SP500 Data'!A:A,0))/100,\"\")","v":""},""]
[null,null,null,null,null,null,null,null,null,null,null,null,null,null,null,null,null,null,null,null,null,null,null,null,null,null,null,null,null,null,null,null,null,null,null,null,null,null,null,null,null,null,null,null,null,null,null,null,null,null,null,null,null,2074,{"$f":" IFERROR(INDIRECT(\"'SP500 Data'!B\"&MATCH(BB161, 'SP500 Data'!A:A,0))/100,\"\")","v":""},""]
[null,null,null,null,null,null,null,null,null,null,null,null,null,null,null,null,null,null,null,null,null,null,null,null,null,null,null,null,null,null,null,null,null,null,null,null,null,null,null,null,null,null,null,null,null,null,null,null,null,null,null,null,null,2075,{"$f":" IFERROR(INDIRECT(\"'SP500 Data'!B\"&MATCH(BB162, 'SP500 Data'!A:A,0))/100,\"\")","v":""},""]
[null,null,null,null,null,null,null,null,null,null,null,null,null,null,null,null,null,null,null,null,null,null,null,null,null,null,null,null,null,null,null,null,null,null,null,null,null,null,null,null,null,null,null,null,null,null,null,null,null,null,null,null,null,2076,{"$f":" IFERROR(INDIRECT(\"'SP500 Data'!B\"&MATCH(BB163, 'SP500 Data'!A:A,0))/100,\"\")","v":""},""]
[null,null,null,null,null,null,null,null,null,null,null,null,null,null,null,null,null,null,null,null,null,null,null,null,null,null,null,null,null,null,null,null,null,null,null,null,null,null,null,null,null,null,null,null,null,null,null,null,null,null,null,null,null,2077,{"$f":" IFERROR(INDIRECT(\"'SP500 Data'!B\"&MATCH(BB164, 'SP500 Data'!A:A,0))/100,\"\")","v":""},""]
[null,null,null,null,null,null,null,null,null,null,null,null,null,null,null,null,null,null,null,null,null,null,null,null,null,null,null,null,null,null,null,null,null,null,null,null,null,null,null,null,null,null,null,null,null,null,null,null,null,null,null,null,null,2078,{"$f":" IFERROR(INDIRECT(\"'SP500 Data'!B\"&MATCH(BB165, 'SP500 Data'!A:A,0))/100,\"\")","v":""},""]
[null,null,null,null,null,null,null,null,null,null,null,null,null,null,null,null,null,null,null,null,null,null,null,null,null,null,null,null,null,null,null,null,null,null,null,null,null,null,null,null,null,null,null,null,null,null,null,null,null,null,null,null,null,2079,{"$f":" IFERROR(INDIRECT(\"'SP500 Data'!B\"&MATCH(BB166, 'SP500 Data'!A:A,0))/100,\"\")","v":""},""]
[null,null,null,null,null,null,null,null,null,null,null,null,null,null,null,null,null,null,null,null,null,null,null,null,null,null,null,null,null,null,null,null,null,null,null,null,null,null,null,null,null,null,null,null,null,null,null,null,null,null,null,null,null,2080,{"$f":" IFERROR(INDIRECT(\"'SP500 Data'!B\"&MATCH(BB167, 'SP500 Data'!A:A,0))/100,\"\")","v":""},""]
[null,null,null,null,null,null,null,null,null,null,null,null,null,null,null,null,null,null,null,null,null,null,null,null,null,null,null,null,null,null,null,null,null,null,null,null,null,null,null,null,null,null,null,null,null,null,null,null,null,null,null,null,null,2081,{"$f":" IFERROR(INDIRECT(\"'SP500 Data'!B\"&MATCH(BB168, 'SP500 Data'!A:A,0))/100,\"\")","v":""},""]
[null,null,null,null,null,null,null,null,null,null,null,null,null,null,null,null,null,null,null,null,null,null,null,null,null,null,null,null,null,null,null,null,null,null,null,null,null,null,null,null,null,null,null,null,null,null,null,null,null,null,null,null,null,2082,{"$f":" IFERROR(INDIRECT(\"'SP500 Data'!B\"&MATCH(BB169, 'SP500 Data'!A:A,0))/100,\"\")","v":""},""]
[null,null,null,null,null,null,null,null,null,null,null,null,null,null,null,null,null,null,null,null,null,null,null,null,null,null,null,null,null,null,null,null,null,null,null,null,null,null,null,null,null,null,null,null,null,null,null,null,null,null,null,null,null,2083,{"$f":" IFERROR(INDIRECT(\"'SP500 Data'!B\"&MATCH(BB170, 'SP500 Data'!A:A,0))/100,\"\")","v":""},""]
[null,null,null,null,null,null,null,null,null,null,null,null,null,null,null,null,null,null,null,null,null,null,null,null,null,null,null,null,null,null,null,null,null,null,null,null,null,null,null,null,null,null,null,null,null,null,null,null,null,null,null,null,null,2084,{"$f":" IFERROR(INDIRECT(\"'SP500 Data'!B\"&MATCH(BB171, 'SP500 Data'!A:A,0))/100,\"\")","v":""},""]
[null,null,null,null,null,null,null,null,null,null,null,null,null,null,null,null,null,null,null,null,null,null,null,null,null,null,null,null,null,null,null,null,null,null,null,null,null,null,null,null,null,null,null,null,null,null,null,null,null,null,null,null,null,2085,{"$f":" IFERROR(INDIRECT(\"'SP500 Data'!B\"&MATCH(BB172, 'SP500 Data'!A:A,0))/100,\"\")","v":""},""]
[null,null,null,null,null,null,null,null,null,null,null,null,null,null,null,null,null,null,null,null,null,null,null,null,null,null,null,null,null,null,null,null,null,null,null,null,null,null,null,null,null,null,null,null,null,null,null,null,null,null,null,null,null,2086,{"$f":" IFERROR(INDIRECT(\"'SP500 Data'!B\"&MATCH(BB173, 'SP500 Data'!A:A,0))/100,\"\")","v":""},""]
[null,null,null,null,null,null,null,null,null,null,null,null,null,null,null,null,null,null,null,null,null,null,null,null,null,null,null,null,null,null,null,null,null,null,null,null,null,null,null,null,null,null,null,null,null,null,null,null,null,null,null,null,null,2087,{"$f":" IFERROR(INDIRECT(\"'SP500 Data'!B\"&MATCH(BB174, 'SP500 Data'!A:A,0))/100,\"\")","v":""},""]
[null,null,null,null,null,null,null,null,null,null,null,null,null,null,null,null,null,null,null,null,null,null,null,null,null,null,null,null,null,null,null,null,null,null,null,null,null,null,null,null,null,null,null,null,null,null,null,null,null,null,null,null,null,2088,{"$f":" IFERROR(INDIRECT(\"'SP500 Data'!B\"&MATCH(BB175, 'SP500 Data'!A:A,0))/100,\"\")","v":""},""]
[null,null,null,null,null,null,null,null,null,null,null,null,null,null,null,null,null,null,null,null,null,null,null,null,null,null,null,null,null,null,null,null,null,null,null,null,null,null,null,null,null,null,null,null,null,null,null,null,null,null,null,null,null,2089,{"$f":" IFERROR(INDIRECT(\"'SP500 Data'!B\"&MATCH(BB176, 'SP500 Data'!A:A,0))/100,\"\")","v":""},""]
[null,null,null,null,null,null,null,null,null,null,null,null,null,null,null,null,null,null,null,null,null,null,null,null,null,null,null,null,null,null,null,null,null,null,null,null,null,null,null,null,null,null,null,null,null,null,null,null,null,null,null,null,null,2090,{"$f":" IFERROR(INDIRECT(\"'SP500 Data'!B\"&MATCH(BB177, 'SP500 Data'!A:A,0))/100,\"\")","v":""},""]
[null,null,null,null,null,null,null,null,null,null,null,null,null,null,null,null,null,null,null,null,null,null,null,null,null,null,null,null,null,null,null,null,null,null,null,null,null,null,null,null,null,null,null,null,null,null,null,null,null,null,null,null,null,2091,{"$f":" IFERROR(INDIRECT(\"'SP500 Data'!B\"&MATCH(BB178, 'SP500 Data'!A:A,0))/100,\"\")","v":""},""]
[null,null,null,null,null,null,null,null,null,null,null,null,null,null,null,null,null,null,null,null,null,null,null,null,null,null,null,null,null,null,null,null,null,null,null,null,null,null,null,null,null,null,null,null,null,null,null,null,null,null,null,null,null,2092,{"$f":" IFERROR(INDIRECT(\"'SP500 Data'!B\"&MATCH(BB179, 'SP500 Data'!A:A,0))/100,\"\")","v":""},""]
[null,null,null,null,null,null,null,null,null,null,null,null,null,null,null,null,null,null,null,null,null,null,null,null,null,null,null,null,null,null,null,null,null,null,null,null,null,null,null,null,null,null,null,null,null,null,null,null,null,null,null,null,null,2093,{"$f":" IFERROR(INDIRECT(\"'SP500 Data'!B\"&MATCH(BB180, 'SP500 Data'!A:A,0))/100,\"\")","v":""},""]
[null,null,null,null,null,null,null,null,null,null,null,null,null,null,null,null,null,null,null,null,null,null,null,null,null,null,null,null,null,null,null,null,null,null,null,null,null,null,null,null,null,null,null,null,null,null,null,null,null,null,null,null,null,2094,{"$f":" IFERROR(INDIRECT(\"'SP500 Data'!B\"&MATCH(BB181, 'SP500 Data'!A:A,0))/100,\"\")","v":""},""]
[null,null,null,null,null,null,null,null,null,null,null,null,null,null,null,null,null,null,null,null,null,null,null,null,null,null,null,null,null,null,null,null,null,null,null,null,null,null,null,null,null,null,null,null,null,null,null,null,null,null,null,null,null,2095,{"$f":" IFERROR(INDIRECT(\"'SP500 Data'!B\"&MATCH(BB182, 'SP500 Data'!A:A,0))/100,\"\")","v":""},""]
[null,null,null,null,null,null,null,null,null,null,null,null,null,null,null,null,null,null,null,null,null,null,null,null,null,null,null,null,null,null,null,null,null,null,null,null,null,null,null,null,null,null,null,null,null,null,null,null,null,null,null,null,null,2096,{"$f":" IFERROR(INDIRECT(\"'SP500 Data'!B\"&MATCH(BB183, 'SP500 Data'!A:A,0))/100,\"\")","v":""},""]
[null,null,null,null,null,null,null,null,null,null,null,null,null,null,null,null,null,null,null,null,null,null,null,null,null,null,null,null,null,null,null,null,null,null,null,null,null,null,null,null,null,null,null,null,null,null,null,null,null,null,null,null,null,2097,{"$f":" IFERROR(INDIRECT(\"'SP500 Data'!B\"&MATCH(BB184, 'SP500 Data'!A:A,0))/100,\"\")","v":""},""]
[null,null,null,null,null,null,null,null,null,null,null,null,null,null,null,null,null,null,null,null,null,null,null,null,null,null,null,null,null,null,null,null,null,null,null,null,null,null,null,null,null,null,null,null,null,null,null,null,null,null,null,null,null,2098,{"$f":" IFERROR(INDIRECT(\"'SP500 Data'!B\"&MATCH(BB185, 'SP500 Data'!A:A,0))/100,\"\")","v":""},""]
[null,null,null,null,null,null,null,null,null,null,null,null,null,null,null,null,null,null,null,null,null,null,null,null,null,null,null,null,null,null,null,null,null,null,null,null,null,null,null,null,null,null,null,null,null,null,null,null,null,null,null,null,null,2099,{"$f":" IFERROR(INDIRECT(\"'SP500 Data'!B\"&MATCH(BB186, 'SP500 Data'!A:A,0))/100,\"\")","v":""},""]
[null,null,null,null,null,null,null,null,null,null,null,null,null,null,null,null,null,null,null,null,null,null,null,null,null,null,null,null,null,null,null,null,null,null,null,null,null,null,null,null,null,null,null,null,null,null,null,null,null,null,null,null,null,2100,{"$f":" IFERROR(INDIRECT(\"'SP500 Data'!B\"&MATCH(BB187, 'SP500 Data'!A:A,0))/100,\"\")","v":""},""]
[null,null,null,null,null,null,null,null,null,null,null,null,null,null,null,null,null,null,null,null,null,null,null,null,null,null,null,null,null,null,null,null,null,null,null,null,null,null,null,null,null,null,null,null,null,null,null,null,null,null,null,null,null,2101,{"$f":" IFERROR(INDIRECT(\"'SP500 Data'!B\"&MATCH(BB188, 'SP500 Data'!A:A,0))/100,\"\")","v":""},""]
[null,null,null,null,null,null,null,null,null,null,null,null,null,null,null,null,null,null,null,null,null,null,null,null,null,null,null,null,null,null,null,null,null,null,null,null,null,null,null,null,null,null,null,null,null,null,null,null,null,null,null,null,null,2102,{"$f":" IFERROR(INDIRECT(\"'SP500 Data'!B\"&MATCH(BB189, 'SP500 Data'!A:A,0))/100,\"\")","v":""},""]
[null,null,null,null,null,null,null,null,null,null,null,null,null,null,null,null,null,null,null,null,null,null,null,null,null,null,null,null,null,null,null,null,null,null,null,null,null,null,null,null,null,null,null,null,null,null,null,null,null,null,null,null,null,2103,{"$f":" IFERROR(INDIRECT(\"'SP500 Data'!B\"&MATCH(BB190, 'SP500 Data'!A:A,0))/100,\"\")","v":""},""]
[null,null,null,null,null,null,null,null,null,null,null,null,null,null,null,null,null,null,null,null,null,null,null,null,null,null,null,null,null,null,null,null,null,null,null,null,null,null,null,null,null,null,null,null,null,null,null,null,null,null,null,null,null,2104,{"$f":" IFERROR(INDIRECT(\"'SP500 Data'!B\"&MATCH(BB191, 'SP500 Data'!A:A,0))/100,\"\")","v":""},""]
[null,null,null,null,null,null,null,null,null,null,null,null,null,null,null,null,null,null,null,null,null,null,null,null,null,null,null,null,null,null,null,null,null,null,null,null,null,null,null,null,null,null,null,null,null,null,null,null,null,null,null,null,null,2105,{"$f":" IFERROR(INDIRECT(\"'SP500 Data'!B\"&MATCH(BB192, 'SP500 Data'!A:A,0))/100,\"\")","v":""},""]
[null,null,null,null,null,null,null,null,null,null,null,null,null,null,null,null,null,null,null,null,null,null,null,null,null,null,null,null,null,null,null,null,null,null,null,null,null,null,null,null,null,null,null,null,null,null,null,null,null,null,null,null,null,2106,{"$f":" IFERROR(INDIRECT(\"'SP500 Data'!B\"&MATCH(BB193, 'SP500 Data'!A:A,0))/100,\"\")","v":""},""]
[null,null,null,null,null,null,null,null,null,null,null,null,null,null,null,null,null,null,null,null,null,null,null,null,null,null,null,null,null,null,null,null,null,null,null,null,null,null,null,null,null,null,null,null,null,null,null,null,null,null,null,null,null,2107,{"$f":" IFERROR(INDIRECT(\"'SP500 Data'!B\"&MATCH(BB194, 'SP500 Data'!A:A,0))/100,\"\")","v":""},""]
[null,null,null,null,null,null,null,null,null,null,null,null,null,null,null,null,null,null,null,null,null,null,null,null,null,null,null,null,null,null,null,null,null,null,null,null,null,null,null,null,null,null,null,null,null,null,null,null,null,null,null,null,null,2108,{"$f":" IFERROR(INDIRECT(\"'SP500 Data'!B\"&MATCH(BB195, 'SP500 Data'!A:A,0))/100,\"\")","v":""},""]
[null,null,null,null,null,null,null,null,null,null,null,null,null,null,null,null,null,null,null,null,null,null,null,null,null,null,null,null,null,null,null,null,null,null,null,null,null,null,null,null,null,null,null,null,null,null,null,null,null,null,null,null,null,2109,{"$f":" IFERROR(INDIRECT(\"'SP500 Data'!B\"&MATCH(BB196, 'SP500 Data'!A:A,0))/100,\"\")","v":""},""]
[null,null,null,null,null,null,null,null,null,null,null,null,null,null,null,null,null,null,null,null,null,null,null,null,null,null,null,null,null,null,null,null,null,null,null,null,null,null,null,null,null,null,null,null,null,null,null,null,null,null,null,null,null,2110,{"$f":" IFERROR(INDIRECT(\"'SP500 Data'!B\"&MATCH(BB197, 'SP500 Data'!A:A,0))/100,\"\")","v":""},""]
[null,null,null,null,null,null,null,null,null,null,null,null,null,null,null,null,null,null,null,null,null,null,null,null,null,null,null,null,null,null,null,null,null,null,null,null,null,null,null,null,null,null,null,null,null,null,null,null,null,null,null,null,null,2111,{"$f":" IFERROR(INDIRECT(\"'SP500 Data'!B\"&MATCH(BB198, 'SP500 Data'!A:A,0))/100,\"\")","v":""},""]
[null,null,null,null,null,null,null,null,null,null,null,null,null,null,null,null,null,null,null,null,null,null,null,null,null,null,null,null,null,null,null,null,null,null,null,null,null,null,null,null,null,null,null,null,null,null,null,null,null,null,null,null,null,2112,{"$f":" IFERROR(INDIRECT(\"'SP500 Data'!B\"&MATCH(BB199, 'SP500 Data'!A:A,0))/100,\"\")","v":""},""]
[null,null,null,null,null,null,null,null,null,null,null,null,null,null,null,null,null,null,null,null,null,null,null,null,null,null,null,null,null,null,null,null,null,null,null,null,null,null,null,null,null,null,null,null,null,null,null,null,null,null,null,null,null,2113,{"$f":" IFERROR(INDIRECT(\"'SP500 Data'!B\"&MATCH(BB200, 'SP500 Data'!A:A,0))/100,\"\")","v":""},""]
[null,null,null,null,null,null,null,null,null,null,null,null,null,null,null,null,null,null,null,null,null,null,null,null,null,null,null,null,null,null,null,null,null,null,null,null,null,null,null,null,null,null,null,null,null,null,null,null,null,null,null,null,null,2114,{"$f":" IFERROR(INDIRECT(\"'SP500 Data'!B\"&MATCH(BB201, 'SP500 Data'!A:A,0))/100,\"\")","v":""},""]
[null,null,null,null,null,null,null,null,null,null,null,null,null,null,null,null,null,null,null,null,null,null,null,null,null,null,null,null,null,null,null,null,null,null,null,null,null,null,null,null,null,null,null,null,null,null,null,null,null,null,null,null,null,2115,{"$f":" IFERROR(INDIRECT(\"'SP500 Data'!B\"&MATCH(BB202, 'SP500 Data'!A:A,0))/100,\"\")","v":""},""]
[null,null,null,null,null,null,null,null,null,null,null,null,null,null,null,null,null,null,null,null,null,null,null,null,null,null,null,null,null,null,null,null,null,null,null,null,null,null,null,null,null,null,null,null,null,null,null,null,null,null,null,null,null,2116,{"$f":" IFERROR(INDIRECT(\"'SP500 Data'!B\"&MATCH(BB203, 'SP500 Data'!A:A,0))/100,\"\")","v":""},""]
[null,null,null,null,null,null,null,null,null,null,null,null,null,null,null,null,null,null,null,null,null,null,null,null,null,null,null,null,null,null,null,null,null,null,null,null,null,null,null,null,null,null,null,null,null,null,null,null,null,null,null,null,null,2117,{"$f":" IFERROR(INDIRECT(\"'SP500 Data'!B\"&MATCH(BB204, 'SP500 Data'!A:A,0))/100,\"\")","v":""},""]
[null,null,null,null,null,null,null,null,null,null,null,null,null,null,null,null,null,null,null,null,null,null,null,null,null,null,null,null,null,null,null,null,null,null,null,null,null,null,null,null,null,null,null,null,null,null,null,null,null,null,null,null,null,2118,{"$f":" IFERROR(INDIRECT(\"'SP500 Data'!B\"&MATCH(BB205, 'SP500 Data'!A:A,0))/100,\"\")","v":""},""]
[null,null,null,null,null,null,null,null,null,null,null,null,null,null,null,null,null,null,null,null,null,null,null,null,null,null,null,null,null,null,null,null,null,null,null,null,null,null,null,null,null,null,null,null,null,null,null,null,null,null,null,null,null,2119,{"$f":" IFERROR(INDIRECT(\"'SP500 Data'!B\"&MATCH(BB206, 'SP500 Data'!A:A,0))/100,\"\")","v":""},{"$f":" IFERROR(1 +BC206, \"\")","v":""}]
[null,null,null,null,null,null,null,null,null,null,null,null,null,null,null,null,null,null,null,null,null,null,null,null,null,null,null,null,null,null,null,null,null,null,null,null,null,null,null,null,null,null,null,null,null,null,null,null,null,null,null,null,null,2120,{"$f":" IFERROR(INDIRECT(\"'SP500 Data'!B\"&MATCH(BB207, 'SP500 Data'!A:A,0))/100,\"\")","v":""},""]
[null,null,null,null,null,null,null,null,null,null,null,null,null,null,null,null,null,null,null,null,null,null,null,null,null,null,null,null,null,null,null,null,null,null,null,null,null,null,null,null,null,null,null,null,null,null,null,null,null,null,null,null,null,2121,{"$f":" IFERROR(INDIRECT(\"'SP500 Data'!B\"&MATCH(BB208, 'SP500 Data'!A:A,0))/100,\"\")","v":""},""]
[null,null,null,null,null,null,null,null,null,null,null,null,null,null,null,null,null,null,null,null,null,null,null,null,null,null,null,null,null,null,null,null,null,null,null,null,null,null,null,null,null,null,null,null,null,null,null,null,null,null,null,null,null,2122,{"$f":" IFERROR(INDIRECT(\"'SP500 Data'!B\"&MATCH(BB209, 'SP500 Data'!A:A,0))/100,\"\")","v":""},""]
[null,null,null,null,null,null,null,null,null,null,null,null,null,null,null,null,null,null,null,null,null,null,null,null,null,null,null,null,null,null,null,null,null,null,null,null,null,null,null,null,null,null,null,null,null,null,null,null,null,null,null,null,null,2123,{"$f":" IFERROR(INDIRECT(\"'SP500 Data'!B\"&MATCH(BB210, 'SP500 Data'!A:A,0))/100,\"\")","v":""},""]
[null,null,null,null,null,null,null,null,null,null,null,null,null,null,null,null,null,null,null,null,null,null,null,null,null,null,null,null,null,null,null,null,null,null,null,null,null,null,null,null,null,null,null,null,null,null,null,null,null,null,null,null,null,2124,{"$f":" IFERROR(INDIRECT(\"'SP500 Data'!B\"&MATCH(BB211, 'SP500 Data'!A:A,0))/100,\"\")","v":""},""]
[null,null,null,null,null,null,null,null,null,null,null,null,null,null,null,null,null,null,null,null,null,null,null,null,null,null,null,null,null,null,null,null,null,null,null,null,null,null,null,null,null,null,null,null,null,null,null,null,null,null,null,null,null,2125,{"$f":" IFERROR(INDIRECT(\"'SP500 Data'!B\"&MATCH(BB212, 'SP500 Data'!A:A,0))/100,\"\")","v":""},""]
[null,null,null,null,null,null,null,null,null,null,null,null,null,null,null,null,null,null,null,null,null,null,null,null,null,null,null,null,null,null,null,null,null,null,null,null,null,null,null,null,null,null,null,null,null,null,null,null,null,null,null,null,null,2126,{"$f":" IFERROR(INDIRECT(\"'SP500 Data'!B\"&MATCH(BB213, 'SP500 Data'!A:A,0))/100,\"\")","v":""},""]
[null,null,null,null,null,null,null,null,null,null,null,null,null,null,null,null,null,null,null,null,null,null,null,null,null,null,null,null,null,null,null,null,null,null,null,null,null,null,null,null,null,null,null,null,null,null,null,null,null,null,null,null,null,2127,{"$f":" IFERROR(INDIRECT(\"'SP500 Data'!B\"&MATCH(BB214, 'SP500 Data'!A:A,0))/100,\"\")","v":""},""]
[null,null,null,null,null,null,null,null,null,null,null,null,null,null,null,null,null,null,null,null,null,null,null,null,null,null,null,null,null,null,null,null,null,null,null,null,null,null,null,null,null,null,null,null,null,null,null,null,null,null,null,null,null,2128,{"$f":" IFERROR(INDIRECT(\"'SP500 Data'!B\"&MATCH(BB215, 'SP500 Data'!A:A,0))/100,\"\")","v":""},""]
[null,null,null,null,null,null,null,null,null,null,null,null,null,null,null,null,null,null,null,null,null,null,null,null,null,null,null,null,null,null,null,null,null,null,null,null,null,null,null,null,null,null,null,null,null,null,null,null,null,null,null,null,null,2129,{"$f":" IFERROR(INDIRECT(\"'SP500 Data'!B\"&MATCH(BB216, 'SP500 Data'!A:A,0))/100,\"\")","v":""},""]
[null,null,null,null,null,null,null,null,null,null,null,null,null,null,null,null,null,null,null,null,null,null,null,null,null,null,null,null,null,null,null,null,null,null,null,null,null,null,null,null,null,null,null,null,null,null,null,null,null,null,null,null,null,2130,{"$f":" IFERROR(INDIRECT(\"'SP500 Data'!B\"&MATCH(BB217, 'SP500 Data'!A:A,0))/100,\"\")","v":""},""]
[null,null,null,null,null,null,null,null,null,null,null,null,null,null,null,null,null,null,null,null,null,null,null,null,null,null,null,null,null,null,null,null,null,null,null,null,null,null,null,null,null,null,null,null,null,null,null,null,null,null,null,null,null,2131,{"$f":" IFERROR(INDIRECT(\"'SP500 Data'!B\"&MATCH(BB218, 'SP500 Data'!A:A,0))/100,\"\")","v":""},""]
[null,null,null,null,null,null,null,null,null,null,null,null,null,null,null,null,null,null,null,null,null,null,null,null,null,null,null,null,null,null,null,null,null,null,null,null,null,null,null,null,null,null,null,null,null,null,null,null,null,null,null,null,null,2132,{"$f":" IFERROR(INDIRECT(\"'SP500 Data'!B\"&MATCH(BB219, 'SP500 Data'!A:A,0))/100,\"\")","v":""},""]
[null,null,null,null,null,null,null,null,null,null,null,null,null,null,null,null,null,null,null,null,null,null,null,null,null,null,null,null,null,null,null,null,null,null,null,null,null,null,null,null,null,null,null,null,null,null,null,null,null,null,null,null,null,2133,{"$f":" IFERROR(INDIRECT(\"'SP500 Data'!B\"&MATCH(BB220, 'SP500 Data'!A:A,0))/100,\"\")","v":""},""]
[null,null,null,null,null,null,null,null,null,null,null,null,null,null,null,null,null,null,null,null,null,null,null,null,null,null,null,null,null,null,null,null,null,null,null,null,null,null,null,null,null,null,null,null,null,null,null,null,null,null,null,null,null,2134,{"$f":" IFERROR(INDIRECT(\"'SP500 Data'!B\"&MATCH(BB221, 'SP500 Data'!A:A,0))/100,\"\")","v":""},""]
[null,null,null,null,null,null,null,null,null,null,null,null,null,null,null,null,null,null,null,null,null,null,null,null,null,null,null,null,null,null,null,null,null,null,null,null,null,null,null,null,null,null,null,null,null,null,null,null,null,null,null,null,null,2135,{"$f":" IFERROR(INDIRECT(\"'SP500 Data'!B\"&MATCH(BB222, 'SP500 Data'!A:A,0))/100,\"\")","v":""},""]
[null,null,null,null,null,null,null,null,null,null,null,null,null,null,null,null,null,null,null,null,null,null,null,null,null,null,null,null,null,null,null,null,null,null,null,null,null,null,null,null,null,null,null,null,null,null,null,null,null,null,null,null,null,2136,{"$f":" IFERROR(INDIRECT(\"'SP500 Data'!B\"&MATCH(BB223, 'SP500 Data'!A:A,0))/100,\"\")","v":""},""]
[null,null,null,null,null,null,null,null,null,null,null,null,null,null,null,null,null,null,null,null,null,null,null,null,null,null,null,null,null,null,null,null,null,null,null,null,null,null,null,null,null,null,null,null,null,null,null,null,null,null,null,null,null,2137,{"$f":" IFERROR(INDIRECT(\"'SP500 Data'!B\"&MATCH(BB224, 'SP500 Data'!A:A,0))/100,\"\")","v":""},""]
[null,null,null,null,null,null,null,null,null,null,null,null,null,null,null,null,null,null,null,null,null,null,null,null,null,null,null,null,null,null,null,null,null,null,null,null,null,null,null,null,null,null,null,null,null,null,null,null,null,null,null,null,null,2138,{"$f":" IFERROR(INDIRECT(\"'SP500 Data'!B\"&MATCH(BB225, 'SP500 Data'!A:A,0))/100,\"\")","v":""},""]
[null,null,null,null,null,null,null,null,null,null,null,null,null,null,null,null,null,null,null,null,null,null,null,null,null,null,null,null,null,null,null,null,null,null,null,null,null,null,null,null,null,null,null,null,null,null,null,null,null,null,null,null,null,2139,{"$f":" IFERROR(INDIRECT(\"'SP500 Data'!B\"&MATCH(BB226, 'SP500 Data'!A:A,0))/100,\"\")","v":""},""]
[null,null,null,null,null,null,null,null,null,null,null,null,null,null,null,null,null,null,null,null,null,null,null,null,null,null,null,null,null,null,null,null,null,null,null,null,null,null,null,null,null,null,null,null,null,null,null,null,null,null,null,null,null,2140,{"$f":" IFERROR(INDIRECT(\"'SP500 Data'!B\"&MATCH(BB227, 'SP500 Data'!A:A,0))/100,\"\")","v":""},""]
[null,null,null,null,null,null,null,null,null,null,null,null,null,null,null,null,null,null,null,null,null,null,null,null,null,null,null,null,null,null,null,null,null,null,null,null,null,null,null,null,null,null,null,null,null,null,null,null,null,null,null,null,null,2141,{"$f":" IFERROR(INDIRECT(\"'SP500 Data'!B\"&MATCH(BB228, 'SP500 Data'!A:A,0))/100,\"\")","v":""},""]
[null,null,null,null,null,null,null,null,null,null,null,null,null,null,null,null,null,null,null,null,null,null,null,null,null,null,null,null,null,null,null,null,null,null,null,null,null,null,null,null,null,null,null,null,null,null,null,null,null,null,null,null,null,2142,{"$f":" IFERROR(INDIRECT(\"'SP500 Data'!B\"&MATCH(BB229, 'SP500 Data'!A:A,0))/100,\"\")","v":""},""]
[null,null,null,null,null,null,null,null,null,null,null,null,null,null,null,null,null,null,null,null,null,null,null,null,null,null,null,null,null,null,null,null,null,null,null,null,null,null,null,null,null,null,null,null,null,null,null,null,null,null,null,null,null,2143,{"$f":" IFERROR(INDIRECT(\"'SP500 Data'!B\"&MATCH(BB230, 'SP500 Data'!A:A,0))/100,\"\")","v":""},""]
[null,null,null,null,null,null,null,null,null,null,null,null,null,null,null,null,null,null,null,null,null,null,null,null,null,null,null,null,null,null,null,null,null,null,null,null,null,null,null,null,null,null,null,null,null,null,null,null,null,null,null,null,null,2144,{"$f":" IFERROR(INDIRECT(\"'SP500 Data'!B\"&MATCH(BB231, 'SP500 Data'!A:A,0))/100,\"\")","v":""},""]
[null,null,null,null,null,null,null,null,null,null,null,null,null,null,null,null,null,null,null,null,null,null,null,null,null,null,null,null,null,null,null,null,null,null,null,null,null,null,null,null,null,null,null,null,null,null,null,null,null,null,null,null,null,2145,{"$f":" IFERROR(INDIRECT(\"'SP500 Data'!B\"&MATCH(BB232, 'SP500 Data'!A:A,0))/100,\"\")","v":""},""]
[null,null,null,null,null,null,null,null,null,null,null,null,null,null,null,null,null,null,null,null,null,null,null,null,null,null,null,null,null,null,null,null,null,null,null,null,null,null,null,null,null,null,null,null,null,null,null,null,null,null,null,null,null,2146,{"$f":" IFERROR(INDIRECT(\"'SP500 Data'!B\"&MATCH(BB233, 'SP500 Data'!A:A,0))/100,\"\")","v":""},""]
[null,null,null,null,null,null,null,null,null,null,null,null,null,null,null,null,null,null,null,null,null,null,null,null,null,null,null,null,null,null,null,null,null,null,null,null,null,null,null,null,null,null,null,null,null,null,null,null,null,null,null,null,null,2147,{"$f":" IFERROR(INDIRECT(\"'SP500 Data'!B\"&MATCH(BB234, 'SP500 Data'!A:A,0))/100,\"\")","v":""},""]
[null,null,null,null,null,null,null,null,null,null,null,null,null,null,null,null,null,null,null,null,null,null,null,null,null,null,null,null,null,null,null,null,null,null,null,null,null,null,null,null,null,null,null,null,null,null,null,null,null,null,null,null,null,2148,{"$f":" IFERROR(INDIRECT(\"'SP500 Data'!B\"&MATCH(BB235, 'SP500 Data'!A:A,0))/100,\"\")","v":""},""]
[null,null,null,null,null,null,null,null,null,null,null,null,null,null,null,null,null,null,null,null,null,null,null,null,null,null,null,null,null,null,null,null,null,null,null,null,null,null,null,null,null,null,null,null,null,null,null,null,null,null,null,null,null,2149,{"$f":" IFERROR(INDIRECT(\"'SP500 Data'!B\"&MATCH(BB236, 'SP500 Data'!A:A,0))/100,\"\")","v":""},""]
[null,null,null,null,null,null,null,null,null,null,null,null,null,null,null,null,null,null,null,null,null,null,null,null,null,null,null,null,null,null,null,null,null,null,null,null,null,null,null,null,null,null,null,null,null,null,null,null,null,null,null,null,null,2150,{"$f":" IFERROR(INDIRECT(\"'SP500 Data'!B\"&MATCH(BB237, 'SP500 Data'!A:A,0))/100,\"\")","v":""},""]
[null,null,null,null,null,null,null,null,null,null,null,null,null,null,null,null,null,null,null,null,null,null,null,null,null,null,null,null,null,null,null,null,null,null,null,null,null,null,null,null,null,null,null,null,null,null,null,null,null,null,null,null,null,2151,{"$f":" IFERROR(INDIRECT(\"'SP500 Data'!B\"&MATCH(BB238, 'SP500 Data'!A:A,0))/100,\"\")","v":""},""]
[null,null,null,null,null,null,null,null,null,null,null,null,null,null,null,null,null,null,null,null,null,null,null,null,null,null,null,null,null,null,null,null,null,null,null,null,null,null,null,null,null,null,null,null,null,null,null,null,null,null,null,null,null,2152,{"$f":" IFERROR(INDIRECT(\"'SP500 Data'!B\"&MATCH(BB239, 'SP500 Data'!A:A,0))/100,\"\")","v":""},""]
[null,null,null,null,null,null,null,null,null,null,null,null,null,null,null,null,null,null,null,null,null,null,null,null,null,null,null,null,null,null,null,null,null,null,null,null,null,null,null,null,null,null,null,null,null,null,null,null,null,null,null,null,null,2153,{"$f":" IFERROR(INDIRECT(\"'SP500 Data'!B\"&MATCH(BB240, 'SP500 Data'!A:A,0))/100,\"\")","v":""},""]
[null,null,null,null,null,null,null,null,null,null,null,null,null,null,null,null,null,null,null,null,null,null,null,null,null,null,null,null,null,null,null,null,null,null,null,null,null,null,null,null,null,null,null,null,null,null,null,null,null,null,null,null,null,2154,{"$f":" IFERROR(INDIRECT(\"'SP500 Data'!B\"&MATCH(BB241, 'SP500 Data'!A:A,0))/100,\"\")","v":""},""]
[null,null,null,null,null,null,null,null,null,null,null,null,null,null,null,null,null,null,null,null,null,null,null,null,null,null,null,null,null,null,null,null,null,null,null,null,null,null,null,null,null,null,null,null,null,null,null,null,null,null,null,null,null,2155,{"$f":" IFERROR(INDIRECT(\"'SP500 Data'!B\"&MATCH(BB242, 'SP500 Data'!A:A,0))/100,\"\")","v":""},""]
[null,null,null,null,null,null,null,null,null,null,null,null,null,null,null,null,null,null,null,null,null,null,null,null,null,null,null,null,null,null,null,null,null,null,null,null,null,null,null,null,null,null,null,null,null,null,null,null,null,null,null,null,null,2156,{"$f":" IFERROR(INDIRECT(\"'SP500 Data'!B\"&MATCH(BB243, 'SP500 Data'!A:A,0))/100,\"\")","v":""},""]
[null,null,null,null,null,null,null,null,null,null,null,null,null,null,null,null,null,null,null,null,null,null,null,null,null,null,null,null,null,null,null,null,null,null,null,null,null,null,null,null,null,null,null,null,null,null,null,null,null,null,null,null,null,2157,{"$f":" IFERROR(INDIRECT(\"'SP500 Data'!B\"&MATCH(BB244, 'SP500 Data'!A:A,0))/100,\"\")","v":""},""]
[null,null,null,null,null,null,null,null,null,null,null,null,null,null,null,null,null,null,null,null,null,null,null,null,null,null,null,null,null,null,null,null,null,null,null,null,null,null,null,null,null,null,null,null,null,null,null,null,null,null,null,null,null,2158,{"$f":" IFERROR(INDIRECT(\"'SP500 Data'!B\"&MATCH(BB245, 'SP500 Data'!A:A,0))/100,\"\")","v":""},""]
[null,null,null,null,null,null,null,null,null,null,null,null,null,null,null,null,null,null,null,null,null,null,null,null,null,null,null,null,null,null,null,null,null,null,null,null,null,null,null,null,null,null,null,null,null,null,null,null,null,null,null,null,null,2159,{"$f":" IFERROR(INDIRECT(\"'SP500 Data'!B\"&MATCH(BB246, 'SP500 Data'!A:A,0))/100,\"\")","v":""},""]
[null,null,null,null,null,null,null,null,null,null,null,null,null,null,null,null,null,null,null,null,null,null,null,null,null,null,null,null,null,null,null,null,null,null,null,null,null,null,null,null,null,null,null,null,null,null,null,null,null,null,null,null,null,2160,{"$f":" IFERROR(INDIRECT(\"'SP500 Data'!B\"&MATCH(BB247, 'SP500 Data'!A:A,0))/100,\"\")","v":""},""]
[null,null,null,null,null,null,null,null,null,null,null,null,null,null,null,null,null,null,null,null,null,null,null,null,null,null,null,null,null,null,null,null,null,null,null,null,null,null,null,null,null,null,null,null,null,null,null,null,null,null,null,null,null,2161,{"$f":" IFERROR(INDIRECT(\"'SP500 Data'!B\"&MATCH(BB248, 'SP500 Data'!A:A,0))/100,\"\")","v":""},""]
[null,null,null,null,null,null,null,null,null,null,null,null,null,null,null,null,null,null,null,null,null,null,null,null,null,null,null,null,null,null,null,null,null,null,null,null,null,null,null,null,null,null,null,null,null,null,null,null,null,null,null,null,null,2162,{"$f":" IFERROR(INDIRECT(\"'SP500 Data'!B\"&MATCH(BB249, 'SP500 Data'!A:A,0))/100,\"\")","v":""},""]
[null,null,null,null,null,null,null,null,null,null,null,null,null,null,null,null,null,null,null,null,null,null,null,null,null,null,null,null,null,null,null,null,null,null,null,null,null,null,null,null,null,null,null,null,null,null,null,null,null,null,null,null,null,2163,{"$f":" IFERROR(INDIRECT(\"'SP500 Data'!B\"&MATCH(BB250, 'SP500 Data'!A:A,0))/100,\"\")","v":""},""]
[null,null,null,null,null,null,null,null,null,null,null,null,null,null,null,null,null,null,null,null,null,null,null,null,null,null,null,null,null,null,null,null,null,null,null,null,null,null,null,null,null,null,null,null,null,null,null,null,null,null,null,null,null,2164,{"$f":" IFERROR(INDIRECT(\"'SP500 Data'!B\"&MATCH(BB251, 'SP500 Data'!A:A,0))/100,\"\")","v":""},""]
[null,null,null,null,null,null,null,null,null,null,null,null,null,null,null,null,null,null,null,null,null,null,null,null,null,null,null,null,null,null,null,null,null,null,null,null,null,null,null,null,null,null,null,null,null,null,null,null,null,null,null,null,null,2165,{"$f":" IFERROR(INDIRECT(\"'SP500 Data'!B\"&MATCH(BB252, 'SP500 Data'!A:A,0))/100,\"\")","v":""},""]
[null,null,null,null,null,null,null,null,null,null,null,null,null,null,null,null,null,null,null,null,null,null,null,null,null,null,null,null,null,null,null,null,null,null,null,null,null,null,null,null,null,null,null,null,null,null,null,null,null,null,null,null,null,2166,{"$f":" IFERROR(INDIRECT(\"'SP500 Data'!B\"&MATCH(BB253, 'SP500 Data'!A:A,0))/100,\"\")","v":""},""]
[null,null,null,null,null,null,null,null,null,null,null,null,null,null,null,null,null,null,null,null,null,null,null,null,null,null,null,null,null,null,null,null,null,null,null,null,null,null,null,null,null,null,null,null,null,null,null,null,null,null,null,null,null,2167,{"$f":" IFERROR(INDIRECT(\"'SP500 Data'!B\"&MATCH(BB254, 'SP500 Data'!A:A,0))/100,\"\")","v":""},""]
[null,null,null,null,null,null,null,null,null,null,null,null,null,null,null,null,null,null,null,null,null,null,null,null,null,null,null,null,null,null,null,null,null,null,null,null,null,null,null,null,null,null,null,null,null,null,null,null,null,null,null,null,null,2168,{"$f":" IFERROR(INDIRECT(\"'SP500 Data'!B\"&MATCH(BB255, 'SP500 Data'!A:A,0))/100,\"\")","v":""},""]
[null,null,null,null,null,null,null,null,null,null,null,null,null,null,null,null,null,null,null,null,null,null,null,null,null,null,null,null,null,null,null,null,null,null,null,null,null,null,null,null,null,null,null,null,null,null,null,null,null,null,null,null,null,2169,{"$f":" IFERROR(INDIRECT(\"'SP500 Data'!B\"&MATCH(BB256, 'SP500 Data'!A:A,0))/100,\"\")","v":""},""]
[null,null,null,null,null,null,null,null,null,null,null,null,null,null,null,null,null,null,null,null,null,null,null,null,null,null,null,null,null,null,null,null,null,null,null,null,null,null,null,null,null,null,null,null,null,null,null,null,null,null,null,null,null,2170,{"$f":" IFERROR(INDIRECT(\"'SP500 Data'!B\"&MATCH(BB257, 'SP500 Data'!A:A,0))/100,\"\")","v":""},""]
[null,null,null,null,null,null,null,null,null,null,null,null,null,null,null,null,null,null,null,null,null,null,null,null,null,null,null,null,null,null,null,null,null,null,null,null,null,null,null,null,null,null,null,null,null,null,null,null,null,null,null,null,null,2171,{"$f":" IFERROR(INDIRECT(\"'SP500 Data'!B\"&MATCH(BB258, 'SP500 Data'!A:A,0))/100,\"\")","v":""},""]
[null,null,null,null,null,null,null,null,null,null,null,null,null,null,null,null,null,null,null,null,null,null,null,null,null,null,null,null,null,null,null,null,null,null,null,null,null,null,null,null,null,null,null,null,null,null,null,null,null,null,null,null,null,2172,{"$f":" IFERROR(INDIRECT(\"'SP500 Data'!B\"&MATCH(BB259, 'SP500 Data'!A:A,0))/100,\"\")","v":""},""]
[null,null,null,null,null,null,null,null,null,null,null,null,null,null,null,null,null,null,null,null,null,null,null,null,null,null,null,null,null,null,null,null,null,null,null,null,null,null,null,null,null,null,null,null,null,null,null,null,null,null,null,null,null,2173,{"$f":" IFERROR(INDIRECT(\"'SP500 Data'!B\"&MATCH(BB260, 'SP500 Data'!A:A,0))/100,\"\")","v":""},""]
[null,null,null,null,null,null,null,null,null,null,null,null,null,null,null,null,null,null,null,null,null,null,null,null,null,null,null,null,null,null,null,null,null,null,null,null,null,null,null,null,null,null,null,null,null,null,null,null,null,null,null,null,null,2174,{"$f":" IFERROR(INDIRECT(\"'SP500 Data'!B\"&MATCH(BB261, 'SP500 Data'!A:A,0))/100,\"\")","v":""},""]
[null,null,null,null,null,null,null,null,null,null,null,null,null,null,null,null,null,null,null,null,null,null,null,null,null,null,null,null,null,null,null,null,null,null,null,null,null,null,null,null,null,null,null,null,null,null,null,null,null,null,null,null,null,2175,{"$f":" IFERROR(INDIRECT(\"'SP500 Data'!B\"&MATCH(BB262, 'SP500 Data'!A:A,0))/100,\"\")","v":""},""]
[null,null,null,null,null,null,null,null,null,null,null,null,null,null,null,null,null,null,null,null,null,null,null,null,null,null,null,null,null,null,null,null,null,null,null,null,null,null,null,null,null,null,null,null,null,null,null,null,null,null,null,null,null,2176,{"$f":" IFERROR(INDIRECT(\"'SP500 Data'!B\"&MATCH(BB263, 'SP500 Data'!A:A,0))/100,\"\")","v":""},""]
[null,null,null,null,null,null,null,null,null,null,null,null,null,null,null,null,null,null,null,null,null,null,null,null,null,null,null,null,null,null,null,null,null,null,null,null,null,null,null,null,null,null,null,null,null,null,null,null,null,null,null,null,null,2177,{"$f":" IFERROR(INDIRECT(\"'SP500 Data'!B\"&MATCH(BB264, 'SP500 Data'!A:A,0))/100,\"\")","v":""},""]
[null,null,null,null,null,null,null,null,null,null,null,null,null,null,null,null,null,null,null,null,null,null,null,null,null,null,null,null,null,null,null,null,null,null,null,null,null,null,null,null,null,null,null,null,null,null,null,null,null,null,null,null,null,2178,{"$f":" IFERROR(INDIRECT(\"'SP500 Data'!B\"&MATCH(BB265, 'SP500 Data'!A:A,0))/100,\"\")","v":""},""]
[null,null,null,null,null,null,null,null,null,null,null,null,null,null,null,null,null,null,null,null,null,null,null,null,null,null,null,null,null,null,null,null,null,null,null,null,null,null,null,null,null,null,null,null,null,null,null,null,null,null,null,null,null,2179,{"$f":" IFERROR(INDIRECT(\"'SP500 Data'!B\"&MATCH(BB266, 'SP500 Data'!A:A,0))/100,\"\")","v":""},""]
[null,null,null,null,null,null,null,null,null,null,null,null,null,null,null,null,null,null,null,null,null,null,null,null,null,null,null,null,null,null,null,null,null,null,null,null,null,null,null,null,null,null,null,null,null,null,null,null,null,null,null,null,null,2180,{"$f":" IFERROR(INDIRECT(\"'SP500 Data'!B\"&MATCH(BB267, 'SP500 Data'!A:A,0))/100,\"\")","v":""},""]
[null,null,null,null,null,null,null,null,null,null,null,null,null,null,null,null,null,null,null,null,null,null,null,null,null,null,null,null,null,null,null,null,null,null,null,null,null,null,null,null,null,null,null,null,null,null,null,null,null,null,null,null,null,2181,{"$f":" IFERROR(INDIRECT(\"'SP500 Data'!B\"&MATCH(BB268, 'SP500 Data'!A:A,0))/100,\"\")","v":""},""]
[null,null,null,null,null,null,null,null,null,null,null,null,null,null,null,null,null,null,null,null,null,null,null,null,null,null,null,null,null,null,null,null,null,null,null,null,null,null,null,null,null,null,null,null,null,null,null,null,null,null,null,null,null,2182,{"$f":" IFERROR(INDIRECT(\"'SP500 Data'!B\"&MATCH(BB269, 'SP500 Data'!A:A,0))/100,\"\")","v":""},""]
[null,null,null,null,null,null,null,null,null,null,null,null,null,null,null,null,null,null,null,null,null,null,null,null,null,null,null,null,null,null,null,null,null,null,null,null,null,null,null,null,null,null,null,null,null,null,null,null,null,null,null,null,null,2183,{"$f":" IFERROR(INDIRECT(\"'SP500 Data'!B\"&MATCH(BB270, 'SP500 Data'!A:A,0))/100,\"\")","v":""},{"$f":" IFERROR(1 +BC270, \"\")","v":""}]
[null,null,null,null,null,null,null,null,null,null,null,null,null,null,null,null,null,null,null,null,null,null,null,null,null,null,null,null,null,null,null,null,null,null,null,null,null,null,null,null,null,null,null,null,null,null,null,null,null,null,null,null,null,2184,{"$f":" IFERROR(INDIRECT(\"'SP500 Data'!B\"&MATCH(BB271, 'SP500 Data'!A:A,0))/100,\"\")","v":""},""]
[null,null,null,null,null,null,null,null,null,null,null,null,null,null,null,null,null,null,null,null,null,null,null,null,null,null,null,null,null,null,null,null,null,null,null,null,null,null,null,null,null,null,null,null,null,null,null,null,null,null,null,null,null,2185,{"$f":" IFERROR(INDIRECT(\"'SP500 Data'!B\"&MATCH(BB272, 'SP500 Data'!A:A,0))/100,\"\")","v":""},""]
[null,null,null,null,null,null,null,null,null,null,null,null,null,null,null,null,null,null,null,null,null,null,null,null,null,null,null,null,null,null,null,null,null,null,null,null,null,null,null,null,null,null,null,null,null,null,null,null,null,null,null,null,null,2186,{"$f":" IFERROR(INDIRECT(\"'SP500 Data'!B\"&MATCH(BB273, 'SP500 Data'!A:A,0))/100,\"\")","v":""},""]
[null,null,null,null,null,null,null,null,null,null,null,null,null,null,null,null,null,null,null,null,null,null,null,null,null,null,null,null,null,null,null,null,null,null,null,null,null,null,null,null,null,null,null,null,null,null,null,null,null,null,null,null,null,2187,{"$f":" IFERROR(INDIRECT(\"'SP500 Data'!B\"&MATCH(BB274, 'SP500 Data'!A:A,0))/100,\"\")","v":""},""]
[null,null,null,null,null,null,null,null,null,null,null,null,null,null,null,null,null,null,null,null,null,null,null,null,null,null,null,null,null,null,null,null,null,null,null,null,null,null,null,null,null,null,null,null,null,null,null,null,null,null,null,null,null,2188,{"$f":" IFERROR(INDIRECT(\"'SP500 Data'!B\"&MATCH(BB275, 'SP500 Data'!A:A,0))/100,\"\")","v":""},""]
[null,null,null,null,null,null,null,null,null,null,null,null,null,null,null,null,null,null,null,null,null,null,null,null,null,null,null,null,null,null,null,null,null,null,null,null,null,null,null,null,null,null,null,null,null,null,null,null,null,null,null,null,null,2189,{"$f":" IFERROR(INDIRECT(\"'SP500 Data'!B\"&MATCH(BB276, 'SP500 Data'!A:A,0))/100,\"\")","v":""},""]
[null,null,null,null,null,null,null,null,null,null,null,null,null,null,null,null,null,null,null,null,null,null,null,null,null,null,null,null,null,null,null,null,null,null,null,null,null,null,null,null,null,null,null,null,null,null,null,null,null,null,null,null,null,2190,{"$f":" IFERROR(INDIRECT(\"'SP500 Data'!B\"&MATCH(BB277, 'SP500 Data'!A:A,0))/100,\"\")","v":""},""]
[null,null,null,null,null,null,null,null,null,null,null,null,null,null,null,null,null,null,null,null,null,null,null,null,null,null,null,null,null,null,null,null,null,null,null,null,null,null,null,null,null,null,null,null,null,null,null,null,null,null,null,null,null,2191,{"$f":" IFERROR(INDIRECT(\"'SP500 Data'!B\"&MATCH(BB278, 'SP500 Data'!A:A,0))/100,\"\")","v":""},""]
[null,null,null,null,null,null,null,null,null,null,null,null,null,null,null,null,null,null,null,null,null,null,null,null,null,null,null,null,null,null,null,null,null,null,null,null,null,null,null,null,null,null,null,null,null,null,null,null,null,null,null,null,null,2192,{"$f":" IFERROR(INDIRECT(\"'SP500 Data'!B\"&MATCH(BB279, 'SP500 Data'!A:A,0))/100,\"\")","v":""},""]
[null,null,null,null,null,null,null,null,null,null,null,null,null,null,null,null,null,null,null,null,null,null,null,null,null,null,null,null,null,null,null,null,null,null,null,null,null,null,null,null,null,null,null,null,null,null,null,null,null,null,null,null,null,2193,{"$f":" IFERROR(INDIRECT(\"'SP500 Data'!B\"&MATCH(BB280, 'SP500 Data'!A:A,0))/100,\"\")","v":""},""]
[null,null,null,null,null,null,null,null,null,null,null,null,null,null,null,null,null,null,null,null,null,null,null,null,null,null,null,null,null,null,null,null,null,null,null,null,null,null,null,null,null,null,null,null,null,null,null,null,null,null,null,null,null,2194,{"$f":" IFERROR(INDIRECT(\"'SP500 Data'!B\"&MATCH(BB281, 'SP500 Data'!A:A,0))/100,\"\")","v":""},""]
[null,null,null,null,null,null,null,null,null,null,null,null,null,null,null,null,null,null,null,null,null,null,null,null,null,null,null,null,null,null,null,null,null,null,null,null,null,null,null,null,null,null,null,null,null,null,null,null,null,null,null,null,null,2195,{"$f":" IFERROR(INDIRECT(\"'SP500 Data'!B\"&MATCH(BB282, 'SP500 Data'!A:A,0))/100,\"\")","v":""},""]
[null,null,null,null,null,null,null,null,null,null,null,null,null,null,null,null,null,null,null,null,null,null,null,null,null,null,null,null,null,null,null,null,null,null,null,null,null,null,null,null,null,null,null,null,null,null,null,null,null,null,null,null,null,2196,{"$f":" IFERROR(INDIRECT(\"'SP500 Data'!B\"&MATCH(BB283, 'SP500 Data'!A:A,0))/100,\"\")","v":""},""]
[null,null,null,null,null,null,null,null,null,null,null,null,null,null,null,null,null,null,null,null,null,null,null,null,null,null,null,null,null,null,null,null,null,null,null,null,null,null,null,null,null,null,null,null,null,null,null,null,null,null,null,null,null,2197,{"$f":" IFERROR(INDIRECT(\"'SP500 Data'!B\"&MATCH(BB284, 'SP500 Data'!A:A,0))/100,\"\")","v":""},""]
[null,null,null,null,null,null,null,null,null,null,null,null,null,null,null,null,null,null,null,null,null,null,null,null,null,null,null,null,null,null,null,null,null,null,null,null,null,null,null,null,null,null,null,null,null,null,null,null,null,null,null,null,null,2198,{"$f":" IFERROR(INDIRECT(\"'SP500 Data'!B\"&MATCH(BB285, 'SP500 Data'!A:A,0))/100,\"\")","v":""},""]
[null,null,null,null,null,null,null,null,null,null,null,null,null,null,null,null,null,null,null,null,null,null,null,null,null,null,null,null,null,null,null,null,null,null,null,null,null,null,null,null,null,null,null,null,null,null,null,null,null,null,null,null,null,2199,{"$f":" IFERROR(INDIRECT(\"'SP500 Data'!B\"&MATCH(BB286, 'SP500 Data'!A:A,0))/100,\"\")","v":""},""]
[null,null,null,null,null,null,null,null,null,null,null,null,null,null,null,null,null,null,null,null,null,null,null,null,null,null,null,null,null,null,null,null,null,null,null,null,null,null,null,null,null,null,null,null,null,null,null,null,null,null,null,null,null,2200,{"$f":" IFERROR(INDIRECT(\"'SP500 Data'!B\"&MATCH(BB287, 'SP500 Data'!A:A,0))/100,\"\")","v":""},""]
[null,null,null,null,null,null,null,null,null,null,null,null,null,null,null,null,null,null,null,null,null,null,null,null,null,null,null,null,null,null,null,null,null,null,null,null,null,null,null,null,null,null,null,null,null,null,null,null,null,null,null,null,null,2201,{"$f":" IFERROR(INDIRECT(\"'SP500 Data'!B\"&MATCH(BB288, 'SP500 Data'!A:A,0))/100,\"\")","v":""},""]
[null,null,null,null,null,null,null,null,null,null,null,null,null,null,null,null,null,null,null,null,null,null,null,null,null,null,null,null,null,null,null,null,null,null,null,null,null,null,null,null,null,null,null,null,null,null,null,null,null,null,null,null,null,2202,{"$f":" IFERROR(INDIRECT(\"'SP500 Data'!B\"&MATCH(BB289, 'SP500 Data'!A:A,0))/100,\"\")","v":""},""]
[null,null,null,null,null,null,null,null,null,null,null,null,null,null,null,null,null,null,null,null,null,null,null,null,null,null,null,null,null,null,null,null,null,null,null,null,null,null,null,null,null,null,null,null,null,null,null,null,null,null,null,null,null,2203,{"$f":" IFERROR(INDIRECT(\"'SP500 Data'!B\"&MATCH(BB290, 'SP500 Data'!A:A,0))/100,\"\")","v":""},""]
[null,null,null,null,null,null,null,null,null,null,null,null,null,null,null,null,null,null,null,null,null,null,null,null,null,null,null,null,null,null,null,null,null,null,null,null,null,null,null,null,null,null,null,null,null,null,null,null,null,null,null,null,null,2204,{"$f":" IFERROR(INDIRECT(\"'SP500 Data'!B\"&MATCH(BB291, 'SP500 Data'!A:A,0))/100,\"\")","v":""},""]
[null,null,null,null,null,null,null,null,null,null,null,null,null,null,null,null,null,null,null,null,null,null,null,null,null,null,null,null,null,null,null,null,null,null,null,null,null,null,null,null,null,null,null,null,null,null,null,null,null,null,null,null,null,2205,{"$f":" IFERROR(INDIRECT(\"'SP500 Data'!B\"&MATCH(BB292, 'SP500 Data'!A:A,0))/100,\"\")","v":""},""]
[null,null,null,null,null,null,null,null,null,null,null,null,null,null,null,null,null,null,null,null,null,null,null,null,null,null,null,null,null,null,null,null,null,null,null,null,null,null,null,null,null,null,null,null,null,null,null,null,null,null,null,null,null,2206,{"$f":" IFERROR(INDIRECT(\"'SP500 Data'!B\"&MATCH(BB293, 'SP500 Data'!A:A,0))/100,\"\")","v":""},""]
[null,null,null,null,null,null,null,null,null,null,null,null,null,null,null,null,null,null,null,null,null,null,null,null,null,null,null,null,null,null,null,null,null,null,null,null,null,null,null,null,null,null,null,null,null,null,null,null,null,null,null,null,null,2207,{"$f":" IFERROR(INDIRECT(\"'SP500 Data'!B\"&MATCH(BB294, 'SP500 Data'!A:A,0))/100,\"\")","v":""},""]
[null,null,null,null,null,null,null,null,null,null,null,null,null,null,null,null,null,null,null,null,null,null,null,null,null,null,null,null,null,null,null,null,null,null,null,null,null,null,null,null,null,null,null,null,null,null,null,null,null,null,null,null,null,2208,{"$f":" IFERROR(INDIRECT(\"'SP500 Data'!B\"&MATCH(BB295, 'SP500 Data'!A:A,0))/100,\"\")","v":""},""]
[null,null,null,null,null,null,null,null,null,null,null,null,null,null,null,null,null,null,null,null,null,null,null,null,null,null,null,null,null,null,null,null,null,null,null,null,null,null,null,null,null,null,null,null,null,null,null,null,null,null,null,null,null,2209,{"$f":" IFERROR(INDIRECT(\"'SP500 Data'!B\"&MATCH(BB296, 'SP500 Data'!A:A,0))/100,\"\")","v":""},""]
[null,null,null,null,null,null,null,null,null,null,null,null,null,null,null,null,null,null,null,null,null,null,null,null,null,null,null,null,null,null,null,null,null,null,null,null,null,null,null,null,null,null,null,null,null,null,null,null,null,null,null,null,null,2210,{"$f":" IFERROR(INDIRECT(\"'SP500 Data'!B\"&MATCH(BB297, 'SP500 Data'!A:A,0))/100,\"\")","v":""},""]
[null,null,null,null,null,null,null,null,null,null,null,null,null,null,null,null,null,null,null,null,null,null,null,null,null,null,null,null,null,null,null,null,null,null,null,null,null,null,null,null,null,null,null,null,null,null,null,null,null,null,null,null,null,2211,{"$f":" IFERROR(INDIRECT(\"'SP500 Data'!B\"&MATCH(BB298, 'SP500 Data'!A:A,0))/100,\"\")","v":""},""]
[null,null,null,null,null,null,null,null,null,null,null,null,null,null,null,null,null,null,null,null,null,null,null,null,null,null,null,null,null,null,null,null,null,null,null,null,null,null,null,null,null,null,null,null,null,null,null,null,null,null,null,null,null,2212,{"$f":" IFERROR(INDIRECT(\"'SP500 Data'!B\"&MATCH(BB299, 'SP500 Data'!A:A,0))/100,\"\")","v":""},""]
[null,null,null,null,null,null,null,null,null,null,null,null,null,null,null,null,null,null,null,null,null,null,null,null,null,null,null,null,null,null,null,null,null,null,null,null,null,null,null,null,null,null,null,null,null,null,null,null,null,null,null,null,null,2213,{"$f":" IFERROR(INDIRECT(\"'SP500 Data'!B\"&MATCH(BB300, 'SP500 Data'!A:A,0))/100,\"\")","v":""},""]
[null,null,null,null,null,null,null,null,null,null,null,null,null,null,null,null,null,null,null,null,null,null,null,null,null,null,null,null,null,null,null,null,null,null,null,null,null,null,null,null,null,null,null,null,null,null,null,null,null,null,null,null,null,2214,{"$f":" IFERROR(INDIRECT(\"'SP500 Data'!B\"&MATCH(BB301, 'SP500 Data'!A:A,0))/100,\"\")","v":""},""]
[null,null,null,null,null,null,null,null,null,null,null,null,null,null,null,null,null,null,null,null,null,null,null,null,null,null,null,null,null,null,null,null,null,null,null,null,null,null,null,null,null,null,null,null,null,null,null,null,null,null,null,null,null,2215,{"$f":" IFERROR(INDIRECT(\"'SP500 Data'!B\"&MATCH(BB302, 'SP500 Data'!A:A,0))/100,\"\")","v":""},""]
[null,null,null,null,null,null,null,null,null,null,null,null,null,null,null,null,null,null,null,null,null,null,null,null,null,null,null,null,null,null,null,null,null,null,null,null,null,null,null,null,null,null,null,null,null,null,null,null,null,null,null,null,null,2216,{"$f":" IFERROR(INDIRECT(\"'SP500 Data'!B\"&MATCH(BB303, 'SP500 Data'!A:A,0))/100,\"\")","v":""},""]
[null,null,null,null,null,null,null,null,null,null,null,null,null,null,null,null,null,null,null,null,null,null,null,null,null,null,null,null,null,null,null,null,null,null,null,null,null,null,null,null,null,null,null,null,null,null,null,null,null,null,null,null,null,2217,{"$f":" IFERROR(INDIRECT(\"'SP500 Data'!B\"&MATCH(BB304, 'SP500 Data'!A:A,0))/100,\"\")","v":""},""]
[null,null,null,null,null,null,null,null,null,null,null,null,null,null,null,null,null,null,null,null,null,null,null,null,null,null,null,null,null,null,null,null,null,null,null,null,null,null,null,null,null,null,null,null,null,null,null,null,null,null,null,null,null,2218,{"$f":" IFERROR(INDIRECT(\"'SP500 Data'!B\"&MATCH(BB305, 'SP500 Data'!A:A,0))/100,\"\")","v":""},""]
[null,null,null,null,null,null,null,null,null,null,null,null,null,null,null,null,null,null,null,null,null,null,null,null,null,null,null,null,null,null,null,null,null,null,null,null,null,null,null,null,null,null,null,null,null,null,null,null,null,null,null,null,null,2219,{"$f":" IFERROR(INDIRECT(\"'SP500 Data'!B\"&MATCH(BB306, 'SP500 Data'!A:A,0))/100,\"\")","v":""},""]
[null,null,null,null,null,null,null,null,null,null,null,null,null,null,null,null,null,null,null,null,null,null,null,null,null,null,null,null,null,null,null,null,null,null,null,null,null,null,null,null,null,null,null,null,null,null,null,null,null,null,null,null,null,2220,{"$f":" IFERROR(INDIRECT(\"'SP500 Data'!B\"&MATCH(BB307, 'SP500 Data'!A:A,0))/100,\"\")","v":""},""]
[null,null,null,null,null,null,null,null,null,null,null,null,null,null,null,null,null,null,null,null,null,null,null,null,null,null,null,null,null,null,null,null,null,null,null,null,null,null,null,null,null,null,null,null,null,null,null,null,null,null,null,null,null,2221,{"$f":" IFERROR(INDIRECT(\"'SP500 Data'!B\"&MATCH(BB308, 'SP500 Data'!A:A,0))/100,\"\")","v":""},""]
[null,null,null,null,null,null,null,null,null,null,null,null,null,null,null,null,null,null,null,null,null,null,null,null,null,null,null,null,null,null,null,null,null,null,null,null,null,null,null,null,null,null,null,null,null,null,null,null,null,null,null,null,null,2222,{"$f":" IFERROR(INDIRECT(\"'SP500 Data'!B\"&MATCH(BB309, 'SP500 Data'!A:A,0))/100,\"\")","v":""},""]
[null,null,null,null,null,null,null,null,null,null,null,null,null,null,null,null,null,null,null,null,null,null,null,null,null,null,null,null,null,null,null,null,null,null,null,null,null,null,null,null,null,null,null,null,null,null,null,null,null,null,null,null,null,2223,{"$f":" IFERROR(INDIRECT(\"'SP500 Data'!B\"&MATCH(BB310, 'SP500 Data'!A:A,0))/100,\"\")","v":""},""]
[null,null,null,null,null,null,null,null,null,null,null,null,null,null,null,null,null,null,null,null,null,null,null,null,null,null,null,null,null,null,null,null,null,null,null,null,null,null,null,null,null,null,null,null,null,null,null,null,null,null,null,null,null,2224,{"$f":" IFERROR(INDIRECT(\"'SP500 Data'!B\"&MATCH(BB311, 'SP500 Data'!A:A,0))/100,\"\")","v":""},""]
[null,null,null,null,null,null,null,null,null,null,null,null,null,null,null,null,null,null,null,null,null,null,null,null,null,null,null,null,null,null,null,null,null,null,null,null,null,null,null,null,null,null,null,null,null,null,null,null,null,null,null,null,null,2225,{"$f":" IFERROR(INDIRECT(\"'SP500 Data'!B\"&MATCH(BB312, 'SP500 Data'!A:A,0))/100,\"\")","v":""},""]
[null,null,null,null,null,null,null,null,null,null,null,null,null,null,null,null,null,null,null,null,null,null,null,null,null,null,null,null,null,null,null,null,null,null,null,null,null,null,null,null,null,null,null,null,null,null,null,null,null,null,null,null,null,2226,{"$f":" IFERROR(INDIRECT(\"'SP500 Data'!B\"&MATCH(BB313, 'SP500 Data'!A:A,0))/100,\"\")","v":""},""]
[null,null,null,null,null,null,null,null,null,null,null,null,null,null,null,null,null,null,null,null,null,null,null,null,null,null,null,null,null,null,null,null,null,null,null,null,null,null,null,null,null,null,null,null,null,null,null,null,null,null,null,null,null,2227,{"$f":" IFERROR(INDIRECT(\"'SP500 Data'!B\"&MATCH(BB314, 'SP500 Data'!A:A,0))/100,\"\")","v":""},""]
[null,null,null,null,null,null,null,null,null,null,null,null,null,null,null,null,null,null,null,null,null,null,null,null,null,null,null,null,null,null,null,null,null,null,null,null,null,null,null,null,null,null,null,null,null,null,null,null,null,null,null,null,null,2228,{"$f":" IFERROR(INDIRECT(\"'SP500 Data'!B\"&MATCH(BB315, 'SP500 Data'!A:A,0))/100,\"\")","v":""},""]
[null,null,null,null,null,null,null,null,null,null,null,null,null,null,null,null,null,null,null,null,null,null,null,null,null,null,null,null,null,null,null,null,null,null,null,null,null,null,null,null,null,null,null,null,null,null,null,null,null,null,null,null,null,2229,{"$f":" IFERROR(INDIRECT(\"'SP500 Data'!B\"&MATCH(BB316, 'SP500 Data'!A:A,0))/100,\"\")","v":""},""]
[null,null,null,null,null,null,null,null,null,null,null,null,null,null,null,null,null,null,null,null,null,null,null,null,null,null,null,null,null,null,null,null,null,null,null,null,null,null,null,null,null,null,null,null,null,null,null,null,null,null,null,null,null,2230,{"$f":" IFERROR(INDIRECT(\"'SP500 Data'!B\"&MATCH(BB317, 'SP500 Data'!A:A,0))/100,\"\")","v":""},""]
[null,null,null,null,null,null,null,null,null,null,null,null,null,null,null,null,null,null,null,null,null,null,null,null,null,null,null,null,null,null,null,null,null,null,null,null,null,null,null,null,null,null,null,null,null,null,null,null,null,null,null,null,null,2231,{"$f":" IFERROR(INDIRECT(\"'SP500 Data'!B\"&MATCH(BB318, 'SP500 Data'!A:A,0))/100,\"\")","v":""},""]
[null,null,null,null,null,null,null,null,null,null,null,null,null,null,null,null,null,null,null,null,null,null,null,null,null,null,null,null,null,null,null,null,null,null,null,null,null,null,null,null,null,null,null,null,null,null,null,null,null,null,null,null,null,2232,{"$f":" IFERROR(INDIRECT(\"'SP500 Data'!B\"&MATCH(BB319, 'SP500 Data'!A:A,0))/100,\"\")","v":""},""]
[null,null,null,null,null,null,null,null,null,null,null,null,null,null,null,null,null,null,null,null,null,null,null,null,null,null,null,null,null,null,null,null,null,null,null,null,null,null,null,null,null,null,null,null,null,null,null,null,null,null,null,null,null,2233,{"$f":" IFERROR(INDIRECT(\"'SP500 Data'!B\"&MATCH(BB320, 'SP500 Data'!A:A,0))/100,\"\")","v":""},""]
[null,null,null,null,null,null,null,null,null,null,null,null,null,null,null,null,null,null,null,null,null,null,null,null,null,null,null,null,null,null,null,null,null,null,null,null,null,null,null,null,null,null,null,null,null,null,null,null,null,null,null,null,null,2234,{"$f":" IFERROR(INDIRECT(\"'SP500 Data'!B\"&MATCH(BB321, 'SP500 Data'!A:A,0))/100,\"\")","v":""},""]
[null,null,null,null,null,null,null,null,null,null,null,null,null,null,null,null,null,null,null,null,null,null,null,null,null,null,null,null,null,null,null,null,null,null,null,null,null,null,null,null,null,null,null,null,null,null,null,null,null,null,null,null,null,2235,{"$f":" IFERROR(INDIRECT(\"'SP500 Data'!B\"&MATCH(BB322, 'SP500 Data'!A:A,0))/100,\"\")","v":""},""]
[null,null,null,null,null,null,null,null,null,null,null,null,null,null,null,null,null,null,null,null,null,null,null,null,null,null,null,null,null,null,null,null,null,null,null,null,null,null,null,null,null,null,null,null,null,null,null,null,null,null,null,null,null,2236,{"$f":" IFERROR(INDIRECT(\"'SP500 Data'!B\"&MATCH(BB323, 'SP500 Data'!A:A,0))/100,\"\")","v":""},""]
[null,null,null,null,null,null,null,null,null,null,null,null,null,null,null,null,null,null,null,null,null,null,null,null,null,null,null,null,null,null,null,null,null,null,null,null,null,null,null,null,null,null,null,null,null,null,null,null,null,null,null,null,null,2237,{"$f":" IFERROR(INDIRECT(\"'SP500 Data'!B\"&MATCH(BB324, 'SP500 Data'!A:A,0))/100,\"\")","v":""},""]
[null,null,null,null,null,null,null,null,null,null,null,null,null,null,null,null,null,null,null,null,null,null,null,null,null,null,null,null,null,null,null,null,null,null,null,null,null,null,null,null,null,null,null,null,null,null,null,null,null,null,null,null,null,2238,{"$f":" IFERROR(INDIRECT(\"'SP500 Data'!B\"&MATCH(BB325, 'SP500 Data'!A:A,0))/100,\"\")","v":""},""]
[null,null,null,null,null,null,null,null,null,null,null,null,null,null,null,null,null,null,null,null,null,null,null,null,null,null,null,null,null,null,null,null,null,null,null,null,null,null,null,null,null,null,null,null,null,null,null,null,null,null,null,null,null,2239,{"$f":" IFERROR(INDIRECT(\"'SP500 Data'!B\"&MATCH(BB326, 'SP500 Data'!A:A,0))/100,\"\")","v":""},""]
[null,null,null,null,null,null,null,null,null,null,null,null,null,null,null,null,null,null,null,null,null,null,null,null,null,null,null,null,null,null,null,null,null,null,null,null,null,null,null,null,null,null,null,null,null,null,null,null,null,null,null,null,null,2240,{"$f":" IFERROR(INDIRECT(\"'SP500 Data'!B\"&MATCH(BB327, 'SP500 Data'!A:A,0))/100,\"\")","v":""},""]
[null,null,null,null,null,null,null,null,null,null,null,null,null,null,null,null,null,null,null,null,null,null,null,null,null,null,null,null,null,null,null,null,null,null,null,null,null,null,null,null,null,null,null,null,null,null,null,null,null,null,null,null,null,2241,{"$f":" IFERROR(INDIRECT(\"'SP500 Data'!B\"&MATCH(BB328, 'SP500 Data'!A:A,0))/100,\"\")","v":""},""]
[null,null,null,null,null,null,null,null,null,null,null,null,null,null,null,null,null,null,null,null,null,null,null,null,null,null,null,null,null,null,null,null,null,null,null,null,null,null,null,null,null,null,null,null,null,null,null,null,null,null,null,null,null,2242,{"$f":" IFERROR(INDIRECT(\"'SP500 Data'!B\"&MATCH(BB329, 'SP500 Data'!A:A,0))/100,\"\")","v":""},""]
[null,null,null,null,null,null,null,null,null,null,null,null,null,null,null,null,null,null,null,null,null,null,null,null,null,null,null,null,null,null,null,null,null,null,null,null,null,null,null,null,null,null,null,null,null,null,null,null,null,null,null,null,null,2243,{"$f":" IFERROR(INDIRECT(\"'SP500 Data'!B\"&MATCH(BB330, 'SP500 Data'!A:A,0))/100,\"\")","v":""},""]
[null,null,null,null,null,null,null,null,null,null,null,null,null,null,null,null,null,null,null,null,null,null,null,null,null,null,null,null,null,null,null,null,null,null,null,null,null,null,null,null,null,null,null,null,null,null,null,null,null,null,null,null,null,2244,{"$f":" IFERROR(INDIRECT(\"'SP500 Data'!B\"&MATCH(BB331, 'SP500 Data'!A:A,0))/100,\"\")","v":""},""]
[null,null,null,null,null,null,null,null,null,null,null,null,null,null,null,null,null,null,null,null,null,null,null,null,null,null,null,null,null,null,null,null,null,null,null,null,null,null,null,null,null,null,null,null,null,null,null,null,null,null,null,null,null,2245,{"$f":" IFERROR(INDIRECT(\"'SP500 Data'!B\"&MATCH(BB332, 'SP500 Data'!A:A,0))/100,\"\")","v":""},""]
[null,null,null,null,null,null,null,null,null,null,null,null,null,null,null,null,null,null,null,null,null,null,null,null,null,null,null,null,null,null,null,null,null,null,null,null,null,null,null,null,null,null,null,null,null,null,null,null,null,null,null,null,null,2246,{"$f":" IFERROR(INDIRECT(\"'SP500 Data'!B\"&MATCH(BB333, 'SP500 Data'!A:A,0))/100,\"\")","v":""},""]
[null,null,null,null,null,null,null,null,null,null,null,null,null,null,null,null,null,null,null,null,null,null,null,null,null,null,null,null,null,null,null,null,null,null,null,null,null,null,null,null,null,null,null,null,null,null,null,null,null,null,null,null,null,2247,{"$f":" IFERROR(INDIRECT(\"'SP500 Data'!B\"&MATCH(BB334, 'SP500 Data'!A:A,0))/100,\"\")","v":""},{"$f":" IFERROR(1 +BC334, \"\")","v":""}]
[null,null,null,null,null,null,null,null,null,null,null,null,null,null,null,null,null,null,null,null,null,null,null,null,null,null,null,null,null,null,null,null,null,null,null,null,null,null,null,null,null,null,null,null,null,null,null,null,null,null,null,null,null,2248,{"$f":" IFERROR(INDIRECT(\"'SP500 Data'!B\"&MATCH(BB335, 'SP500 Data'!A:A,0))/100,\"\")","v":""},""]
[null,null,null,null,null,null,null,null,null,null,null,null,null,null,null,null,null,null,null,null,null,null,null,null,null,null,null,null,null,null,null,null,null,null,null,null,null,null,null,null,null,null,null,null,null,null,null,null,null,null,null,null,null,2249,{"$f":" IFERROR(INDIRECT(\"'SP500 Data'!B\"&MATCH(BB336, 'SP500 Data'!A:A,0))/100,\"\")","v":""},""]
[null,null,null,null,null,null,null,null,null,null,null,null,null,null,null,null,null,null,null,null,null,null,null,null,null,null,null,null,null,null,null,null,null,null,null,null,null,null,null,null,null,null,null,null,null,null,null,null,null,null,null,null,null,2250,{"$f":" IFERROR(INDIRECT(\"'SP500 Data'!B\"&MATCH(BB337, 'SP500 Data'!A:A,0))/100,\"\")","v":""},""]
[null,null,null,null,null,null,null,null,null,null,null,null,null,null,null,null,null,null,null,null,null,null,null,null,null,null,null,null,null,null,null,null,null,null,null,null,null,null,null,null,null,null,null,null,null,null,null,null,null,null,null,null,null,2251,{"$f":" IFERROR(INDIRECT(\"'SP500 Data'!B\"&MATCH(BB338, 'SP500 Data'!A:A,0))/100,\"\")","v":""},""]
[null,null,null,null,null,null,null,null,null,null,null,null,null,null,null,null,null,null,null,null,null,null,null,null,null,null,null,null,null,null,null,null,null,null,null,null,null,null,null,null,null,null,null,null,null,null,null,null,null,null,null,null,null,2252,{"$f":" IFERROR(INDIRECT(\"'SP500 Data'!B\"&MATCH(BB339, 'SP500 Data'!A:A,0))/100,\"\")","v":""},""]
[null,null,null,null,null,null,null,null,null,null,null,null,null,null,null,null,null,null,null,null,null,null,null,null,null,null,null,null,null,null,null,null,null,null,null,null,null,null,null,null,null,null,null,null,null,null,null,null,null,null,null,null,null,2253,{"$f":" IFERROR(INDIRECT(\"'SP500 Data'!B\"&MATCH(BB340, 'SP500 Data'!A:A,0))/100,\"\")","v":""},""]
[null,null,null,null,null,null,null,null,null,null,null,null,null,null,null,null,null,null,null,null,null,null,null,null,null,null,null,null,null,null,null,null,null,null,null,null,null,null,null,null,null,null,null,null,null,null,null,null,null,null,null,null,null,2254,{"$f":" IFERROR(INDIRECT(\"'SP500 Data'!B\"&MATCH(BB341, 'SP500 Data'!A:A,0))/100,\"\")","v":""},""]
[null,null,null,null,null,null,null,null,null,null,null,null,null,null,null,null,null,null,null,null,null,null,null,null,null,null,null,null,null,null,null,null,null,null,null,null,null,null,null,null,null,null,null,null,null,null,null,null,null,null,null,null,null,2255,{"$f":" IFERROR(INDIRECT(\"'SP500 Data'!B\"&MATCH(BB342, 'SP500 Data'!A:A,0))/100,\"\")","v":""},""]
[null,null,null,null,null,null,null,null,null,null,null,null,null,null,null,null,null,null,null,null,null,null,null,null,null,null,null,null,null,null,null,null,null,null,null,null,null,null,null,null,null,null,null,null,null,null,null,null,null,null,null,null,null,2256,{"$f":" IFERROR(INDIRECT(\"'SP500 Data'!B\"&MATCH(BB343, 'SP500 Data'!A:A,0))/100,\"\")","v":""},""]
[null,null,null,null,null,null,null,null,null,null,null,null,null,null,null,null,null,null,null,null,null,null,null,null,null,null,null,null,null,null,null,null,null,null,null,null,null,null,null,null,null,null,null,null,null,null,null,null,null,null,null,null,null,2257,{"$f":" IFERROR(INDIRECT(\"'SP500 Data'!B\"&MATCH(BB344, 'SP500 Data'!A:A,0))/100,\"\")","v":""},""]
[null,null,null,null,null,null,null,null,null,null,null,null,null,null,null,null,null,null,null,null,null,null,null,null,null,null,null,null,null,null,null,null,null,null,null,null,null,null,null,null,null,null,null,null,null,null,null,null,null,null,null,null,null,2258,{"$f":" IFERROR(INDIRECT(\"'SP500 Data'!B\"&MATCH(BB345, 'SP500 Data'!A:A,0))/100,\"\")","v":""},""]
[null,null,null,null,null,null,null,null,null,null,null,null,null,null,null,null,null,null,null,null,null,null,null,null,null,null,null,null,null,null,null,null,null,null,null,null,null,null,null,null,null,null,null,null,null,null,null,null,null,null,null,null,null,2259,{"$f":" IFERROR(INDIRECT(\"'SP500 Data'!B\"&MATCH(BB346, 'SP500 Data'!A:A,0))/100,\"\")","v":""},""]
[null,null,null,null,null,null,null,null,null,null,null,null,null,null,null,null,null,null,null,null,null,null,null,null,null,null,null,null,null,null,null,null,null,null,null,null,null,null,null,null,null,null,null,null,null,null,null,null,null,null,null,null,null,2260,{"$f":" IFERROR(INDIRECT(\"'SP500 Data'!B\"&MATCH(BB347, 'SP500 Data'!A:A,0))/100,\"\")","v":""},""]
[null,null,null,null,null,null,null,null,null,null,null,null,null,null,null,null,null,null,null,null,null,null,null,null,null,null,null,null,null,null,null,null,null,null,null,null,null,null,null,null,null,null,null,null,null,null,null,null,null,null,null,null,null,2261,{"$f":" IFERROR(INDIRECT(\"'SP500 Data'!B\"&MATCH(BB348, 'SP500 Data'!A:A,0))/100,\"\")","v":""},""]
[null,null,null,null,null,null,null,null,null,null,null,null,null,null,null,null,null,null,null,null,null,null,null,null,null,null,null,null,null,null,null,null,null,null,null,null,null,null,null,null,null,null,null,null,null,null,null,null,null,null,null,null,null,2262,{"$f":" IFERROR(INDIRECT(\"'SP500 Data'!B\"&MATCH(BB349, 'SP500 Data'!A:A,0))/100,\"\")","v":""},""]
[null,null,null,null,null,null,null,null,null,null,null,null,null,null,null,null,null,null,null,null,null,null,null,null,null,null,null,null,null,null,null,null,null,null,null,null,null,null,null,null,null,null,null,null,null,null,null,null,null,null,null,null,null,2263,{"$f":" IFERROR(INDIRECT(\"'SP500 Data'!B\"&MATCH(BB350, 'SP500 Data'!A:A,0))/100,\"\")","v":""},""]
[null,null,null,null,null,null,null,null,null,null,null,null,null,null,null,null,null,null,null,null,null,null,null,null,null,null,null,null,null,null,null,null,null,null,null,null,null,null,null,null,null,null,null,null,null,null,null,null,null,null,null,null,null,2264,{"$f":" IFERROR(INDIRECT(\"'SP500 Data'!B\"&MATCH(BB351, 'SP500 Data'!A:A,0))/100,\"\")","v":""},""]
[null,null,null,null,null,null,null,null,null,null,null,null,null,null,null,null,null,null,null,null,null,null,null,null,null,null,null,null,null,null,null,null,null,null,null,null,null,null,null,null,null,null,null,null,null,null,null,null,null,null,null,null,null,2265,{"$f":" IFERROR(INDIRECT(\"'SP500 Data'!B\"&MATCH(BB352, 'SP500 Data'!A:A,0))/100,\"\")","v":""},""]
[null,null,null,null,null,null,null,null,null,null,null,null,null,null,null,null,null,null,null,null,null,null,null,null,null,null,null,null,null,null,null,null,null,null,null,null,null,null,null,null,null,null,null,null,null,null,null,null,null,null,null,null,null,2266,{"$f":" IFERROR(INDIRECT(\"'SP500 Data'!B\"&MATCH(BB353, 'SP500 Data'!A:A,0))/100,\"\")","v":""},""]
[null,null,null,null,null,null,null,null,null,null,null,null,null,null,null,null,null,null,null,null,null,null,null,null,null,null,null,null,null,null,null,null,null,null,null,null,null,null,null,null,null,null,null,null,null,null,null,null,null,null,null,null,null,2267,{"$f":" IFERROR(INDIRECT(\"'SP500 Data'!B\"&MATCH(BB354, 'SP500 Data'!A:A,0))/100,\"\")","v":""},""]
[null,null,null,null,null,null,null,null,null,null,null,null,null,null,null,null,null,null,null,null,null,null,null,null,null,null,null,null,null,null,null,null,null,null,null,null,null,null,null,null,null,null,null,null,null,null,null,null,null,null,null,null,null,2268,{"$f":" IFERROR(INDIRECT(\"'SP500 Data'!B\"&MATCH(BB355, 'SP500 Data'!A:A,0))/100,\"\")","v":""},""]
[null,null,null,null,null,null,null,null,null,null,null,null,null,null,null,null,null,null,null,null,null,null,null,null,null,null,null,null,null,null,null,null,null,null,null,null,null,null,null,null,null,null,null,null,null,null,null,null,null,null,null,null,null,2269,{"$f":" IFERROR(INDIRECT(\"'SP500 Data'!B\"&MATCH(BB356, 'SP500 Data'!A:A,0))/100,\"\")","v":""},""]
[null,null,null,null,null,null,null,null,null,null,null,null,null,null,null,null,null,null,null,null,null,null,null,null,null,null,null,null,null,null,null,null,null,null,null,null,null,null,null,null,null,null,null,null,null,null,null,null,null,null,null,null,null,2270,{"$f":" IFERROR(INDIRECT(\"'SP500 Data'!B\"&MATCH(BB357, 'SP500 Data'!A:A,0))/100,\"\")","v":""},""]
[null,null,null,null,null,null,null,null,null,null,null,null,null,null,null,null,null,null,null,null,null,null,null,null,null,null,null,null,null,null,null,null,null,null,null,null,null,null,null,null,null,null,null,null,null,null,null,null,null,null,null,null,null,2271,{"$f":" IFERROR(INDIRECT(\"'SP500 Data'!B\"&MATCH(BB358, 'SP500 Data'!A:A,0))/100,\"\")","v":""},""]
[null,null,null,null,null,null,null,null,null,null,null,null,null,null,null,null,null,null,null,null,null,null,null,null,null,null,null,null,null,null,null,null,null,null,null,null,null,null,null,null,null,null,null,null,null,null,null,null,null,null,null,null,null,2272,{"$f":" IFERROR(INDIRECT(\"'SP500 Data'!B\"&MATCH(BB359, 'SP500 Data'!A:A,0))/100,\"\")","v":""},""]
[null,null,null,null,null,null,null,null,null,null,null,null,null,null,null,null,null,null,null,null,null,null,null,null,null,null,null,null,null,null,null,null,null,null,null,null,null,null,null,null,null,null,null,null,null,null,null,null,null,null,null,null,null,2273,{"$f":" IFERROR(INDIRECT(\"'SP500 Data'!B\"&MATCH(BB360, 'SP500 Data'!A:A,0))/100,\"\")","v":""},""]
[null,null,null,null,null,null,null,null,null,null,null,null,null,null,null,null,null,null,null,null,null,null,null,null,null,null,null,null,null,null,null,null,null,null,null,null,null,null,null,null,null,null,null,null,null,null,null,null,null,null,null,null,null,2274,{"$f":" IFERROR(INDIRECT(\"'SP500 Data'!B\"&MATCH(BB361, 'SP500 Data'!A:A,0))/100,\"\")","v":""},""]
[null,null,null,null,null,null,null,null,null,null,null,null,null,null,null,null,null,null,null,null,null,null,null,null,null,null,null,null,null,null,null,null,null,null,null,null,null,null,null,null,null,null,null,null,null,null,null,null,null,null,null,null,null,2275,{"$f":" IFERROR(INDIRECT(\"'SP500 Data'!B\"&MATCH(BB362, 'SP500 Data'!A:A,0))/100,\"\")","v":""},""]
[null,null,null,null,null,null,null,null,null,null,null,null,null,null,null,null,null,null,null,null,null,null,null,null,null,null,null,null,null,null,null,null,null,null,null,null,null,null,null,null,null,null,null,null,null,null,null,null,null,null,null,null,null,2276,{"$f":" IFERROR(INDIRECT(\"'SP500 Data'!B\"&MATCH(BB363, 'SP500 Data'!A:A,0))/100,\"\")","v":""},""]
[null,null,null,null,null,null,null,null,null,null,null,null,null,null,null,null,null,null,null,null,null,null,null,null,null,null,null,null,null,null,null,null,null,null,null,null,null,null,null,null,null,null,null,null,null,null,null,null,null,null,null,null,null,2277,{"$f":" IFERROR(INDIRECT(\"'SP500 Data'!B\"&MATCH(BB364, 'SP500 Data'!A:A,0))/100,\"\")","v":""},""]
[null,null,null,null,null,null,null,null,null,null,null,null,null,null,null,null,null,null,null,null,null,null,null,null,null,null,null,null,null,null,null,null,null,null,null,null,null,null,null,null,null,null,null,null,null,null,null,null,null,null,null,null,null,2278,{"$f":" IFERROR(INDIRECT(\"'SP500 Data'!B\"&MATCH(BB365, 'SP500 Data'!A:A,0))/100,\"\")","v":""},""]
[null,null,null,null,null,null,null,null,null,null,null,null,null,null,null,null,null,null,null,null,null,null,null,null,null,null,null,null,null,null,null,null,null,null,null,null,null,null,null,null,null,null,null,null,null,null,null,null,null,null,null,null,null,2279,{"$f":" IFERROR(INDIRECT(\"'SP500 Data'!B\"&MATCH(BB366, 'SP500 Data'!A:A,0))/100,\"\")","v":""},""]
[null,null,null,null,null,null,null,null,null,null,null,null,null,null,null,null,null,null,null,null,null,null,null,null,null,null,null,null,null,null,null,null,null,null,null,null,null,null,null,null,null,null,null,null,null,null,null,null,null,null,null,null,null,2280,{"$f":" IFERROR(INDIRECT(\"'SP500 Data'!B\"&MATCH(BB367, 'SP500 Data'!A:A,0))/100,\"\")","v":""},""]
[null,null,null,null,null,null,null,null,null,null,null,null,null,null,null,null,null,null,null,null,null,null,null,null,null,null,null,null,null,null,null,null,null,null,null,null,null,null,null,null,null,null,null,null,null,null,null,null,null,null,null,null,null,2281,{"$f":" IFERROR(INDIRECT(\"'SP500 Data'!B\"&MATCH(BB368, 'SP500 Data'!A:A,0))/100,\"\")","v":""},""]
[null,null,null,null,null,null,null,null,null,null,null,null,null,null,null,null,null,null,null,null,null,null,null,null,null,null,null,null,null,null,null,null,null,null,null,null,null,null,null,null,null,null,null,null,null,null,null,null,null,null,null,null,null,2282,{"$f":" IFERROR(INDIRECT(\"'SP500 Data'!B\"&MATCH(BB369, 'SP500 Data'!A:A,0))/100,\"\")","v":""},""]
[null,null,null,null,null,null,null,null,null,null,null,null,null,null,null,null,null,null,null,null,null,null,null,null,null,null,null,null,null,null,null,null,null,null,null,null,null,null,null,null,null,null,null,null,null,null,null,null,null,null,null,null,null,2283,{"$f":" IFERROR(INDIRECT(\"'SP500 Data'!B\"&MATCH(BB370, 'SP500 Data'!A:A,0))/100,\"\")","v":""},""]
[null,null,null,null,null,null,null,null,null,null,null,null,null,null,null,null,null,null,null,null,null,null,null,null,null,null,null,null,null,null,null,null,null,null,null,null,null,null,null,null,null,null,null,null,null,null,null,null,null,null,null,null,null,2284,{"$f":" IFERROR(INDIRECT(\"'SP500 Data'!B\"&MATCH(BB371, 'SP500 Data'!A:A,0))/100,\"\")","v":""},""]
[null,null,null,null,null,null,null,null,null,null,null,null,null,null,null,null,null,null,null,null,null,null,null,null,null,null,null,null,null,null,null,null,null,null,null,null,null,null,null,null,null,null,null,null,null,null,null,null,null,null,null,null,null,2285,{"$f":" IFERROR(INDIRECT(\"'SP500 Data'!B\"&MATCH(BB372, 'SP500 Data'!A:A,0))/100,\"\")","v":""},""]
[null,null,null,null,null,null,null,null,null,null,null,null,null,null,null,null,null,null,null,null,null,null,null,null,null,null,null,null,null,null,null,null,null,null,null,null,null,null,null,null,null,null,null,null,null,null,null,null,null,null,null,null,null,2286,{"$f":" IFERROR(INDIRECT(\"'SP500 Data'!B\"&MATCH(BB373, 'SP500 Data'!A:A,0))/100,\"\")","v":""},""]
[null,null,null,null,null,null,null,null,null,null,null,null,null,null,null,null,null,null,null,null,null,null,null,null,null,null,null,null,null,null,null,null,null,null,null,null,null,null,null,null,null,null,null,null,null,null,null,null,null,null,null,null,null,2287,{"$f":" IFERROR(INDIRECT(\"'SP500 Data'!B\"&MATCH(BB374, 'SP500 Data'!A:A,0))/100,\"\")","v":""},""]
[null,null,null,null,null,null,null,null,null,null,null,null,null,null,null,null,null,null,null,null,null,null,null,null,null,null,null,null,null,null,null,null,null,null,null,null,null,null,null,null,null,null,null,null,null,null,null,null,null,null,null,null,null,2288,{"$f":" IFERROR(INDIRECT(\"'SP500 Data'!B\"&MATCH(BB375, 'SP500 Data'!A:A,0))/100,\"\")","v":""},""]
[null,null,null,null,null,null,null,null,null,null,null,null,null,null,null,null,null,null,null,null,null,null,null,null,null,null,null,null,null,null,null,null,null,null,null,null,null,null,null,null,null,null,null,null,null,null,null,null,null,null,null,null,null,2289,{"$f":" IFERROR(INDIRECT(\"'SP500 Data'!B\"&MATCH(BB376, 'SP500 Data'!A:A,0))/100,\"\")","v":""},""]
[null,null,null,null,null,null,null,null,null,null,null,null,null,null,null,null,null,null,null,null,null,null,null,null,null,null,null,null,null,null,null,null,null,null,null,null,null,null,null,null,null,null,null,null,null,null,null,null,null,null,null,null,null,2290,{"$f":" IFERROR(INDIRECT(\"'SP500 Data'!B\"&MATCH(BB377, 'SP500 Data'!A:A,0))/100,\"\")","v":""},""]
[null,null,null,null,null,null,null,null,null,null,null,null,null,null,null,null,null,null,null,null,null,null,null,null,null,null,null,null,null,null,null,null,null,null,null,null,null,null,null,null,null,null,null,null,null,null,null,null,null,null,null,null,null,2291,{"$f":" IFERROR(INDIRECT(\"'SP500 Data'!B\"&MATCH(BB378, 'SP500 Data'!A:A,0))/100,\"\")","v":""},""]
[null,null,null,null,null,null,null,null,null,null,null,null,null,null,null,null,null,null,null,null,null,null,null,null,null,null,null,null,null,null,null,null,null,null,null,null,null,null,null,null,null,null,null,null,null,null,null,null,null,null,null,null,null,2292,{"$f":" IFERROR(INDIRECT(\"'SP500 Data'!B\"&MATCH(BB379, 'SP500 Data'!A:A,0))/100,\"\")","v":""},""]
[null,null,null,null,null,null,null,null,null,null,null,null,null,null,null,null,null,null,null,null,null,null,null,null,null,null,null,null,null,null,null,null,null,null,null,null,null,null,null,null,null,null,null,null,null,null,null,null,null,null,null,null,null,2293,{"$f":" IFERROR(INDIRECT(\"'SP500 Data'!B\"&MATCH(BB380, 'SP500 Data'!A:A,0))/100,\"\")","v":""},""]
[null,null,null,null,null,null,null,null,null,null,null,null,null,null,null,null,null,null,null,null,null,null,null,null,null,null,null,null,null,null,null,null,null,null,null,null,null,null,null,null,null,null,null,null,null,null,null,null,null,null,null,null,null,2294,{"$f":" IFERROR(INDIRECT(\"'SP500 Data'!B\"&MATCH(BB381, 'SP500 Data'!A:A,0))/100,\"\")","v":""},""]
[null,null,null,null,null,null,null,null,null,null,null,null,null,null,null,null,null,null,null,null,null,null,null,null,null,null,null,null,null,null,null,null,null,null,null,null,null,null,null,null,null,null,null,null,null,null,null,null,null,null,null,null,null,2295,{"$f":" IFERROR(INDIRECT(\"'SP500 Data'!B\"&MATCH(BB382, 'SP500 Data'!A:A,0))/100,\"\")","v":""},""]
[null,null,null,null,null,null,null,null,null,null,null,null,null,null,null,null,null,null,null,null,null,null,null,null,null,null,null,null,null,null,null,null,null,null,null,null,null,null,null,null,null,null,null,null,null,null,null,null,null,null,null,null,null,2296,{"$f":" IFERROR(INDIRECT(\"'SP500 Data'!B\"&MATCH(BB383, 'SP500 Data'!A:A,0))/100,\"\")","v":""},""]
[null,null,null,null,null,null,null,null,null,null,null,null,null,null,null,null,null,null,null,null,null,null,null,null,null,null,null,null,null,null,null,null,null,null,null,null,null,null,null,null,null,null,null,null,null,null,null,null,null,null,null,null,null,2297,{"$f":" IFERROR(INDIRECT(\"'SP500 Data'!B\"&MATCH(BB384, 'SP500 Data'!A:A,0))/100,\"\")","v":""},""]
[null,null,null,null,null,null,null,null,null,null,null,null,null,null,null,null,null,null,null,null,null,null,null,null,null,null,null,null,null,null,null,null,null,null,null,null,null,null,null,null,null,null,null,null,null,null,null,null,null,null,null,null,null,2298,{"$f":" IFERROR(INDIRECT(\"'SP500 Data'!B\"&MATCH(BB385, 'SP500 Data'!A:A,0))/100,\"\")","v":""},""]
[null,null,null,null,null,null,null,null,null,null,null,null,null,null,null,null,null,null,null,null,null,null,null,null,null,null,null,null,null,null,null,null,null,null,null,null,null,null,null,null,null,null,null,null,null,null,null,null,null,null,null,null,null,2299,{"$f":" IFERROR(INDIRECT(\"'SP500 Data'!B\"&MATCH(BB386, 'SP500 Data'!A:A,0))/100,\"\")","v":""},""]
[null,null,null,null,null,null,null,null,null,null,null,null,null,null,null,null,null,null,null,null,null,null,null,null,null,null,null,null,null,null,null,null,null,null,null,null,null,null,null,null,null,null,null,null,null,null,null,null,null,null,null,null,null,2300,{"$f":" IFERROR(INDIRECT(\"'SP500 Data'!B\"&MATCH(BB387, 'SP500 Data'!A:A,0))/100,\"\")","v":""},""]
[null,null,null,null,null,null,null,null,null,null,null,null,null,null,null,null,null,null,null,null,null,null,null,null,null,null,null,null,null,null,null,null,null,null,null,null,null,null,null,null,null,null,null,null,null,null,null,null,null,null,null,null,null,2301,{"$f":" IFERROR(INDIRECT(\"'SP500 Data'!B\"&MATCH(BB388, 'SP500 Data'!A:A,0))/100,\"\")","v":""},""]
[null,null,null,null,null,null,null,null,null,null,null,null,null,null,null,null,null,null,null,null,null,null,null,null,null,null,null,null,null,null,null,null,null,null,null,null,null,null,null,null,null,null,null,null,null,null,null,null,null,null,null,null,null,2302,{"$f":" IFERROR(INDIRECT(\"'SP500 Data'!B\"&MATCH(BB389, 'SP500 Data'!A:A,0))/100,\"\")","v":""},""]
[null,null,null,null,null,null,null,null,null,null,null,null,null,null,null,null,null,null,null,null,null,null,null,null,null,null,null,null,null,null,null,null,null,null,null,null,null,null,null,null,null,null,null,null,null,null,null,null,null,null,null,null,null,2303,{"$f":" IFERROR(INDIRECT(\"'SP500 Data'!B\"&MATCH(BB390, 'SP500 Data'!A:A,0))/100,\"\")","v":""},""]
[null,null,null,null,null,null,null,null,null,null,null,null,null,null,null,null,null,null,null,null,null,null,null,null,null,null,null,null,null,null,null,null,null,null,null,null,null,null,null,null,null,null,null,null,null,null,null,null,null,null,null,null,null,2304,{"$f":" IFERROR(INDIRECT(\"'SP500 Data'!B\"&MATCH(BB391, 'SP500 Data'!A:A,0))/100,\"\")","v":""},""]
[null,null,null,null,null,null,null,null,null,null,null,null,null,null,null,null,null,null,null,null,null,null,null,null,null,null,null,null,null,null,null,null,null,null,null,null,null,null,null,null,null,null,null,null,null,null,null,null,null,null,null,null,null,2305,{"$f":" IFERROR(INDIRECT(\"'SP500 Data'!B\"&MATCH(BB392, 'SP500 Data'!A:A,0))/100,\"\")","v":""},""]
[null,null,null,null,null,null,null,null,null,null,null,null,null,null,null,null,null,null,null,null,null,null,null,null,null,null,null,null,null,null,null,null,null,null,null,null,null,null,null,null,null,null,null,null,null,null,null,null,null,null,null,null,null,2306,{"$f":" IFERROR(INDIRECT(\"'SP500 Data'!B\"&MATCH(BB393, 'SP500 Data'!A:A,0))/100,\"\")","v":""},""]
[null,null,null,null,null,null,null,null,null,null,null,null,null,null,null,null,null,null,null,null,null,null,null,null,null,null,null,null,null,null,null,null,null,null,null,null,null,null,null,null,null,null,null,null,null,null,null,null,null,null,null,null,null,2307,{"$f":" IFERROR(INDIRECT(\"'SP500 Data'!B\"&MATCH(BB394, 'SP500 Data'!A:A,0))/100,\"\")","v":""},""]
[null,null,null,null,null,null,null,null,null,null,null,null,null,null,null,null,null,null,null,null,null,null,null,null,null,null,null,null,null,null,null,null,null,null,null,null,null,null,null,null,null,null,null,null,null,null,null,null,null,null,null,null,null,2308,{"$f":" IFERROR(INDIRECT(\"'SP500 Data'!B\"&MATCH(BB395, 'SP500 Data'!A:A,0))/100,\"\")","v":""},""]
[null,null,null,null,null,null,null,null,null,null,null,null,null,null,null,null,null,null,null,null,null,null,null,null,null,null,null,null,null,null,null,null,null,null,null,null,null,null,null,null,null,null,null,null,null,null,null,null,null,null,null,null,null,2309,{"$f":" IFERROR(INDIRECT(\"'SP500 Data'!B\"&MATCH(BB396, 'SP500 Data'!A:A,0))/100,\"\")","v":""},""]
[null,null,null,null,null,null,null,null,null,null,null,null,null,null,null,null,null,null,null,null,null,null,null,null,null,null,null,null,null,null,null,null,null,null,null,null,null,null,null,null,null,null,null,null,null,null,null,null,null,null,null,null,null,2310,{"$f":" IFERROR(INDIRECT(\"'SP500 Data'!B\"&MATCH(BB397, 'SP500 Data'!A:A,0))/100,\"\")","v":""},""]
[null,null,null,null,null,null,null,null,null,null,null,null,null,null,null,null,null,null,null,null,null,null,null,null,null,null,null,null,null,null,null,null,null,null,null,null,null,null,null,null,null,null,null,null,null,null,null,null,null,null,null,null,null,2311,{"$f":" IFERROR(INDIRECT(\"'SP500 Data'!B\"&MATCH(BB398, 'SP500 Data'!A:A,0))/100,\"\")","v":""},{"$f":" IFERROR(1 +BC398, \"\")","v":""}]
[null,null,null,null,null,null,null,null,null,null,null,null,null,null,null,null,null,null,null,null,null,null,null,null,null,null,null,null,null,null,null,null,null,null,null,null,null,null,null,null,null,null,null,null,null,null,null,null,null,null,null,null,null,2312,{"$f":" IFERROR(INDIRECT(\"'SP500 Data'!B\"&MATCH(BB399, 'SP500 Data'!A:A,0))/100,\"\")","v":""},""]
[null,null,null,null,null,null,null,null,null,null,null,null,null,null,null,null,null,null,null,null,null,null,null,null,null,null,null,null,null,null,null,null,null,null,null,null,null,null,null,null,null,null,null,null,null,null,null,null,null,null,null,null,null,2313,{"$f":" IFERROR(INDIRECT(\"'SP500 Data'!B\"&MATCH(BB400, 'SP500 Data'!A:A,0))/100,\"\")","v":""},""]
[null,null,null,null,null,null,null,null,null,null,null,null,null,null,null,null,null,null,null,null,null,null,null,null,null,null,null,null,null,null,null,null,null,null,null,null,null,null,null,null,null,null,null,null,null,null,null,null,null,null,null,null,null,2314,{"$f":" IFERROR(INDIRECT(\"'SP500 Data'!B\"&MATCH(BB401, 'SP500 Data'!A:A,0))/100,\"\")","v":""},""]
[null,null,null,null,null,null,null,null,null,null,null,null,null,null,null,null,null,null,null,null,null,null,null,null,null,null,null,null,null,null,null,null,null,null,null,null,null,null,null,null,null,null,null,null,null,null,null,null,null,null,null,null,null,2315,{"$f":" IFERROR(INDIRECT(\"'SP500 Data'!B\"&MATCH(BB402, 'SP500 Data'!A:A,0))/100,\"\")","v":""},""]
[null,null,null,null,null,null,null,null,null,null,null,null,null,null,null,null,null,null,null,null,null,null,null,null,null,null,null,null,null,null,null,null,null,null,null,null,null,null,null,null,null,null,null,null,null,null,null,null,null,null,null,null,null,2316,{"$f":" IFERROR(INDIRECT(\"'SP500 Data'!B\"&MATCH(BB403, 'SP500 Data'!A:A,0))/100,\"\")","v":""},""]
[null,null,null,null,null,null,null,null,null,null,null,null,null,null,null,null,null,null,null,null,null,null,null,null,null,null,null,null,null,null,null,null,null,null,null,null,null,null,null,null,null,null,null,null,null,null,null,null,null,null,null,null,null,2317,{"$f":" IFERROR(INDIRECT(\"'SP500 Data'!B\"&MATCH(BB404, 'SP500 Data'!A:A,0))/100,\"\")","v":""},""]
[null,null,null,null,null,null,null,null,null,null,null,null,null,null,null,null,null,null,null,null,null,null,null,null,null,null,null,null,null,null,null,null,null,null,null,null,null,null,null,null,null,null,null,null,null,null,null,null,null,null,null,null,null,2318,{"$f":" IFERROR(INDIRECT(\"'SP500 Data'!B\"&MATCH(BB405, 'SP500 Data'!A:A,0))/100,\"\")","v":""},""]
[null,null,null,null,null,null,null,null,null,null,null,null,null,null,null,null,null,null,null,null,null,null,null,null,null,null,null,null,null,null,null,null,null,null,null,null,null,null,null,null,null,null,null,null,null,null,null,null,null,null,null,null,null,2319,{"$f":" IFERROR(INDIRECT(\"'SP500 Data'!B\"&MATCH(BB406, 'SP500 Data'!A:A,0))/100,\"\")","v":""},""]
[null,null,null,null,null,null,null,null,null,null,null,null,null,null,null,null,null,null,null,null,null,null,null,null,null,null,null,null,null,null,null,null,null,null,null,null,null,null,null,null,null,null,null,null,null,null,null,null,null,null,null,null,null,2320,{"$f":" IFERROR(INDIRECT(\"'SP500 Data'!B\"&MATCH(BB407, 'SP500 Data'!A:A,0))/100,\"\")","v":""},""]
[null,null,null,null,null,null,null,null,null,null,null,null,null,null,null,null,null,null,null,null,null,null,null,null,null,null,null,null,null,null,null,null,null,null,null,null,null,null,null,null,null,null,null,null,null,null,null,null,null,null,null,null,null,2321,{"$f":" IFERROR(INDIRECT(\"'SP500 Data'!B\"&MATCH(BB408, 'SP500 Data'!A:A,0))/100,\"\")","v":""},""]
[null,null,null,null,null,null,null,null,null,null,null,null,null,null,null,null,null,null,null,null,null,null,null,null,null,null,null,null,null,null,null,null,null,null,null,null,null,null,null,null,null,null,null,null,null,null,null,null,null,null,null,null,null,2322,{"$f":" IFERROR(INDIRECT(\"'SP500 Data'!B\"&MATCH(BB409, 'SP500 Data'!A:A,0))/100,\"\")","v":""},""]
[null,null,null,null,null,null,null,null,null,null,null,null,null,null,null,null,null,null,null,null,null,null,null,null,null,null,null,null,null,null,null,null,null,null,null,null,null,null,null,null,null,null,null,null,null,null,null,null,null,null,null,null,null,2323,{"$f":" IFERROR(INDIRECT(\"'SP500 Data'!B\"&MATCH(BB410, 'SP500 Data'!A:A,0))/100,\"\")","v":""},""]
[null,null,null,null,null,null,null,null,null,null,null,null,null,null,null,null,null,null,null,null,null,null,null,null,null,null,null,null,null,null,null,null,null,null,null,null,null,null,null,null,null,null,null,null,null,null,null,null,null,null,null,null,null,2324,{"$f":" IFERROR(INDIRECT(\"'SP500 Data'!B\"&MATCH(BB411, 'SP500 Data'!A:A,0))/100,\"\")","v":""},""]
[null,null,null,null,null,null,null,null,null,null,null,null,null,null,null,null,null,null,null,null,null,null,null,null,null,null,null,null,null,null,null,null,null,null,null,null,null,null,null,null,null,null,null,null,null,null,null,null,null,null,null,null,null,2325,{"$f":" IFERROR(INDIRECT(\"'SP500 Data'!B\"&MATCH(BB412, 'SP500 Data'!A:A,0))/100,\"\")","v":""},""]
[null,null,null,null,null,null,null,null,null,null,null,null,null,null,null,null,null,null,null,null,null,null,null,null,null,null,null,null,null,null,null,null,null,null,null,null,null,null,null,null,null,null,null,null,null,null,null,null,null,null,null,null,null,2326,{"$f":" IFERROR(INDIRECT(\"'SP500 Data'!B\"&MATCH(BB413, 'SP500 Data'!A:A,0))/100,\"\")","v":""},""]
[null,null,null,null,null,null,null,null,null,null,null,null,null,null,null,null,null,null,null,null,null,null,null,null,null,null,null,null,null,null,null,null,null,null,null,null,null,null,null,null,null,null,null,null,null,null,null,null,null,null,null,null,null,2327,{"$f":" IFERROR(INDIRECT(\"'SP500 Data'!B\"&MATCH(BB414, 'SP500 Data'!A:A,0))/100,\"\")","v":""},""]
[null,null,null,null,null,null,null,null,null,null,null,null,null,null,null,null,null,null,null,null,null,null,null,null,null,null,null,null,null,null,null,null,null,null,null,null,null,null,null,null,null,null,null,null,null,null,null,null,null,null,null,null,null,2328,{"$f":" IFERROR(INDIRECT(\"'SP500 Data'!B\"&MATCH(BB415, 'SP500 Data'!A:A,0))/100,\"\")","v":""},""]
[null,null,null,null,null,null,null,null,null,null,null,null,null,null,null,null,null,null,null,null,null,null,null,null,null,null,null,null,null,null,null,null,null,null,null,null,null,null,null,null,null,null,null,null,null,null,null,null,null,null,null,null,null,2329,{"$f":" IFERROR(INDIRECT(\"'SP500 Data'!B\"&MATCH(BB416, 'SP500 Data'!A:A,0))/100,\"\")","v":""},""]
[null,null,null,null,null,null,null,null,null,null,null,null,null,null,null,null,null,null,null,null,null,null,null,null,null,null,null,null,null,null,null,null,null,null,null,null,null,null,null,null,null,null,null,null,null,null,null,null,null,null,null,null,null,2330,{"$f":" IFERROR(INDIRECT(\"'SP500 Data'!B\"&MATCH(BB417, 'SP500 Data'!A:A,0))/100,\"\")","v":""},""]
[null,null,null,null,null,null,null,null,null,null,null,null,null,null,null,null,null,null,null,null,null,null,null,null,null,null,null,null,null,null,null,null,null,null,null,null,null,null,null,null,null,null,null,null,null,null,null,null,null,null,null,null,null,2331,{"$f":" IFERROR(INDIRECT(\"'SP500 Data'!B\"&MATCH(BB418, 'SP500 Data'!A:A,0))/100,\"\")","v":""},""]
[null,null,null,null,null,null,null,null,null,null,null,null,null,null,null,null,null,null,null,null,null,null,null,null,null,null,null,null,null,null,null,null,null,null,null,null,null,null,null,null,null,null,null,null,null,null,null,null,null,null,null,null,null,2332,{"$f":" IFERROR(INDIRECT(\"'SP500 Data'!B\"&MATCH(BB419, 'SP500 Data'!A:A,0))/100,\"\")","v":""},""]
[null,null,null,null,null,null,null,null,null,null,null,null,null,null,null,null,null,null,null,null,null,null,null,null,null,null,null,null,null,null,null,null,null,null,null,null,null,null,null,null,null,null,null,null,null,null,null,null,null,null,null,null,null,2333,{"$f":" IFERROR(INDIRECT(\"'SP500 Data'!B\"&MATCH(BB420, 'SP500 Data'!A:A,0))/100,\"\")","v":""},""]
[null,null,null,null,null,null,null,null,null,null,null,null,null,null,null,null,null,null,null,null,null,null,null,null,null,null,null,null,null,null,null,null,null,null,null,null,null,null,null,null,null,null,null,null,null,null,null,null,null,null,null,null,null,2334,{"$f":" IFERROR(INDIRECT(\"'SP500 Data'!B\"&MATCH(BB421, 'SP500 Data'!A:A,0))/100,\"\")","v":""},""]
[null,null,null,null,null,null,null,null,null,null,null,null,null,null,null,null,null,null,null,null,null,null,null,null,null,null,null,null,null,null,null,null,null,null,null,null,null,null,null,null,null,null,null,null,null,null,null,null,null,null,null,null,null,2335,{"$f":" IFERROR(INDIRECT(\"'SP500 Data'!B\"&MATCH(BB422, 'SP500 Data'!A:A,0))/100,\"\")","v":""},""]
[null,null,null,null,null,null,null,null,null,null,null,null,null,null,null,null,null,null,null,null,null,null,null,null,null,null,null,null,null,null,null,null,null,null,null,null,null,null,null,null,null,null,null,null,null,null,null,null,null,null,null,null,null,2336,{"$f":" IFERROR(INDIRECT(\"'SP500 Data'!B\"&MATCH(BB423, 'SP500 Data'!A:A,0))/100,\"\")","v":""},""]
[null,null,null,null,null,null,null,null,null,null,null,null,null,null,null,null,null,null,null,null,null,null,null,null,null,null,null,null,null,null,null,null,null,null,null,null,null,null,null,null,null,null,null,null,null,null,null,null,null,null,null,null,null,2337,{"$f":" IFERROR(INDIRECT(\"'SP500 Data'!B\"&MATCH(BB424, 'SP500 Data'!A:A,0))/100,\"\")","v":""},""]
[null,null,null,null,null,null,null,null,null,null,null,null,null,null,null,null,null,null,null,null,null,null,null,null,null,null,null,null,null,null,null,null,null,null,null,null,null,null,null,null,null,null,null,null,null,null,null,null,null,null,null,null,null,2338,{"$f":" IFERROR(INDIRECT(\"'SP500 Data'!B\"&MATCH(BB425, 'SP500 Data'!A:A,0))/100,\"\")","v":""},""]
[null,null,null,null,null,null,null,null,null,null,null,null,null,null,null,null,null,null,null,null,null,null,null,null,null,null,null,null,null,null,null,null,null,null,null,null,null,null,null,null,null,null,null,null,null,null,null,null,null,null,null,null,null,2339,{"$f":" IFERROR(INDIRECT(\"'SP500 Data'!B\"&MATCH(BB426, 'SP500 Data'!A:A,0))/100,\"\")","v":""},""]
[null,null,null,null,null,null,null,null,null,null,null,null,null,null,null,null,null,null,null,null,null,null,null,null,null,null,null,null,null,null,null,null,null,null,null,null,null,null,null,null,null,null,null,null,null,null,null,null,null,null,null,null,null,2340,{"$f":" IFERROR(INDIRECT(\"'SP500 Data'!B\"&MATCH(BB427, 'SP500 Data'!A:A,0))/100,\"\")","v":""},""]
[null,null,null,null,null,null,null,null,null,null,null,null,null,null,null,null,null,null,null,null,null,null,null,null,null,null,null,null,null,null,null,null,null,null,null,null,null,null,null,null,null,null,null,null,null,null,null,null,null,null,null,null,null,2341,{"$f":" IFERROR(INDIRECT(\"'SP500 Data'!B\"&MATCH(BB428, 'SP500 Data'!A:A,0))/100,\"\")","v":""},""]
[null,null,null,null,null,null,null,null,null,null,null,null,null,null,null,null,null,null,null,null,null,null,null,null,null,null,null,null,null,null,null,null,null,null,null,null,null,null,null,null,null,null,null,null,null,null,null,null,null,null,null,null,null,2342,{"$f":" IFERROR(INDIRECT(\"'SP500 Data'!B\"&MATCH(BB429, 'SP500 Data'!A:A,0))/100,\"\")","v":""},""]
[null,null,null,null,null,null,null,null,null,null,null,null,null,null,null,null,null,null,null,null,null,null,null,null,null,null,null,null,null,null,null,null,null,null,null,null,null,null,null,null,null,null,null,null,null,null,null,null,null,null,null,null,null,2343,{"$f":" IFERROR(INDIRECT(\"'SP500 Data'!B\"&MATCH(BB430, 'SP500 Data'!A:A,0))/100,\"\")","v":""},""]
[null,null,null,null,null,null,null,null,null,null,null,null,null,null,null,null,null,null,null,null,null,null,null,null,null,null,null,null,null,null,null,null,null,null,null,null,null,null,null,null,null,null,null,null,null,null,null,null,null,null,null,null,null,2344,{"$f":" IFERROR(INDIRECT(\"'SP500 Data'!B\"&MATCH(BB431, 'SP500 Data'!A:A,0))/100,\"\")","v":""},""]
[null,null,null,null,null,null,null,null,null,null,null,null,null,null,null,null,null,null,null,null,null,null,null,null,null,null,null,null,null,null,null,null,null,null,null,null,null,null,null,null,null,null,null,null,null,null,null,null,null,null,null,null,null,2345,{"$f":" IFERROR(INDIRECT(\"'SP500 Data'!B\"&MATCH(BB432, 'SP500 Data'!A:A,0))/100,\"\")","v":""},""]
[null,null,null,null,null,null,null,null,null,null,null,null,null,null,null,null,null,null,null,null,null,null,null,null,null,null,null,null,null,null,null,null,null,null,null,null,null,null,null,null,null,null,null,null,null,null,null,null,null,null,null,null,null,2346,{"$f":" IFERROR(INDIRECT(\"'SP500 Data'!B\"&MATCH(BB433, 'SP500 Data'!A:A,0))/100,\"\")","v":""},""]
[null,null,null,null,null,null,null,null,null,null,null,null,null,null,null,null,null,null,null,null,null,null,null,null,null,null,null,null,null,null,null,null,null,null,null,null,null,null,null,null,null,null,null,null,null,null,null,null,null,null,null,null,null,2347,{"$f":" IFERROR(INDIRECT(\"'SP500 Data'!B\"&MATCH(BB434, 'SP500 Data'!A:A,0))/100,\"\")","v":""},""]
[null,null,null,null,null,null,null,null,null,null,null,null,null,null,null,null,null,null,null,null,null,null,null,null,null,null,null,null,null,null,null,null,null,null,null,null,null,null,null,null,null,null,null,null,null,null,null,null,null,null,null,null,null,2348,{"$f":" IFERROR(INDIRECT(\"'SP500 Data'!B\"&MATCH(BB435, 'SP500 Data'!A:A,0))/100,\"\")","v":""},""]
[null,null,null,null,null,null,null,null,null,null,null,null,null,null,null,null,null,null,null,null,null,null,null,null,null,null,null,null,null,null,null,null,null,null,null,null,null,null,null,null,null,null,null,null,null,null,null,null,null,null,null,null,null,2349,{"$f":" IFERROR(INDIRECT(\"'SP500 Data'!B\"&MATCH(BB436, 'SP500 Data'!A:A,0))/100,\"\")","v":""},""]
[null,null,null,null,null,null,null,null,null,null,null,null,null,null,null,null,null,null,null,null,null,null,null,null,null,null,null,null,null,null,null,null,null,null,null,null,null,null,null,null,null,null,null,null,null,null,null,null,null,null,null,null,null,2350,{"$f":" IFERROR(INDIRECT(\"'SP500 Data'!B\"&MATCH(BB437, 'SP500 Data'!A:A,0))/100,\"\")","v":""},""]
[null,null,null,null,null,null,null,null,null,null,null,null,null,null,null,null,null,null,null,null,null,null,null,null,null,null,null,null,null,null,null,null,null,null,null,null,null,null,null,null,null,null,null,null,null,null,null,null,null,null,null,null,null,2351,{"$f":" IFERROR(INDIRECT(\"'SP500 Data'!B\"&MATCH(BB438, 'SP500 Data'!A:A,0))/100,\"\")","v":""},""]
[null,null,null,null,null,null,null,null,null,null,null,null,null,null,null,null,null,null,null,null,null,null,null,null,null,null,null,null,null,null,null,null,null,null,null,null,null,null,null,null,null,null,null,null,null,null,null,null,null,null,null,null,null,2352,{"$f":" IFERROR(INDIRECT(\"'SP500 Data'!B\"&MATCH(BB439, 'SP500 Data'!A:A,0))/100,\"\")","v":""},""]
[null,null,null,null,null,null,null,null,null,null,null,null,null,null,null,null,null,null,null,null,null,null,null,null,null,null,null,null,null,null,null,null,null,null,null,null,null,null,null,null,null,null,null,null,null,null,null,null,null,null,null,null,null,2353,{"$f":" IFERROR(INDIRECT(\"'SP500 Data'!B\"&MATCH(BB440, 'SP500 Data'!A:A,0))/100,\"\")","v":""},""]
[null,null,null,null,null,null,null,null,null,null,null,null,null,null,null,null,null,null,null,null,null,null,null,null,null,null,null,null,null,null,null,null,null,null,null,null,null,null,null,null,null,null,null,null,null,null,null,null,null,null,null,null,null,2354,{"$f":" IFERROR(INDIRECT(\"'SP500 Data'!B\"&MATCH(BB441, 'SP500 Data'!A:A,0))/100,\"\")","v":""},""]
[null,null,null,null,null,null,null,null,null,null,null,null,null,null,null,null,null,null,null,null,null,null,null,null,null,null,null,null,null,null,null,null,null,null,null,null,null,null,null,null,null,null,null,null,null,null,null,null,null,null,null,null,null,2355,{"$f":" IFERROR(INDIRECT(\"'SP500 Data'!B\"&MATCH(BB442, 'SP500 Data'!A:A,0))/100,\"\")","v":""},""]
[null,null,null,null,null,null,null,null,null,null,null,null,null,null,null,null,null,null,null,null,null,null,null,null,null,null,null,null,null,null,null,null,null,null,null,null,null,null,null,null,null,null,null,null,null,null,null,null,null,null,null,null,null,2356,{"$f":" IFERROR(INDIRECT(\"'SP500 Data'!B\"&MATCH(BB443, 'SP500 Data'!A:A,0))/100,\"\")","v":""},""]
[null,null,null,null,null,null,null,null,null,null,null,null,null,null,null,null,null,null,null,null,null,null,null,null,null,null,null,null,null,null,null,null,null,null,null,null,null,null,null,null,null,null,null,null,null,null,null,null,null,null,null,null,null,2357,{"$f":" IFERROR(INDIRECT(\"'SP500 Data'!B\"&MATCH(BB444, 'SP500 Data'!A:A,0))/100,\"\")","v":""},""]
[null,null,null,null,null,null,null,null,null,null,null,null,null,null,null,null,null,null,null,null,null,null,null,null,null,null,null,null,null,null,null,null,null,null,null,null,null,null,null,null,null,null,null,null,null,null,null,null,null,null,null,null,null,2358,{"$f":" IFERROR(INDIRECT(\"'SP500 Data'!B\"&MATCH(BB445, 'SP500 Data'!A:A,0))/100,\"\")","v":""},""]
[null,null,null,null,null,null,null,null,null,null,null,null,null,null,null,null,null,null,null,null,null,null,null,null,null,null,null,null,null,null,null,null,null,null,null,null,null,null,null,null,null,null,null,null,null,null,null,null,null,null,null,null,null,2359,{"$f":" IFERROR(INDIRECT(\"'SP500 Data'!B\"&MATCH(BB446, 'SP500 Data'!A:A,0))/100,\"\")","v":""},""]
[null,null,null,null,null,null,null,null,null,null,null,null,null,null,null,null,null,null,null,null,null,null,null,null,null,null,null,null,null,null,null,null,null,null,null,null,null,null,null,null,null,null,null,null,null,null,null,null,null,null,null,null,null,2360,{"$f":" IFERROR(INDIRECT(\"'SP500 Data'!B\"&MATCH(BB447, 'SP500 Data'!A:A,0))/100,\"\")","v":""},""]
[null,null,null,null,null,null,null,null,null,null,null,null,null,null,null,null,null,null,null,null,null,null,null,null,null,null,null,null,null,null,null,null,null,null,null,null,null,null,null,null,null,null,null,null,null,null,null,null,null,null,null,null,null,2361,{"$f":" IFERROR(INDIRECT(\"'SP500 Data'!B\"&MATCH(BB448, 'SP500 Data'!A:A,0))/100,\"\")","v":""},""]
[null,null,null,null,null,null,null,null,null,null,null,null,null,null,null,null,null,null,null,null,null,null,null,null,null,null,null,null,null,null,null,null,null,null,null,null,null,null,null,null,null,null,null,null,null,null,null,null,null,null,null,null,null,2362,{"$f":" IFERROR(INDIRECT(\"'SP500 Data'!B\"&MATCH(BB449, 'SP500 Data'!A:A,0))/100,\"\")","v":""},""]
[null,null,null,null,null,null,null,null,null,null,null,null,null,null,null,null,null,null,null,null,null,null,null,null,null,null,null,null,null,null,null,null,null,null,null,null,null,null,null,null,null,null,null,null,null,null,null,null,null,null,null,null,null,2363,{"$f":" IFERROR(INDIRECT(\"'SP500 Data'!B\"&MATCH(BB450, 'SP500 Data'!A:A,0))/100,\"\")","v":""},""]
[null,null,null,null,null,null,null,null,null,null,null,null,null,null,null,null,null,null,null,null,null,null,null,null,null,null,null,null,null,null,null,null,null,null,null,null,null,null,null,null,null,null,null,null,null,null,null,null,null,null,null,null,null,2364,{"$f":" IFERROR(INDIRECT(\"'SP500 Data'!B\"&MATCH(BB451, 'SP500 Data'!A:A,0))/100,\"\")","v":""},""]
[null,null,null,null,null,null,null,null,null,null,null,null,null,null,null,null,null,null,null,null,null,null,null,null,null,null,null,null,null,null,null,null,null,null,null,null,null,null,null,null,null,null,null,null,null,null,null,null,null,null,null,null,null,2365,{"$f":" IFERROR(INDIRECT(\"'SP500 Data'!B\"&MATCH(BB452, 'SP500 Data'!A:A,0))/100,\"\")","v":""},""]
[null,null,null,null,null,null,null,null,null,null,null,null,null,null,null,null,null,null,null,null,null,null,null,null,null,null,null,null,null,null,null,null,null,null,null,null,null,null,null,null,null,null,null,null,null,null,null,null,null,null,null,null,null,2366,{"$f":" IFERROR(INDIRECT(\"'SP500 Data'!B\"&MATCH(BB453, 'SP500 Data'!A:A,0))/100,\"\")","v":""},""]
[null,null,null,null,null,null,null,null,null,null,null,null,null,null,null,null,null,null,null,null,null,null,null,null,null,null,null,null,null,null,null,null,null,null,null,null,null,null,null,null,null,null,null,null,null,null,null,null,null,null,null,null,null,2367,{"$f":" IFERROR(INDIRECT(\"'SP500 Data'!B\"&MATCH(BB454, 'SP500 Data'!A:A,0))/100,\"\")","v":""},""]
[null,null,null,null,null,null,null,null,null,null,null,null,null,null,null,null,null,null,null,null,null,null,null,null,null,null,null,null,null,null,null,null,null,null,null,null,null,null,null,null,null,null,null,null,null,null,null,null,null,null,null,null,null,2368,{"$f":" IFERROR(INDIRECT(\"'SP500 Data'!B\"&MATCH(BB455, 'SP500 Data'!A:A,0))/100,\"\")","v":""},""]
[null,null,null,null,null,null,null,null,null,null,null,null,null,null,null,null,null,null,null,null,null,null,null,null,null,null,null,null,null,null,null,null,null,null,null,null,null,null,null,null,null,null,null,null,null,null,null,null,null,null,null,null,null,2369,{"$f":" IFERROR(INDIRECT(\"'SP500 Data'!B\"&MATCH(BB456, 'SP500 Data'!A:A,0))/100,\"\")","v":""},""]
[null,null,null,null,null,null,null,null,null,null,null,null,null,null,null,null,null,null,null,null,null,null,null,null,null,null,null,null,null,null,null,null,null,null,null,null,null,null,null,null,null,null,null,null,null,null,null,null,null,null,null,null,null,2370,{"$f":" IFERROR(INDIRECT(\"'SP500 Data'!B\"&MATCH(BB457, 'SP500 Data'!A:A,0))/100,\"\")","v":""},""]
[null,null,null,null,null,null,null,null,null,null,null,null,null,null,null,null,null,null,null,null,null,null,null,null,null,null,null,null,null,null,null,null,null,null,null,null,null,null,null,null,null,null,null,null,null,null,null,null,null,null,null,null,null,2371,{"$f":" IFERROR(INDIRECT(\"'SP500 Data'!B\"&MATCH(BB458, 'SP500 Data'!A:A,0))/100,\"\")","v":""},""]
[null,null,null,null,null,null,null,null,null,null,null,null,null,null,null,null,null,null,null,null,null,null,null,null,null,null,null,null,null,null,null,null,null,null,null,null,null,null,null,null,null,null,null,null,null,null,null,null,null,null,null,null,null,2372,{"$f":" IFERROR(INDIRECT(\"'SP500 Data'!B\"&MATCH(BB459, 'SP500 Data'!A:A,0))/100,\"\")","v":""},""]
[null,null,null,null,null,null,null,null,null,null,null,null,null,null,null,null,null,null,null,null,null,null,null,null,null,null,null,null,null,null,null,null,null,null,null,null,null,null,null,null,null,null,null,null,null,null,null,null,null,null,null,null,null,2373,{"$f":" IFERROR(INDIRECT(\"'SP500 Data'!B\"&MATCH(BB460, 'SP500 Data'!A:A,0))/100,\"\")","v":""},""]
[null,null,null,null,null,null,null,null,null,null,null,null,null,null,null,null,null,null,null,null,null,null,null,null,null,null,null,null,null,null,null,null,null,null,null,null,null,null,null,null,null,null,null,null,null,null,null,null,null,null,null,null,null,2374,{"$f":" IFERROR(INDIRECT(\"'SP500 Data'!B\"&MATCH(BB461, 'SP500 Data'!A:A,0))/100,\"\")","v":""},""]
[null,null,null,null,null,null,null,null,null,null,null,null,null,null,null,null,null,null,null,null,null,null,null,null,null,null,null,null,null,null,null,null,null,null,null,null,null,null,null,null,null,null,null,null,null,null,null,null,null,null,null,null,null,2375,{"$f":" IFERROR(INDIRECT(\"'SP500 Data'!B\"&MATCH(BB462, 'SP500 Data'!A:A,0))/100,\"\")","v":""},{"$f":" IFERROR(1 +BC462, \"\")","v":""}]
[null,null,null,null,null,null,null,null,null,null,null,null,null,null,null,null,null,null,null,null,null,null,null,null,null,null,null,null,null,null,null,null,null,null,null,null,null,null,null,null,null,null,null,null,null,null,null,null,null,null,null,null,null,2376,{"$f":" IFERROR(INDIRECT(\"'SP500 Data'!B\"&MATCH(BB463, 'SP500 Data'!A:A,0))/100,\"\")","v":""},""]
[null,null,null,null,null,null,null,null,null,null,null,null,null,null,null,null,null,null,null,null,null,null,null,null,null,null,null,null,null,null,null,null,null,null,null,null,null,null,null,null,null,null,null,null,null,null,null,null,null,null,null,null,null,2377,{"$f":" IFERROR(INDIRECT(\"'SP500 Data'!B\"&MATCH(BB464, 'SP500 Data'!A:A,0))/100,\"\")","v":""},""]
[null,null,null,null,null,null,null,null,null,null,null,null,null,null,null,null,null,null,null,null,null,null,null,null,null,null,null,null,null,null,null,null,null,null,null,null,null,null,null,null,null,null,null,null,null,null,null,null,null,null,null,null,null,2378,{"$f":" IFERROR(INDIRECT(\"'SP500 Data'!B\"&MATCH(BB465, 'SP500 Data'!A:A,0))/100,\"\")","v":""},""]
[null,null,null,null,null,null,null,null,null,null,null,null,null,null,null,null,null,null,null,null,null,null,null,null,null,null,null,null,null,null,null,null,null,null,null,null,null,null,null,null,null,null,null,null,null,null,null,null,null,null,null,null,null,2379,{"$f":" IFERROR(INDIRECT(\"'SP500 Data'!B\"&MATCH(BB466, 'SP500 Data'!A:A,0))/100,\"\")","v":""},""]
[null,null,null,null,null,null,null,null,null,null,null,null,null,null,null,null,null,null,null,null,null,null,null,null,null,null,null,null,null,null,null,null,null,null,null,null,null,null,null,null,null,null,null,null,null,null,null,null,null,null,null,null,null,2380,{"$f":" IFERROR(INDIRECT(\"'SP500 Data'!B\"&MATCH(BB467, 'SP500 Data'!A:A,0))/100,\"\")","v":""},""]
[null,null,null,null,null,null,null,null,null,null,null,null,null,null,null,null,null,null,null,null,null,null,null,null,null,null,null,null,null,null,null,null,null,null,null,null,null,null,null,null,null,null,null,null,null,null,null,null,null,null,null,null,null,2381,{"$f":" IFERROR(INDIRECT(\"'SP500 Data'!B\"&MATCH(BB468, 'SP500 Data'!A:A,0))/100,\"\")","v":""},""]
[null,null,null,null,null,null,null,null,null,null,null,null,null,null,null,null,null,null,null,null,null,null,null,null,null,null,null,null,null,null,null,null,null,null,null,null,null,null,null,null,null,null,null,null,null,null,null,null,null,null,null,null,null,2382,{"$f":" IFERROR(INDIRECT(\"'SP500 Data'!B\"&MATCH(BB469, 'SP500 Data'!A:A,0))/100,\"\")","v":""},""]
[null,null,null,null,null,null,null,null,null,null,null,null,null,null,null,null,null,null,null,null,null,null,null,null,null,null,null,null,null,null,null,null,null,null,null,null,null,null,null,null,null,null,null,null,null,null,null,null,null,null,null,null,null,2383,{"$f":" IFERROR(INDIRECT(\"'SP500 Data'!B\"&MATCH(BB470, 'SP500 Data'!A:A,0))/100,\"\")","v":""},""]
[null,null,null,null,null,null,null,null,null,null,null,null,null,null,null,null,null,null,null,null,null,null,null,null,null,null,null,null,null,null,null,null,null,null,null,null,null,null,null,null,null,null,null,null,null,null,null,null,null,null,null,null,null,2384,{"$f":" IFERROR(INDIRECT(\"'SP500 Data'!B\"&MATCH(BB471, 'SP500 Data'!A:A,0))/100,\"\")","v":""},""]
[null,null,null,null,null,null,null,null,null,null,null,null,null,null,null,null,null,null,null,null,null,null,null,null,null,null,null,null,null,null,null,null,null,null,null,null,null,null,null,null,null,null,null,null,null,null,null,null,null,null,null,null,null,2385,{"$f":" IFERROR(INDIRECT(\"'SP500 Data'!B\"&MATCH(BB472, 'SP500 Data'!A:A,0))/100,\"\")","v":""},""]
[null,null,null,null,null,null,null,null,null,null,null,null,null,null,null,null,null,null,null,null,null,null,null,null,null,null,null,null,null,null,null,null,null,null,null,null,null,null,null,null,null,null,null,null,null,null,null,null,null,null,null,null,null,2386,{"$f":" IFERROR(INDIRECT(\"'SP500 Data'!B\"&MATCH(BB473, 'SP500 Data'!A:A,0))/100,\"\")","v":""},""]
[null,null,null,null,null,null,null,null,null,null,null,null,null,null,null,null,null,null,null,null,null,null,null,null,null,null,null,null,null,null,null,null,null,null,null,null,null,null,null,null,null,null,null,null,null,null,null,null,null,null,null,null,null,2387,{"$f":" IFERROR(INDIRECT(\"'SP500 Data'!B\"&MATCH(BB474, 'SP500 Data'!A:A,0))/100,\"\")","v":""},""]
[null,null,null,null,null,null,null,null,null,null,null,null,null,null,null,null,null,null,null,null,null,null,null,null,null,null,null,null,null,null,null,null,null,null,null,null,null,null,null,null,null,null,null,null,null,null,null,null,null,null,null,null,null,2388,{"$f":" IFERROR(INDIRECT(\"'SP500 Data'!B\"&MATCH(BB475, 'SP500 Data'!A:A,0))/100,\"\")","v":""},""]
[null,null,null,null,null,null,null,null,null,null,null,null,null,null,null,null,null,null,null,null,null,null,null,null,null,null,null,null,null,null,null,null,null,null,null,null,null,null,null,null,null,null,null,null,null,null,null,null,null,null,null,null,null,2389,{"$f":" IFERROR(INDIRECT(\"'SP500 Data'!B\"&MATCH(BB476, 'SP500 Data'!A:A,0))/100,\"\")","v":""},""]
[null,null,null,null,null,null,null,null,null,null,null,null,null,null,null,null,null,null,null,null,null,null,null,null,null,null,null,null,null,null,null,null,null,null,null,null,null,null,null,null,null,null,null,null,null,null,null,null,null,null,null,null,null,2390,{"$f":" IFERROR(INDIRECT(\"'SP500 Data'!B\"&MATCH(BB477, 'SP500 Data'!A:A,0))/100,\"\")","v":""},""]
[null,null,null,null,null,null,null,null,null,null,null,null,null,null,null,null,null,null,null,null,null,null,null,null,null,null,null,null,null,null,null,null,null,null,null,null,null,null,null,null,null,null,null,null,null,null,null,null,null,null,null,null,null,2391,{"$f":" IFERROR(INDIRECT(\"'SP500 Data'!B\"&MATCH(BB478, 'SP500 Data'!A:A,0))/100,\"\")","v":""},""]
[null,null,null,null,null,null,null,null,null,null,null,null,null,null,null,null,null,null,null,null,null,null,null,null,null,null,null,null,null,null,null,null,null,null,null,null,null,null,null,null,null,null,null,null,null,null,null,null,null,null,null,null,null,2392,{"$f":" IFERROR(INDIRECT(\"'SP500 Data'!B\"&MATCH(BB479, 'SP500 Data'!A:A,0))/100,\"\")","v":""},""]
[null,null,null,null,null,null,null,null,null,null,null,null,null,null,null,null,null,null,null,null,null,null,null,null,null,null,null,null,null,null,null,null,null,null,null,null,null,null,null,null,null,null,null,null,null,null,null,null,null,null,null,null,null,2393,{"$f":" IFERROR(INDIRECT(\"'SP500 Data'!B\"&MATCH(BB480, 'SP500 Data'!A:A,0))/100,\"\")","v":""},""]
[null,null,null,null,null,null,null,null,null,null,null,null,null,null,null,null,null,null,null,null,null,null,null,null,null,null,null,null,null,null,null,null,null,null,null,null,null,null,null,null,null,null,null,null,null,null,null,null,null,null,null,null,null,2394,{"$f":" IFERROR(INDIRECT(\"'SP500 Data'!B\"&MATCH(BB481, 'SP500 Data'!A:A,0))/100,\"\")","v":""},""]
[null,null,null,null,null,null,null,null,null,null,null,null,null,null,null,null,null,null,null,null,null,null,null,null,null,null,null,null,null,null,null,null,null,null,null,null,null,null,null,null,null,null,null,null,null,null,null,null,null,null,null,null,null,2395,{"$f":" IFERROR(INDIRECT(\"'SP500 Data'!B\"&MATCH(BB482, 'SP500 Data'!A:A,0))/100,\"\")","v":""},""]
[null,null,null,null,null,null,null,null,null,null,null,null,null,null,null,null,null,null,null,null,null,null,null,null,null,null,null,null,null,null,null,null,null,null,null,null,null,null,null,null,null,null,null,null,null,null,null,null,null,null,null,null,null,2396,{"$f":" IFERROR(INDIRECT(\"'SP500 Data'!B\"&MATCH(BB483, 'SP500 Data'!A:A,0))/100,\"\")","v":""},""]
[null,null,null,null,null,null,null,null,null,null,null,null,null,null,null,null,null,null,null,null,null,null,null,null,null,null,null,null,null,null,null,null,null,null,null,null,null,null,null,null,null,null,null,null,null,null,null,null,null,null,null,null,null,2397,{"$f":" IFERROR(INDIRECT(\"'SP500 Data'!B\"&MATCH(BB484, 'SP500 Data'!A:A,0))/100,\"\")","v":""},""]
[null,null,null,null,null,null,null,null,null,null,null,null,null,null,null,null,null,null,null,null,null,null,null,null,null,null,null,null,null,null,null,null,null,null,null,null,null,null,null,null,null,null,null,null,null,null,null,null,null,null,null,null,null,2398,{"$f":" IFERROR(INDIRECT(\"'SP500 Data'!B\"&MATCH(BB485, 'SP500 Data'!A:A,0))/100,\"\")","v":""},""]
[null,null,null,null,null,null,null,null,null,null,null,null,null,null,null,null,null,null,null,null,null,null,null,null,null,null,null,null,null,null,null,null,null,null,null,null,null,null,null,null,null,null,null,null,null,null,null,null,null,null,null,null,null,2399,{"$f":" IFERROR(INDIRECT(\"'SP500 Data'!B\"&MATCH(BB486, 'SP500 Data'!A:A,0))/100,\"\")","v":""},""]
[null,null,null,null,null,null,null,null,null,null,null,null,null,null,null,null,null,null,null,null,null,null,null,null,null,null,null,null,null,null,null,null,null,null,null,null,null,null,null,null,null,null,null,null,null,null,null,null,null,null,null,null,null,2400,{"$f":" IFERROR(INDIRECT(\"'SP500 Data'!B\"&MATCH(BB487, 'SP500 Data'!A:A,0))/100,\"\")","v":""},""]
[null,null,null,null,null,null,null,null,null,null,null,null,null,null,null,null,null,null,null,null,null,null,null,null,null,null,null,null,null,null,null,null,null,null,null,null,null,null,null,null,null,null,null,null,null,null,null,null,null,null,null,null,null,2401,{"$f":" IFERROR(INDIRECT(\"'SP500 Data'!B\"&MATCH(BB488, 'SP500 Data'!A:A,0))/100,\"\")","v":""},""]
[null,null,null,null,null,null,null,null,null,null,null,null,null,null,null,null,null,null,null,null,null,null,null,null,null,null,null,null,null,null,null,null,null,null,null,null,null,null,null,null,null,null,null,null,null,null,null,null,null,null,null,null,null,2402,{"$f":" IFERROR(INDIRECT(\"'SP500 Data'!B\"&MATCH(BB489, 'SP500 Data'!A:A,0))/100,\"\")","v":""},""]
[null,null,null,null,null,null,null,null,null,null,null,null,null,null,null,null,null,null,null,null,null,null,null,null,null,null,null,null,null,null,null,null,null,null,null,null,null,null,null,null,null,null,null,null,null,null,null,null,null,null,null,null,null,2403,{"$f":" IFERROR(INDIRECT(\"'SP500 Data'!B\"&MATCH(BB490, 'SP500 Data'!A:A,0))/100,\"\")","v":""},""]
[null,null,null,null,null,null,null,null,null,null,null,null,null,null,null,null,null,null,null,null,null,null,null,null,null,null,null,null,null,null,null,null,null,null,null,null,null,null,null,null,null,null,null,null,null,null,null,null,null,null,null,null,null,2404,{"$f":" IFERROR(INDIRECT(\"'SP500 Data'!B\"&MATCH(BB491, 'SP500 Data'!A:A,0))/100,\"\")","v":""},""]
[null,null,null,null,null,null,null,null,null,null,null,null,null,null,null,null,null,null,null,null,null,null,null,null,null,null,null,null,null,null,null,null,null,null,null,null,null,null,null,null,null,null,null,null,null,null,null,null,null,null,null,null,null,2405,{"$f":" IFERROR(INDIRECT(\"'SP500 Data'!B\"&MATCH(BB492, 'SP500 Data'!A:A,0))/100,\"\")","v":""},""]
[null,null,null,null,null,null,null,null,null,null,null,null,null,null,null,null,null,null,null,null,null,null,null,null,null,null,null,null,null,null,null,null,null,null,null,null,null,null,null,null,null,null,null,null,null,null,null,null,null,null,null,null,null,2406,{"$f":" IFERROR(INDIRECT(\"'SP500 Data'!B\"&MATCH(BB493, 'SP500 Data'!A:A,0))/100,\"\")","v":""},""]
[null,null,null,null,null,null,null,null,null,null,null,null,null,null,null,null,null,null,null,null,null,null,null,null,null,null,null,null,null,null,null,null,null,null,null,null,null,null,null,null,null,null,null,null,null,null,null,null,null,null,null,null,null,2407,{"$f":" IFERROR(INDIRECT(\"'SP500 Data'!B\"&MATCH(BB494, 'SP500 Data'!A:A,0))/100,\"\")","v":""},""]
[null,null,null,null,null,null,null,null,null,null,null,null,null,null,null,null,null,null,null,null,null,null,null,null,null,null,null,null,null,null,null,null,null,null,null,null,null,null,null,null,null,null,null,null,null,null,null,null,null,null,null,null,null,2408,{"$f":" IFERROR(INDIRECT(\"'SP500 Data'!B\"&MATCH(BB495, 'SP500 Data'!A:A,0))/100,\"\")","v":""},""]
[null,null,null,null,null,null,null,null,null,null,null,null,null,null,null,null,null,null,null,null,null,null,null,null,null,null,null,null,null,null,null,null,null,null,null,null,null,null,null,null,null,null,null,null,null,null,null,null,null,null,null,null,null,2409,{"$f":" IFERROR(INDIRECT(\"'SP500 Data'!B\"&MATCH(BB496, 'SP500 Data'!A:A,0))/100,\"\")","v":""},""]
[null,null,null,null,null,null,null,null,null,null,null,null,null,null,null,null,null,null,null,null,null,null,null,null,null,null,null,null,null,null,null,null,null,null,null,null,null,null,null,null,null,null,null,null,null,null,null,null,null,null,null,null,null,2410,{"$f":" IFERROR(INDIRECT(\"'SP500 Data'!B\"&MATCH(BB497, 'SP500 Data'!A:A,0))/100,\"\")","v":""},""]
[null,null,null,null,null,null,null,null,null,null,null,null,null,null,null,null,null,null,null,null,null,null,null,null,null,null,null,null,null,null,null,null,null,null,null,null,null,null,null,null,null,null,null,null,null,null,null,null,null,null,null,null,null,2411,{"$f":" IFERROR(INDIRECT(\"'SP500 Data'!B\"&MATCH(BB498, 'SP500 Data'!A:A,0))/100,\"\")","v":""},""]
[null,null,null,null,null,null,null,null,null,null,null,null,null,null,null,null,null,null,null,null,null,null,null,null,null,null,null,null,null,null,null,null,null,null,null,null,null,null,null,null,null,null,null,null,null,null,null,null,null,null,null,null,null,2412,{"$f":" IFERROR(INDIRECT(\"'SP500 Data'!B\"&MATCH(BB499, 'SP500 Data'!A:A,0))/100,\"\")","v":""},""]
[null,null,null,null,null,null,null,null,null,null,null,null,null,null,null,null,null,null,null,null,null,null,null,null,null,null,null,null,null,null,null,null,null,null,null,null,null,null,null,null,null,null,null,null,null,null,null,null,null,null,null,null,null,2413,{"$f":" IFERROR(INDIRECT(\"'SP500 Data'!B\"&MATCH(BB500, 'SP500 Data'!A:A,0))/100,\"\")","v":""},""]
[null,null,null,null,null,null,null,null,null,null,null,null,null,null,null,null,null,null,null,null,null,null,null,null,null,null,null,null,null,null,null,null,null,null,null,null,null,null,null,null,null,null,null,null,null,null,null,null,null,null,null,null,null,2415,{"$f":" IFERROR(INDIRECT(\"'SP500 Data'!B\"&MATCH(BB502, 'SP500 Data'!A:A,0))/100,\"\")","v":""},""]
[null,null,null,null,null,null,null,null,null,null,null,null,null,null,null,null,null,null,null,null,null,null,null,null,null,null,null,null,null,null,null,null,null,null,null,null,null,null,null,null,null,null,null,null,null,null,null,null,null,null,null,null,null,2426,{"$f":" IFERROR(INDIRECT(\"'SP500 Data'!B\"&MATCH(BB513, 'SP500 Data'!A:A,0))/100,\"\")","v":""},""]
[null,null,null,null,null,null,null,null,null,null,null,null,null,null,null,null,null,null,null,null,null,null,null,null,null,null,null,null,null,null,null,null,null,null,null,null,null,null,null,null,null,null,null,null,null,null,null,null,null,null,null,null,null,2438,{"$f":" IFERROR(INDIRECT(\"'SP500 Data'!B\"&MATCH(BB525, 'SP500 Data'!A:A,0))/100,\"\")","v":""},""]
[null,null,null,null,null,null,null,null,null,null,null,null,null,null,null,null,null,null,null,null,null,null,null,null,null,null,null,null,null,null,null,null,null,null,null,null,null,null,null,null,null,null,null,null,null,null,null,null,null,null,null,null,null,2445,{"$f":" IFERROR(INDIRECT(\"'SP500 Data'!B\"&MATCH(BB532, 'SP500 Data'!A:A,0))/100,\"\")","v":""},""]
[null,null,null,null,null,null,null,null,null,null,null,null,null,null,null,null,null,null,null,null,null,null,null,null,null,null,null,null,null,null,null,null,null,null,null,null,null,null,null,null,null,null,null,null,null,null,null,null,null,null,null,null,null,2454,{"$f":" IFERROR(INDIRECT(\"'SP500 Data'!B\"&MATCH(BB541, 'SP500 Data'!A:A,0))/100,\"\")","v":""},""]
[null,null,null,null,null,null,null,null,null,null,null,null,null,null,null,null,null,null,null,null,null,null,null,null,null,null,null,null,null,null,null,null,null,null,null,null,null,null,null,null,null,null,null,null,null,null,null,null,null,null,null,null,null,2459,{"$f":" IFERROR(INDIRECT(\"'SP500 Data'!B\"&MATCH(BB546, 'SP500 Data'!A:A,0))/100,\"\")","v":""},""]
[null,null,null,null,null,null,null,null,null,null,null,null,null,null,null,null,null,null,null,null,null,null,null,null,null,null,null,null,null,null,null,null,null,null,null,null,null,null,null,null,null,null,null,null,null,null,null,null,null,null,null,null,null,2466,{"$f":" IFERROR(INDIRECT(\"'SP500 Data'!B\"&MATCH(BB553, 'SP500 Data'!A:A,0))/100,\"\")","v":""},""]
[null,null,null,null,null,null,null,null,null,null,null,null,null,null,null,null,null,null,null,null,null,null,null,null,null,null,null,null,null,null,null,null,null,null,null,null,null,null,null,null,null,null,null,null,null,null,null,null,null,null,null,null,null,2478,{"$f":" IFERROR(INDIRECT(\"'SP500 Data'!B\"&MATCH(BB565, 'SP500 Data'!A:A,0))/100,\"\")","v":""},""]
[null,null,null,null,null,null,null,null,null,null,null,null,null,null,null,null,null,null,null,null,null,null,null,null,null,null,null,null,null,null,null,null,null,null,null,null,null,null,null,null,null,null,null,null,null,null,null,null,null,null,null,null,null,2485,{"$f":" IFERROR(INDIRECT(\"'SP500 Data'!B\"&MATCH(BB572, 'SP500 Data'!A:A,0))/100,\"\")","v":""},""]
[null,null,null,null,null,null,null,null,null,null,null,null,null,null,null,null,null,null,null,null,null,null,null,null,null,null,null,null,null,null,null,null,null,null,null,null,null,null,null,null,null,null,null,null,null,null,null,null,null,null,null,null,null,2496,{"$f":" IFERROR(INDIRECT(\"'SP500 Data'!B\"&MATCH(BB583, 'SP500 Data'!A:A,0))/100,\"\")","v":""},""]
[null,null,null,null,null,null,null,null,null,null,null,null,null,null,null,null,null,null,null,null,null,null,null,null,null,null,null,null,null,null,null,null,null,null,null,null,null,null,null,null,null,null,null,null,null,null,null,null,null,null,null,null,null,2508,{"$f":" IFERROR(INDIRECT(\"'SP500 Data'!B\"&MATCH(BB595, 'SP500 Data'!A:A,0))/100,\"\")","v":""},""]
[null,null,null,null,null,null,null,null,null,null,null,null,null,null,null,null,null,null,null,null,null,null,null,null,null,null,null,null,null,null,null,null,null,null,null,null,null,null,null,null,null,null,null,null,null,null,null,null,null,null,null,null,null,2515,{"$f":" IFERROR(INDIRECT(\"'SP500 Data'!B\"&MATCH(BB602, 'SP500 Data'!A:A,0))/100,\"\")","v":""},""]
[null,null,null,null,null,null,null,null,null,null,null,null,null,null,null,null,null,null,null,null,null,null,null,null,null,null,null,null,null,null,null,null,null,null,null,null,null,null,null,null,null,null,null,null,null,null,null,null,null,null,null,null,null,2524,{"$f":" IFERROR(INDIRECT(\"'SP500 Data'!B\"&MATCH(BB611, 'SP500 Data'!A:A,0))/100,\"\")","v":""},""]
[null,null,null,null,null,null,null,null,null,null,null,null,null,null,null,null,null,null,null,null,null,null,null,null,null,null,null,null,null,null,null,null,null,null,null,null,null,null,null,null,null,null,null,null,null,null,null,null,null,null,null,null,null,2529,{"$f":" IFERROR(INDIRECT(\"'SP500 Data'!B\"&MATCH(BB616, 'SP500 Data'!A:A,0))/100,\"\")","v":""},""]
[null,null,null,null,null,null,null,null,null,null,null,null,null,null,null,null,null,null,null,null,null,null,null,null,null,null,null,null,null,null,null,null,null,null,null,null,null,null,null,null,null,null,null,null,null,null,null,null,null,null,null,null,null,2536,{"$f":" IFERROR(INDIRECT(\"'SP500 Data'!B\"&MATCH(BB623, 'SP500 Data'!A:A,0))/100,\"\")","v":""},""]
[null,null,null,null,null,null,null,null,null,null,null,null,null,null,null,null,null,null,null,null,null,null,null,null,null,null,null,null,null,null,null,null,null,null,null,null,null,null,null,null,null,null,null,null,null,null,null,null,null,null,null,null,null,2548,{"$f":" IFERROR(INDIRECT(\"'SP500 Data'!B\"&MATCH(BB635, 'SP500 Data'!A:A,0))/100,\"\")","v":""},""]
[null,null,null,null,null,null,null,null,null,null,null,null,null,null,null,null,null,null,null,null,null,null,null,null,null,null,null,null,null,null,null,null,null,null,null,null,null,null,null,null,null,null,null,null,null,null,null,null,null,null,null,null,null,2555,{"$f":" IFERROR(INDIRECT(\"'SP500 Data'!B\"&MATCH(BB642, 'SP500 Data'!A:A,0))/100,\"\")","v":""},""]
[null,null,null,null,null,null,null,null,null,null,null,null,null,null,null,null,null,null,null,null,null,null,null,null,null,null,null,null,null,null,null,null,null,null,null,null,null,null,null,null,null,null,null,null,null,null,null,null,null,null,null,null,null,2566,{"$f":" IFERROR(INDIRECT(\"'SP500 Data'!B\"&MATCH(BB653, 'SP500 Data'!A:A,0))/100,\"\")","v":""},""]
[null,null,null,null,null,null,null,null,null,null,null,null,null,null,null,null,null,null,null,null,null,null,null,null,null,null,null,null,null,null,null,null,null,null,null,null,null,null,null,null,null,null,null,null,null,null,null,null,null,null,null,null,null,2578,{"$f":" IFERROR(INDIRECT(\"'SP500 Data'!B\"&MATCH(BB665, 'SP500 Data'!A:A,0))/100,\"\")","v":""},""]
[null,null,null,null,null,null,null,null,null,null,null,null,null,null,null,null,null,null,null,null,null,null,null,null,null,null,null,null,null,null,null,null,null,null,null,null,null,null,null,null,null,null,null,null,null,null,null,null,null,null,null,null,null,2585,{"$f":" IFERROR(INDIRECT(\"'SP500 Data'!B\"&MATCH(BB672, 'SP500 Data'!A:A,0))/100,\"\")","v":""},""]
[null,null,null,null,null,null,null,null,null,null,null,null,null,null,null,null,null,null,null,null,null,null,null,null,null,null,null,null,null,null,null,null,null,null,null,null,null,null,null,null,null,null,null,null,null,null,null,null,null,null,null,null,null,2594,{"$f":" IFERROR(INDIRECT(\"'SP500 Data'!B\"&MATCH(BB681, 'SP500 Data'!A:A,0))/100,\"\")","v":""},""]
[null,null,null,null,null,null,null,null,null,null,null,null,null,null,null,null,null,null,null,null,null,null,null,null,null,null,null,null,null,null,null,null,null,null,null,null,null,null,null,null,null,null,null,null,null,null,null,null,null,null,null,null,null,2603,{"$f":" IFERROR(INDIRECT(\"'SP500 Data'!B\"&MATCH(BB690, 'SP500 Data'!A:A,0))/100,\"\")","v":""},""]
[null,null,null,null,null,null,null,null,null,null,null,null,null,null,null,null,null,null,null,null,null,null,null,null,null,null,null,null,null,null,null,null,null,null,null,null,null,null,null,null,null,null,null,null,null,null,null,null,null,null,null,null,null,2606,{"$f":" IFERROR(INDIRECT(\"'SP500 Data'!B\"&MATCH(BB693, 'SP500 Data'!A:A,0))/100,\"\")","v":""},""]
[null,null,null,null,null,null,null,null,null,null,null,null,null,null,null,null,null,null,null,null,null,null,null,null,null,null,null,null,null,null,null,null,null,null,null,null,null,null,null,null,null,null,null,null,null,null,null,null,null,null,null,null,null,2618,{"$f":" IFERROR(INDIRECT(\"'SP500 Data'!B\"&MATCH(BB705, 'SP500 Data'!A:A,0))/100,\"\")","v":""},""]
[null,null,null,null,null,null,null,null,null,null,null,null,null,null,null,null,null,null,null,null,null,null,null,null,null,null,null,null,null,null,null,null,null,null,null,null,null,null,null,null,null,null,null,null,null,null,null,null,null,null,null,null,null,2625,{"$f":" IFERROR(INDIRECT(\"'SP500 Data'!B\"&MATCH(BB712, 'SP500 Data'!A:A,0))/100,\"\")","v":""},""]
[null,null,null,null,null,null,null,null,null,null,null,null,null,null,null,null,null,null,null,null,null,null,null,null,null,null,null,null,null,null,null,null,null,null,null,null,null,null,null,null,null,null,null,null,null,null,null,null,null,null,null,null,null,2636,{"$f":" IFERROR(INDIRECT(\"'SP500 Data'!B\"&MATCH(BB723, 'SP500 Data'!A:A,0))/100,\"\")","v":""},""]
[null,null,null,null,null,null,null,null,null,null,null,null,null,null,null,null,null,null,null,null,null,null,null,null,null,null,null,null,null,null,null,null,null,null,null,null,null,null,null,null,null,null,null,null,null,null,null,null,null,null,null,null,null,2648,{"$f":" IFERROR(INDIRECT(\"'SP500 Data'!B\"&MATCH(BB735, 'SP500 Data'!A:A,0))/100,\"\")","v":""},""]
[null,null,null,null,null,null,null,null,null,null,null,null,null,null,null,null,null,null,null,null,null,null,null,null,null,null,null,null,null,null,null,null,null,null,null,null,null,null,null,null,null,null,null,null,null,null,null,null,null,null,null,null,null,2655,{"$f":" IFERROR(INDIRECT(\"'SP500 Data'!B\"&MATCH(BB742, 'SP500 Data'!A:A,0))/100,\"\")","v":""},""]
[null,null,null,null,null,null,null,null,null,null,null,null,null,null,null,null,null,null,null,null,null,null,null,null,null,null,null,null,null,null,null,null,null,null,null,null,null,null,null,null,null,null,null,null,null,null,null,null,null,null,null,null,null,2664,{"$f":" IFERROR(INDIRECT(\"'SP500 Data'!B\"&MATCH(BB751, 'SP500 Data'!A:A,0))/100,\"\")","v":""},""]
[null,null,null,null,null,null,null,null,null,null,null,null,null,null,null,null,null,null,null,null,null,null,null,null,null,null,null,null,null,null,null,null,null,null,null,null,null,null,null,null,null,null,null,null,null,null,null,null,null,null,null,null,null,2673,{"$f":" IFERROR(INDIRECT(\"'SP500 Data'!B\"&MATCH(BB760, 'SP500 Data'!A:A,0))/100,\"\")","v":""},""]
[null,null,null,null,null,null,null,null,null,null,null,null,null,null,null,null,null,null,null,null,null,null,null,null,null,null,null,null,null,null,null,null,null,null,null,null,null,null,null,null,null,null,null,null,null,null,null,null,null,null,null,null,null,2676,{"$f":" IFERROR(INDIRECT(\"'SP500 Data'!B\"&MATCH(BB763, 'SP500 Data'!A:A,0))/100,\"\")","v":""},""]
[null,null,null,null,null,null,null,null,null,null,null,null,null,null,null,null,null,null,null,null,null,null,null,null,null,null,null,null,null,null,null,null,null,null,null,null,null,null,null,null,null,null,null,null,null,null,null,null,null,null,null,null,null,2688,{"$f":" IFERROR(INDIRECT(\"'SP500 Data'!B\"&MATCH(BB775, 'SP500 Data'!A:A,0))/100,\"\")","v":""},""]
[null,null,null,null,null,null,null,null,null,null,null,null,null,null,null,null,null,null,null,null,null,null,null,null,null,null,null,null,null,null,null,null,null,null,null,null,null,null,null,null,null,null,null,null,null,null,null,null,null,null,null,null,null,2695,{"$f":" IFERROR(INDIRECT(\"'SP500 Data'!B\"&MATCH(BB782, 'SP500 Data'!A:A,0))/100,\"\")","v":""},{"$f":" IFERROR(1 +BC782, \"\")","v":""}]
[null,null,null,null,null,null,null,null,null,null,null,null,null,null,null,null,null,null,null,null,null,null,null,null,null,null,null,null,null,null,null,null,null,null,null,null,null,null,null,null,null,null,null,null,null,null,null,null,null,null,null,null,null,2706,{"$f":" IFERROR(INDIRECT(\"'SP500 Data'!B\"&MATCH(BB793, 'SP500 Data'!A:A,0))/100,\"\")","v":""},""]
[null,null,null,null,null,null,null,null,null,null,null,null,null,null,null,null,null,null,null,null,null,null,null,null,null,null,null,null,null,null,null,null,null,null,null,null,null,null,null,null,null,null,null,null,null,null,null,null,null,null,null,null,null,2718,{"$f":" IFERROR(INDIRECT(\"'SP500 Data'!B\"&MATCH(BB805, 'SP500 Data'!A:A,0))/100,\"\")","v":""},""]
[null,null,null,null,null,null,null,null,null,null,null,null,null,null,null,null,null,null,null,null,null,null,null,null,null,null,null,null,null,null,null,null,null,null,null,null,null,null,null,null,null,null,null,null,null,null,null,null,null,null,null,null,null,2725,{"$f":" IFERROR(INDIRECT(\"'SP500 Data'!B\"&MATCH(BB812, 'SP500 Data'!A:A,0))/100,\"\")","v":""},""]
[null,null,null,null,null,null,null,null,null,null,null,null,null,null,null,null,null,null,null,null,null,null,null,null,null,null,null,null,null,null,null,null,null,null,null,null,null,null,null,null,null,null,null,null,null,null,null,null,null,null,null,null,null,2734,{"$f":" IFERROR(INDIRECT(\"'SP500 Data'!B\"&MATCH(BB821, 'SP500 Data'!A:A,0))/100,\"\")","v":""},""]
[null,null,null,null,null,null,null,null,null,null,null,null,null,null,null,null,null,null,null,null,null,null,null,null,null,null,null,null,null,null,null,null,null,null,null,null,null,null,null,null,null,null,null,null,null,null,null,null,null,null,null,null,null,2743,{"$f":" IFERROR(INDIRECT(\"'SP500 Data'!B\"&MATCH(BB830, 'SP500 Data'!A:A,0))/100,\"\")","v":""},""]
[null,null,null,null,null,null,null,null,null,null,null,null,null,null,null,null,null,null,null,null,null,null,null,null,null,null,null,null,null,null,null,null,null,null,null,null,null,null,null,null,null,null,null,null,null,null,null,null,null,null,null,null,null,2746,{"$f":" IFERROR(INDIRECT(\"'SP500 Data'!B\"&MATCH(BB833, 'SP500 Data'!A:A,0))/100,\"\")","v":""},""]
[null,null,null,null,null,null,null,null,null,null,null,null,null,null,null,null,null,null,null,null,null,null,null,null,null,null,null,null,null,null,null,null,null,null,null,null,null,null,null,null,null,null,null,null,null,null,null,null,null,null,null,null,null,2758,{"$f":" IFERROR(INDIRECT(\"'SP500 Data'!B\"&MATCH(BB845, 'SP500 Data'!A:A,0))/100,\"\")","v":""},""]
[null,null,null,null,null,null,null,null,null,null,null,null,null,null,null,null,null,null,null,null,null,null,null,null,null,null,null,null,null,null,null,null,null,null,null,null,null,null,null,null,null,null,null,null,null,null,null,null,null,null,null,null,null,2765,{"$f":" IFERROR(INDIRECT(\"'SP500 Data'!B\"&MATCH(BB852, 'SP500 Data'!A:A,0))/100,\"\")","v":""},""]
[null,null,null,null,null,null,null,null,null,null,null,null,null,null,null,null,null,null,null,null,null,null,null,null,null,null,null,null,null,null,null,null,null,null,null,null,null,null,null,null,null,null,null,null,null,null,null,null,null,null,null,null,null,2776,{"$f":" IFERROR(INDIRECT(\"'SP500 Data'!B\"&MATCH(BB863, 'SP500 Data'!A:A,0))/100,\"\")","v":""},""]
[null,null,null,null,null,null,null,null,null,null,null,null,null,null,null,null,null,null,null,null,null,null,null,null,null,null,null,null,null,null,null,null,null,null,null,null,null,null,null,null,null,null,null,null,null,null,null,null,null,null,null,null,null,2783,{"$f":" IFERROR(INDIRECT(\"'SP500 Data'!B\"&MATCH(BB870, 'SP500 Data'!A:A,0))/100,\"\")","v":""},""]
[null,null,null,null,null,null,null,null,null,null,null,null,null,null,null,null,null,null,null,null,null,null,null,null,null,null,null,null,null,null,null,null,null,null,null,null,null,null,null,null,null,null,null,null,null,null,null,null,null,null,null,null,null,2795,{"$f":" IFERROR(INDIRECT(\"'SP500 Data'!B\"&MATCH(BB882, 'SP500 Data'!A:A,0))/100,\"\")","v":""},""]
[null,null,null,null,null,null,null,null,null,null,null,null,null,null,null,null,null,null,null,null,null,null,null,null,null,null,null,null,null,null,null,null,null,null,null,null,null,null,null,null,null,null,null,null,null,null,null,null,null,null,null,null,null,2804,{"$f":" IFERROR(INDIRECT(\"'SP500 Data'!B\"&MATCH(BB891, 'SP500 Data'!A:A,0))/100,\"\")","v":""},""]
[null,null,null,null,null,null,null,null,null,null,null,null,null,null,null,null,null,null,null,null,null,null,null,null,null,null,null,null,null,null,null,null,null,null,null,null,null,null,null,null,null,null,null,null,null,null,null,null,null,null,null,null,null,2813,{"$f":" IFERROR(INDIRECT(\"'SP500 Data'!B\"&MATCH(BB900, 'SP500 Data'!A:A,0))/100,\"\")","v":""},""]
[null,null,null,null,null,null,null,null,null,null,null,null,null,null,null,null,null,null,null,null,null,null,null,null,null,null,null,null,null,null,null,null,null,null,null,null,null,null,null,null,null,null,null,null,null,null,null,null,null,null,null,null,null,2816,{"$f":" IFERROR(INDIRECT(\"'SP500 Data'!B\"&MATCH(BB903, 'SP500 Data'!A:A,0))/100,\"\")","v":""},""]
[null,null,null,null,null,null,null,null,null,null,null,null,null,null,null,null,null,null,null,null,null,null,null,null,null,null,null,null,null,null,null,null,null,null,null,null,null,null,null,null,null,null,null,null,null,null,null,null,null,null,null,null,null,2828,{"$f":" IFERROR(INDIRECT(\"'SP500 Data'!B\"&MATCH(BB915, 'SP500 Data'!A:A,0))/100,\"\")","v":""},""]
[null,null,null,null,null,null,null,null,null,null,null,null,null,null,null,null,null,null,null,null,null,null,null,null,null,null,null,null,null,null,null,null,null,null,null,null,null,null,null,null,null,null,null,null,null,null,null,null,null,null,null,null,null,2835,{"$f":" IFERROR(INDIRECT(\"'SP500 Data'!B\"&MATCH(BB922, 'SP500 Data'!A:A,0))/100,\"\")","v":""},""]
[null,null,null,null,null,null,null,null,null,null,null,null,null,null,null,null,null,null,null,null,null,null,null,null,null,null,null,null,null,null,null,null,null,null,null,null,null,null,null,null,null,null,null,null,null,null,null,null,null,null,null,null,null,2846,{"$f":" IFERROR(INDIRECT(\"'SP500 Data'!B\"&MATCH(BB933, 'SP500 Data'!A:A,0))/100,\"\")","v":""},""]
[null,null,null,null,null,null,null,null,null,null,null,null,null,null,null,null,null,null,null,null,null,null,null,null,null,null,null,null,null,null,null,null,null,null,null,null,null,null,null,null,null,null,null,null,null,null,null,null,null,null,null,null,null,2853,{"$f":" IFERROR(INDIRECT(\"'SP500 Data'!B\"&MATCH(BB940, 'SP500 Data'!A:A,0))/100,\"\")","v":""},""]
[null,null,null,null,null,null,null,null,null,null,null,null,null,null,null,null,null,null,null,null,null,null,null,null,null,null,null,null,null,null,null,null,null,null,null,null,null,null,null,null,null,null,null,null,null,null,null,null,null,null,null,null,null,2865,{"$f":" IFERROR(INDIRECT(\"'SP500 Data'!B\"&MATCH(BB952, 'SP500 Data'!A:A,0))/100,\"\")","v":""},""]
[null,null,null,null,null,null,null,null,null,null,null,null,null,null,null,null,null,null,null,null,null,null,null,null,null,null,null,null,null,null,null,null,null,null,null,null,null,null,null,null,null,null,null,null,null,null,null,null,null,null,null,null,null,2874,{"$f":" IFERROR(INDIRECT(\"'SP500 Data'!B\"&MATCH(BB961, 'SP500 Data'!A:A,0))/100,\"\")","v":""},""]
[null,null,null,null,null,null,null,null,null,null,null,null,null,null,null,null,null,null,null,null,null,null,null,null,null,null,null,null,null,null,null,null,null,null,null,null,null,null,null,null,null,null,null,null,null,null,null,null,null,null,null,null,null,2883,{"$f":" IFERROR(INDIRECT(\"'SP500 Data'!B\"&MATCH(BB970, 'SP500 Data'!A:A,0))/100,\"\")","v":""},""]
[null,null,null,null,null,null,null,null,null,null,null,null,null,null,null,null,null,null,null,null,null,null,null,null,null,null,null,null,null,null,null,null,null,null,null,null,null,null,null,null,null,null,null,null,null,null,null,null,null,null,null,null,null,2886,{"$f":" IFERROR(INDIRECT(\"'SP500 Data'!B\"&MATCH(BB973, 'SP500 Data'!A:A,0))/100,\"\")","v":""},""]
[null,null,null,null,null,null,null,null,null,null,null,null,null,null,null,null,null,null,null,null,null,null,null,null,null,null,null,null,null,null,null,null,null,null,null,null,null,null,null,null,null,null,null,null,null,null,null,null,null,null,null,null,null,2902,{"$f":" IFERROR(INDIRECT(\"'SP500 Data'!B\"&MATCH(BB989, 'SP500 Data'!A:A,0))/100,\"\")","v":""},""]
[null,null,null,null,null,null,null,null,null,null,null,null,null,null,null,null,null,null,null,null,null,null,null,null,null,null,null,null,null,null,null,null,null,null,null,null,null,null,null,null,null,null,null,null,null,null,null,null,null,null,null,null,null,2905,{"$f":" IFERROR(INDIRECT(\"'SP500 Data'!B\"&MATCH(BB992, 'SP500 Data'!A:A,0))/100,\"\")","v":""},""]
[null,null,null,null,null,null,null,null,null,null,null,null,null,null,null,null,null,null,null,null,null,null,null,null,null,null,null,null,null,null,null,null,null,null,null,null,null,null,null,null,null,null,null,null,null,null,null,null,null,null,null,null,null,2916,{"$f":" IFERROR(INDIRECT(\"'SP500 Data'!B\"&MATCH(BB1003, 'SP500 Data'!A:A,0))/100,\"\")","v":""},""]
[null,null,null,null,null,null,null,null,null,null,null,null,null,null,null,null,null,null,null,null,null,null,null,null,null,null,null,null,null,null,null,null,null,null,null,null,null,null,null,null,null,null,null,null,null,null,null,null,null,null,null,null,null,2923,{"$f":" IFERROR(INDIRECT(\"'SP500 Data'!B\"&MATCH(BB1010, 'SP500 Data'!A:A,0))/100,\"\")","v":""},""]
[null,null,null,null,null,null,null,null,null,null,null,null,null,null,null,null,null,null,null,null,null,null,null,null,null,null,null,null,null,null,null,null,null,null,null,null,null,null,null,null,null,null,null,null,null,null,null,null,null,null,null,null,null,2935,{"$f":" IFERROR(INDIRECT(\"'SP500 Data'!B\"&MATCH(BB1022, 'SP500 Data'!A:A,0))/100,\"\")","v":""},""]
[null,null,null,null,null,null,null,null,null,null,null,null,null,null,null,null,null,null,null,null,null,null,null,null,null,null,null,null,null,null,null,null,null,null,null,null,null,null,null,null,null,null,null,null,null,null,null,null,null,null,null,null,null,2944,{"$f":" IFERROR(INDIRECT(\"'SP500 Data'!B\"&MATCH(BB1031, 'SP500 Data'!A:A,0))/100,\"\")","v":""},""]
[null,null,null,null,null,null,null,null,null,null,null,null,null,null,null,null,null,null,null,null,null,null,null,null,null,null,null,null,null,null,null,null,null,null,null,null,null,null,null,null,null,null,null,null,null,null,null,null,null,null,null,null,null,2953,{"$f":" IFERROR(INDIRECT(\"'SP500 Data'!B\"&MATCH(BB1040, 'SP500 Data'!A:A,0))/100,\"\")","v":""},""]
[null,null,null,null,null,null,null,null,null,null,null,null,null,null,null,null,null,null,null,null,null,null,null,null,null,null,null,null,null,null,null,null,null,null,null,null,null,null,null,null,null,null,null,null,null,null,null,null,null,null,null,null,null,2956,{"$f":" IFERROR(INDIRECT(\"'SP500 Data'!B\"&MATCH(BB1043, 'SP500 Data'!A:A,0))/100,\"\")","v":""},""]
[null,null,null,null,null,null,null,null,null,null,null,null,null,null,null,null,null,null,null,null,null,null,null,null,null,null,null,null,null,null,null,null,null,null,null,null,null,null,null,null,null,null,null,null,null,null,null,null,null,null,null,null,null,2972,{"$f":" IFERROR(INDIRECT(\"'SP500 Data'!B\"&MATCH(BB1059, 'SP500 Data'!A:A,0))/100,\"\")","v":""},""]
[null,null,null,null,null,null,null,null,null,null,null,null,null,null,null,null,null,null,null,null,null,null,null,null,null,null,null,null,null,null,null,null,null,null,null,null,null,null,null,null,null,null,null,null,null,null,null,null,null,null,null,null,null,2975,{"$f":" IFERROR(INDIRECT(\"'SP500 Data'!B\"&MATCH(BB1062, 'SP500 Data'!A:A,0))/100,\"\")","v":""},""]
[null,null,null,null,null,null,null,null,null,null,null,null,null,null,null,null,null,null,null,null,null,null,null,null,null,null,null,null,null,null,null,null,null,null,null,null,null,null,null,null,null,null,null,null,null,null,null,null,null,null,null,null,null,2986,{"$f":" IFERROR(INDIRECT(\"'SP500 Data'!B\"&MATCH(BB1073, 'SP500 Data'!A:A,0))/100,\"\")","v":""},""]
[null,null,null,null,null,null,null,null,null,null,null,null,null,null,null,null,null,null,null,null,null,null,null,null,null,null,null,null,null,null,null,null,null,null,null,null,null,null,null,null,null,null,null,null,null,null,null,null,null,null,null,null,null,2993,{"$f":" IFERROR(INDIRECT(\"'SP500 Data'!B\"&MATCH(BB1080, 'SP500 Data'!A:A,0))/100,\"\")","v":""},""]
[null,null,null,null,null,null,null,null,null,null,null,null,null,null,null,null,null,null,null,null,null,null,null,null,null,null,null,null,null,null,null,null,null,null,null,null,null,null,null,null,null,null,null,null,null,null,null,null,null,null,null,null,null,3005,{"$f":" IFERROR(INDIRECT(\"'SP500 Data'!B\"&MATCH(BB1092, 'SP500 Data'!A:A,0))/100,\"\")","v":""},""]
[null,null,null,null,null,null,null,null,null,null,null,null,null,null,null,null,null,null,null,null,null,null,null,null,null,null,null,null,null,null,null,null,null,null,null,null,null,null,null,null,null,null,null,null,null,null,null,null,null,null,null,null,null,3014,{"$f":" IFERROR(INDIRECT(\"'SP500 Data'!B\"&MATCH(BB1101, 'SP500 Data'!A:A,0))/100,\"\")","v":""},""]
[null,null,null,null,null,null,null,null,null,null,null,null,null,null,null,null,null,null,null,null,null,null,null,null,null,null,null,null,null,null,null,null,null,null,null,null,null,null,null,null,null,null,null,null,null,null,null,null,null,null,null,null,null,3023,{"$f":" IFERROR(INDIRECT(\"'SP500 Data'!B\"&MATCH(BB1110, 'SP500 Data'!A:A,0))/100,\"\")","v":""},""]
[null,null,null,null,null,null,null,null,null,null,null,null,null,null,null,null,null,null,null,null,null,null,null,null,null,null,null,null,null,null,null,null,null,null,null,null,null,null,null,null,null,null,null,null,null,null,null,null,null,null,null,null,null,3026,{"$f":" IFERROR(INDIRECT(\"'SP500 Data'!B\"&MATCH(BB1113, 'SP500 Data'!A:A,0))/100,\"\")","v":""},""]
[null,null,null,null,null,null,null,null,null,null,null,null,null,null,null,null,null,null,null,null,null,null,null,null,null,null,null,null,null,null,null,null,null,null,null,null,null,null,null,null,null,null,null,null,null,null,null,null,null,null,null,null,null,3042,{"$f":" IFERROR(INDIRECT(\"'SP500 Data'!B\"&MATCH(BB1129, 'SP500 Data'!A:A,0))/100,\"\")","v":""},""]
[null,null,null,null,null,null,null,null,null,null,null,null,null,null,null,null,null,null,null,null,null,null,null,null,null,null,null,null,null,null,null,null,null,null,null,null,null,null,null,null,null,null,null,null,null,null,null,null,null,null,null,null,null,3045,{"$f":" IFERROR(INDIRECT(\"'SP500 Data'!B\"&MATCH(BB1132, 'SP500 Data'!A:A,0))/100,\"\")","v":""},""]
[null,null,null,null,null,null,null,null,null,null,null,null,null,null,null,null,null,null,null,null,null,null,null,null,null,null,null,null,null,null,null,null,null,null,null,null,null,null,null,null,null,null,null,null,null,null,null,null,null,null,null,null,null,3056,{"$f":" IFERROR(INDIRECT(\"'SP500 Data'!B\"&MATCH(BB1143, 'SP500 Data'!A:A,0))/100,\"\")","v":""},""]
[null,null,null,null,null,null,null,null,null,null,null,null,null,null,null,null,null,null,null,null,null,null,null,null,null,null,null,null,null,null,null,null,null,null,null,null,null,null,null,null,null,null,null,null,null,null,null,null,null,null,null,null,null,3063,{"$f":" IFERROR(INDIRECT(\"'SP500 Data'!B\"&MATCH(BB1150, 'SP500 Data'!A:A,0))/100,\"\")","v":""},""]
[null,null,null,null,null,null,null,null,null,null,null,null,null,null,null,null,null,null,null,null,null,null,null,null,null,null,null,null,null,null,null,null,null,null,null,null,null,null,null,null,null,null,null,null,null,null,null,null,null,null,null,null,null,3075,{"$f":" IFERROR(INDIRECT(\"'SP500 Data'!B\"&MATCH(BB1162, 'SP500 Data'!A:A,0))/100,\"\")","v":""},""]
[null,null,null,null,null,null,null,null,null,null,null,null,null,null,null,null,null,null,null,null,null,null,null,null,null,null,null,null,null,null,null,null,null,null,null,null,null,null,null,null,null,null,null,null,null,null,null,null,null,null,null,null,null,3084,{"$f":" IFERROR(INDIRECT(\"'SP500 Data'!B\"&MATCH(BB1171, 'SP500 Data'!A:A,0))/100,\"\")","v":""},""]
[null,null,null,null,null,null,null,null,null,null,null,null,null,null,null,null,null,null,null,null,null,null,null,null,null,null,null,null,null,null,null,null,null,null,null,null,null,null,null,null,null,null,null,null,null,null,null,null,null,null,null,null,null,3093,{"$f":" IFERROR(INDIRECT(\"'SP500 Data'!B\"&MATCH(BB1180, 'SP500 Data'!A:A,0))/100,\"\")","v":""},""]
[null,null,null,null,null,null,null,null,null,null,null,null,null,null,null,null,null,null,null,null,null,null,null,null,null,null,null,null,null,null,null,null,null,null,null,null,null,null,null,null,null,null,null,null,null,null,null,null,null,null,null,null,null,3096,{"$f":" IFERROR(INDIRECT(\"'SP500 Data'!B\"&MATCH(BB1183, 'SP500 Data'!A:A,0))/100,\"\")","v":""},""]
[null,null,null,null,null,null,null,null,null,null,null,null,null,null,null,null,null,null,null,null,null,null,null,null,null,null,null,null,null,null,null,null,null,null,null,null,null,null,null,null,null,null,null,null,null,null,null,null,null,null,null,null,null,3112,{"$f":" IFERROR(INDIRECT(\"'SP500 Data'!B\"&MATCH(BB1199, 'SP500 Data'!A:A,0))/100,\"\")","v":""},""]
[null,null,null,null,null,null,null,null,null,null,null,null,null,null,null,null,null,null,null,null,null,null,null,null,null,null,null,null,null,null,null,null,null,null,null,null,null,null,null,null,null,null,null,null,null,null,null,null,null,null,null,null,null,3115,{"$f":" IFERROR(INDIRECT(\"'SP500 Data'!B\"&MATCH(BB1202, 'SP500 Data'!A:A,0))/100,\"\")","v":""},""]
[null,null,null,null,null,null,null,null,null,null,null,null,null,null,null,null,null,null,null,null,null,null,null,null,null,null,null,null,null,null,null,null,null,null,null,null,null,null,null,null,null,null,null,null,null,null,null,null,null,null,null,null,null,3126,{"$f":" IFERROR(INDIRECT(\"'SP500 Data'!B\"&MATCH(BB1213, 'SP500 Data'!A:A,0))/100,\"\")","v":""},""]
[null,null,null,null,null,null,null,null,null,null,null,null,null,null,null,null,null,null,null,null,null,null,null,null,null,null,null,null,null,null,null,null,null,null,null,null,null,null,null,null,null,null,null,null,null,null,null,null,null,null,null,null,null,3133,{"$f":" IFERROR(INDIRECT(\"'SP500 Data'!B\"&MATCH(BB1220, 'SP500 Data'!A:A,0))/100,\"\")","v":""},""]
[null,null,null,null,null,null,null,null,null,null,null,null,null,null,null,null,null,null,null,null,null,null,null,null,null,null,null,null,null,null,null,null,null,null,null,null,null,null,null,null,null,null,null,null,null,null,null,null,null,null,null,null,null,3145,{"$f":" IFERROR(INDIRECT(\"'SP500 Data'!B\"&MATCH(BB1232, 'SP500 Data'!A:A,0))/100,\"\")","v":""},""]
[null,null,null,null,null,null,null,null,null,null,null,null,null,null,null,null,null,null,null,null,null,null,null,null,null,null,null,null,null,null,null,null,null,null,null,null,null,null,null,null,null,null,null,null,null,null,null,null,null,null,null,null,null,3154,{"$f":" IFERROR(INDIRECT(\"'SP500 Data'!B\"&MATCH(BB1241, 'SP500 Data'!A:A,0))/100,\"\")","v":""},""]
[null,null,null,null,null,null,null,null,null,null,null,null,null,null,null,null,null,null,null,null,null,null,null,null,null,null,null,null,null,null,null,null,null,null,null,null,null,null,null,null,null,null,null,null,null,null,null,null,null,null,null,null,null,3163,{"$f":" IFERROR(INDIRECT(\"'SP500 Data'!B\"&MATCH(BB1250, 'SP500 Data'!A:A,0))/100,\"\")","v":""},""]
[null,null,null,null,null,null,null,null,null,null,null,null,null,null,null,null,null,null,null,null,null,null,null,null,null,null,null,null,null,null,null,null,null,null,null,null,null,null,null,null,null,null,null,null,null,null,null,null,null,null,null,null,null,3166,{"$f":" IFERROR(INDIRECT(\"'SP500 Data'!B\"&MATCH(BB1253, 'SP500 Data'!A:A,0))/100,\"\")","v":""},""]
[null,null,null,null,null,null,null,null,null,null,null,null,null,null,null,null,null,null,null,null,null,null,null,null,null,null,null,null,null,null,null,null,null,null,null,null,null,null,null,null,null,null,null,null,null,null,null,null,null,null,null,null,null,3182,{"$f":" IFERROR(INDIRECT(\"'SP500 Data'!B\"&MATCH(BB1269, 'SP500 Data'!A:A,0))/100,\"\")","v":""},""]
[null,null,null,null,null,null,null,null,null,null,null,null,null,null,null,null,null,null,null,null,null,null,null,null,null,null,null,null,null,null,null,null,null,null,null,null,null,null,null,null,null,null,null,null,null,null,null,null,null,null,null,null,null,3185,{"$f":" IFERROR(INDIRECT(\"'SP500 Data'!B\"&MATCH(BB1272, 'SP500 Data'!A:A,0))/100,\"\")","v":""},""]
[null,null,null,null,null,null,null,null,null,null,null,null,null,null,null,null,null,null,null,null,null,null,null,null,null,null,null,null,null,null,null,null,null,null,null,null,null,null,null,null,null,null,null,null,null,null,null,null,null,null,null,null,null,3196,{"$f":" IFERROR(INDIRECT(\"'SP500 Data'!B\"&MATCH(BB1283, 'SP500 Data'!A:A,0))/100,\"\")","v":""},""]
[null,null,null,null,null,null,null,null,null,null,null,null,null,null,null,null,null,null,null,null,null,null,null,null,null,null,null,null,null,null,null,null,null,null,null,null,null,null,null,null,null,null,null,null,null,null,null,null,null,null,null,null,null,3203,{"$f":" IFERROR(INDIRECT(\"'SP500 Data'!B\"&MATCH(BB1290, 'SP500 Data'!A:A,0))/100,\"\")","v":""},""]
[null,null,null,null,null,null,null,null,null,null,null,null,null,null,null,null,null,null,null,null,null,null,null,null,null,null,null,null,null,null,null,null,null,null,null,null,null,null,null,null,null,null,null,null,null,null,null,null,null,null,null,null,null,3215,{"$f":" IFERROR(INDIRECT(\"'SP500 Data'!B\"&MATCH(BB1302, 'SP500 Data'!A:A,0))/100,\"\")","v":""},""]
[null,null,null,null,null,null,null,null,null,null,null,null,null,null,null,null,null,null,null,null,null,null,null,null,null,null,null,null,null,null,null,null,null,null,null,null,null,null,null,null,null,null,null,null,null,null,null,null,null,null,null,null,null,3224,{"$f":" IFERROR(INDIRECT(\"'SP500 Data'!B\"&MATCH(BB1311, 'SP500 Data'!A:A,0))/100,\"\")","v":""},""]
[null,null,null,null,null,null,null,null,null,null,null,null,null,null,null,null,null,null,null,null,null,null,null,null,null,null,null,null,null,null,null,null,null,null,null,null,null,null,null,null,null,null,null,null,null,null,null,null,null,null,null,null,null,3233,{"$f":" IFERROR(INDIRECT(\"'SP500 Data'!B\"&MATCH(BB1320, 'SP500 Data'!A:A,0))/100,\"\")","v":""},""]
[null,null,null,null,null,null,null,null,null,null,null,null,null,null,null,null,null,null,null,null,null,null,null,null,null,null,null,null,null,null,null,null,null,null,null,null,null,null,null,null,null,null,null,null,null,null,null,null,null,null,null,null,null,3236,{"$f":" IFERROR(INDIRECT(\"'SP500 Data'!B\"&MATCH(BB1323, 'SP500 Data'!A:A,0))/100,\"\")","v":""},""]
[null,null,null,null,null,null,null,null,null,null,null,null,null,null,null,null,null,null,null,null,null,null,null,null,null,null,null,null,null,null,null,null,null,null,null,null,null,null,null,null,null,null,null,null,null,null,null,null,null,null,null,null,null,3252,{"$f":" IFERROR(INDIRECT(\"'SP500 Data'!B\"&MATCH(BB1339, 'SP500 Data'!A:A,0))/100,\"\")","v":""},""]
[null,null,null,null,null,null,null,null,null,null,null,null,null,null,null,null,null,null,null,null,null,null,null,null,null,null,null,null,null,null,null,null,null,null,null,null,null,null,null,null,null,null,null,null,null,null,null,null,null,null,null,null,null,3255,{"$f":" IFERROR(INDIRECT(\"'SP500 Data'!B\"&MATCH(BB1342, 'SP500 Data'!A:A,0))/100,\"\")","v":""},""]
[null,null,null,null,null,null,null,null,null,null,null,null,null,null,null,null,null,null,null,null,null,null,null,null,null,null,null,null,null,null,null,null,null,null,null,null,null,null,null,null,null,null,null,null,null,null,null,null,null,null,null,null,null,3270,{"$f":" IFERROR(INDIRECT(\"'SP500 Data'!B\"&MATCH(BB1357, 'SP500 Data'!A:A,0))/100,\"\")","v":""},""]
[null,null,null,null,null,null,null,null,null,null,null,null,null,null,null,null,null,null,null,null,null,null,null,null,null,null,null,null,null,null,null,null,null,null,null,null,null,null,null,null,null,null,null,null,null,null,null,null,null,null,null,null,null,3273,{"$f":" IFERROR(INDIRECT(\"'SP500 Data'!B\"&MATCH(BB1360, 'SP500 Data'!A:A,0))/100,\"\")","v":""},""]
[null,null,null,null,null,null,null,null,null,null,null,null,null,null,null,null,null,null,null,null,null,null,null,null,null,null,null,null,null,null,null,null,null,null,null,null,null,null,null,null,null,null,null,null,null,null,null,null,null,null,null,null,null,3285,{"$f":" IFERROR(INDIRECT(\"'SP500 Data'!B\"&MATCH(BB1372, 'SP500 Data'!A:A,0))/100,\"\")","v":""},""]
[null,null,null,null,null,null,null,null,null,null,null,null,null,null,null,null,null,null,null,null,null,null,null,null,null,null,null,null,null,null,null,null,null,null,null,null,null,null,null,null,null,null,null,null,null,null,null,null,null,null,null,null,null,3294,{"$f":" IFERROR(INDIRECT(\"'SP500 Data'!B\"&MATCH(BB1381, 'SP500 Data'!A:A,0))/100,\"\")","v":""},""]
[null,null,null,null,null,null,null,null,null,null,null,null,null,null,null,null,null,null,null,null,null,null,null,null,null,null,null,null,null,null,null,null,null,null,null,null,null,null,null,null,null,null,null,null,null,null,null,null,null,null,null,null,null,3303,{"$f":" IFERROR(INDIRECT(\"'SP500 Data'!B\"&MATCH(BB1390, 'SP500 Data'!A:A,0))/100,\"\")","v":""},""]
[null,null,null,null,null,null,null,null,null,null,null,null,null,null,null,null,null,null,null,null,null,null,null,null,null,null,null,null,null,null,null,null,null,null,null,null,null,null,null,null,null,null,null,null,null,null,null,null,null,null,null,null,null,3306,{"$f":" IFERROR(INDIRECT(\"'SP500 Data'!B\"&MATCH(BB1393, 'SP500 Data'!A:A,0))/100,\"\")","v":""},""]
[null,null,null,null,null,null,null,null,null,null,null,null,null,null,null,null,null,null,null,null,null,null,null,null,null,null,null,null,null,null,null,null,null,null,null,null,null,null,null,null,null,null,null,null,null,null,null,null,null,null,null,null,null,3322,{"$f":" IFERROR(INDIRECT(\"'SP500 Data'!B\"&MATCH(BB1409, 'SP500 Data'!A:A,0))/100,\"\")","v":""},""]
[null,null,null,null,null,null,null,null,null,null,null,null,null,null,null,null,null,null,null,null,null,null,null,null,null,null,null,null,null,null,null,null,null,null,null,null,null,null,null,null,null,null,null,null,null,null,null,null,null,null,null,null,null,3325,{"$f":" IFERROR(INDIRECT(\"'SP500 Data'!B\"&MATCH(BB1412, 'SP500 Data'!A:A,0))/100,\"\")","v":""},""]
[null,null,null,null,null,null,null,null,null,null,null,null,null,null,null,null,null,null,null,null,null,null,null,null,null,null,null,null,null,null,null,null,null,null,null,null,null,null,null,null,null,null,null,null,null,null,null,null,null,null,null,null,null,3340,{"$f":" IFERROR(INDIRECT(\"'SP500 Data'!B\"&MATCH(BB1427, 'SP500 Data'!A:A,0))/100,\"\")","v":""},""]
[null,null,null,null,null,null,null,null,null,null,null,null,null,null,null,null,null,null,null,null,null,null,null,null,null,null,null,null,null,null,null,null,null,null,null,null,null,null,null,null,null,null,null,null,null,null,null,null,null,null,null,null,null,3343,{"$f":" IFERROR(INDIRECT(\"'SP500 Data'!B\"&MATCH(BB1430, 'SP500 Data'!A:A,0))/100,\"\")","v":""},""]
[null,null,null,null,null,null,null,null,null,null,null,null,null,null,null,null,null,null,null,null,null,null,null,null,null,null,null,null,null,null,null,null,null,null,null,null,null,null,null,null,null,null,null,null,null,null,null,null,null,null,null,null,null,3355,{"$f":" IFERROR(INDIRECT(\"'SP500 Data'!B\"&MATCH(BB1442, 'SP500 Data'!A:A,0))/100,\"\")","v":""},""]
[null,null,null,null,null,null,null,null,null,null,null,null,null,null,null,null,null,null,null,null,null,null,null,null,null,null,null,null,null,null,null,null,null,null,null,null,null,null,null,null,null,null,null,null,null,null,null,null,null,null,null,null,null,3364,{"$f":" IFERROR(INDIRECT(\"'SP500 Data'!B\"&MATCH(BB1451, 'SP500 Data'!A:A,0))/100,\"\")","v":""},""]
[null,null,null,null,null,null,null,null,null,null,null,null,null,null,null,null,null,null,null,null,null,null,null,null,null,null,null,null,null,null,null,null,null,null,null,null,null,null,null,null,null,null,null,null,null,null,null,null,null,null,null,null,null,3373,{"$f":" IFERROR(INDIRECT(\"'SP500 Data'!B\"&MATCH(BB1460, 'SP500 Data'!A:A,0))/100,\"\")","v":""},""]
[null,null,null,null,null,null,null,null,null,null,null,null,null,null,null,null,null,null,null,null,null,null,null,null,null,null,null,null,null,null,null,null,null,null,null,null,null,null,null,null,null,null,null,null,null,null,null,null,null,null,null,null,null,3380,{"$f":" IFERROR(INDIRECT(\"'SP500 Data'!B\"&MATCH(BB1467, 'SP500 Data'!A:A,0))/100,\"\")","v":""},""]
[null,null,null,null,null,null,null,null,null,null,null,null,null,null,null,null,null,null,null,null,null,null,null,null,null,null,null,null,null,null,null,null,null,null,null,null,null,null,null,null,null,null,null,null,null,null,null,null,null,null,null,null,null,3392,{"$f":" IFERROR(INDIRECT(\"'SP500 Data'!B\"&MATCH(BB1479, 'SP500 Data'!A:A,0))/100,\"\")","v":""},""]
[null,null,null,null,null,null,null,null,null,null,null,null,null,null,null,null,null,null,null,null,null,null,null,null,null,null,null,null,null,null,null,null,null,null,null,null,null,null,null,null,null,null,null,null,null,null,null,null,null,null,null,null,null,3395,{"$f":" IFERROR(INDIRECT(\"'SP500 Data'!B\"&MATCH(BB1482, 'SP500 Data'!A:A,0))/100,\"\")","v":""},""]
[null,null,null,null,null,null,null,null,null,null,null,null,null,null,null,null,null,null,null,null,null,null,null,null,null,null,null,null,null,null,null,null,null,null,null,null,null,null,null,null,null,null,null,null,null,null,null,null,null,null,null,null,null,3410,{"$f":" IFERROR(INDIRECT(\"'SP500 Data'!B\"&MATCH(BB1497, 'SP500 Data'!A:A,0))/100,\"\")","v":""},""]
[null,null,null,null,null,null,null,null,null,null,null,null,null,null,null,null,null,null,null,null,null,null,null,null,null,null,null,null,null,null,null,null,null,null,null,null,null,null,null,null,null,null,null,null,null,null,null,null,null,null,null,null,null,3413,{"$f":" IFERROR(INDIRECT(\"'SP500 Data'!B\"&MATCH(BB1500, 'SP500 Data'!A:A,0))/100,\"\")","v":""},""]
[null,null,null,null,null,null,null,null,null,null,null,null,null,null,null,null,null,null,null,null,null,null,null,null,null,null,null,null,null,null,null,null,null,null,null,null,null,null,null,null,null,null,null,null,null,null,null,null,null,null,null,null,null,3425,{"$f":" IFERROR(INDIRECT(\"'SP500 Data'!B\"&MATCH(BB1512, 'SP500 Data'!A:A,0))/100,\"\")","v":""},""]
[null,null,null,null,null,null,null,null,null,null,null,null,null,null,null,null,null,null,null,null,null,null,null,null,null,null,null,null,null,null,null,null,null,null,null,null,null,null,null,null,null,null,null,null,null,null,null,null,null,null,null,null,null,3434,{"$f":" IFERROR(INDIRECT(\"'SP500 Data'!B\"&MATCH(BB1521, 'SP500 Data'!A:A,0))/100,\"\")","v":""},""]
[null,null,null,null,null,null,null,null,null,null,null,null,null,null,null,null,null,null,null,null,null,null,null,null,null,null,null,null,null,null,null,null,null,null,null,null,null,null,null,null,null,null,null,null,null,null,null,null,null,null,null,null,null,3443,{"$f":" IFERROR(INDIRECT(\"'SP500 Data'!B\"&MATCH(BB1530, 'SP500 Data'!A:A,0))/100,\"\")","v":""},""]
[null,null,null,null,null,null,null,null,null,null,null,null,null,null,null,null,null,null,null,null,null,null,null,null,null,null,null,null,null,null,null,null,null,null,null,null,null,null,null,null,null,null,null,null,null,null,null,null,null,null,null,null,null,3450,{"$f":" IFERROR(INDIRECT(\"'SP500 Data'!B\"&MATCH(BB1537, 'SP500 Data'!A:A,0))/100,\"\")","v":""},""]
[null,null,null,null,null,null,null,null,null,null,null,null,null,null,null,null,null,null,null,null,null,null,null,null,null,null,null,null,null,null,null,null,null,null,null,null,null,null,null,null,null,null,null,null,null,null,null,null,null,null,null,null,null,3462,{"$f":" IFERROR(INDIRECT(\"'SP500 Data'!B\"&MATCH(BB1549, 'SP500 Data'!A:A,0))/100,\"\")","v":""},""]
[null,null,null,null,null,null,null,null,null,null,null,null,null,null,null,null,null,null,null,null,null,null,null,null,null,null,null,null,null,null,null,null,null,null,null,null,null,null,null,null,null,null,null,null,null,null,null,null,null,null,null,null,null,3465,{"$f":" IFERROR(INDIRECT(\"'SP500 Data'!B\"&MATCH(BB1552, 'SP500 Data'!A:A,0))/100,\"\")","v":""},""]
[null,null,null,null,null,null,null,null,null,null,null,null,null,null,null,null,null,null,null,null,null,null,null,null,null,null,null,null,null,null,null,null,null,null,null,null,null,null,null,null,null,null,null,null,null,null,null,null,null,null,null,null,null,3480,{"$f":" IFERROR(INDIRECT(\"'SP500 Data'!B\"&MATCH(BB1567, 'SP500 Data'!A:A,0))/100,\"\")","v":""},""]
[null,null,null,null,null,null,null,null,null,null,null,null,null,null,null,null,null,null,null,null,null,null,null,null,null,null,null,null,null,null,null,null,null,null,null,null,null,null,null,null,null,null,null,null,null,null,null,null,null,null,null,null,null,3483,{"$f":" IFERROR(INDIRECT(\"'SP500 Data'!B\"&MATCH(BB1570, 'SP500 Data'!A:A,0))/100,\"\")","v":""},""]
[null,null,null,null,null,null,null,null,null,null,null,null,null,null,null,null,null,null,null,null,null,null,null,null,null,null,null,null,null,null,null,null,null,null,null,null,null,null,null,null,null,null,null,null,null,null,null,null,null,null,null,null,null,3495,{"$f":" IFERROR(INDIRECT(\"'SP500 Data'!B\"&MATCH(BB1582, 'SP500 Data'!A:A,0))/100,\"\")","v":""},""]
[null,null,null,null,null,null,null,null,null,null,null,null,null,null,null,null,null,null,null,null,null,null,null,null,null,null,null,null,null,null,null,null,null,null,null,null,null,null,null,null,null,null,null,null,null,null,null,null,null,null,null,null,null,3504,{"$f":" IFERROR(INDIRECT(\"'SP500 Data'!B\"&MATCH(BB1591, 'SP500 Data'!A:A,0))/100,\"\")","v":""},""]
[null,null,null,null,null,null,null,null,null,null,null,null,null,null,null,null,null,null,null,null,null,null,null,null,null,null,null,null,null,null,null,null,null,null,null,null,null,null,null,null,null,null,null,null,null,null,null,null,null,null,null,null,null,3513,{"$f":" IFERROR(INDIRECT(\"'SP500 Data'!B\"&MATCH(BB1600, 'SP500 Data'!A:A,0))/100,\"\")","v":""},""]
[null,null,null,null,null,null,null,null,null,null,null,null,null,null,null,null,null,null,null,null,null,null,null,null,null,null,null,null,null,null,null,null,null,null,null,null,null,null,null,null,null,null,null,null,null,null,null,null,null,null,null,null,null,3520,{"$f":" IFERROR(INDIRECT(\"'SP500 Data'!B\"&MATCH(BB1607, 'SP500 Data'!A:A,0))/100,\"\")","v":""},""]
[null,null,null,null,null,null,null,null,null,null,null,null,null,null,null,null,null,null,null,null,null,null,null,null,null,null,null,null,null,null,null,null,null,null,null,null,null,null,null,null,null,null,null,null,null,null,null,null,null,null,null,null,null,3532,{"$f":" IFERROR(INDIRECT(\"'SP500 Data'!B\"&MATCH(BB1619, 'SP500 Data'!A:A,0))/100,\"\")","v":""},""]
[null,null,null,null,null,null,null,null,null,null,null,null,null,null,null,null,null,null,null,null,null,null,null,null,null,null,null,null,null,null,null,null,null,null,null,null,null,null,null,null,null,null,null,null,null,null,null,null,null,null,null,null,null,3535,{"$f":" IFERROR(INDIRECT(\"'SP500 Data'!B\"&MATCH(BB1622, 'SP500 Data'!A:A,0))/100,\"\")","v":""},""]
[null,null,null,null,null,null,null,null,null,null,null,null,null,null,null,null,null,null,null,null,null,null,null,null,null,null,null,null,null,null,null,null,null,null,null,null,null,null,null,null,null,null,null,null,null,null,null,null,null,null,null,null,null,3550,{"$f":" IFERROR(INDIRECT(\"'SP500 Data'!B\"&MATCH(BB1637, 'SP500 Data'!A:A,0))/100,\"\")","v":""},""]
[null,null,null,null,null,null,null,null,null,null,null,null,null,null,null,null,null,null,null,null,null,null,null,null,null,null,null,null,null,null,null,null,null,null,null,null,null,null,null,null,null,null,null,null,null,null,null,null,null,null,null,null,null,3553,{"$f":" IFERROR(INDIRECT(\"'SP500 Data'!B\"&MATCH(BB1640, 'SP500 Data'!A:A,0))/100,\"\")","v":""},""]
[null,null,null,null,null,null,null,null,null,null,null,null,null,null,null,null,null,null,null,null,null,null,null,null,null,null,null,null,null,null,null,null,null,null,null,null,null,null,null,null,null,null,null,null,null,null,null,null,null,null,null,null,null,3560,{"$f":" IFERROR(INDIRECT(\"'SP500 Data'!B\"&MATCH(BB1647, 'SP500 Data'!A:A,0))/100,\"\")","v":""},""]
[null,null,null,null,null,null,null,null,null,null,null,null,null,null,null,null,null,null,null,null,null,null,null,null,null,null,null,null,null,null,null,null,null,null,null,null,null,null,null,null,null,null,null,null,null,null,null,null,null,null,null,null,null,3574,{"$f":" IFERROR(INDIRECT(\"'SP500 Data'!B\"&MATCH(BB1661, 'SP500 Data'!A:A,0))/100,\"\")","v":""},""]
[null,null,null,null,null,null,null,null,null,null,null,null,null,null,null,null,null,null,null,null,null,null,null,null,null,null,null,null,null,null,null,null,null,null,null,null,null,null,null,null,null,null,null,null,null,null,null,null,null,null,null,null,null,3583,{"$f":" IFERROR(INDIRECT(\"'SP500 Data'!B\"&MATCH(BB1670, 'SP500 Data'!A:A,0))/100,\"\")","v":""},""]
[null,null,null,null,null,null,null,null,null,null,null,null,null,null,null,null,null,null,null,null,null,null,null,null,null,null,null,null,null,null,null,null,null,null,null,null,null,null,null,null,null,null,null,null,null,null,null,null,null,null,null,null,null,3590,{"$f":" IFERROR(INDIRECT(\"'SP500 Data'!B\"&MATCH(BB1677, 'SP500 Data'!A:A,0))/100,\"\")","v":""},""]
[null,null,null,null,null,null,null,null,null,null,null,null,null,null,null,null,null,null,null,null,null,null,null,null,null,null,null,null,null,null,null,null,null,null,null,null,null,null,null,null,null,null,null,null,null,null,null,null,null,null,null,null,null,3602,{"$f":" IFERROR(INDIRECT(\"'SP500 Data'!B\"&MATCH(BB1689, 'SP500 Data'!A:A,0))/100,\"\")","v":""},""]
[null,null,null,null,null,null,null,null,null,null,null,null,null,null,null,null,null,null,null,null,null,null,null,null,null,null,null,null,null,null,null,null,null,null,null,null,null,null,null,null,null,null,null,null,null,null,null,null,null,null,null,null,null,3605,{"$f":" IFERROR(INDIRECT(\"'SP500 Data'!B\"&MATCH(BB1692, 'SP500 Data'!A:A,0))/100,\"\")","v":""},""]
[null,null,null,null,null,null,null,null,null,null,null,null,null,null,null,null,null,null,null,null,null,null,null,null,null,null,null,null,null,null,null,null,null,null,null,null,null,null,null,null,null,null,null,null,null,null,null,null,null,null,null,null,null,3620,{"$f":" IFERROR(INDIRECT(\"'SP500 Data'!B\"&MATCH(BB1707, 'SP500 Data'!A:A,0))/100,\"\")","v":""},""]
[null,null,null,null,null,null,null,null,null,null,null,null,null,null,null,null,null,null,null,null,null,null,null,null,null,null,null,null,null,null,null,null,null,null,null,null,null,null,null,null,null,null,null,null,null,null,null,null,null,null,null,null,null,3623,{"$f":" IFERROR(INDIRECT(\"'SP500 Data'!B\"&MATCH(BB1710, 'SP500 Data'!A:A,0))/100,\"\")","v":""},""]
[null,null,null,null,null,null,null,null,null,null,null,null,null,null,null,null,null,null,null,null,null,null,null,null,null,null,null,null,null,null,null,null,null,null,null,null,null,null,null,null,null,null,null,null,null,null,null,null,null,null,null,null,null,3630,{"$f":" IFERROR(INDIRECT(\"'SP500 Data'!B\"&MATCH(BB1717, 'SP500 Data'!A:A,0))/100,\"\")","v":""},""]
[null,null,null,null,null,null,null,null,null,null,null,null,null,null,null,null,null,null,null,null,null,null,null,null,null,null,null,null,null,null,null,null,null,null,null,null,null,null,null,null,null,null,null,null,null,null,null,null,null,null,null,null,null,3644,{"$f":" IFERROR(INDIRECT(\"'SP500 Data'!B\"&MATCH(BB1731, 'SP500 Data'!A:A,0))/100,\"\")","v":""},""]
[null,null,null,null,null,null,null,null,null,null,null,null,null,null,null,null,null,null,null,null,null,null,null,null,null,null,null,null,null,null,null,null,null,null,null,null,null,null,null,null,null,null,null,null,null,null,null,null,null,null,null,null,null,3653,{"$f":" IFERROR(INDIRECT(\"'SP500 Data'!B\"&MATCH(BB1740, 'SP500 Data'!A:A,0))/100,\"\")","v":""},""]
[null,null,null,null,null,null,null,null,null,null,null,null,null,null,null,null,null,null,null,null,null,null,null,null,null,null,null,null,null,null,null,null,null,null,null,null,null,null,null,null,null,null,null,null,null,null,null,null,null,null,null,null,null,3660,{"$f":" IFERROR(INDIRECT(\"'SP500 Data'!B\"&MATCH(BB1747, 'SP500 Data'!A:A,0))/100,\"\")","v":""},""]
[null,null,null,null,null,null,null,null,null,null,null,null,null,null,null,null,null,null,null,null,null,null,null,null,null,null,null,null,null,null,null,null,null,null,null,null,null,null,null,null,null,null,null,null,null,null,null,null,null,null,null,null,null,3672,{"$f":" IFERROR(INDIRECT(\"'SP500 Data'!B\"&MATCH(BB1759, 'SP500 Data'!A:A,0))/100,\"\")","v":""},""]
[null,null,null,null,null,null,null,null,null,null,null,null,null,null,null,null,null,null,null,null,null,null,null,null,null,null,null,null,null,null,null,null,null,null,null,null,null,null,null,null,null,null,null,null,null,null,null,null,null,null,null,null,null,3675,{"$f":" IFERROR(INDIRECT(\"'SP500 Data'!B\"&MATCH(BB1762, 'SP500 Data'!A:A,0))/100,\"\")","v":""},""]
[null,null,null,null,null,null,null,null,null,null,null,null,null,null,null,null,null,null,null,null,null,null,null,null,null,null,null,null,null,null,null,null,null,null,null,null,null,null,null,null,null,null,null,null,null,null,null,null,null,null,null,null,null,3690,{"$f":" IFERROR(INDIRECT(\"'SP500 Data'!B\"&MATCH(BB1777, 'SP500 Data'!A:A,0))/100,\"\")","v":""},""]
[null,null,null,null,null,null,null,null,null,null,null,null,null,null,null,null,null,null,null,null,null,null,null,null,null,null,null,null,null,null,null,null,null,null,null,null,null,null,null,null,null,null,null,null,null,null,null,null,null,null,null,null,null,3693,{"$f":" IFERROR(INDIRECT(\"'SP500 Data'!B\"&MATCH(BB1780, 'SP500 Data'!A:A,0))/100,\"\")","v":""},""]
[null,null,null,null,null,null,null,null,null,null,null,null,null,null,null,null,null,null,null,null,null,null,null,null,null,null,null,null,null,null,null,null,null,null,null,null,null,null,null,null,null,null,null,null,null,null,null,null,null,null,null,null,null,3700,{"$f":" IFERROR(INDIRECT(\"'SP500 Data'!B\"&MATCH(BB1787, 'SP500 Data'!A:A,0))/100,\"\")","v":""},""]
[null,null,null,null,null,null,null,null,null,null,null,null,null,null,null,null,null,null,null,null,null,null,null,null,null,null,null,null,null,null,null,null,null,null,null,null,null,null,null,null,null,null,null,null,null,null,null,null,null,null,null,null,null,3714,{"$f":" IFERROR(INDIRECT(\"'SP500 Data'!B\"&MATCH(BB1801, 'SP500 Data'!A:A,0))/100,\"\")","v":""},""]
[null,null,null,null,null,null,null,null,null,null,null,null,null,null,null,null,null,null,null,null,null,null,null,null,null,null,null,null,null,null,null,null,null,null,null,null,null,null,null,null,null,null,null,null,null,null,null,null,null,null,null,null,null,3723,{"$f":" IFERROR(INDIRECT(\"'SP500 Data'!B\"&MATCH(BB1810, 'SP500 Data'!A:A,0))/100,\"\")","v":""},""]
[null,null,null,null,null,null,null,null,null,null,null,null,null,null,null,null,null,null,null,null,null,null,null,null,null,null,null,null,null,null,null,null,null,null,null,null,null,null,null,null,null,null,null,null,null,null,null,null,null,null,null,null,null,3730,{"$f":" IFERROR(INDIRECT(\"'SP500 Data'!B\"&MATCH(BB1817, 'SP500 Data'!A:A,0))/100,\"\")","v":""},""]
[null,null,null,null,null,null,null,null,null,null,null,null,null,null,null,null,null,null,null,null,null,null,null,null,null,null,null,null,null,null,null,null,null,null,null,null,null,null,null,null,null,null,null,null,null,null,null,null,null,null,null,null,null,3742,{"$f":" IFERROR(INDIRECT(\"'SP500 Data'!B\"&MATCH(BB1829, 'SP500 Data'!A:A,0))/100,\"\")","v":""},""]
[null,null,null,null,null,null,null,null,null,null,null,null,null,null,null,null,null,null,null,null,null,null,null,null,null,null,null,null,null,null,null,null,null,null,null,null,null,null,null,null,null,null,null,null,null,null,null,null,null,null,null,null,null,3745,{"$f":" IFERROR(INDIRECT(\"'SP500 Data'!B\"&MATCH(BB1832, 'SP500 Data'!A:A,0))/100,\"\")","v":""},""]
[null,null,null,null,null,null,null,null,null,null,null,null,null,null,null,null,null,null,null,null,null,null,null,null,null,null,null,null,null,null,null,null,null,null,null,null,null,null,null,null,null,null,null,null,null,null,null,null,null,null,null,null,null,3760,{"$f":" IFERROR(INDIRECT(\"'SP500 Data'!B\"&MATCH(BB1847, 'SP500 Data'!A:A,0))/100,\"\")","v":""},""]
[null,null,null,null,null,null,null,null,null,null,null,null,null,null,null,null,null,null,null,null,null,null,null,null,null,null,null,null,null,null,null,null,null,null,null,null,null,null,null,null,null,null,null,null,null,null,null,null,null,null,null,null,null,3763,{"$f":" IFERROR(INDIRECT(\"'SP500 Data'!B\"&MATCH(BB1850, 'SP500 Data'!A:A,0))/100,\"\")","v":""},""]
[null,null,null,null,null,null,null,null,null,null,null,null,null,null,null,null,null,null,null,null,null,null,null,null,null,null,null,null,null,null,null,null,null,null,null,null,null,null,null,null,null,null,null,null,null,null,null,null,null,null,null,null,null,3770,{"$f":" IFERROR(INDIRECT(\"'SP500 Data'!B\"&MATCH(BB1857, 'SP500 Data'!A:A,0))/100,\"\")","v":""},""]
[null,null,null,null,null,null,null,null,null,null,null,null,null,null,null,null,null,null,null,null,null,null,null,null,null,null,null,null,null,null,null,null,null,null,null,null,null,null,null,null,null,null,null,null,null,null,null,null,null,null,null,null,null,3784,{"$f":" IFERROR(INDIRECT(\"'SP500 Data'!B\"&MATCH(BB1871, 'SP500 Data'!A:A,0))/100,\"\")","v":""},""]
[null,null,null,null,null,null,null,null,null,null,null,null,null,null,null,null,null,null,null,null,null,null,null,null,null,null,null,null,null,null,null,null,null,null,null,null,null,null,null,null,null,null,null,null,null,null,null,null,null,null,null,null,null,3793,{"$f":" IFERROR(INDIRECT(\"'SP500 Data'!B\"&MATCH(BB1880, 'SP500 Data'!A:A,0))/100,\"\")","v":""},""]
[null,null,null,null,null,null,null,null,null,null,null,null,null,null,null,null,null,null,null,null,null,null,null,null,null,null,null,null,null,null,null,null,null,null,null,null,null,null,null,null,null,null,null,null,null,null,null,null,null,null,null,null,null,3800,{"$f":" IFERROR(INDIRECT(\"'SP500 Data'!B\"&MATCH(BB1887, 'SP500 Data'!A:A,0))/100,\"\")","v":""},""]
[null,null,null,null,null,null,null,null,null,null,null,null,null,null,null,null,null,null,null,null,null,null,null,null,null,null,null,null,null,null,null,null,null,null,null,null,null,null,null,null,null,null,null,null,null,null,null,null,null,null,null,null,null,3812,{"$f":" IFERROR(INDIRECT(\"'SP500 Data'!B\"&MATCH(BB1899, 'SP500 Data'!A:A,0))/100,\"\")","v":""},""]
[null,null,null,null,null,null,null,null,null,null,null,null,null,null,null,null,null,null,null,null,null,null,null,null,null,null,null,null,null,null,null,null,null,null,null,null,null,null,null,null,null,null,null,null,null,null,null,null,null,null,null,null,null,3815,{"$f":" IFERROR(INDIRECT(\"'SP500 Data'!B\"&MATCH(BB1902, 'SP500 Data'!A:A,0))/100,\"\")","v":""},""]
[null,null,null,null,null,null,null,null,null,null,null,null,null,null,null,null,null,null,null,null,null,null,null,null,null,null,null,null,null,null,null,null,null,null,null,null,null,null,null,null,null,null,null,null,null,null,null,null,null,null,null,null,null,3830,{"$f":" IFERROR(INDIRECT(\"'SP500 Data'!B\"&MATCH(BB1917, 'SP500 Data'!A:A,0))/100,\"\")","v":""},""]
[null,null,null,null,null,null,null,null,null,null,null,null,null,null,null,null,null,null,null,null,null,null,null,null,null,null,null,null,null,null,null,null,null,null,null,null,null,null,null,null,null,null,null,null,null,null,null,null,null,null,null,null,null,3833,{"$f":" IFERROR(INDIRECT(\"'SP500 Data'!B\"&MATCH(BB1920, 'SP500 Data'!A:A,0))/100,\"\")","v":""},""]
[null,null,null,null,null,null,null,null,null,null,null,null,null,null,null,null,null,null,null,null,null,null,null,null,null,null,null,null,null,null,null,null,null,null,null,null,null,null,null,null,null,null,null,null,null,null,null,null,null,null,null,null,null,3840,{"$f":" IFERROR(INDIRECT(\"'SP500 Data'!B\"&MATCH(BB1927, 'SP500 Data'!A:A,0))/100,\"\")","v":""},""]
[null,null,null,null,null,null,null,null,null,null,null,null,null,null,null,null,null,null,null,null,null,null,null,null,null,null,null,null,null,null,null,null,null,null,null,null,null,null,null,null,null,null,null,null,null,null,null,null,null,null,null,null,null,3854,{"$f":" IFERROR(INDIRECT(\"'SP500 Data'!B\"&MATCH(BB1941, 'SP500 Data'!A:A,0))/100,\"\")","v":""},""]
[null,null,null,null,null,null,null,null,null,null,null,null,null,null,null,null,null,null,null,null,null,null,null,null,null,null,null,null,null,null,null,null,null,null,null,null,null,null,null,null,null,null,null,null,null,null,null,null,null,null,null,null,null,3858,{"$f":" IFERROR(INDIRECT(\"'SP500 Data'!B\"&MATCH(BB1945, 'SP500 Data'!A:A,0))/100,\"\")","v":""},""]
[null,null,null,null,null,null,null,null,null,null,null,null,null,null,null,null,null,null,null,null,null,null,null,null,null,null,null,null,null,null,null,null,null,null,null,null,null,null,null,null,null,null,null,null,null,null,null,null,null,null,null,null,null,3870,{"$f":" IFERROR(INDIRECT(\"'SP500 Data'!B\"&MATCH(BB1957, 'SP500 Data'!A:A,0))/100,\"\")","v":""},""]
[null,null,null,null,null,null,null,null,null,null,null,null,null,null,null,null,null,null,null,null,null,null,null,null,null,null,null,null,null,null,null,null,null,null,null,null,null,null,null,null,null,null,null,null,null,null,null,null,null,null,null,null,null,3882,{"$f":" IFERROR(INDIRECT(\"'SP500 Data'!B\"&MATCH(BB1969, 'SP500 Data'!A:A,0))/100,\"\")","v":""},""]
[null,null,null,null,null,null,null,null,null,null,null,null,null,null,null,null,null,null,null,null,null,null,null,null,null,null,null,null,null,null,null,null,null,null,null,null,null,null,null,null,null,null,null,null,null,null,null,null,null,null,null,null,null,3885,{"$f":" IFERROR(INDIRECT(\"'SP500 Data'!B\"&MATCH(BB1972, 'SP500 Data'!A:A,0))/100,\"\")","v":""},""]
[null,null,null,null,null,null,null,null,null,null,null,null,null,null,null,null,null,null,null,null,null,null,null,null,null,null,null,null,null,null,null,null,null,null,null,null,null,null,null,null,null,null,null,null,null,null,null,null,null,null,null,null,null,3900,{"$f":" IFERROR(INDIRECT(\"'SP500 Data'!B\"&MATCH(BB1987, 'SP500 Data'!A:A,0))/100,\"\")","v":""},""]
[null,null,null,null,null,null,null,null,null,null,null,null,null,null,null,null,null,null,null,null,null,null,null,null,null,null,null,null,null,null,null,null,null,null,null,null,null,null,null,null,null,null,null,null,null,null,null,null,null,null,null,null,null,3903,{"$f":" IFERROR(INDIRECT(\"'SP500 Data'!B\"&MATCH(BB1990, 'SP500 Data'!A:A,0))/100,\"\")","v":""},""]
[null,null,null,null,null,null,null,null,null,null,null,null,null,null,null,null,null,null,null,null,null,null,null,null,null,null,null,null,null,null,null,null,null,null,null,null,null,null,null,null,null,null,null,null,null,null,null,null,null,null,null,null,null,3910,{"$f":" IFERROR(INDIRECT(\"'SP500 Data'!B\"&MATCH(BB1997, 'SP500 Data'!A:A,0))/100,\"\")","v":""},""]
[null,null,null,null,null,null,null,null,null,null,null,null,null,null,null,null,null,null,null,null,null,null,null,null,null,null,null,null,null,null,null,null,null,null,null,null,null,null,null,null,null,null,null,null,null,null,null,null,null,null,null,null,null,3924,{"$f":" IFERROR(INDIRECT(\"'SP500 Data'!B\"&MATCH(BB2011, 'SP500 Data'!A:A,0))/100,\"\")","v":""},""]
[null,null,null,null,null,null,null,null,null,null,null,null,null,null,null,null,null,null,null,null,null,null,null,null,null,null,null,null,null,null,null,null,null,null,null,null,null,null,null,null,null,null,null,null,null,null,null,null,null,null,null,null,null,3928,{"$f":" IFERROR(INDIRECT(\"'SP500 Data'!B\"&MATCH(BB2015, 'SP500 Data'!A:A,0))/100,\"\")","v":""},""]
[null,null,null,null,null,null,null,null,null,null,null,null,null,null,null,null,null,null,null,null,null,null,null,null,null,null,null,null,null,null,null,null,null,null,null,null,null,null,null,null,null,null,null,null,null,null,null,null,null,null,null,null,null,3940,{"$f":" IFERROR(INDIRECT(\"'SP500 Data'!B\"&MATCH(BB2027, 'SP500 Data'!A:A,0))/100,\"\")","v":""},""]
[null,null,null,null,null,null,null,null,null,null,null,null,null,null,null,null,null,null,null,null,null,null,null,null,null,null,null,null,null,null,null,null,null,null,null,null,null,null,null,null,null,null,null,null,null,null,null,null,null,null,null,null,null,3952,{"$f":" IFERROR(INDIRECT(\"'SP500 Data'!B\"&MATCH(BB2039, 'SP500 Data'!A:A,0))/100,\"\")","v":""},""]
[null,null,null,null,null,null,null,null,null,null,null,null,null,null,null,null,null,null,null,null,null,null,null,null,null,null,null,null,null,null,null,null,null,null,null,null,null,null,null,null,null,null,null,null,null,null,null,null,null,null,null,null,null,3955,{"$f":" IFERROR(INDIRECT(\"'SP500 Data'!B\"&MATCH(BB2042, 'SP500 Data'!A:A,0))/100,\"\")","v":""},""]
[null,null,null,null,null,null,null,null,null,null,null,null,null,null,null,null,null,null,null,null,null,null,null,null,null,null,null,null,null,null,null,null,null,null,null,null,null,null,null,null,null,null,null,null,null,null,null,null,null,null,null,null,null,3970,{"$f":" IFERROR(INDIRECT(\"'SP500 Data'!B\"&MATCH(BB2057, 'SP500 Data'!A:A,0))/100,\"\")","v":""},""]
[null,null,null,null,null,null,null,null,null,null,null,null,null,null,null,null,null,null,null,null,null,null,null,null,null,null,null,null,null,null,null,null,null,null,null,null,null,null,null,null,null,null,null,null,null,null,null,null,null,null,null,null,null,3973,{"$f":" IFERROR(INDIRECT(\"'SP500 Data'!B\"&MATCH(BB2060, 'SP500 Data'!A:A,0))/100,\"\")","v":""},""]
[null,null,null,null,null,null,null,null,null,null,null,null,null,null,null,null,null,null,null,null,null,null,null,null,null,null,null,null,null,null,null,null,null,null,null,null,null,null,null,null,null,null,null,null,null,null,null,null,null,null,null,null,null,3980,{"$f":" IFERROR(INDIRECT(\"'SP500 Data'!B\"&MATCH(BB2067, 'SP500 Data'!A:A,0))/100,\"\")","v":""},""]
[null,null,null,null,null,null,null,null,null,null,null,null,null,null,null,null,null,null,null,null,null,null,null,null,null,null,null,null,null,null,null,null,null,null,null,null,null,null,null,null,null,null,null,null,null,null,null,null,null,null,null,null,null,3994,{"$f":" IFERROR(INDIRECT(\"'SP500 Data'!B\"&MATCH(BB2081, 'SP500 Data'!A:A,0))/100,\"\")","v":""},""]
[null,null,null,null,null,null,null,null,null,null,null,null,null,null,null,null,null,null,null,null,null,null,null,null,null,null,null,null,null,null,null,null,null,null,null,null,null,null,null,null,null,null,null,null,null,null,null,null,null,null,null,null,null,3998,{"$f":" IFERROR(INDIRECT(\"'SP500 Data'!B\"&MATCH(BB2085, 'SP500 Data'!A:A,0))/100,\"\")","v":""},""]
[null,null,null,null,null,null,null,null,null,null,null,null,null,null,null,null,null,null,null,null,null,null,null,null,null,null,null,null,null,null,null,null,null,null,null,null,null,null,null,null,null,null,null,null,null,null,null,null,null,null,null,null,null,4010,{"$f":" IFERROR(INDIRECT(\"'SP500 Data'!B\"&MATCH(BB2097, 'SP500 Data'!A:A,0))/100,\"\")","v":""},""]
[null,null,null,null,null,null,null,null,null,null,null,null,null,null,null,null,null,null,null,null,null,null,null,null,null,null,null,null,null,null,null,null,null,null,null,null,null,null,null,null,null,null,null,null,null,null,null,null,null,null,null,null,null,4022,{"$f":" IFERROR(INDIRECT(\"'SP500 Data'!B\"&MATCH(BB2109, 'SP500 Data'!A:A,0))/100,\"\")","v":""},""]
[null,null,null,null,null,null,null,null,null,null,null,null,null,null,null,null,null,null,null,null,null,null,null,null,null,null,null,null,null,null,null,null,null,null,null,null,null,null,null,null,null,null,null,null,null,null,null,null,null,null,null,null,null,4025,{"$f":" IFERROR(INDIRECT(\"'SP500 Data'!B\"&MATCH(BB2112, 'SP500 Data'!A:A,0))/100,\"\")","v":""},""]
[null,null,null,null,null,null,null,null,null,null,null,null,null,null,null,null,null,null,null,null,null,null,null,null,null,null,null,null,null,null,null,null,null,null,null,null,null,null,null,null,null,null,null,null,null,null,null,null,null,null,null,null,null,4040,{"$f":" IFERROR(INDIRECT(\"'SP500 Data'!B\"&MATCH(BB2127, 'SP500 Data'!A:A,0))/100,\"\")","v":""},""]
[null,null,null,null,null,null,null,null,null,null,null,null,null,null,null,null,null,null,null,null,null,null,null,null,null,null,null,null,null,null,null,null,null,null,null,null,null,null,null,null,null,null,null,null,null,null,null,null,null,null,null,null,null,4047,{"$f":" IFERROR(INDIRECT(\"'SP500 Data'!B\"&MATCH(BB2134, 'SP500 Data'!A:A,0))/100,\"\")","v":""},""]
[null,null,null,null,null,null,null,null,null,null,null,null,null,null,null,null,null,null,null,null,null,null,null,null,null,null,null,null,null,null,null,null,null,null,null,null,null,null,null,null,null,null,null,null,null,null,null,null,null,null,null,null,null,4050,{"$f":" IFERROR(INDIRECT(\"'SP500 Data'!B\"&MATCH(BB2137, 'SP500 Data'!A:A,0))/100,\"\")","v":""},""]
[null,null,null,null,null,null,null,null,null,null,null,null,null,null,null,null,null,null,null,null,null,null,null,null,null,null,null,null,null,null,null,null,null,null,null,null,null,null,null,null,null,null,null,null,null,null,null,null,null,null,null,null,null,4064,{"$f":" IFERROR(INDIRECT(\"'SP500 Data'!B\"&MATCH(BB2151, 'SP500 Data'!A:A,0))/100,\"\")","v":""},""]
[null,null,null,null,null,null,null,null,null,null,null,null,null,null,null,null,null,null,null,null,null,null,null,null,null,null,null,null,null,null,null,null,null,null,null,null,null,null,null,null,null,null,null,null,null,null,null,null,null,null,null,null,null,4068,{"$f":" IFERROR(INDIRECT(\"'SP500 Data'!B\"&MATCH(BB2155, 'SP500 Data'!A:A,0))/100,\"\")","v":""},""]
[null,null,null,null,null,null,null,null,null,null,null,null,null,null,null,null,null,null,null,null,null,null,null,null,null,null,null,null,null,null,null,null,null,null,null,null,null,null,null,null,null,null,null,null,null,null,null,null,null,null,null,null,null,4080,{"$f":" IFERROR(INDIRECT(\"'SP500 Data'!B\"&MATCH(BB2167, 'SP500 Data'!A:A,0))/100,\"\")","v":""},""]
[null,null,null,null,null,null,null,null,null,null,null,null,null,null,null,null,null,null,null,null,null,null,null,null,null,null,null,null,null,null,null,null,null,null,null,null,null,null,null,null,null,null,null,null,null,null,null,null,null,null,null,null,null,4092,{"$f":" IFERROR(INDIRECT(\"'SP500 Data'!B\"&MATCH(BB2179, 'SP500 Data'!A:A,0))/100,\"\")","v":""},""]
[null,null,null,null,null,null,null,null,null,null,null,null,null,null,null,null,null,null,null,null,null,null,null,null,null,null,null,null,null,null,null,null,null,null,null,null,null,null,null,null,null,null,null,null,null,null,null,null,null,null,null,null,null,4095,{"$f":" IFERROR(INDIRECT(\"'SP500 Data'!B\"&MATCH(BB2182, 'SP500 Data'!A:A,0))/100,\"\")","v":""},""]
[null,null,null,null,null,null,null,null,null,null,null,null,null,null,null,null,null,null,null,null,null,null,null,null,null,null,null,null,null,null,null,null,null,null,null,null,null,null,null,null,null,null,null,null,null,null,null,null,null,null,null,null,null,4110,{"$f":" IFERROR(INDIRECT(\"'SP500 Data'!B\"&MATCH(BB2197, 'SP500 Data'!A:A,0))/100,\"\")","v":""},""]
[null,null,null,null,null,null,null,null,null,null,null,null,null,null,null,null,null,null,null,null,null,null,null,null,null,null,null,null,null,null,null,null,null,null,null,null,null,null,null,null,null,null,null,null,null,null,null,null,null,null,null,null,null,4117,{"$f":" IFERROR(INDIRECT(\"'SP500 Data'!B\"&MATCH(BB2204, 'SP500 Data'!A:A,0))/100,\"\")","v":""},""]
[null,null,null,null,null,null,null,null,null,null,null,null,null,null,null,null,null,null,null,null,null,null,null,null,null,null,null,null,null,null,null,null,null,null,null,null,null,null,null,null,null,null,null,null,null,null,null,null,null,null,null,null,null,4120,{"$f":" IFERROR(INDIRECT(\"'SP500 Data'!B\"&MATCH(BB2207, 'SP500 Data'!A:A,0))/100,\"\")","v":""},""]
[null,null,null,null,null,null,null,null,null,null,null,null,null,null,null,null,null,null,null,null,null,null,null,null,null,null,null,null,null,null,null,null,null,null,null,null,null,null,null,null,null,null,null,null,null,null,null,null,null,null,null,null,null,4134,{"$f":" IFERROR(INDIRECT(\"'SP500 Data'!B\"&MATCH(BB2221, 'SP500 Data'!A:A,0))/100,\"\")","v":""},""]
[null,null,null,null,null,null,null,null,null,null,null,null,null,null,null,null,null,null,null,null,null,null,null,null,null,null,null,null,null,null,null,null,null,null,null,null,null,null,null,null,null,null,null,null,null,null,null,null,null,null,null,null,null,4138,{"$f":" IFERROR(INDIRECT(\"'SP500 Data'!B\"&MATCH(BB2225, 'SP500 Data'!A:A,0))/100,\"\")","v":""},""]
[null,null,null,null,null,null,null,null,null,null,null,null,null,null,null,null,null,null,null,null,null,null,null,null,null,null,null,null,null,null,null,null,null,null,null,null,null,null,null,null,null,null,null,null,null,null,null,null,null,null,null,null,null,4150,{"$f":" IFERROR(INDIRECT(\"'SP500 Data'!B\"&MATCH(BB2237, 'SP500 Data'!A:A,0))/100,\"\")","v":""},""]
[null,null,null,null,null,null,null,null,null,null,null,null,null,null,null,null,null,null,null,null,null,null,null,null,null,null,null,null,null,null,null,null,null,null,null,null,null,null,null,null,null,null,null,null,null,null,null,null,null,null,null,null,null,4157,{"$f":" IFERROR(INDIRECT(\"'SP500 Data'!B\"&MATCH(BB2244, 'SP500 Data'!A:A,0))/100,\"\")","v":""},""]
[null,null,null,null,null,null,null,null,null,null,null,null,null,null,null,null,null,null,null,null,null,null,null,null,null,null,null,null,null,null,null,null,null,null,null,null,null,null,null,null,null,null,null,null,null,null,null,null,null,null,null,null,null,4165,{"$f":" IFERROR(INDIRECT(\"'SP500 Data'!B\"&MATCH(BB2252, 'SP500 Data'!A:A,0))/100,\"\")","v":""},""]
[null,null,null,null,null,null,null,null,null,null,null,null,null,null,null,null,null,null,null,null,null,null,null,null,null,null,null,null,null,null,null,null,null,null,null,null,null,null,null,null,null,null,null,null,null,null,null,null,null,null,null,null,null,4180,{"$f":" IFERROR(INDIRECT(\"'SP500 Data'!B\"&MATCH(BB2267, 'SP500 Data'!A:A,0))/100,\"\")","v":""},""]
[null,null,null,null,null,null,null,null,null,null,null,null,null,null,null,null,null,null,null,null,null,null,null,null,null,null,null,null,null,null,null,null,null,null,null,null,null,null,null,null,null,null,null,null,null,null,null,null,null,null,null,null,null,4187,{"$f":" IFERROR(INDIRECT(\"'SP500 Data'!B\"&MATCH(BB2274, 'SP500 Data'!A:A,0))/100,\"\")","v":""},""]
[null,null,null,null,null,null,null,null,null,null,null,null,null,null,null,null,null,null,null,null,null,null,null,null,null,null,null,null,null,null,null,null,null,null,null,null,null,null,null,null,null,null,null,null,null,null,null,null,null,null,null,null,null,4190,{"$f":" IFERROR(INDIRECT(\"'SP500 Data'!B\"&MATCH(BB2277, 'SP500 Data'!A:A,0))/100,\"\")","v":""},""]
[null,null,null,null,null,null,null,null,null,null,null,null,null,null,null,null,null,null,null,null,null,null,null,null,null,null,null,null,null,null,null,null,null,null,null,null,null,null,null,null,null,null,null,null,null,null,null,null,null,null,null,null,null,4204,{"$f":" IFERROR(INDIRECT(\"'SP500 Data'!B\"&MATCH(BB2291, 'SP500 Data'!A:A,0))/100,\"\")","v":""},""]
[null,null,null,null,null,null,null,null,null,null,null,null,null,null,null,null,null,null,null,null,null,null,null,null,null,null,null,null,null,null,null,null,null,null,null,null,null,null,null,null,null,null,null,null,null,null,null,null,null,null,null,null,null,4208,{"$f":" IFERROR(INDIRECT(\"'SP500 Data'!B\"&MATCH(BB2295, 'SP500 Data'!A:A,0))/100,\"\")","v":""},""]
[null,null,null,null,null,null,null,null,null,null,null,null,null,null,null,null,null,null,null,null,null,null,null,null,null,null,null,null,null,null,null,null,null,null,null,null,null,null,null,null,null,null,null,null,null,null,null,null,null,null,null,null,null,4220,{"$f":" IFERROR(INDIRECT(\"'SP500 Data'!B\"&MATCH(BB2307, 'SP500 Data'!A:A,0))/100,\"\")","v":""},""]
[null,null,null,null,null,null,null,null,null,null,null,null,null,null,null,null,null,null,null,null,null,null,null,null,null,null,null,null,null,null,null,null,null,null,null,null,null,null,null,null,null,null,null,null,null,null,null,null,null,null,null,null,null,4227,{"$f":" IFERROR(INDIRECT(\"'SP500 Data'!B\"&MATCH(BB2314, 'SP500 Data'!A:A,0))/100,\"\")","v":""},""]
[null,null,null,null,null,null,null,null,null,null,null,null,null,null,null,null,null,null,null,null,null,null,null,null,null,null,null,null,null,null,null,null,null,null,null,null,null,null,null,null,null,null,null,null,null,null,null,null,null,null,null,null,null,4235,{"$f":" IFERROR(INDIRECT(\"'SP500 Data'!B\"&MATCH(BB2322, 'SP500 Data'!A:A,0))/100,\"\")","v":""},""]
[null,null,null,null,null,null,null,null,null,null,null,null,null,null,null,null,null,null,null,null,null,null,null,null,null,null,null,null,null,null,null,null,null,null,null,null,null,null,null,null,null,null,null,null,null,null,null,null,null,null,null,null,null,4250,{"$f":" IFERROR(INDIRECT(\"'SP500 Data'!B\"&MATCH(BB2337, 'SP500 Data'!A:A,0))/100,\"\")","v":""},""]
[null,null,null,null,null,null,null,null,null,null,null,null,null,null,null,null,null,null,null,null,null,null,null,null,null,null,null,null,null,null,null,null,null,null,null,null,null,null,null,null,null,null,null,null,null,null,null,null,null,null,null,null,null,4257,{"$f":" IFERROR(INDIRECT(\"'SP500 Data'!B\"&MATCH(BB2344, 'SP500 Data'!A:A,0))/100,\"\")","v":""},""]
[null,null,null,null,null,null,null,null,null,null,null,null,null,null,null,null,null,null,null,null,null,null,null,null,null,null,null,null,null,null,null,null,null,null,null,null,null,null,null,null,null,null,null,null,null,null,null,null,null,null,null,null,null,4260,{"$f":" IFERROR(INDIRECT(\"'SP500 Data'!B\"&MATCH(BB2347, 'SP500 Data'!A:A,0))/100,\"\")","v":""},""]
[null,null,null,null,null,null,null,null,null,null,null,null,null,null,null,null,null,null,null,null,null,null,null,null,null,null,null,null,null,null,null,null,null,null,null,null,null,null,null,null,null,null,null,null,null,null,null,null,null,null,null,null,null,4274,{"$f":" IFERROR(INDIRECT(\"'SP500 Data'!B\"&MATCH(BB2361, 'SP500 Data'!A:A,0))/100,\"\")","v":""},""]
[null,null,null,null,null,null,null,null,null,null,null,null,null,null,null,null,null,null,null,null,null,null,null,null,null,null,null,null,null,null,null,null,null,null,null,null,null,null,null,null,null,null,null,null,null,null,null,null,null,null,null,null,null,4278,{"$f":" IFERROR(INDIRECT(\"'SP500 Data'!B\"&MATCH(BB2365, 'SP500 Data'!A:A,0))/100,\"\")","v":""},""]
[null,null,null,null,null,null,null,null,null,null,null,null,null,null,null,null,null,null,null,null,null,null,null,null,null,null,null,null,null,null,null,null,null,null,null,null,null,null,null,null,null,null,null,null,null,null,null,null,null,null,null,null,null,4290,{"$f":" IFERROR(INDIRECT(\"'SP500 Data'!B\"&MATCH(BB2377, 'SP500 Data'!A:A,0))/100,\"\")","v":""},""]
[null,null,null,null,null,null,null,null,null,null,null,null,null,null,null,null,null,null,null,null,null,null,null,null,null,null,null,null,null,null,null,null,null,null,null,null,null,null,null,null,null,null,null,null,null,null,null,null,null,null,null,null,null,4297,{"$f":" IFERROR(INDIRECT(\"'SP500 Data'!B\"&MATCH(BB2384, 'SP500 Data'!A:A,0))/100,\"\")","v":""},""]
[null,null,null,null,null,null,null,null,null,null,null,null,null,null,null,null,null,null,null,null,null,null,null,null,null,null,null,null,null,null,null,null,null,null,null,null,null,null,null,null,null,null,null,null,null,null,null,null,null,null,null,null,null,4305,{"$f":" IFERROR(INDIRECT(\"'SP500 Data'!B\"&MATCH(BB2392, 'SP500 Data'!A:A,0))/100,\"\")","v":""},""]
[null,null,null,null,null,null,null,null,null,null,null,null,null,null,null,null,null,null,null,null,null,null,null,null,null,null,null,null,null,null,null,null,null,null,null,null,null,null,null,null,null,null,null,null,null,null,null,null,null,null,null,null,null,4320,{"$f":" IFERROR(INDIRECT(\"'SP500 Data'!B\"&MATCH(BB2407, 'SP500 Data'!A:A,0))/100,\"\")","v":""},""]
[null,null,null,null,null,null,null,null,null,null,null,null,null,null,null,null,null,null,null,null,null,null,null,null,null,null,null,null,null,null,null,null,null,null,null,null,null,null,null,null,null,null,null,null,null,null,null,null,null,null,null,null,null,4327,{"$f":" IFERROR(INDIRECT(\"'SP500 Data'!B\"&MATCH(BB2414, 'SP500 Data'!A:A,0))/100,\"\")","v":""},""]
[null,null,null,null,null,null,null,null,null,null,null,null,null,null,null,null,null,null,null,null,null,null,null,null,null,null,null,null,null,null,null,null,null,null,null,null,null,null,null,null,null,null,null,null,null,null,null,null,null,null,null,null,null,4330,{"$f":" IFERROR(INDIRECT(\"'SP500 Data'!B\"&MATCH(BB2417, 'SP500 Data'!A:A,0))/100,\"\")","v":""},""]
[null,null,null,null,null,null,null,null,null,null,null,null,null,null,null,null,null,null,null,null,null,null,null,null,null,null,null,null,null,null,null,null,null,null,null,null,null,null,null,null,null,null,null,null,null,null,null,null,null,null,null,null,null,4344,{"$f":" IFERROR(INDIRECT(\"'SP500 Data'!B\"&MATCH(BB2431, 'SP500 Data'!A:A,0))/100,\"\")","v":""},""]
[null,null,null,null,null,null,null,null,null,null,null,null,null,null,null,null,null,null,null,null,null,null,null,null,null,null,null,null,null,null,null,null,null,null,null,null,null,null,null,null,null,null,null,null,null,null,null,null,null,null,null,null,null,4348,{"$f":" IFERROR(INDIRECT(\"'SP500 Data'!B\"&MATCH(BB2435, 'SP500 Data'!A:A,0))/100,\"\")","v":""},""]
[null,null,null,null,null,null,null,null,null,null,null,null,null,null,null,null,null,null,null,null,null,null,null,null,null,null,null,null,null,null,null,null,null,null,null,null,null,null,null,null,null,null,null,null,null,null,null,null,null,null,null,null,null,4360,{"$f":" IFERROR(INDIRECT(\"'SP500 Data'!B\"&MATCH(BB2447, 'SP500 Data'!A:A,0))/100,\"\")","v":""},""]
[null,null,null,null,null,null,null,null,null,null,null,null,null,null,null,null,null,null,null,null,null,null,null,null,null,null,null,null,null,null,null,null,null,null,null,null,null,null,null,null,null,null,null,null,null,null,null,null,null,null,null,null,null,4367,{"$f":" IFERROR(INDIRECT(\"'SP500 Data'!B\"&MATCH(BB2454, 'SP500 Data'!A:A,0))/100,\"\")","v":""},""]
[null,null,null,null,null,null,null,null,null,null,null,null,null,null,null,null,null,null,null,null,null,null,null,null,null,null,null,null,null,null,null,null,null,null,null,null,null,null,null,null,null,null,null,null,null,null,null,null,null,null,null,null,null,4375,{"$f":" IFERROR(INDIRECT(\"'SP500 Data'!B\"&MATCH(BB2462, 'SP500 Data'!A:A,0))/100,\"\")","v":""},""]
[null,null,null,null,null,null,null,null,null,null,null,null,null,null,null,null,null,null,null,null,null,null,null,null,null,null,null,null,null,null,null,null,null,null,null,null,null,null,null,null,null,null,null,null,null,null,null,null,null,null,null,null,null,4390,{"$f":" IFERROR(INDIRECT(\"'SP500 Data'!B\"&MATCH(BB2477, 'SP500 Data'!A:A,0))/100,\"\")","v":""},""]
[null,null,null,null,null,null,null,null,null,null,null,null,null,null,null,null,null,null,null,null,null,null,null,null,null,null,null,null,null,null,null,null,null,null,null,null,null,null,null,null,null,null,null,null,null,null,null,null,null,null,null,null,null,4397,{"$f":" IFERROR(INDIRECT(\"'SP500 Data'!B\"&MATCH(BB2484, 'SP500 Data'!A:A,0))/100,\"\")","v":""},""]
[null,null,null,null,null,null,null,null,null,null,null,null,null,null,null,null,null,null,null,null,null,null,null,null,null,null,null,null,null,null,null,null,null,null,null,null,null,null,null,null,null,null,null,null,null,null,null,null,null,null,null,null,null,4400,{"$f":" IFERROR(INDIRECT(\"'SP500 Data'!B\"&MATCH(BB2487, 'SP500 Data'!A:A,0))/100,\"\")","v":""},""]
[null,null,null,null,null,null,null,null,null,null,null,null,null,null,null,null,null,null,null,null,null,null,null,null,null,null,null,null,null,null,null,null,null,null,null,null,null,null,null,null,null,null,null,null,null,null,null,null,null,null,null,null,null,4414,{"$f":" IFERROR(INDIRECT(\"'SP500 Data'!B\"&MATCH(BB2501, 'SP500 Data'!A:A,0))/100,\"\")","v":""},""]
[null,null,null,null,null,null,null,null,null,null,null,null,null,null,null,null,null,null,null,null,null,null,null,null,null,null,null,null,null,null,null,null,null,null,null,null,null,null,null,null,null,null,null,null,null,null,null,null,null,null,null,null,null,4418,{"$f":" IFERROR(INDIRECT(\"'SP500 Data'!B\"&MATCH(BB2505, 'SP500 Data'!A:A,0))/100,\"\")","v":""},""]
[null,null,null,null,null,null,null,null,null,null,null,null,null,null,null,null,null,null,null,null,null,null,null,null,null,null,null,null,null,null,null,null,null,null,null,null,null,null,null,null,null,null,null,null,null,null,null,null,null,null,null,null,null,4430,{"$f":" IFERROR(INDIRECT(\"'SP500 Data'!B\"&MATCH(BB2517, 'SP500 Data'!A:A,0))/100,\"\")","v":""},""]
[null,null,null,null,null,null,null,null,null,null,null,null,null,null,null,null,null,null,null,null,null,null,null,null,null,null,null,null,null,null,null,null,null,null,null,null,null,null,null,null,null,null,null,null,null,null,null,null,null,null,null,null,null,4437,{"$f":" IFERROR(INDIRECT(\"'SP500 Data'!B\"&MATCH(BB2524, 'SP500 Data'!A:A,0))/100,\"\")","v":""},""]
[null,null,null,null,null,null,null,null,null,null,null,null,null,null,null,null,null,null,null,null,null,null,null,null,null,null,null,null,null,null,null,null,null,null,null,null,null,null,null,null,null,null,null,null,null,null,null,null,null,null,null,null,null,4445,{"$f":" IFERROR(INDIRECT(\"'SP500 Data'!B\"&MATCH(BB2532, 'SP500 Data'!A:A,0))/100,\"\")","v":""},""]
[null,null,null,null,null,null,null,null,null,null,null,null,null,null,null,null,null,null,null,null,null,null,null,null,null,null,null,null,null,null,null,null,null,null,null,null,null,null,null,null,null,null,null,null,null,null,null,null,null,null,null,null,null,4460,{"$f":" IFERROR(INDIRECT(\"'SP500 Data'!B\"&MATCH(BB2547, 'SP500 Data'!A:A,0))/100,\"\")","v":""},""]
[null,null,null,null,null,null,null,null,null,null,null,null,null,null,null,null,null,null,null,null,null,null,null,null,null,null,null,null,null,null,null,null,null,null,null,null,null,null,null,null,null,null,null,null,null,null,null,null,null,null,null,null,null,4467,{"$f":" IFERROR(INDIRECT(\"'SP500 Data'!B\"&MATCH(BB2554, 'SP500 Data'!A:A,0))/100,\"\")","v":""},""]
[null,null,null,null,null,null,null,null,null,null,null,null,null,null,null,null,null,null,null,null,null,null,null,null,null,null,null,null,null,null,null,null,null,null,null,null,null,null,null,null,null,null,null,null,null,null,null,null,null,null,null,null,null,4470,{"$f":" IFERROR(INDIRECT(\"'SP500 Data'!B\"&MATCH(BB2557, 'SP500 Data'!A:A,0))/100,\"\")","v":""},""]
[null,null,null,null,null,null,null,null,null,null,null,null,null,null,null,null,null,null,null,null,null,null,null,null,null,null,null,null,null,null,null,null,null,null,null,null,null,null,null,null,null,null,null,null,null,null,null,null,null,null,null,null,null,4484,{"$f":" IFERROR(INDIRECT(\"'SP500 Data'!B\"&MATCH(BB2571, 'SP500 Data'!A:A,0))/100,\"\")","v":""},""]
[null,null,null,null,null,null,null,null,null,null,null,null,null,null,null,null,null,null,null,null,null,null,null,null,null,null,null,null,null,null,null,null,null,null,null,null,null,null,null,null,null,null,null,null,null,null,null,null,null,null,null,null,null,4488,{"$f":" IFERROR(INDIRECT(\"'SP500 Data'!B\"&MATCH(BB2575, 'SP500 Data'!A:A,0))/100,\"\")","v":""},""]
[null,null,null,null,null,null,null,null,null,null,null,null,null,null,null,null,null,null,null,null,null,null,null,null,null,null,null,null,null,null,null,null,null,null,null,null,null,null,null,null,null,null,null,null,null,null,null,null,null,null,null,null,null,4500,{"$f":" IFERROR(INDIRECT(\"'SP500 Data'!B\"&MATCH(BB2587, 'SP500 Data'!A:A,0))/100,\"\")","v":""},""]
[null,null,null,null,null,null,null,null,null,null,null,null,null,null,null,null,null,null,null,null,null,null,null,null,null,null,null,null,null,null,null,null,null,null,null,null,null,null,null,null,null,null,null,null,null,null,null,null,null,null,null,null,null,4507,{"$f":" IFERROR(INDIRECT(\"'SP500 Data'!B\"&MATCH(BB2594, 'SP500 Data'!A:A,0))/100,\"\")","v":""},""]
[null,null,null,null,null,null,null,null,null,null,null,null,null,null,null,null,null,null,null,null,null,null,null,null,null,null,null,null,null,null,null,null,null,null,null,null,null,null,null,null,null,null,null,null,null,null,null,null,null,null,null,null,null,4515,{"$f":" IFERROR(INDIRECT(\"'SP500 Data'!B\"&MATCH(BB2602, 'SP500 Data'!A:A,0))/100,\"\")","v":""},""]
[null,null,null,null,null,null,null,null,null,null,null,null,null,null,null,null,null,null,null,null,null,null,null,null,null,null,null,null,null,null,null,null,null,null,null,null,null,null,null,null,null,null,null,null,null,null,null,null,null,null,null,null,null,4525,{"$f":" IFERROR(INDIRECT(\"'SP500 Data'!B\"&MATCH(BB2612, 'SP500 Data'!A:A,0))/100,\"\")","v":""},""]
[null,null,null,null,null,null,null,null,null,null,null,null,null,null,null,null,null,null,null,null,null,null,null,null,null,null,null,null,null,null,null,null,null,null,null,null,null,null,null,null,null,null,null,null,null,null,null,null,null,null,null,null,null,4537,{"$f":" IFERROR(INDIRECT(\"'SP500 Data'!B\"&MATCH(BB2624, 'SP500 Data'!A:A,0))/100,\"\")","v":""},""]
[null,null,null,null,null,null,null,null,null,null,null,null,null,null,null,null,null,null,null,null,null,null,null,null,null,null,null,null,null,null,null,null,null,null,null,null,null,null,null,null,null,null,null,null,null,null,null,null,null,null,null,null,null,4540,{"$f":" IFERROR(INDIRECT(\"'SP500 Data'!B\"&MATCH(BB2627, 'SP500 Data'!A:A,0))/100,\"\")","v":""},""]
[null,null,null,null,null,null,null,null,null,null,null,null,null,null,null,null,null,null,null,null,null,null,null,null,null,null,null,null,null,null,null,null,null,null,null,null,null,null,null,null,null,null,null,null,null,null,null,null,null,null,null,null,null,4554,{"$f":" IFERROR(INDIRECT(\"'SP500 Data'!B\"&MATCH(BB2641, 'SP500 Data'!A:A,0))/100,\"\")","v":""},""]
[null,null,null,null,null,null,null,null,null,null,null,null,null,null,null,null,null,null,null,null,null,null,null,null,null,null,null,null,null,null,null,null,null,null,null,null,null,null,null,null,null,null,null,null,null,null,null,null,null,null,null,null,null,4558,{"$f":" IFERROR(INDIRECT(\"'SP500 Data'!B\"&MATCH(BB2645, 'SP500 Data'!A:A,0))/100,\"\")","v":""},""]
[null,null,null,null,null,null,null,null,null,null,null,null,null,null,null,null,null,null,null,null,null,null,null,null,null,null,null,null,null,null,null,null,null,null,null,null,null,null,null,null,null,null,null,null,null,null,null,null,null,null,null,null,null,4570,{"$f":" IFERROR(INDIRECT(\"'SP500 Data'!B\"&MATCH(BB2657, 'SP500 Data'!A:A,0))/100,\"\")","v":""},""]
[null,null,null,null,null,null,null,null,null,null,null,null,null,null,null,null,null,null,null,null,null,null,null,null,null,null,null,null,null,null,null,null,null,null,null,null,null,null,null,null,null,null,null,null,null,null,null,null,null,null,null,null,null,4577,{"$f":" IFERROR(INDIRECT(\"'SP500 Data'!B\"&MATCH(BB2664, 'SP500 Data'!A:A,0))/100,\"\")","v":""},""]
[null,null,null,null,null,null,null,null,null,null,null,null,null,null,null,null,null,null,null,null,null,null,null,null,null,null,null,null,null,null,null,null,null,null,null,null,null,null,null,null,null,null,null,null,null,null,null,null,null,null,null,null,null,4585,{"$f":" IFERROR(INDIRECT(\"'SP500 Data'!B\"&MATCH(BB2672, 'SP500 Data'!A:A,0))/100,\"\")","v":""},""]
[null,null,null,null,null,null,null,null,null,null,null,null,null,null,null,null,null,null,null,null,null,null,null,null,null,null,null,null,null,null,null,null,null,null,null,null,null,null,null,null,null,null,null,null,null,null,null,null,null,null,null,null,null,4595,{"$f":" IFERROR(INDIRECT(\"'SP500 Data'!B\"&MATCH(BB2682, 'SP500 Data'!A:A,0))/100,\"\")","v":""},""]
[null,null,null,null,null,null,null,null,null,null,null,null,null,null,null,null,null,null,null,null,null,null,null,null,null,null,null,null,null,null,null,null,null,null,null,null,null,null,null,null,null,null,null,null,null,null,null,null,null,null,null,null,null,4607,{"$f":" IFERROR(INDIRECT(\"'SP500 Data'!B\"&MATCH(BB2694, 'SP500 Data'!A:A,0))/100,\"\")","v":""},""]
[null,null,null,null,null,null,null,null,null,null,null,null,null,null,null,null,null,null,null,null,null,null,null,null,null,null,null,null,null,null,null,null,null,null,null,null,null,null,null,null,null,null,null,null,null,null,null,null,null,null,null,null,null,4610,{"$f":" IFERROR(INDIRECT(\"'SP500 Data'!B\"&MATCH(BB2697, 'SP500 Data'!A:A,0))/100,\"\")","v":""},""]
[null,null,null,null,null,null,null,null,null,null,null,null,null,null,null,null,null,null,null,null,null,null,null,null,null,null,null,null,null,null,null,null,null,null,null,null,null,null,null,null,null,null,null,null,null,null,null,null,null,null,null,null,null,4624,{"$f":" IFERROR(INDIRECT(\"'SP500 Data'!B\"&MATCH(BB2711, 'SP500 Data'!A:A,0))/100,\"\")","v":""},""]
[null,null,null,null,null,null,null,null,null,null,null,null,null,null,null,null,null,null,null,null,null,null,null,null,null,null,null,null,null,null,null,null,null,null,null,null,null,null,null,null,null,null,null,null,null,null,null,null,null,null,null,null,null,4628,{"$f":" IFERROR(INDIRECT(\"'SP500 Data'!B\"&MATCH(BB2715, 'SP500 Data'!A:A,0))/100,\"\")","v":""},""]
[null,null,null,null,null,null,null,null,null,null,null,null,null,null,null,null,null,null,null,null,null,null,null,null,null,null,null,null,null,null,null,null,null,null,null,null,null,null,null,null,null,null,null,null,null,null,null,null,null,null,null,null,null,4644,{"$f":" IFERROR(INDIRECT(\"'SP500 Data'!B\"&MATCH(BB2731, 'SP500 Data'!A:A,0))/100,\"\")","v":""},""]
[null,null,null,null,null,null,null,null,null,null,null,null,null,null,null,null,null,null,null,null,null,null,null,null,null,null,null,null,null,null,null,null,null,null,null,null,null,null,null,null,null,null,null,null,null,null,null,null,null,null,null,null,null,4647,{"$f":" IFERROR(INDIRECT(\"'SP500 Data'!B\"&MATCH(BB2734, 'SP500 Data'!A:A,0))/100,\"\")","v":""},""]
[null,null,null,null,null,null,null,null,null,null,null,null,null,null,null,null,null,null,null,null,null,null,null,null,null,null,null,null,null,null,null,null,null,null,null,null,null,null,null,null,null,null,null,null,null,null,null,null,null,null,null,null,null,4655,{"$f":" IFERROR(INDIRECT(\"'SP500 Data'!B\"&MATCH(BB2742, 'SP500 Data'!A:A,0))/100,\"\")","v":""},""]
[null,null,null,null,null,null,null,null,null,null,null,null,null,null,null,null,null,null,null,null,null,null,null,null,null,null,null,null,null,null,null,null,null,null,null,null,null,null,null,null,null,null,null,null,null,null,null,null,null,null,null,null,null,4665,{"$f":" IFERROR(INDIRECT(\"'SP500 Data'!B\"&MATCH(BB2752, 'SP500 Data'!A:A,0))/100,\"\")","v":""},""]
[null,null,null,null,null,null,null,null,null,null,null,null,null,null,null,null,null,null,null,null,null,null,null,null,null,null,null,null,null,null,null,null,null,null,null,null,null,null,null,null,null,null,null,null,null,null,null,null,null,null,null,null,null,4677,{"$f":" IFERROR(INDIRECT(\"'SP500 Data'!B\"&MATCH(BB2764, 'SP500 Data'!A:A,0))/100,\"\")","v":""},""]
[null,null,null,null,null,null,null,null,null,null,null,null,null,null,null,null,null,null,null,null,null,null,null,null,null,null,null,null,null,null,null,null,null,null,null,null,null,null,null,null,null,null,null,null,null,null,null,null,null,null,null,null,null,4680,{"$f":" IFERROR(INDIRECT(\"'SP500 Data'!B\"&MATCH(BB2767, 'SP500 Data'!A:A,0))/100,\"\")","v":""},""]
[null,null,null,null,null,null,null,null,null,null,null,null,null,null,null,null,null,null,null,null,null,null,null,null,null,null,null,null,null,null,null,null,null,null,null,null,null,null,null,null,null,null,null,null,null,null,null,null,null,null,null,null,null,4694,{"$f":" IFERROR(INDIRECT(\"'SP500 Data'!B\"&MATCH(BB2781, 'SP500 Data'!A:A,0))/100,\"\")","v":""},""]
[null,null,null,null,null,null,null,null,null,null,null,null,null,null,null,null,null,null,null,null,null,null,null,null,null,null,null,null,null,null,null,null,null,null,null,null,null,null,null,null,null,null,null,null,null,null,null,null,null,null,null,null,null,4698,{"$f":" IFERROR(INDIRECT(\"'SP500 Data'!B\"&MATCH(BB2785, 'SP500 Data'!A:A,0))/100,\"\")","v":""},""]
[null,null,null,null,null,null,null,null,null,null,null,null,null,null,null,null,null,null,null,null,null,null,null,null,null,null,null,null,null,null,null,null,null,null,null,null,null,null,null,null,null,null,null,null,null,null,null,null,null,null,null,null,null,4714,{"$f":" IFERROR(INDIRECT(\"'SP500 Data'!B\"&MATCH(BB2801, 'SP500 Data'!A:A,0))/100,\"\")","v":""},""]
[null,null,null,null,null,null,null,null,null,null,null,null,null,null,null,null,null,null,null,null,null,null,null,null,null,null,null,null,null,null,null,null,null,null,null,null,null,null,null,null,null,null,null,null,null,null,null,null,null,null,null,null,null,4717,{"$f":" IFERROR(INDIRECT(\"'SP500 Data'!B\"&MATCH(BB2804, 'SP500 Data'!A:A,0))/100,\"\")","v":""},""]
[null,null,null,null,null,null,null,null,null,null,null,null,null,null,null,null,null,null,null,null,null,null,null,null,null,null,null,null,null,null,null,null,null,null,null,null,null,null,null,null,null,null,null,null,null,null,null,null,null,null,null,null,null,4725,{"$f":" IFERROR(INDIRECT(\"'SP500 Data'!B\"&MATCH(BB2812, 'SP500 Data'!A:A,0))/100,\"\")","v":""},""]
[null,null,null,null,null,null,null,null,null,null,null,null,null,null,null,null,null,null,null,null,null,null,null,null,null,null,null,null,null,null,null,null,null,null,null,null,null,null,null,null,null,null,null,null,null,null,null,null,null,null,null,null,null,4735,{"$f":" IFERROR(INDIRECT(\"'SP500 Data'!B\"&MATCH(BB2822, 'SP500 Data'!A:A,0))/100,\"\")","v":""},""]
[null,null,null,null,null,null,null,null,null,null,null,null,null,null,null,null,null,null,null,null,null,null,null,null,null,null,null,null,null,null,null,null,null,null,null,null,null,null,null,null,null,null,null,null,null,null,null,null,null,null,null,null,null,4747,{"$f":" IFERROR(INDIRECT(\"'SP500 Data'!B\"&MATCH(BB2834, 'SP500 Data'!A:A,0))/100,\"\")","v":""},""]
[null,null,null,null,null,null,null,null,null,null,null,null,null,null,null,null,null,null,null,null,null,null,null,null,null,null,null,null,null,null,null,null,null,null,null,null,null,null,null,null,null,null,null,null,null,null,null,null,null,null,null,null,null,4750,{"$f":" IFERROR(INDIRECT(\"'SP500 Data'!B\"&MATCH(BB2837, 'SP500 Data'!A:A,0))/100,\"\")","v":""},""]
[null,null,null,null,null,null,null,null,null,null,null,null,null,null,null,null,null,null,null,null,null,null,null,null,null,null,null,null,null,null,null,null,null,null,null,null,null,null,null,null,null,null,null,null,null,null,null,null,null,null,null,null,null,4764,{"$f":" IFERROR(INDIRECT(\"'SP500 Data'!B\"&MATCH(BB2851, 'SP500 Data'!A:A,0))/100,\"\")","v":""},""]
[null,null,null,null,null,null,null,null,null,null,null,null,null,null,null,null,null,null,null,null,null,null,null,null,null,null,null,null,null,null,null,null,null,null,null,null,null,null,null,null,null,null,null,null,null,null,null,null,null,null,null,null,null,4768,{"$f":" IFERROR(INDIRECT(\"'SP500 Data'!B\"&MATCH(BB2855, 'SP500 Data'!A:A,0))/100,\"\")","v":""},""]
[null,null,null,null,null,null,null,null,null,null,null,null,null,null,null,null,null,null,null,null,null,null,null,null,null,null,null,null,null,null,null,null,null,null,null,null,null,null,null,null,null,null,null,null,null,null,null,null,null,null,null,null,null,4784,{"$f":" IFERROR(INDIRECT(\"'SP500 Data'!B\"&MATCH(BB2871, 'SP500 Data'!A:A,0))/100,\"\")","v":""},""]
[null,null,null,null,null,null,null,null,null,null,null,null,null,null,null,null,null,null,null,null,null,null,null,null,null,null,null,null,null,null,null,null,null,null,null,null,null,null,null,null,null,null,null,null,null,null,null,null,null,null,null,null,null,4787,{"$f":" IFERROR(INDIRECT(\"'SP500 Data'!B\"&MATCH(BB2874, 'SP500 Data'!A:A,0))/100,\"\")","v":""},""]
[null,null,null,null,null,null,null,null,null,null,null,null,null,null,null,null,null,null,null,null,null,null,null,null,null,null,null,null,null,null,null,null,null,null,null,null,null,null,null,null,null,null,null,null,null,null,null,null,null,null,null,null,null,4795,{"$f":" IFERROR(INDIRECT(\"'SP500 Data'!B\"&MATCH(BB2882, 'SP500 Data'!A:A,0))/100,\"\")","v":""},""]
[null,null,null,null,null,null,null,null,null,null,null,null,null,null,null,null,null,null,null,null,null,null,null,null,null,null,null,null,null,null,null,null,null,null,null,null,null,null,null,null,null,null,null,null,null,null,null,null,null,null,null,null,null,4805,{"$f":" IFERROR(INDIRECT(\"'SP500 Data'!B\"&MATCH(BB2892, 'SP500 Data'!A:A,0))/100,\"\")","v":""},""]
[null,null,null,null,null,null,null,null,null,null,null,null,null,null,null,null,null,null,null,null,null,null,null,null,null,null,null,null,null,null,null,null,null,null,null,null,null,null,null,null,null,null,null,null,null,null,null,null,null,null,null,null,null,4817,{"$f":" IFERROR(INDIRECT(\"'SP500 Data'!B\"&MATCH(BB2904, 'SP500 Data'!A:A,0))/100,\"\")","v":""},""]
[null,null,null,null,null,null,null,null,null,null,null,null,null,null,null,null,null,null,null,null,null,null,null,null,null,null,null,null,null,null,null,null,null,null,null,null,null,null,null,null,null,null,null,null,null,null,null,null,null,null,null,null,null,4824,{"$f":" IFERROR(INDIRECT(\"'SP500 Data'!B\"&MATCH(BB2911, 'SP500 Data'!A:A,0))/100,\"\")","v":""},""]
[null,null,null,null,null,null,null,null,null,null,null,null,null,null,null,null,null,null,null,null,null,null,null,null,null,null,null,null,null,null,null,null,null,null,null,null,null,null,null,null,null,null,null,null,null,null,null,null,null,null,null,null,null,4834,{"$f":" IFERROR(INDIRECT(\"'SP500 Data'!B\"&MATCH(BB2921, 'SP500 Data'!A:A,0))/100,\"\")","v":""},""]
[null,null,null,null,null,null,null,null,null,null,null,null,null,null,null,null,null,null,null,null,null,null,null,null,null,null,null,null,null,null,null,null,null,null,null,null,null,null,null,null,null,null,null,null,null,null,null,null,null,null,null,null,null,4838,{"$f":" IFERROR(INDIRECT(\"'SP500 Data'!B\"&MATCH(BB2925, 'SP500 Data'!A:A,0))/100,\"\")","v":""},""]
[null,null,null,null,null,null,null,null,null,null,null,null,null,null,null,null,null,null,null,null,null,null,null,null,null,null,null,null,null,null,null,null,null,null,null,null,null,null,null,null,null,null,null,null,null,null,null,null,null,null,null,null,null,4854,{"$f":" IFERROR(INDIRECT(\"'SP500 Data'!B\"&MATCH(BB2941, 'SP500 Data'!A:A,0))/100,\"\")","v":""},""]
[null,null,null,null,null,null,null,null,null,null,null,null,null,null,null,null,null,null,null,null,null,null,null,null,null,null,null,null,null,null,null,null,null,null,null,null,null,null,null,null,null,null,null,null,null,null,null,null,null,null,null,null,null,4857,{"$f":" IFERROR(INDIRECT(\"'SP500 Data'!B\"&MATCH(BB2944, 'SP500 Data'!A:A,0))/100,\"\")","v":""},""]
[null,null,null,null,null,null,null,null,null,null,null,null,null,null,null,null,null,null,null,null,null,null,null,null,null,null,null,null,null,null,null,null,null,null,null,null,null,null,null,null,null,null,null,null,null,null,null,null,null,null,null,null,null,4865,{"$f":" IFERROR(INDIRECT(\"'SP500 Data'!B\"&MATCH(BB2952, 'SP500 Data'!A:A,0))/100,\"\")","v":""},""]
[null,null,null,null,null,null,null,null,null,null,null,null,null,null,null,null,null,null,null,null,null,null,null,null,null,null,null,null,null,null,null,null,null,null,null,null,null,null,null,null,null,null,null,null,null,null,null,null,null,null,null,null,null,4875,{"$f":" IFERROR(INDIRECT(\"'SP500 Data'!B\"&MATCH(BB2962, 'SP500 Data'!A:A,0))/100,\"\")","v":""},""]
[null,null,null,null,null,null,null,null,null,null,null,null,null,null,null,null,null,null,null,null,null,null,null,null,null,null,null,null,null,null,null,null,null,null,null,null,null,null,null,null,null,null,null,null,null,null,null,null,null,null,null,null,null,4887,{"$f":" IFERROR(INDIRECT(\"'SP500 Data'!B\"&MATCH(BB2974, 'SP500 Data'!A:A,0))/100,\"\")","v":""},""]
[null,null,null,null,null,null,null,null,null,null,null,null,null,null,null,null,null,null,null,null,null,null,null,null,null,null,null,null,null,null,null,null,null,null,null,null,null,null,null,null,null,null,null,null,null,null,null,null,null,null,null,null,null,4894,{"$f":" IFERROR(INDIRECT(\"'SP500 Data'!B\"&MATCH(BB2981, 'SP500 Data'!A:A,0))/100,\"\")","v":""},""]
[null,null,null,null,null,null,null,null,null,null,null,null,null,null,null,null,null,null,null,null,null,null,null,null,null,null,null,null,null,null,null,null,null,null,null,null,null,null,null,null,null,null,null,null,null,null,null,null,null,null,null,null,null,4904,{"$f":" IFERROR(INDIRECT(\"'SP500 Data'!B\"&MATCH(BB2991, 'SP500 Data'!A:A,0))/100,\"\")","v":""},""]
[null,null,null,null,null,null,null,null,null,null,null,null,null,null,null,null,null,null,null,null,null,null,null,null,null,null,null,null,null,null,null,null,null,null,null,null,null,null,null,null,null,null,null,null,null,null,null,null,null,null,null,null,null,4908,{"$f":" IFERROR(INDIRECT(\"'SP500 Data'!B\"&MATCH(BB2995, 'SP500 Data'!A:A,0))/100,\"\")","v":""},""]
[null,null,null,null,null,null,null,null,null,null,null,null,null,null,null,null,null,null,null,null,null,null,null,null,null,null,null,null,null,null,null,null,null,null,null,null,null,null,null,null,null,null,null,null,null,null,null,null,null,null,null,null,null,4924,{"$f":" IFERROR(INDIRECT(\"'SP500 Data'!B\"&MATCH(BB3011, 'SP500 Data'!A:A,0))/100,\"\")","v":""},""]
[null,null,null,null,null,null,null,null,null,null,null,null,null,null,null,null,null,null,null,null,null,null,null,null,null,null,null,null,null,null,null,null,null,null,null,null,null,null,null,null,null,null,null,null,null,null,null,null,null,null,null,null,null,4927,{"$f":" IFERROR(INDIRECT(\"'SP500 Data'!B\"&MATCH(BB3014, 'SP500 Data'!A:A,0))/100,\"\")","v":""},""]
[null,null,null,null,null,null,null,null,null,null,null,null,null,null,null,null,null,null,null,null,null,null,null,null,null,null,null,null,null,null,null,null,null,null,null,null,null,null,null,null,null,null,null,null,null,null,null,null,null,null,null,null,null,4935,{"$f":" IFERROR(INDIRECT(\"'SP500 Data'!B\"&MATCH(BB3022, 'SP500 Data'!A:A,0))/100,\"\")","v":""},{"$f":" IFERROR(1 +BC3022, \"\")","v":""}]
[null,null,null,null,null,null,null,null,null,null,null,null,null,null,null,null,null,null,null,null,null,null,null,null,null,null,null,null,null,null,null,null,null,null,null,null,null,null,null,null,null,null,null,null,null,null,null,null,null,null,null,null,null,4945,{"$f":" IFERROR(INDIRECT(\"'SP500 Data'!B\"&MATCH(BB3032, 'SP500 Data'!A:A,0))/100,\"\")","v":""},""]
[null,null,null,null,null,null,null,null,null,null,null,null,null,null,null,null,null,null,null,null,null,null,null,null,null,null,null,null,null,null,null,null,null,null,null,null,null,null,null,null,null,null,null,null,null,null,null,null,null,null,null,null,null,4957,{"$f":" IFERROR(INDIRECT(\"'SP500 Data'!B\"&MATCH(BB3044, 'SP500 Data'!A:A,0))/100,\"\")","v":""},""]
[null,null,null,null,null,null,null,null,null,null,null,null,null,null,null,null,null,null,null,null,null,null,null,null,null,null,null,null,null,null,null,null,null,null,null,null,null,null,null,null,null,null,null,null,null,null,null,null,null,null,null,null,null,4964,{"$f":" IFERROR(INDIRECT(\"'SP500 Data'!B\"&MATCH(BB3051, 'SP500 Data'!A:A,0))/100,\"\")","v":""},""]
[null,null,null,null,null,null,null,null,null,null,null,null,null,null,null,null,null,null,null,null,null,null,null,null,null,null,null,null,null,null,null,null,null,null,null,null,null,null,null,null,null,null,null,null,null,null,null,null,null,null,null,null,null,4974,{"$f":" IFERROR(INDIRECT(\"'SP500 Data'!B\"&MATCH(BB3061, 'SP500 Data'!A:A,0))/100,\"\")","v":""},""]
[null,null,null,null,null,null,null,null,null,null,null,null,null,null,null,null,null,null,null,null,null,null,null,null,null,null,null,null,null,null,null,null,null,null,null,null,null,null,null,null,null,null,null,null,null,null,null,null,null,null,null,null,null,4978,{"$f":" IFERROR(INDIRECT(\"'SP500 Data'!B\"&MATCH(BB3065, 'SP500 Data'!A:A,0))/100,\"\")","v":""},""]
[null,null,null,null,null,null,null,null,null,null,null,null,null,null,null,null,null,null,null,null,null,null,null,null,null,null,null,null,null,null,null,null,null,null,null,null,null,null,null,null,null,null,null,null,null,null,null,null,null,null,null,null,null,4994,{"$f":" IFERROR(INDIRECT(\"'SP500 Data'!B\"&MATCH(BB3081, 'SP500 Data'!A:A,0))/100,\"\")","v":""},""]
[null,null,null,null,null,null,null,null,null,null,null,null,null,null,null,null,null,null,null,null,null,null,null,null,null,null,null,null,null,null,null,null,null,null,null,null,null,null,null,null,null,null,null,null,null,null,null,null,null,null,null,null,null,4997,{"$f":" IFERROR(INDIRECT(\"'SP500 Data'!B\"&MATCH(BB3084, 'SP500 Data'!A:A,0))/100,\"\")","v":""},""]
[null,null,null,null,null,null,null,null,null,null,null,null,null,null,null,null,null,null,null,null,null,null,null,null,null,null,null,null,null,null,null,null,null,null,null,null,null,null,null,null,null,null,null,null,null,null,null,null,null,null,null,null,null,5005,{"$f":" IFERROR(INDIRECT(\"'SP500 Data'!B\"&MATCH(BB3092, 'SP500 Data'!A:A,0))/100,\"\")","v":""},""]
[null,null,null,null,null,null,null,null,null,null,null,null,null,null,null,null,null,null,null,null,null,null,null,null,null,null,null,null,null,null,null,null,null,null,null,null,null,null,null,null,null,null,null,null,null,null,null,null,null,null,null,null,null,5015,{"$f":" IFERROR(INDIRECT(\"'SP500 Data'!B\"&MATCH(BB3102, 'SP500 Data'!A:A,0))/100,\"\")","v":""},""]
[null,null,null,null,null,null,null,null,null,null,null,null,null,null,null,null,null,null,null,null,null,null,null,null,null,null,null,null,null,null,null,null,null,null,null,null,null,null,null,null,null,null,null,null,null,null,null,null,null,null,null,null,null,5027,{"$f":" IFERROR(INDIRECT(\"'SP500 Data'!B\"&MATCH(BB3114, 'SP500 Data'!A:A,0))/100,\"\")","v":""},""]
[null,null,null,null,null,null,null,null,null,null,null,null,null,null,null,null,null,null,null,null,null,null,null,null,null,null,null,null,null,null,null,null,null,null,null,null,null,null,null,null,null,null,null,null,null,null,null,null,null,null,null,null,null,5034,{"$f":" IFERROR(INDIRECT(\"'SP500 Data'!B\"&MATCH(BB3121, 'SP500 Data'!A:A,0))/100,\"\")","v":""},""]
[null,null,null,null,null,null,null,null,null,null,null,null,null,null,null,null,null,null,null,null,null,null,null,null,null,null,null,null,null,null,null,null,null,null,null,null,null,null,null,null,null,null,null,null,null,null,null,null,null,null,null,null,null,5044,{"$f":" IFERROR(INDIRECT(\"'SP500 Data'!B\"&MATCH(BB3131, 'SP500 Data'!A:A,0))/100,\"\")","v":""},""]
[null,null,null,null,null,null,null,null,null,null,null,null,null,null,null,null,null,null,null,null,null,null,null,null,null,null,null,null,null,null,null,null,null,null,null,null,null,null,null,null,null,null,null,null,null,null,null,null,null,null,null,null,null,5048,{"$f":" IFERROR(INDIRECT(\"'SP500 Data'!B\"&MATCH(BB3135, 'SP500 Data'!A:A,0))/100,\"\")","v":""},""]
[null,null,null,null,null,null,null,null,null,null,null,null,null,null,null,null,null,null,null,null,null,null,null,null,null,null,null,null,null,null,null,null,null,null,null,null,null,null,null,null,null,null,null,null,null,null,null,null,null,null,null,null,null,5064,{"$f":" IFERROR(INDIRECT(\"'SP500 Data'!B\"&MATCH(BB3151, 'SP500 Data'!A:A,0))/100,\"\")","v":""},""]
[null,null,null,null,null,null,null,null,null,null,null,null,null,null,null,null,null,null,null,null,null,null,null,null,null,null,null,null,null,null,null,null,null,null,null,null,null,null,null,null,null,null,null,null,null,null,null,null,null,null,null,null,null,5067,{"$f":" IFERROR(INDIRECT(\"'SP500 Data'!B\"&MATCH(BB3154, 'SP500 Data'!A:A,0))/100,\"\")","v":""},""]
[null,null,null,null,null,null,null,null,null,null,null,null,null,null,null,null,null,null,null,null,null,null,null,null,null,null,null,null,null,null,null,null,null,null,null,null,null,null,null,null,null,null,null,null,null,null,null,null,null,null,null,null,null,5075,{"$f":" IFERROR(INDIRECT(\"'SP500 Data'!B\"&MATCH(BB3162, 'SP500 Data'!A:A,0))/100,\"\")","v":""},""]
[null,null,null,null,null,null,null,null,null,null,null,null,null,null,null,null,null,null,null,null,null,null,null,null,null,null,null,null,null,null,null,null,null,null,null,null,null,null,null,null,null,null,null,null,null,null,null,null,null,null,null,null,null,5085,{"$f":" IFERROR(INDIRECT(\"'SP500 Data'!B\"&MATCH(BB3172, 'SP500 Data'!A:A,0))/100,\"\")","v":""},""]
[null,null,null,null,null,null,null,null,null,null,null,null,null,null,null,null,null,null,null,null,null,null,null,null,null,null,null,null,null,null,null,null,null,null,null,null,null,null,null,null,null,null,null,null,null,null,null,null,null,null,null,null,null,5097,{"$f":" IFERROR(INDIRECT(\"'SP500 Data'!B\"&MATCH(BB3184, 'SP500 Data'!A:A,0))/100,\"\")","v":""},""]
[null,null,null,null,null,null,null,null,null,null,null,null,null,null,null,null,null,null,null,null,null,null,null,null,null,null,null,null,null,null,null,null,null,null,null,null,null,null,null,null,null,null,null,null,null,null,null,null,null,null,null,null,null,5104,{"$f":" IFERROR(INDIRECT(\"'SP500 Data'!B\"&MATCH(BB3191, 'SP500 Data'!A:A,0))/100,\"\")","v":""},""]
[null,null,null,null,null,null,null,null,null,null,null,null,null,null,null,null,null,null,null,null,null,null,null,null,null,null,null,null,null,null,null,null,null,null,null,null,null,null,null,null,null,null,null,null,null,null,null,null,null,null,null,null,null,5114,{"$f":" IFERROR(INDIRECT(\"'SP500 Data'!B\"&MATCH(BB3201, 'SP500 Data'!A:A,0))/100,\"\")","v":""},""]
[null,null,null,null,null,null,null,null,null,null,null,null,null,null,null,null,null,null,null,null,null,null,null,null,null,null,null,null,null,null,null,null,null,null,null,null,null,null,null,null,null,null,null,null,null,null,null,null,null,null,null,null,null,5122,{"$f":" IFERROR(INDIRECT(\"'SP500 Data'!B\"&MATCH(BB3209, 'SP500 Data'!A:A,0))/100,\"\")","v":""},""]
[null,null,null,null,null,null,null,null,null,null,null,null,null,null,null,null,null,null,null,null,null,null,null,null,null,null,null,null,null,null,null,null,null,null,null,null,null,null,null,null,null,null,null,null,null,null,null,null,null,null,null,null,null,5134,{"$f":" IFERROR(INDIRECT(\"'SP500 Data'!B\"&MATCH(BB3221, 'SP500 Data'!A:A,0))/100,\"\")","v":""},""]
[null,null,null,null,null,null,null,null,null,null,null,null,null,null,null,null,null,null,null,null,null,null,null,null,null,null,null,null,null,null,null,null,null,null,null,null,null,null,null,null,null,null,null,null,null,null,null,null,null,null,null,null,null,5137,{"$f":" IFERROR(INDIRECT(\"'SP500 Data'!B\"&MATCH(BB3224, 'SP500 Data'!A:A,0))/100,\"\")","v":""},""]
[null,null,null,null,null,null,null,null,null,null,null,null,null,null,null,null,null,null,null,null,null,null,null,null,null,null,null,null,null,null,null,null,null,null,null,null,null,null,null,null,null,null,null,null,null,null,null,null,null,null,null,null,null,5145,{"$f":" IFERROR(INDIRECT(\"'SP500 Data'!B\"&MATCH(BB3232, 'SP500 Data'!A:A,0))/100,\"\")","v":""},""]
[null,null,null,null,null,null,null,null,null,null,null,null,null,null,null,null,null,null,null,null,null,null,null,null,null,null,null,null,null,null,null,null,null,null,null,null,null,null,null,null,null,null,null,null,null,null,null,null,null,null,null,null,null,5155,{"$f":" IFERROR(INDIRECT(\"'SP500 Data'!B\"&MATCH(BB3242, 'SP500 Data'!A:A,0))/100,\"\")","v":""},""]
[null,null,null,null,null,null,null,null,null,null,null,null,null,null,null,null,null,null,null,null,null,null,null,null,null,null,null,null,null,null,null,null,null,null,null,null,null,null,null,null,null,null,null,null,null,null,null,null,null,null,null,null,null,5167,{"$f":" IFERROR(INDIRECT(\"'SP500 Data'!B\"&MATCH(BB3254, 'SP500 Data'!A:A,0))/100,\"\")","v":""},""]
[null,null,null,null,null,null,null,null,null,null,null,null,null,null,null,null,null,null,null,null,null,null,null,null,null,null,null,null,null,null,null,null,null,null,null,null,null,null,null,null,null,null,null,null,null,null,null,null,null,null,null,null,null,5174,{"$f":" IFERROR(INDIRECT(\"'SP500 Data'!B\"&MATCH(BB3261, 'SP500 Data'!A:A,0))/100,\"\")","v":""},""]
[null,null,null,null,null,null,null,null,null,null,null,null,null,null,null,null,null,null,null,null,null,null,null,null,null,null,null,null,null,null,null,null,null,null,null,null,null,null,null,null,null,null,null,null,null,null,null,null,null,null,null,null,null,5184,{"$f":" IFERROR(INDIRECT(\"'SP500 Data'!B\"&MATCH(BB3271, 'SP500 Data'!A:A,0))/100,\"\")","v":""},""]
[null,null,null,null,null,null,null,null,null,null,null,null,null,null,null,null,null,null,null,null,null,null,null,null,null,null,null,null,null,null,null,null,null,null,null,null,null,null,null,null,null,null,null,null,null,null,null,null,null,null,null,null,null,5192,{"$f":" IFERROR(INDIRECT(\"'SP500 Data'!B\"&MATCH(BB3279, 'SP500 Data'!A:A,0))/100,\"\")","v":""},""]
[null,null,null,null,null,null,null,null,null,null,null,null,null,null,null,null,null,null,null,null,null,null,null,null,null,null,null,null,null,null,null,null,null,null,null,null,null,null,null,null,null,null,null,null,null,null,null,null,null,null,null,null,null,5204,{"$f":" IFERROR(INDIRECT(\"'SP500 Data'!B\"&MATCH(BB3291, 'SP500 Data'!A:A,0))/100,\"\")","v":""},""]
[null,null,null,null,null,null,null,null,null,null,null,null,null,null,null,null,null,null,null,null,null,null,null,null,null,null,null,null,null,null,null,null,null,null,null,null,null,null,null,null,null,null,null,null,null,null,null,null,null,null,null,null,null,5207,{"$f":" IFERROR(INDIRECT(\"'SP500 Data'!B\"&MATCH(BB3294, 'SP500 Data'!A:A,0))/100,\"\")","v":""},""]
[null,null,null,null,null,null,null,null,null,null,null,null,null,null,null,null,null,null,null,null,null,null,null,null,null,null,null,null,null,null,null,null,null,null,null,null,null,null,null,null,null,null,null,null,null,null,null,null,null,null,null,null,null,5215,{"$f":" IFERROR(INDIRECT(\"'SP500 Data'!B\"&MATCH(BB3302, 'SP500 Data'!A:A,0))/100,\"\")","v":""},""]
[null,null,null,null,null,null,null,null,null,null,null,null,null,null,null,null,null,null,null,null,null,null,null,null,null,null,null,null,null,null,null,null,null,null,null,null,null,null,null,null,null,null,null,null,null,null,null,null,null,null,null,null,null,5225,{"$f":" IFERROR(INDIRECT(\"'SP500 Data'!B\"&MATCH(BB3312, 'SP500 Data'!A:A,0))/100,\"\")","v":""},""]
[null,null,null,null,null,null,null,null,null,null,null,null,null,null,null,null,null,null,null,null,null,null,null,null,null,null,null,null,null,null,null,null,null,null,null,null,null,null,null,null,null,null,null,null,null,null,null,null,null,null,null,null,null,5237,{"$f":" IFERROR(INDIRECT(\"'SP500 Data'!B\"&MATCH(BB3324, 'SP500 Data'!A:A,0))/100,\"\")","v":""},""]
[null,null,null,null,null,null,null,null,null,null,null,null,null,null,null,null,null,null,null,null,null,null,null,null,null,null,null,null,null,null,null,null,null,null,null,null,null,null,null,null,null,null,null,null,null,null,null,null,null,null,null,null,null,5244,{"$f":" IFERROR(INDIRECT(\"'SP500 Data'!B\"&MATCH(BB3331, 'SP500 Data'!A:A,0))/100,\"\")","v":""},""]
[null,null,null,null,null,null,null,null,null,null,null,null,null,null,null,null,null,null,null,null,null,null,null,null,null,null,null,null,null,null,null,null,null,null,null,null,null,null,null,null,null,null,null,null,null,null,null,null,null,null,null,null,null,5254,{"$f":" IFERROR(INDIRECT(\"'SP500 Data'!B\"&MATCH(BB3341, 'SP500 Data'!A:A,0))/100,\"\")","v":""},""]
[null,null,null,null,null,null,null,null,null,null,null,null,null,null,null,null,null,null,null,null,null,null,null,null,null,null,null,null,null,null,null,null,null,null,null,null,null,null,null,null,null,null,null,null,null,null,null,null,null,null,null,null,null,5262,{"$f":" IFERROR(INDIRECT(\"'SP500 Data'!B\"&MATCH(BB3349, 'SP500 Data'!A:A,0))/100,\"\")","v":""},""]
[null,null,null,null,null,null,null,null,null,null,null,null,null,null,null,null,null,null,null,null,null,null,null,null,null,null,null,null,null,null,null,null,null,null,null,null,null,null,null,null,null,null,null,null,null,null,null,null,null,null,null,null,null,5274,{"$f":" IFERROR(INDIRECT(\"'SP500 Data'!B\"&MATCH(BB3361, 'SP500 Data'!A:A,0))/100,\"\")","v":""},""]
[null,null,null,null,null,null,null,null,null,null,null,null,null,null,null,null,null,null,null,null,null,null,null,null,null,null,null,null,null,null,null,null,null,null,null,null,null,null,null,null,null,null,null,null,null,null,null,null,null,null,null,null,null,5277,{"$f":" IFERROR(INDIRECT(\"'SP500 Data'!B\"&MATCH(BB3364, 'SP500 Data'!A:A,0))/100,\"\")","v":""},""]
[null,null,null,null,null,null,null,null,null,null,null,null,null,null,null,null,null,null,null,null,null,null,null,null,null,null,null,null,null,null,null,null,null,null,null,null,null,null,null,null,null,null,null,null,null,null,null,null,null,null,null,null,null,5285,{"$f":" IFERROR(INDIRECT(\"'SP500 Data'!B\"&MATCH(BB3372, 'SP500 Data'!A:A,0))/100,\"\")","v":""},""]
[null,null,null,null,null,null,null,null,null,null,null,null,null,null,null,null,null,null,null,null,null,null,null,null,null,null,null,null,null,null,null,null,null,null,null,null,null,null,null,null,null,null,null,null,null,null,null,null,null,null,null,null,null,5295,{"$f":" IFERROR(INDIRECT(\"'SP500 Data'!B\"&MATCH(BB3382, 'SP500 Data'!A:A,0))/100,\"\")","v":""},""]
[null,null,null,null,null,null,null,null,null,null,null,null,null,null,null,null,null,null,null,null,null,null,null,null,null,null,null,null,null,null,null,null,null,null,null,null,null,null,null,null,null,null,null,null,null,null,null,null,null,null,null,null,null,5302,{"$f":" IFERROR(INDIRECT(\"'SP500 Data'!B\"&MATCH(BB3389, 'SP500 Data'!A:A,0))/100,\"\")","v":""},""]
[null,null,null,null,null,null,null,null,null,null,null,null,null,null,null,null,null,null,null,null,null,null,null,null,null,null,null,null,null,null,null,null,null,null,null,null,null,null,null,null,null,null,null,null,null,null,null,null,null,null,null,null,null,5314,{"$f":" IFERROR(INDIRECT(\"'SP500 Data'!B\"&MATCH(BB3401, 'SP500 Data'!A:A,0))/100,\"\")","v":""},""]
[null,null,null,null,null,null,null,null,null,null,null,null,null,null,null,null,null,null,null,null,null,null,null,null,null,null,null,null,null,null,null,null,null,null,null,null,null,null,null,null,null,null,null,null,null,null,null,null,null,null,null,null,null,5324,{"$f":" IFERROR(INDIRECT(\"'SP500 Data'!B\"&MATCH(BB3411, 'SP500 Data'!A:A,0))/100,\"\")","v":""},""]
[null,null,null,null,null,null,null,null,null,null,null,null,null,null,null,null,null,null,null,null,null,null,null,null,null,null,null,null,null,null,null,null,null,null,null,null,null,null,null,null,null,null,null,null,null,null,null,null,null,null,null,null,null,5332,{"$f":" IFERROR(INDIRECT(\"'SP500 Data'!B\"&MATCH(BB3419, 'SP500 Data'!A:A,0))/100,\"\")","v":""},""]
[null,null,null,null,null,null,null,null,null,null,null,null,null,null,null,null,null,null,null,null,null,null,null,null,null,null,null,null,null,null,null,null,null,null,null,null,null,null,null,null,null,null,null,null,null,null,null,null,null,null,null,null,null,5344,{"$f":" IFERROR(INDIRECT(\"'SP500 Data'!B\"&MATCH(BB3431, 'SP500 Data'!A:A,0))/100,\"\")","v":""},""]
[null,null,null,null,null,null,null,null,null,null,null,null,null,null,null,null,null,null,null,null,null,null,null,null,null,null,null,null,null,null,null,null,null,null,null,null,null,null,null,null,null,null,null,null,null,null,null,null,null,null,null,null,null,5347,{"$f":" IFERROR(INDIRECT(\"'SP500 Data'!B\"&MATCH(BB3434, 'SP500 Data'!A:A,0))/100,\"\")","v":""},""]
[null,null,null,null,null,null,null,null,null,null,null,null,null,null,null,null,null,null,null,null,null,null,null,null,null,null,null,null,null,null,null,null,null,null,null,null,null,null,null,null,null,null,null,null,null,null,null,null,null,null,null,null,null,5355,{"$f":" IFERROR(INDIRECT(\"'SP500 Data'!B\"&MATCH(BB3442, 'SP500 Data'!A:A,0))/100,\"\")","v":""},""]
[null,null,null,null,null,null,null,null,null,null,null,null,null,null,null,null,null,null,null,null,null,null,null,null,null,null,null,null,null,null,null,null,null,null,null,null,null,null,null,null,null,null,null,null,null,null,null,null,null,null,null,null,null,5365,{"$f":" IFERROR(INDIRECT(\"'SP500 Data'!B\"&MATCH(BB3452, 'SP500 Data'!A:A,0))/100,\"\")","v":""},""]
[null,null,null,null,null,null,null,null,null,null,null,null,null,null,null,null,null,null,null,null,null,null,null,null,null,null,null,null,null,null,null,null,null,null,null,null,null,null,null,null,null,null,null,null,null,null,null,null,null,null,null,null,null,5372,{"$f":" IFERROR(INDIRECT(\"'SP500 Data'!B\"&MATCH(BB3459, 'SP500 Data'!A:A,0))/100,\"\")","v":""},""]
[null,null,null,null,null,null,null,null,null,null,null,null,null,null,null,null,null,null,null,null,null,null,null,null,null,null,null,null,null,null,null,null,null,null,null,null,null,null,null,null,null,null,null,null,null,null,null,null,null,null,null,null,null,5384,{"$f":" IFERROR(INDIRECT(\"'SP500 Data'!B\"&MATCH(BB3471, 'SP500 Data'!A:A,0))/100,\"\")","v":""},""]
[null,null,null,null,null,null,null,null,null,null,null,null,null,null,null,null,null,null,null,null,null,null,null,null,null,null,null,null,null,null,null,null,null,null,null,null,null,null,null,null,null,null,null,null,null,null,null,null,null,null,null,null,null,5394,{"$f":" IFERROR(INDIRECT(\"'SP500 Data'!B\"&MATCH(BB3481, 'SP500 Data'!A:A,0))/100,\"\")","v":""},""]
[null,null,null,null,null,null,null,null,null,null,null,null,null,null,null,null,null,null,null,null,null,null,null,null,null,null,null,null,null,null,null,null,null,null,null,null,null,null,null,null,null,null,null,null,null,null,null,null,null,null,null,null,null,5402,{"$f":" IFERROR(INDIRECT(\"'SP500 Data'!B\"&MATCH(BB3489, 'SP500 Data'!A:A,0))/100,\"\")","v":""},""]
[null,null,null,null,null,null,null,null,null,null,null,null,null,null,null,null,null,null,null,null,null,null,null,null,null,null,null,null,null,null,null,null,null,null,null,null,null,null,null,null,null,null,null,null,null,null,null,null,null,null,null,null,null,5414,{"$f":" IFERROR(INDIRECT(\"'SP500 Data'!B\"&MATCH(BB3501, 'SP500 Data'!A:A,0))/100,\"\")","v":""},""]
[null,null,null,null,null,null,null,null,null,null,null,null,null,null,null,null,null,null,null,null,null,null,null,null,null,null,null,null,null,null,null,null,null,null,null,null,null,null,null,null,null,null,null,null,null,null,null,null,null,null,null,null,null,5421,{"$f":" IFERROR(INDIRECT(\"'SP500 Data'!B\"&MATCH(BB3508, 'SP500 Data'!A:A,0))/100,\"\")","v":""},""]
[null,null,null,null,null,null,null,null,null,null,null,null,null,null,null,null,null,null,null,null,null,null,null,null,null,null,null,null,null,null,null,null,null,null,null,null,null,null,null,null,null,null,null,null,null,null,null,null,null,null,null,null,null,5425,{"$f":" IFERROR(INDIRECT(\"'SP500 Data'!B\"&MATCH(BB3512, 'SP500 Data'!A:A,0))/100,\"\")","v":""},""]
[null,null,null,null,null,null,null,null,null,null,null,null,null,null,null,null,null,null,null,null,null,null,null,null,null,null,null,null,null,null,null,null,null,null,null,null,null,null,null,null,null,null,null,null,null,null,null,null,null,null,null,null,null,5435,{"$f":" IFERROR(INDIRECT(\"'SP500 Data'!B\"&MATCH(BB3522, 'SP500 Data'!A:A,0))/100,\"\")","v":""},""]
[null,null,null,null,null,null,null,null,null,null,null,null,null,null,null,null,null,null,null,null,null,null,null,null,null,null,null,null,null,null,null,null,null,null,null,null,null,null,null,null,null,null,null,null,null,null,null,null,null,null,null,null,null,5442,{"$f":" IFERROR(INDIRECT(\"'SP500 Data'!B\"&MATCH(BB3529, 'SP500 Data'!A:A,0))/100,\"\")","v":""},""]
[null,null,null,null,null,null,null,null,null,null,null,null,null,null,null,null,null,null,null,null,null,null,null,null,null,null,null,null,null,null,null,null,null,null,null,null,null,null,null,null,null,null,null,null,null,null,null,null,null,null,null,null,null,5454,{"$f":" IFERROR(INDIRECT(\"'SP500 Data'!B\"&MATCH(BB3541, 'SP500 Data'!A:A,0))/100,\"\")","v":""},""]
[null,null,null,null,null,null,null,null,null,null,null,null,null,null,null,null,null,null,null,null,null,null,null,null,null,null,null,null,null,null,null,null,null,null,null,null,null,null,null,null,null,null,null,null,null,null,null,null,null,null,null,null,null,5464,{"$f":" IFERROR(INDIRECT(\"'SP500 Data'!B\"&MATCH(BB3551, 'SP500 Data'!A:A,0))/100,\"\")","v":""},""]
[null,null,null,null,null,null,null,null,null,null,null,null,null,null,null,null,null,null,null,null,null,null,null,null,null,null,null,null,null,null,null,null,null,null,null,null,null,null,null,null,null,null,null,null,null,null,null,null,null,null,null,null,null,5472,{"$f":" IFERROR(INDIRECT(\"'SP500 Data'!B\"&MATCH(BB3559, 'SP500 Data'!A:A,0))/100,\"\")","v":""},""]
[null,null,null,null,null,null,null,null,null,null,null,null,null,null,null,null,null,null,null,null,null,null,null,null,null,null,null,null,null,null,null,null,null,null,null,null,null,null,null,null,null,null,null,null,null,null,null,null,null,null,null,null,null,5484,{"$f":" IFERROR(INDIRECT(\"'SP500 Data'!B\"&MATCH(BB3571, 'SP500 Data'!A:A,0))/100,\"\")","v":""},""]
[null,null,null,null,null,null,null,null,null,null,null,null,null,null,null,null,null,null,null,null,null,null,null,null,null,null,null,null,null,null,null,null,null,null,null,null,null,null,null,null,null,null,null,null,null,null,null,null,null,null,null,null,null,5491,{"$f":" IFERROR(INDIRECT(\"'SP500 Data'!B\"&MATCH(BB3578, 'SP500 Data'!A:A,0))/100,\"\")","v":""},""]
[null,null,null,null,null,null,null,null,null,null,null,null,null,null,null,null,null,null,null,null,null,null,null,null,null,null,null,null,null,null,null,null,null,null,null,null,null,null,null,null,null,null,null,null,null,null,null,null,null,null,null,null,null,5495,{"$f":" IFERROR(INDIRECT(\"'SP500 Data'!B\"&MATCH(BB3582, 'SP500 Data'!A:A,0))/100,\"\")","v":""},""]
[null,null,null,null,null,null,null,null,null,null,null,null,null,null,null,null,null,null,null,null,null,null,null,null,null,null,null,null,null,null,null,null,null,null,null,null,null,null,null,null,null,null,null,null,null,null,null,null,null,null,null,null,null,5505,{"$f":" IFERROR(INDIRECT(\"'SP500 Data'!B\"&MATCH(BB3592, 'SP500 Data'!A:A,0))/100,\"\")","v":""},""]
[null,null,null,null,null,null,null,null,null,null,null,null,null,null,null,null,null,null,null,null,null,null,null,null,null,null,null,null,null,null,null,null,null,null,null,null,null,null,null,null,null,null,null,null,null,null,null,null,null,null,null,null,null,5512,{"$f":" IFERROR(INDIRECT(\"'SP500 Data'!B\"&MATCH(BB3599, 'SP500 Data'!A:A,0))/100,\"\")","v":""},""]
[null,null,null,null,null,null,null,null,null,null,null,null,null,null,null,null,null,null,null,null,null,null,null,null,null,null,null,null,null,null,null,null,null,null,null,null,null,null,null,null,null,null,null,null,null,null,null,null,null,null,null,null,null,5524,{"$f":" IFERROR(INDIRECT(\"'SP500 Data'!B\"&MATCH(BB3611, 'SP500 Data'!A:A,0))/100,\"\")","v":""},""]
[null,null,null,null,null,null,null,null,null,null,null,null,null,null,null,null,null,null,null,null,null,null,null,null,null,null,null,null,null,null,null,null,null,null,null,null,null,null,null,null,null,null,null,null,null,null,null,null,null,null,null,null,null,5534,{"$f":" IFERROR(INDIRECT(\"'SP500 Data'!B\"&MATCH(BB3621, 'SP500 Data'!A:A,0))/100,\"\")","v":""},""]
[null,null,null,null,null,null,null,null,null,null,null,null,null,null,null,null,null,null,null,null,null,null,null,null,null,null,null,null,null,null,null,null,null,null,null,null,null,null,null,null,null,null,null,null,null,null,null,null,null,null,null,null,null,5542,{"$f":" IFERROR(INDIRECT(\"'SP500 Data'!B\"&MATCH(BB3629, 'SP500 Data'!A:A,0))/100,\"\")","v":""},""]
[null,null,null,null,null,null,null,null,null,null,null,null,null,null,null,null,null,null,null,null,null,null,null,null,null,null,null,null,null,null,null,null,null,null,null,null,null,null,null,null,null,null,null,null,null,null,null,null,null,null,null,null,null,5554,{"$f":" IFERROR(INDIRECT(\"'SP500 Data'!B\"&MATCH(BB3641, 'SP500 Data'!A:A,0))/100,\"\")","v":""},""]
[null,null,null,null,null,null,null,null,null,null,null,null,null,null,null,null,null,null,null,null,null,null,null,null,null,null,null,null,null,null,null,null,null,null,null,null,null,null,null,null,null,null,null,null,null,null,null,null,null,null,null,null,null,5561,{"$f":" IFERROR(INDIRECT(\"'SP500 Data'!B\"&MATCH(BB3648, 'SP500 Data'!A:A,0))/100,\"\")","v":""},""]
[null,null,null,null,null,null,null,null,null,null,null,null,null,null,null,null,null,null,null,null,null,null,null,null,null,null,null,null,null,null,null,null,null,null,null,null,null,null,null,null,null,null,null,null,null,null,null,null,null,null,null,null,null,5565,{"$f":" IFERROR(INDIRECT(\"'SP500 Data'!B\"&MATCH(BB3652, 'SP500 Data'!A:A,0))/100,\"\")","v":""},""]
[null,null,null,null,null,null,null,null,null,null,null,null,null,null,null,null,null,null,null,null,null,null,null,null,null,null,null,null,null,null,null,null,null,null,null,null,null,null,null,null,null,null,null,null,null,null,null,null,null,null,null,null,null,5575,{"$f":" IFERROR(INDIRECT(\"'SP500 Data'!B\"&MATCH(BB3662, 'SP500 Data'!A:A,0))/100,\"\")","v":""},{"$f":" IFERROR(1 +BC3662, \"\")","v":""}]
[null,null,null,null,null,null,null,null,null,null,null,null,null,null,null,null,null,null,null,null,null,null,null,null,null,null,null,null,null,null,null,null,null,null,null,null,null,null,null,null,null,null,null,null,null,null,null,null,null,null,null,null,null,5582,{"$f":" IFERROR(INDIRECT(\"'SP500 Data'!B\"&MATCH(BB3669, 'SP500 Data'!A:A,0))/100,\"\")","v":""},""]
[null,null,null,null,null,null,null,null,null,null,null,null,null,null,null,null,null,null,null,null,null,null,null,null,null,null,null,null,null,null,null,null,null,null,null,null,null,null,null,null,null,null,null,null,null,null,null,null,null,null,null,null,null,5594,{"$f":" IFERROR(INDIRECT(\"'SP500 Data'!B\"&MATCH(BB3681, 'SP500 Data'!A:A,0))/100,\"\")","v":""},""]
[null,null,null,null,null,null,null,null,null,null,null,null,null,null,null,null,null,null,null,null,null,null,null,null,null,null,null,null,null,null,null,null,null,null,null,null,null,null,null,null,null,null,null,null,null,null,null,null,null,null,null,null,null,5604,{"$f":" IFERROR(INDIRECT(\"'SP500 Data'!B\"&MATCH(BB3691, 'SP500 Data'!A:A,0))/100,\"\")","v":""},""]
[null,null,null,null,null,null,null,null,null,null,null,null,null,null,null,null,null,null,null,null,null,null,null,null,null,null,null,null,null,null,null,null,null,null,null,null,null,null,null,null,null,null,null,null,null,null,null,null,null,null,null,null,null,5612,{"$f":" IFERROR(INDIRECT(\"'SP500 Data'!B\"&MATCH(BB3699, 'SP500 Data'!A:A,0))/100,\"\")","v":""},""]
[null,null,null,null,null,null,null,null,null,null,null,null,null,null,null,null,null,null,null,null,null,null,null,null,null,null,null,null,null,null,null,null,null,null,null,null,null,null,null,null,null,null,null,null,null,null,null,null,null,null,null,null,null,5624,{"$f":" IFERROR(INDIRECT(\"'SP500 Data'!B\"&MATCH(BB3711, 'SP500 Data'!A:A,0))/100,\"\")","v":""},""]
[null,null,null,null,null,null,null,null,null,null,null,null,null,null,null,null,null,null,null,null,null,null,null,null,null,null,null,null,null,null,null,null,null,null,null,null,null,null,null,null,null,null,null,null,null,null,null,null,null,null,null,null,null,5631,{"$f":" IFERROR(INDIRECT(\"'SP500 Data'!B\"&MATCH(BB3718, 'SP500 Data'!A:A,0))/100,\"\")","v":""},""]
[null,null,null,null,null,null,null,null,null,null,null,null,null,null,null,null,null,null,null,null,null,null,null,null,null,null,null,null,null,null,null,null,null,null,null,null,null,null,null,null,null,null,null,null,null,null,null,null,null,null,null,null,null,5635,{"$f":" IFERROR(INDIRECT(\"'SP500 Data'!B\"&MATCH(BB3722, 'SP500 Data'!A:A,0))/100,\"\")","v":""},""]
[null,null,null,null,null,null,null,null,null,null,null,null,null,null,null,null,null,null,null,null,null,null,null,null,null,null,null,null,null,null,null,null,null,null,null,null,null,null,null,null,null,null,null,null,null,null,null,null,null,null,null,null,null,5645,{"$f":" IFERROR(INDIRECT(\"'SP500 Data'!B\"&MATCH(BB3732, 'SP500 Data'!A:A,0))/100,\"\")","v":""},""]
[null,null,null,null,null,null,null,null,null,null,null,null,null,null,null,null,null,null,null,null,null,null,null,null,null,null,null,null,null,null,null,null,null,null,null,null,null,null,null,null,null,null,null,null,null,null,null,null,null,null,null,null,null,5652,{"$f":" IFERROR(INDIRECT(\"'SP500 Data'!B\"&MATCH(BB3739, 'SP500 Data'!A:A,0))/100,\"\")","v":""},""]
[null,null,null,null,null,null,null,null,null,null,null,null,null,null,null,null,null,null,null,null,null,null,null,null,null,null,null,null,null,null,null,null,null,null,null,null,null,null,null,null,null,null,null,null,null,null,null,null,null,null,null,null,null,5664,{"$f":" IFERROR(INDIRECT(\"'SP500 Data'!B\"&MATCH(BB3751, 'SP500 Data'!A:A,0))/100,\"\")","v":""},""]
[null,null,null,null,null,null,null,null,null,null,null,null,null,null,null,null,null,null,null,null,null,null,null,null,null,null,null,null,null,null,null,null,null,null,null,null,null,null,null,null,null,null,null,null,null,null,null,null,null,null,null,null,null,5674,{"$f":" IFERROR(INDIRECT(\"'SP500 Data'!B\"&MATCH(BB3761, 'SP500 Data'!A:A,0))/100,\"\")","v":""},""]
[null,null,null,null,null,null,null,null,null,null,null,null,null,null,null,null,null,null,null,null,null,null,null,null,null,null,null,null,null,null,null,null,null,null,null,null,null,null,null,null,null,null,null,null,null,null,null,null,null,null,null,null,null,5682,{"$f":" IFERROR(INDIRECT(\"'SP500 Data'!B\"&MATCH(BB3769, 'SP500 Data'!A:A,0))/100,\"\")","v":""},""]
[null,null,null,null,null,null,null,null,null,null,null,null,null,null,null,null,null,null,null,null,null,null,null,null,null,null,null,null,null,null,null,null,null,null,null,null,null,null,null,null,null,null,null,null,null,null,null,null,null,null,null,null,null,5694,{"$f":" IFERROR(INDIRECT(\"'SP500 Data'!B\"&MATCH(BB3781, 'SP500 Data'!A:A,0))/100,\"\")","v":""},""]
[null,null,null,null,null,null,null,null,null,null,null,null,null,null,null,null,null,null,null,null,null,null,null,null,null,null,null,null,null,null,null,null,null,null,null,null,null,null,null,null,null,null,null,null,null,null,null,null,null,null,null,null,null,5701,{"$f":" IFERROR(INDIRECT(\"'SP500 Data'!B\"&MATCH(BB3788, 'SP500 Data'!A:A,0))/100,\"\")","v":""},""]
[null,null,null,null,null,null,null,null,null,null,null,null,null,null,null,null,null,null,null,null,null,null,null,null,null,null,null,null,null,null,null,null,null,null,null,null,null,null,null,null,null,null,null,null,null,null,null,null,null,null,null,null,null,5705,{"$f":" IFERROR(INDIRECT(\"'SP500 Data'!B\"&MATCH(BB3792, 'SP500 Data'!A:A,0))/100,\"\")","v":""},""]
[null,null,null,null,null,null,null,null,null,null,null,null,null,null,null,null,null,null,null,null,null,null,null,null,null,null,null,null,null,null,null,null,null,null,null,null,null,null,null,null,null,null,null,null,null,null,null,null,null,null,null,null,null,5719,{"$f":" IFERROR(INDIRECT(\"'SP500 Data'!B\"&MATCH(BB3806, 'SP500 Data'!A:A,0))/100,\"\")","v":""},""]
[null,null,null,null,null,null,null,null,null,null,null,null,null,null,null,null,null,null,null,null,null,null,null,null,null,null,null,null,null,null,null,null,null,null,null,null,null,null,null,null,null,null,null,null,null,null,null,null,null,null,null,null,null,5722,{"$f":" IFERROR(INDIRECT(\"'SP500 Data'!B\"&MATCH(BB3809, 'SP500 Data'!A:A,0))/100,\"\")","v":""},""]
[null,null,null,null,null,null,null,null,null,null,null,null,null,null,null,null,null,null,null,null,null,null,null,null,null,null,null,null,null,null,null,null,null,null,null,null,null,null,null,null,null,null,null,null,null,null,null,null,null,null,null,null,null,5734,{"$f":" IFERROR(INDIRECT(\"'SP500 Data'!B\"&MATCH(BB3821, 'SP500 Data'!A:A,0))/100,\"\")","v":""},""]
[null,null,null,null,null,null,null,null,null,null,null,null,null,null,null,null,null,null,null,null,null,null,null,null,null,null,null,null,null,null,null,null,null,null,null,null,null,null,null,null,null,null,null,null,null,null,null,null,null,null,null,null,null,5744,{"$f":" IFERROR(INDIRECT(\"'SP500 Data'!B\"&MATCH(BB3831, 'SP500 Data'!A:A,0))/100,\"\")","v":""},""]
[null,null,null,null,null,null,null,null,null,null,null,null,null,null,null,null,null,null,null,null,null,null,null,null,null,null,null,null,null,null,null,null,null,null,null,null,null,null,null,null,null,null,null,null,null,null,null,null,null,null,null,null,null,5752,{"$f":" IFERROR(INDIRECT(\"'SP500 Data'!B\"&MATCH(BB3839, 'SP500 Data'!A:A,0))/100,\"\")","v":""},""]
[null,null,null,null,null,null,null,null,null,null,null,null,null,null,null,null,null,null,null,null,null,null,null,null,null,null,null,null,null,null,null,null,null,null,null,null,null,null,null,null,null,null,null,null,null,null,null,null,null,null,null,null,null,5764,{"$f":" IFERROR(INDIRECT(\"'SP500 Data'!B\"&MATCH(BB3851, 'SP500 Data'!A:A,0))/100,\"\")","v":""},""]
[null,null,null,null,null,null,null,null,null,null,null,null,null,null,null,null,null,null,null,null,null,null,null,null,null,null,null,null,null,null,null,null,null,null,null,null,null,null,null,null,null,null,null,null,null,null,null,null,null,null,null,null,null,5771,{"$f":" IFERROR(INDIRECT(\"'SP500 Data'!B\"&MATCH(BB3858, 'SP500 Data'!A:A,0))/100,\"\")","v":""},""]
[null,null,null,null,null,null,null,null,null,null,null,null,null,null,null,null,null,null,null,null,null,null,null,null,null,null,null,null,null,null,null,null,null,null,null,null,null,null,null,null,null,null,null,null,null,null,null,null,null,null,null,null,null,5775,{"$f":" IFERROR(INDIRECT(\"'SP500 Data'!B\"&MATCH(BB3862, 'SP500 Data'!A:A,0))/100,\"\")","v":""},""]
[null,null,null,null,null,null,null,null,null,null,null,null,null,null,null,null,null,null,null,null,null,null,null,null,null,null,null,null,null,null,null,null,null,null,null,null,null,null,null,null,null,null,null,null,null,null,null,null,null,null,null,null,null,5789,{"$f":" IFERROR(INDIRECT(\"'SP500 Data'!B\"&MATCH(BB3876, 'SP500 Data'!A:A,0))/100,\"\")","v":""},""]
[null,null,null,null,null,null,null,null,null,null,null,null,null,null,null,null,null,null,null,null,null,null,null,null,null,null,null,null,null,null,null,null,null,null,null,null,null,null,null,null,null,null,null,null,null,null,null,null,null,null,null,null,null,5792,{"$f":" IFERROR(INDIRECT(\"'SP500 Data'!B\"&MATCH(BB3879, 'SP500 Data'!A:A,0))/100,\"\")","v":""},""]
[null,null,null,null,null,null,null,null,null,null,null,null,null,null,null,null,null,null,null,null,null,null,null,null,null,null,null,null,null,null,null,null,null,null,null,null,null,null,null,null,null,null,null,null,null,null,null,null,null,null,null,null,null,5804,{"$f":" IFERROR(INDIRECT(\"'SP500 Data'!B\"&MATCH(BB3891, 'SP500 Data'!A:A,0))/100,\"\")","v":""},""]
[null,null,null,null,null,null,null,null,null,null,null,null,null,null,null,null,null,null,null,null,null,null,null,null,null,null,null,null,null,null,null,null,null,null,null,null,null,null,null,null,null,null,null,null,null,null,null,null,null,null,null,null,null,5814,{"$f":" IFERROR(INDIRECT(\"'SP500 Data'!B\"&MATCH(BB3901, 'SP500 Data'!A:A,0))/100,\"\")","v":""},""]
[null,null,null,null,null,null,null,null,null,null,null,null,null,null,null,null,null,null,null,null,null,null,null,null,null,null,null,null,null,null,null,null,null,null,null,null,null,null,null,null,null,null,null,null,null,null,null,null,null,null,null,null,null,5822,{"$f":" IFERROR(INDIRECT(\"'SP500 Data'!B\"&MATCH(BB3909, 'SP500 Data'!A:A,0))/100,\"\")","v":""},""]
[null,null,null,null,null,null,null,null,null,null,null,null,null,null,null,null,null,null,null,null,null,null,null,null,null,null,null,null,null,null,null,null,null,null,null,null,null,null,null,null,null,null,null,null,null,null,null,null,null,null,null,null,null,5834,{"$f":" IFERROR(INDIRECT(\"'SP500 Data'!B\"&MATCH(BB3921, 'SP500 Data'!A:A,0))/100,\"\")","v":""},""]
[null,null,null,null,null,null,null,null,null,null,null,null,null,null,null,null,null,null,null,null,null,null,null,null,null,null,null,null,null,null,null,null,null,null,null,null,null,null,null,null,null,null,null,null,null,null,null,null,null,null,null,null,null,5841,{"$f":" IFERROR(INDIRECT(\"'SP500 Data'!B\"&MATCH(BB3928, 'SP500 Data'!A:A,0))/100,\"\")","v":""},""]
[null,null,null,null,null,null,null,null,null,null,null,null,null,null,null,null,null,null,null,null,null,null,null,null,null,null,null,null,null,null,null,null,null,null,null,null,null,null,null,null,null,null,null,null,null,null,null,null,null,null,null,null,null,5845,{"$f":" IFERROR(INDIRECT(\"'SP500 Data'!B\"&MATCH(BB3932, 'SP500 Data'!A:A,0))/100,\"\")","v":""},""]
[null,null,null,null,null,null,null,null,null,null,null,null,null,null,null,null,null,null,null,null,null,null,null,null,null,null,null,null,null,null,null,null,null,null,null,null,null,null,null,null,null,null,null,null,null,null,null,null,null,null,null,null,null,5859,{"$f":" IFERROR(INDIRECT(\"'SP500 Data'!B\"&MATCH(BB3946, 'SP500 Data'!A:A,0))/100,\"\")","v":""},""]
[null,null,null,null,null,null,null,null,null,null,null,null,null,null,null,null,null,null,null,null,null,null,null,null,null,null,null,null,null,null,null,null,null,null,null,null,null,null,null,null,null,null,null,null,null,null,null,null,null,null,null,null,null,5862,{"$f":" IFERROR(INDIRECT(\"'SP500 Data'!B\"&MATCH(BB3949, 'SP500 Data'!A:A,0))/100,\"\")","v":""},""]
[null,null,null,null,null,null,null,null,null,null,null,null,null,null,null,null,null,null,null,null,null,null,null,null,null,null,null,null,null,null,null,null,null,null,null,null,null,null,null,null,null,null,null,null,null,null,null,null,null,null,null,null,null,5874,{"$f":" IFERROR(INDIRECT(\"'SP500 Data'!B\"&MATCH(BB3961, 'SP500 Data'!A:A,0))/100,\"\")","v":""},""]
[null,null,null,null,null,null,null,null,null,null,null,null,null,null,null,null,null,null,null,null,null,null,null,null,null,null,null,null,null,null,null,null,null,null,null,null,null,null,null,null,null,null,null,null,null,null,null,null,null,null,null,null,null,5884,{"$f":" IFERROR(INDIRECT(\"'SP500 Data'!B\"&MATCH(BB3971, 'SP500 Data'!A:A,0))/100,\"\")","v":""},""]
[null,null,null,null,null,null,null,null,null,null,null,null,null,null,null,null,null,null,null,null,null,null,null,null,null,null,null,null,null,null,null,null,null,null,null,null,null,null,null,null,null,null,null,null,null,null,null,null,null,null,null,null,null,5892,{"$f":" IFERROR(INDIRECT(\"'SP500 Data'!B\"&MATCH(BB3979, 'SP500 Data'!A:A,0))/100,\"\")","v":""},""]
[null,null,null,null,null,null,null,null,null,null,null,null,null,null,null,null,null,null,null,null,null,null,null,null,null,null,null,null,null,null,null,null,null,null,null,null,null,null,null,null,null,null,null,null,null,null,null,null,null,null,null,null,null,5899,{"$f":" IFERROR(INDIRECT(\"'SP500 Data'!B\"&MATCH(BB3986, 'SP500 Data'!A:A,0))/100,\"\")","v":""},""]
[null,null,null,null,null,null,null,null,null,null,null,null,null,null,null,null,null,null,null,null,null,null,null,null,null,null,null,null,null,null,null,null,null,null,null,null,null,null,null,null,null,null,null,null,null,null,null,null,null,null,null,null,null,5911,{"$f":" IFERROR(INDIRECT(\"'SP500 Data'!B\"&MATCH(BB3998, 'SP500 Data'!A:A,0))/100,\"\")","v":""},""]
[null,null,null,null,null,null,null,null,null,null,null,null,null,null,null,null,null,null,null,null,null,null,null,null,null,null,null,null,null,null,null,null,null,null,null,null,null,null,null,null,null,null,null,null,null,null,null,null,null,null,null,null,null,5915,{"$f":" IFERROR(INDIRECT(\"'SP500 Data'!B\"&MATCH(BB4002, 'SP500 Data'!A:A,0))/100,\"\")","v":""},""]
[null,null,null,null,null,null,null,null,null,null,null,null,null,null,null,null,null,null,null,null,null,null,null,null,null,null,null,null,null,null,null,null,null,null,null,null,null,null,null,null,null,null,null,null,null,null,null,null,null,null,null,null,null,5929,{"$f":" IFERROR(INDIRECT(\"'SP500 Data'!B\"&MATCH(BB4016, 'SP500 Data'!A:A,0))/100,\"\")","v":""},""]
[null,null,null,null,null,null,null,null,null,null,null,null,null,null,null,null,null,null,null,null,null,null,null,null,null,null,null,null,null,null,null,null,null,null,null,null,null,null,null,null,null,null,null,null,null,null,null,null,null,null,null,null,null,5932,{"$f":" IFERROR(INDIRECT(\"'SP500 Data'!B\"&MATCH(BB4019, 'SP500 Data'!A:A,0))/100,\"\")","v":""},""]
[null,null,null,null,null,null,null,null,null,null,null,null,null,null,null,null,null,null,null,null,null,null,null,null,null,null,null,null,null,null,null,null,null,null,null,null,null,null,null,null,null,null,null,null,null,null,null,null,null,null,null,null,null,5944,{"$f":" IFERROR(INDIRECT(\"'SP500 Data'!B\"&MATCH(BB4031, 'SP500 Data'!A:A,0))/100,\"\")","v":""},""]
[null,null,null,null,null,null,null,null,null,null,null,null,null,null,null,null,null,null,null,null,null,null,null,null,null,null,null,null,null,null,null,null,null,null,null,null,null,null,null,null,null,null,null,null,null,null,null,null,null,null,null,null,null,5954,{"$f":" IFERROR(INDIRECT(\"'SP500 Data'!B\"&MATCH(BB4041, 'SP500 Data'!A:A,0))/100,\"\")","v":""},""]
[null,null,null,null,null,null,null,null,null,null,null,null,null,null,null,null,null,null,null,null,null,null,null,null,null,null,null,null,null,null,null,null,null,null,null,null,null,null,null,null,null,null,null,null,null,null,null,null,null,null,null,null,null,5962,{"$f":" IFERROR(INDIRECT(\"'SP500 Data'!B\"&MATCH(BB4049, 'SP500 Data'!A:A,0))/100,\"\")","v":""},""]
[null,null,null,null,null,null,null,null,null,null,null,null,null,null,null,null,null,null,null,null,null,null,null,null,null,null,null,null,null,null,null,null,null,null,null,null,null,null,null,null,null,null,null,null,null,null,null,null,null,null,null,null,null,5969,{"$f":" IFERROR(INDIRECT(\"'SP500 Data'!B\"&MATCH(BB4056, 'SP500 Data'!A:A,0))/100,\"\")","v":""},""]
[null,null,null,null,null,null,null,null,null,null,null,null,null,null,null,null,null,null,null,null,null,null,null,null,null,null,null,null,null,null,null,null,null,null,null,null,null,null,null,null,null,null,null,null,null,null,null,null,null,null,null,null,null,5981,{"$f":" IFERROR(INDIRECT(\"'SP500 Data'!B\"&MATCH(BB4068, 'SP500 Data'!A:A,0))/100,\"\")","v":""},""]
[null,null,null,null,null,null,null,null,null,null,null,null,null,null,null,null,null,null,null,null,null,null,null,null,null,null,null,null,null,null,null,null,null,null,null,null,null,null,null,null,null,null,null,null,null,null,null,null,null,null,null,null,null,5985,{"$f":" IFERROR(INDIRECT(\"'SP500 Data'!B\"&MATCH(BB4072, 'SP500 Data'!A:A,0))/100,\"\")","v":""},""]
[null,null,null,null,null,null,null,null,null,null,null,null,null,null,null,null,null,null,null,null,null,null,null,null,null,null,null,null,null,null,null,null,null,null,null,null,null,null,null,null,null,null,null,null,null,null,null,null,null,null,null,null,null,5999,{"$f":" IFERROR(INDIRECT(\"'SP500 Data'!B\"&MATCH(BB4086, 'SP500 Data'!A:A,0))/100,\"\")","v":""},""]
[null,null,null,null,null,null,null,null,null,null,null,null,null,null,null,null,null,null,null,null,null,null,null,null,null,null,null,null,null,null,null,null,null,null,null,null,null,null,null,null,null,null,null,null,null,null,null,null,null,null,null,null,null,6002,{"$f":" IFERROR(INDIRECT(\"'SP500 Data'!B\"&MATCH(BB4089, 'SP500 Data'!A:A,0))/100,\"\")","v":""},""]
[null,null,null,null,null,null,null,null,null,null,null,null,null,null,null,null,null,null,null,null,null,null,null,null,null,null,null,null,null,null,null,null,null,null,null,null,null,null,null,null,null,null,null,null,null,null,null,null,null,null,null,null,null,6014,{"$f":" IFERROR(INDIRECT(\"'SP500 Data'!B\"&MATCH(BB4101, 'SP500 Data'!A:A,0))/100,\"\")","v":""},""]
[null,null,null,null,null,null,null,null,null,null,null,null,null,null,null,null,null,null,null,null,null,null,null,null,null,null,null,null,null,null,null,null,null,null,null,null,null,null,null,null,null,null,null,null,null,null,null,null,null,null,null,null,null,6024,{"$f":" IFERROR(INDIRECT(\"'SP500 Data'!B\"&MATCH(BB4111, 'SP500 Data'!A:A,0))/100,\"\")","v":""},""]
[null,null,null,null,null,null,null,null,null,null,null,null,null,null,null,null,null,null,null,null,null,null,null,null,null,null,null,null,null,null,null,null,null,null,null,null,null,null,null,null,null,null,null,null,null,null,null,null,null,null,null,null,null,6032,{"$f":" IFERROR(INDIRECT(\"'SP500 Data'!B\"&MATCH(BB4119, 'SP500 Data'!A:A,0))/100,\"\")","v":""},""]
[null,null,null,null,null,null,null,null,null,null,null,null,null,null,null,null,null,null,null,null,null,null,null,null,null,null,null,null,null,null,null,null,null,null,null,null,null,null,null,null,null,null,null,null,null,null,null,null,null,null,null,null,null,6039,{"$f":" IFERROR(INDIRECT(\"'SP500 Data'!B\"&MATCH(BB4126, 'SP500 Data'!A:A,0))/100,\"\")","v":""},""]
[null,null,null,null,null,null,null,null,null,null,null,null,null,null,null,null,null,null,null,null,null,null,null,null,null,null,null,null,null,null,null,null,null,null,null,null,null,null,null,null,null,null,null,null,null,null,null,null,null,null,null,null,null,6051,{"$f":" IFERROR(INDIRECT(\"'SP500 Data'!B\"&MATCH(BB4138, 'SP500 Data'!A:A,0))/100,\"\")","v":""},""]
[null,null,null,null,null,null,null,null,null,null,null,null,null,null,null,null,null,null,null,null,null,null,null,null,null,null,null,null,null,null,null,null,null,null,null,null,null,null,null,null,null,null,null,null,null,null,null,null,null,null,null,null,null,6055,{"$f":" IFERROR(INDIRECT(\"'SP500 Data'!B\"&MATCH(BB4142, 'SP500 Data'!A:A,0))/100,\"\")","v":""},""]
[null,null,null,null,null,null,null,null,null,null,null,null,null,null,null,null,null,null,null,null,null,null,null,null,null,null,null,null,null,null,null,null,null,null,null,null,null,null,null,null,null,null,null,null,null,null,null,null,null,null,null,null,null,6069,{"$f":" IFERROR(INDIRECT(\"'SP500 Data'!B\"&MATCH(BB4156, 'SP500 Data'!A:A,0))/100,\"\")","v":""},""]
[null,null,null,null,null,null,null,null,null,null,null,null,null,null,null,null,null,null,null,null,null,null,null,null,null,null,null,null,null,null,null,null,null,null,null,null,null,null,null,null,null,null,null,null,null,null,null,null,null,null,null,null,null,6072,{"$f":" IFERROR(INDIRECT(\"'SP500 Data'!B\"&MATCH(BB4159, 'SP500 Data'!A:A,0))/100,\"\")","v":""},""]
[null,null,null,null,null,null,null,null,null,null,null,null,null,null,null,null,null,null,null,null,null,null,null,null,null,null,null,null,null,null,null,null,null,null,null,null,null,null,null,null,null,null,null,null,null,null,null,null,null,null,null,null,null,6088,{"$f":" IFERROR(INDIRECT(\"'SP500 Data'!B\"&MATCH(BB4175, 'SP500 Data'!A:A,0))/100,\"\")","v":""},""]
[null,null,null,null,null,null,null,null,null,null,null,null,null,null,null,null,null,null,null,null,null,null,null,null,null,null,null,null,null,null,null,null,null,null,null,null,null,null,null,null,null,null,null,null,null,null,null,null,null,null,null,null,null,6094,{"$f":" IFERROR(INDIRECT(\"'SP500 Data'!B\"&MATCH(BB4181, 'SP500 Data'!A:A,0))/100,\"\")","v":""},""]
[null,null,null,null,null,null,null,null,null,null,null,null,null,null,null,null,null,null,null,null,null,null,null,null,null,null,null,null,null,null,null,null,null,null,null,null,null,null,null,null,null,null,null,null,null,null,null,null,null,null,null,null,null,6102,{"$f":" IFERROR(INDIRECT(\"'SP500 Data'!B\"&MATCH(BB4189, 'SP500 Data'!A:A,0))/100,\"\")","v":""},""]
[null,null,null,null,null,null,null,null,null,null,null,null,null,null,null,null,null,null,null,null,null,null,null,null,null,null,null,null,null,null,null,null,null,null,null,null,null,null,null,null,null,null,null,null,null,null,null,null,null,null,null,null,null,6109,{"$f":" IFERROR(INDIRECT(\"'SP500 Data'!B\"&MATCH(BB4196, 'SP500 Data'!A:A,0))/100,\"\")","v":""},""]
[null,null,null,null,null,null,null,null,null,null,null,null,null,null,null,null,null,null,null,null,null,null,null,null,null,null,null,null,null,null,null,null,null,null,null,null,null,null,null,null,null,null,null,null,null,null,null,null,null,null,null,null,null,6121,{"$f":" IFERROR(INDIRECT(\"'SP500 Data'!B\"&MATCH(BB4208, 'SP500 Data'!A:A,0))/100,\"\")","v":""},""]
[null,null,null,null,null,null,null,null,null,null,null,null,null,null,null,null,null,null,null,null,null,null,null,null,null,null,null,null,null,null,null,null,null,null,null,null,null,null,null,null,null,null,null,null,null,null,null,null,null,null,null,null,null,6125,{"$f":" IFERROR(INDIRECT(\"'SP500 Data'!B\"&MATCH(BB4212, 'SP500 Data'!A:A,0))/100,\"\")","v":""},""]
[null,null,null,null,null,null,null,null,null,null,null,null,null,null,null,null,null,null,null,null,null,null,null,null,null,null,null,null,null,null,null,null,null,null,null,null,null,null,null,null,null,null,null,null,null,null,null,null,null,null,null,null,null,6139,{"$f":" IFERROR(INDIRECT(\"'SP500 Data'!B\"&MATCH(BB4226, 'SP500 Data'!A:A,0))/100,\"\")","v":""},""]
[null,null,null,null,null,null,null,null,null,null,null,null,null,null,null,null,null,null,null,null,null,null,null,null,null,null,null,null,null,null,null,null,null,null,null,null,null,null,null,null,null,null,null,null,null,null,null,null,null,null,null,null,null,6142,{"$f":" IFERROR(INDIRECT(\"'SP500 Data'!B\"&MATCH(BB4229, 'SP500 Data'!A:A,0))/100,\"\")","v":""},""]
[null,null,null,null,null,null,null,null,null,null,null,null,null,null,null,null,null,null,null,null,null,null,null,null,null,null,null,null,null,null,null,null,null,null,null,null,null,null,null,null,null,null,null,null,null,null,null,null,null,null,null,null,null,6158,{"$f":" IFERROR(INDIRECT(\"'SP500 Data'!B\"&MATCH(BB4245, 'SP500 Data'!A:A,0))/100,\"\")","v":""},""]
[null,null,null,null,null,null,null,null,null,null,null,null,null,null,null,null,null,null,null,null,null,null,null,null,null,null,null,null,null,null,null,null,null,null,null,null,null,null,null,null,null,null,null,null,null,null,null,null,null,null,null,null,null,6164,{"$f":" IFERROR(INDIRECT(\"'SP500 Data'!B\"&MATCH(BB4251, 'SP500 Data'!A:A,0))/100,\"\")","v":""},""]
[null,null,null,null,null,null,null,null,null,null,null,null,null,null,null,null,null,null,null,null,null,null,null,null,null,null,null,null,null,null,null,null,null,null,null,null,null,null,null,null,null,null,null,null,null,null,null,null,null,null,null,null,null,6172,{"$f":" IFERROR(INDIRECT(\"'SP500 Data'!B\"&MATCH(BB4259, 'SP500 Data'!A:A,0))/100,\"\")","v":""},""]
[null,null,null,null,null,null,null,null,null,null,null,null,null,null,null,null,null,null,null,null,null,null,null,null,null,null,null,null,null,null,null,null,null,null,null,null,null,null,null,null,null,null,null,null,null,null,null,null,null,null,null,null,null,6179,{"$f":" IFERROR(INDIRECT(\"'SP500 Data'!B\"&MATCH(BB4266, 'SP500 Data'!A:A,0))/100,\"\")","v":""},""]
[null,null,null,null,null,null,null,null,null,null,null,null,null,null,null,null,null,null,null,null,null,null,null,null,null,null,null,null,null,null,null,null,null,null,null,null,null,null,null,null,null,null,null,null,null,null,null,null,null,null,null,null,null,6191,{"$f":" IFERROR(INDIRECT(\"'SP500 Data'!B\"&MATCH(BB4278, 'SP500 Data'!A:A,0))/100,\"\")","v":""},""]
[null,null,null,null,null,null,null,null,null,null,null,null,null,null,null,null,null,null,null,null,null,null,null,null,null,null,null,null,null,null,null,null,null,null,null,null,null,null,null,null,null,null,null,null,null,null,null,null,null,null,null,null,null,6195,{"$f":" IFERROR(INDIRECT(\"'SP500 Data'!B\"&MATCH(BB4282, 'SP500 Data'!A:A,0))/100,\"\")","v":""},""]
[null,null,null,null,null,null,null,null,null,null,null,null,null,null,null,null,null,null,null,null,null,null,null,null,null,null,null,null,null,null,null,null,null,null,null,null,null,null,null,null,null,null,null,null,null,null,null,null,null,null,null,null,null,6209,{"$f":" IFERROR(INDIRECT(\"'SP500 Data'!B\"&MATCH(BB4296, 'SP500 Data'!A:A,0))/100,\"\")","v":""},""]
[null,null,null,null,null,null,null,null,null,null,null,null,null,null,null,null,null,null,null,null,null,null,null,null,null,null,null,null,null,null,null,null,null,null,null,null,null,null,null,null,null,null,null,null,null,null,null,null,null,null,null,null,null,6212,{"$f":" IFERROR(INDIRECT(\"'SP500 Data'!B\"&MATCH(BB4299, 'SP500 Data'!A:A,0))/100,\"\")","v":""},""]
[null,null,null,null,null,null,null,null,null,null,null,null,null,null,null,null,null,null,null,null,null,null,null,null,null,null,null,null,null,null,null,null,null,null,null,null,null,null,null,null,null,null,null,null,null,null,null,null,null,null,null,null,null,6228,{"$f":" IFERROR(INDIRECT(\"'SP500 Data'!B\"&MATCH(BB4315, 'SP500 Data'!A:A,0))/100,\"\")","v":""},""]
[null,null,null,null,null,null,null,null,null,null,null,null,null,null,null,null,null,null,null,null,null,null,null,null,null,null,null,null,null,null,null,null,null,null,null,null,null,null,null,null,null,null,null,null,null,null,null,null,null,null,null,null,null,6234,{"$f":" IFERROR(INDIRECT(\"'SP500 Data'!B\"&MATCH(BB4321, 'SP500 Data'!A:A,0))/100,\"\")","v":""},""]
[null,null,null,null,null,null,null,null,null,null,null,null,null,null,null,null,null,null,null,null,null,null,null,null,null,null,null,null,null,null,null,null,null,null,null,null,null,null,null,null,null,null,null,null,null,null,null,null,null,null,null,null,null,6242,{"$f":" IFERROR(INDIRECT(\"'SP500 Data'!B\"&MATCH(BB4329, 'SP500 Data'!A:A,0))/100,\"\")","v":""},""]
[null,null,null,null,null,null,null,null,null,null,null,null,null,null,null,null,null,null,null,null,null,null,null,null,null,null,null,null,null,null,null,null,null,null,null,null,null,null,null,null,null,null,null,null,null,null,null,null,null,null,null,null,null,6249,{"$f":" IFERROR(INDIRECT(\"'SP500 Data'!B\"&MATCH(BB4336, 'SP500 Data'!A:A,0))/100,\"\")","v":""},""]
[null,null,null,null,null,null,null,null,null,null,null,null,null,null,null,null,null,null,null,null,null,null,null,null,null,null,null,null,null,null,null,null,null,null,null,null,null,null,null,null,null,null,null,null,null,null,null,null,null,null,null,null,null,6261,{"$f":" IFERROR(INDIRECT(\"'SP500 Data'!B\"&MATCH(BB4348, 'SP500 Data'!A:A,0))/100,\"\")","v":""},""]
[null,null,null,null,null,null,null,null,null,null,null,null,null,null,null,null,null,null,null,null,null,null,null,null,null,null,null,null,null,null,null,null,null,null,null,null,null,null,null,null,null,null,null,null,null,null,null,null,null,null,null,null,null,6265,{"$f":" IFERROR(INDIRECT(\"'SP500 Data'!B\"&MATCH(BB4352, 'SP500 Data'!A:A,0))/100,\"\")","v":""},""]
[null,null,null,null,null,null,null,null,null,null,null,null,null,null,null,null,null,null,null,null,null,null,null,null,null,null,null,null,null,null,null,null,null,null,null,null,null,null,null,null,null,null,null,null,null,null,null,null,null,null,null,null,null,6279,{"$f":" IFERROR(INDIRECT(\"'SP500 Data'!B\"&MATCH(BB4366, 'SP500 Data'!A:A,0))/100,\"\")","v":""},{"$f":" IFERROR(1 +BC4366, \"\")","v":""}]
[null,null,null,null,null,null,null,null,null,null,null,null,null,null,null,null,null,null,null,null,null,null,null,null,null,null,null,null,null,null,null,null,null,null,null,null,null,null,null,null,null,null,null,null,null,null,null,null,null,null,null,null,null,6282,{"$f":" IFERROR(INDIRECT(\"'SP500 Data'!B\"&MATCH(BB4369, 'SP500 Data'!A:A,0))/100,\"\")","v":""},""]
[null,null,null,null,null,null,null,null,null,null,null,null,null,null,null,null,null,null,null,null,null,null,null,null,null,null,null,null,null,null,null,null,null,null,null,null,null,null,null,null,null,null,null,null,null,null,null,null,null,null,null,null,null,6298,{"$f":" IFERROR(INDIRECT(\"'SP500 Data'!B\"&MATCH(BB4385, 'SP500 Data'!A:A,0))/100,\"\")","v":""},""]
[null,null,null,null,null,null,null,null,null,null,null,null,null,null,null,null,null,null,null,null,null,null,null,null,null,null,null,null,null,null,null,null,null,null,null,null,null,null,null,null,null,null,null,null,null,null,null,null,null,null,null,null,null,6304,{"$f":" IFERROR(INDIRECT(\"'SP500 Data'!B\"&MATCH(BB4391, 'SP500 Data'!A:A,0))/100,\"\")","v":""},""]
[null,null,null,null,null,null,null,null,null,null,null,null,null,null,null,null,null,null,null,null,null,null,null,null,null,null,null,null,null,null,null,null,null,null,null,null,null,null,null,null,null,null,null,null,null,null,null,null,null,null,null,null,null,6312,{"$f":" IFERROR(INDIRECT(\"'SP500 Data'!B\"&MATCH(BB4399, 'SP500 Data'!A:A,0))/100,\"\")","v":""},""]
[null,null,null,null,null,null,null,null,null,null,null,null,null,null,null,null,null,null,null,null,null,null,null,null,null,null,null,null,null,null,null,null,null,null,null,null,null,null,null,null,null,null,null,null,null,null,null,null,null,null,null,null,null,6319,{"$f":" IFERROR(INDIRECT(\"'SP500 Data'!B\"&MATCH(BB4406, 'SP500 Data'!A:A,0))/100,\"\")","v":""},""]
[null,null,null,null,null,null,null,null,null,null,null,null,null,null,null,null,null,null,null,null,null,null,null,null,null,null,null,null,null,null,null,null,null,null,null,null,null,null,null,null,null,null,null,null,null,null,null,null,null,null,null,null,null,6331,{"$f":" IFERROR(INDIRECT(\"'SP500 Data'!B\"&MATCH(BB4418, 'SP500 Data'!A:A,0))/100,\"\")","v":""},""]
[null,null,null,null,null,null,null,null,null,null,null,null,null,null,null,null,null,null,null,null,null,null,null,null,null,null,null,null,null,null,null,null,null,null,null,null,null,null,null,null,null,null,null,null,null,null,null,null,null,null,null,null,null,6335,{"$f":" IFERROR(INDIRECT(\"'SP500 Data'!B\"&MATCH(BB4422, 'SP500 Data'!A:A,0))/100,\"\")","v":""},""]
[null,null,null,null,null,null,null,null,null,null,null,null,null,null,null,null,null,null,null,null,null,null,null,null,null,null,null,null,null,null,null,null,null,null,null,null,null,null,null,null,null,null,null,null,null,null,null,null,null,null,null,null,null,6349,{"$f":" IFERROR(INDIRECT(\"'SP500 Data'!B\"&MATCH(BB4436, 'SP500 Data'!A:A,0))/100,\"\")","v":""},""]
[null,null,null,null,null,null,null,null,null,null,null,null,null,null,null,null,null,null,null,null,null,null,null,null,null,null,null,null,null,null,null,null,null,null,null,null,null,null,null,null,null,null,null,null,null,null,null,null,null,null,null,null,null,6352,{"$f":" IFERROR(INDIRECT(\"'SP500 Data'!B\"&MATCH(BB4439, 'SP500 Data'!A:A,0))/100,\"\")","v":""},""]
[null,null,null,null,null,null,null,null,null,null,null,null,null,null,null,null,null,null,null,null,null,null,null,null,null,null,null,null,null,null,null,null,null,null,null,null,null,null,null,null,null,null,null,null,null,null,null,null,null,null,null,null,null,6368,{"$f":" IFERROR(INDIRECT(\"'SP500 Data'!B\"&MATCH(BB4455, 'SP500 Data'!A:A,0))/100,\"\")","v":""},""]
[null,null,null,null,null,null,null,null,null,null,null,null,null,null,null,null,null,null,null,null,null,null,null,null,null,null,null,null,null,null,null,null,null,null,null,null,null,null,null,null,null,null,null,null,null,null,null,null,null,null,null,null,null,6374,{"$f":" IFERROR(INDIRECT(\"'SP500 Data'!B\"&MATCH(BB4461, 'SP500 Data'!A:A,0))/100,\"\")","v":""},""]
[null,null,null,null,null,null,null,null,null,null,null,null,null,null,null,null,null,null,null,null,null,null,null,null,null,null,null,null,null,null,null,null,null,null,null,null,null,null,null,null,null,null,null,null,null,null,null,null,null,null,null,null,null,6377,{"$f":" IFERROR(INDIRECT(\"'SP500 Data'!B\"&MATCH(BB4464, 'SP500 Data'!A:A,0))/100,\"\")","v":""},""]
[null,null,null,null,null,null,null,null,null,null,null,null,null,null,null,null,null,null,null,null,null,null,null,null,null,null,null,null,null,null,null,null,null,null,null,null,null,null,null,null,null,null,null,null,null,null,null,null,null,null,null,null,null,6389,{"$f":" IFERROR(INDIRECT(\"'SP500 Data'!B\"&MATCH(BB4476, 'SP500 Data'!A:A,0))/100,\"\")","v":""},""]
[null,null,null,null,null,null,null,null,null,null,null,null,null,null,null,null,null,null,null,null,null,null,null,null,null,null,null,null,null,null,null,null,null,null,null,null,null,null,null,null,null,null,null,null,null,null,null,null,null,null,null,null,null,6401,{"$f":" IFERROR(INDIRECT(\"'SP500 Data'!B\"&MATCH(BB4488, 'SP500 Data'!A:A,0))/100,\"\")","v":""},""]
[null,null,null,null,null,null,null,null,null,null,null,null,null,null,null,null,null,null,null,null,null,null,null,null,null,null,null,null,null,null,null,null,null,null,null,null,null,null,null,null,null,null,null,null,null,null,null,null,null,null,null,null,null,6405,{"$f":" IFERROR(INDIRECT(\"'SP500 Data'!B\"&MATCH(BB4492, 'SP500 Data'!A:A,0))/100,\"\")","v":""},""]
[null,null,null,null,null,null,null,null,null,null,null,null,null,null,null,null,null,null,null,null,null,null,null,null,null,null,null,null,null,null,null,null,null,null,null,null,null,null,null,null,null,null,null,null,null,null,null,null,null,null,null,null,null,6419,{"$f":" IFERROR(INDIRECT(\"'SP500 Data'!B\"&MATCH(BB4506, 'SP500 Data'!A:A,0))/100,\"\")","v":""},""]
[null,null,null,null,null,null,null,null,null,null,null,null,null,null,null,null,null,null,null,null,null,null,null,null,null,null,null,null,null,null,null,null,null,null,null,null,null,null,null,null,null,null,null,null,null,null,null,null,null,null,null,null,null,6422,{"$f":" IFERROR(INDIRECT(\"'SP500 Data'!B\"&MATCH(BB4509, 'SP500 Data'!A:A,0))/100,\"\")","v":""},""]
[null,null,null,null,null,null,null,null,null,null,null,null,null,null,null,null,null,null,null,null,null,null,null,null,null,null,null,null,null,null,null,null,null,null,null,null,null,null,null,null,null,null,null,null,null,null,null,null,null,null,null,null,null,6438,{"$f":" IFERROR(INDIRECT(\"'SP500 Data'!B\"&MATCH(BB4525, 'SP500 Data'!A:A,0))/100,\"\")","v":""},""]
[null,null,null,null,null,null,null,null,null,null,null,null,null,null,null,null,null,null,null,null,null,null,null,null,null,null,null,null,null,null,null,null,null,null,null,null,null,null,null,null,null,null,null,null,null,null,null,null,null,null,null,null,null,6444,{"$f":" IFERROR(INDIRECT(\"'SP500 Data'!B\"&MATCH(BB4531, 'SP500 Data'!A:A,0))/100,\"\")","v":""},""]
[null,null,null,null,null,null,null,null,null,null,null,null,null,null,null,null,null,null,null,null,null,null,null,null,null,null,null,null,null,null,null,null,null,null,null,null,null,null,null,null,null,null,null,null,null,null,null,null,null,null,null,null,null,6447,{"$f":" IFERROR(INDIRECT(\"'SP500 Data'!B\"&MATCH(BB4534, 'SP500 Data'!A:A,0))/100,\"\")","v":""},""]
[null,null,null,null,null,null,null,null,null,null,null,null,null,null,null,null,null,null,null,null,null,null,null,null,null,null,null,null,null,null,null,null,null,null,null,null,null,null,null,null,null,null,null,null,null,null,null,null,null,null,null,null,null,6459,{"$f":" IFERROR(INDIRECT(\"'SP500 Data'!B\"&MATCH(BB4546, 'SP500 Data'!A:A,0))/100,\"\")","v":""},""]
[null,null,null,null,null,null,null,null,null,null,null,null,null,null,null,null,null,null,null,null,null,null,null,null,null,null,null,null,null,null,null,null,null,null,null,null,null,null,null,null,null,null,null,null,null,null,null,null,null,null,null,null,null,6471,{"$f":" IFERROR(INDIRECT(\"'SP500 Data'!B\"&MATCH(BB4558, 'SP500 Data'!A:A,0))/100,\"\")","v":""},{"$f":" IFERROR(1 +BC4558, \"\")","v":""}]
[null,null,null,null,null,null,null,null,null,null,null,null,null,null,null,null,null,null,null,null,null,null,null,null,null,null,null,null,null,null,null,null,null,null,null,null,null,null,null,null,null,null,null,null,null,null,null,null,null,null,null,null,null,6475,{"$f":" IFERROR(INDIRECT(\"'SP500 Data'!B\"&MATCH(BB4562, 'SP500 Data'!A:A,0))/100,\"\")","v":""},""]
[null,null,null,null,null,null,null,null,null,null,null,null,null,null,null,null,null,null,null,null,null,null,null,null,null,null,null,null,null,null,null,null,null,null,null,null,null,null,null,null,null,null,null,null,null,null,null,null,null,null,null,null,null,6489,{"$f":" IFERROR(INDIRECT(\"'SP500 Data'!B\"&MATCH(BB4576, 'SP500 Data'!A:A,0))/100,\"\")","v":""},""]
[null,null,null,null,null,null,null,null,null,null,null,null,null,null,null,null,null,null,null,null,null,null,null,null,null,null,null,null,null,null,null,null,null,null,null,null,null,null,null,null,null,null,null,null,null,null,null,null,null,null,null,null,null,6492,{"$f":" IFERROR(INDIRECT(\"'SP500 Data'!B\"&MATCH(BB4579, 'SP500 Data'!A:A,0))/100,\"\")","v":""},""]
[null,null,null,null,null,null,null,null,null,null,null,null,null,null,null,null,null,null,null,null,null,null,null,null,null,null,null,null,null,null,null,null,null,null,null,null,null,null,null,null,null,null,null,null,null,null,null,null,null,null,null,null,null,6508,{"$f":" IFERROR(INDIRECT(\"'SP500 Data'!B\"&MATCH(BB4595, 'SP500 Data'!A:A,0))/100,\"\")","v":""},""]
[null,null,null,null,null,null,null,null,null,null,null,null,null,null,null,null,null,null,null,null,null,null,null,null,null,null,null,null,null,null,null,null,null,null,null,null,null,null,null,null,null,null,null,null,null,null,null,null,null,null,null,null,null,6514,{"$f":" IFERROR(INDIRECT(\"'SP500 Data'!B\"&MATCH(BB4601, 'SP500 Data'!A:A,0))/100,\"\")","v":""},""]
[null,null,null,null,null,null,null,null,null,null,null,null,null,null,null,null,null,null,null,null,null,null,null,null,null,null,null,null,null,null,null,null,null,null,null,null,null,null,null,null,null,null,null,null,null,null,null,null,null,null,null,null,null,6517,{"$f":" IFERROR(INDIRECT(\"'SP500 Data'!B\"&MATCH(BB4604, 'SP500 Data'!A:A,0))/100,\"\")","v":""},""]
[null,null,null,null,null,null,null,null,null,null,null,null,null,null,null,null,null,null,null,null,null,null,null,null,null,null,null,null,null,null,null,null,null,null,null,null,null,null,null,null,null,null,null,null,null,null,null,null,null,null,null,null,null,6529,{"$f":" IFERROR(INDIRECT(\"'SP500 Data'!B\"&MATCH(BB4616, 'SP500 Data'!A:A,0))/100,\"\")","v":""},""]
[null,null,null,null,null,null,null,null,null,null,null,null,null,null,null,null,null,null,null,null,null,null,null,null,null,null,null,null,null,null,null,null,null,null,null,null,null,null,null,null,null,null,null,null,null,null,null,null,null,null,null,null,null,6541,{"$f":" IFERROR(INDIRECT(\"'SP500 Data'!B\"&MATCH(BB4628, 'SP500 Data'!A:A,0))/100,\"\")","v":""},""]
[null,null,null,null,null,null,null,null,null,null,null,null,null,null,null,null,null,null,null,null,null,null,null,null,null,null,null,null,null,null,null,null,null,null,null,null,null,null,null,null,null,null,null,null,null,null,null,null,null,null,null,null,null,6545,{"$f":" IFERROR(INDIRECT(\"'SP500 Data'!B\"&MATCH(BB4632, 'SP500 Data'!A:A,0))/100,\"\")","v":""},""]
[null,null,null,null,null,null,null,null,null,null,null,null,null,null,null,null,null,null,null,null,null,null,null,null,null,null,null,null,null,null,null,null,null,null,null,null,null,null,null,null,null,null,null,null,null,null,null,null,null,null,null,null,null,6559,{"$f":" IFERROR(INDIRECT(\"'SP500 Data'!B\"&MATCH(BB4646, 'SP500 Data'!A:A,0))/100,\"\")","v":""},""]
[null,null,null,null,null,null,null,null,null,null,null,null,null,null,null,null,null,null,null,null,null,null,null,null,null,null,null,null,null,null,null,null,null,null,null,null,null,null,null,null,null,null,null,null,null,null,null,null,null,null,null,null,null,6566,{"$f":" IFERROR(INDIRECT(\"'SP500 Data'!B\"&MATCH(BB4653, 'SP500 Data'!A:A,0))/100,\"\")","v":""},""]
[null,null,null,null,null,null,null,null,null,null,null,null,null,null,null,null,null,null,null,null,null,null,null,null,null,null,null,null,null,null,null,null,null,null,null,null,null,null,null,null,null,null,null,null,null,null,null,null,null,null,null,null,null,6578,{"$f":" IFERROR(INDIRECT(\"'SP500 Data'!B\"&MATCH(BB4665, 'SP500 Data'!A:A,0))/100,\"\")","v":""},""]
[null,null,null,null,null,null,null,null,null,null,null,null,null,null,null,null,null,null,null,null,null,null,null,null,null,null,null,null,null,null,null,null,null,null,null,null,null,null,null,null,null,null,null,null,null,null,null,null,null,null,null,null,null,6584,{"$f":" IFERROR(INDIRECT(\"'SP500 Data'!B\"&MATCH(BB4671, 'SP500 Data'!A:A,0))/100,\"\")","v":""},""]
[null,null,null,null,null,null,null,null,null,null,null,null,null,null,null,null,null,null,null,null,null,null,null,null,null,null,null,null,null,null,null,null,null,null,null,null,null,null,null,null,null,null,null,null,null,null,null,null,null,null,null,null,null,6587,{"$f":" IFERROR(INDIRECT(\"'SP500 Data'!B\"&MATCH(BB4674, 'SP500 Data'!A:A,0))/100,\"\")","v":""},""]
[null,null,null,null,null,null,null,null,null,null,null,null,null,null,null,null,null,null,null,null,null,null,null,null,null,null,null,null,null,null,null,null,null,null,null,null,null,null,null,null,null,null,null,null,null,null,null,null,null,null,null,null,null,6599,{"$f":" IFERROR(INDIRECT(\"'SP500 Data'!B\"&MATCH(BB4686, 'SP500 Data'!A:A,0))/100,\"\")","v":""},{"$f":" IFERROR(1 +BC4686, \"\")","v":""}]
[null,null,null,null,null,null,null,null,null,null,null,null,null,null,null,null,null,null,null,null,null,null,null,null,null,null,null,null,null,null,null,null,null,null,null,null,null,null,null,null,null,null,null,null,null,null,null,null,null,null,null,null,null,6611,{"$f":" IFERROR(INDIRECT(\"'SP500 Data'!B\"&MATCH(BB4698, 'SP500 Data'!A:A,0))/100,\"\")","v":""},""]
[null,null,null,null,null,null,null,null,null,null,null,null,null,null,null,null,null,null,null,null,null,null,null,null,null,null,null,null,null,null,null,null,null,null,null,null,null,null,null,null,null,null,null,null,null,null,null,null,null,null,null,null,null,6615,{"$f":" IFERROR(INDIRECT(\"'SP500 Data'!B\"&MATCH(BB4702, 'SP500 Data'!A:A,0))/100,\"\")","v":""},""]
[null,null,null,null,null,null,null,null,null,null,null,null,null,null,null,null,null,null,null,null,null,null,null,null,null,null,null,null,null,null,null,null,null,null,null,null,null,null,null,null,null,null,null,null,null,null,null,null,null,null,null,null,null,6629,{"$f":" IFERROR(INDIRECT(\"'SP500 Data'!B\"&MATCH(BB4716, 'SP500 Data'!A:A,0))/100,\"\")","v":""},""]
[null,null,null,null,null,null,null,null,null,null,null,null,null,null,null,null,null,null,null,null,null,null,null,null,null,null,null,null,null,null,null,null,null,null,null,null,null,null,null,null,null,null,null,null,null,null,null,null,null,null,null,null,null,6636,{"$f":" IFERROR(INDIRECT(\"'SP500 Data'!B\"&MATCH(BB4723, 'SP500 Data'!A:A,0))/100,\"\")","v":""},""]
[null,null,null,null,null,null,null,null,null,null,null,null,null,null,null,null,null,null,null,null,null,null,null,null,null,null,null,null,null,null,null,null,null,null,null,null,null,null,null,null,null,null,null,null,null,null,null,null,null,null,null,null,null,6648,{"$f":" IFERROR(INDIRECT(\"'SP500 Data'!B\"&MATCH(BB4735, 'SP500 Data'!A:A,0))/100,\"\")","v":""},""]
[null,null,null,null,null,null,null,null,null,null,null,null,null,null,null,null,null,null,null,null,null,null,null,null,null,null,null,null,null,null,null,null,null,null,null,null,null,null,null,null,null,null,null,null,null,null,null,null,null,null,null,null,null,6654,{"$f":" IFERROR(INDIRECT(\"'SP500 Data'!B\"&MATCH(BB4741, 'SP500 Data'!A:A,0))/100,\"\")","v":""},""]
[null,null,null,null,null,null,null,null,null,null,null,null,null,null,null,null,null,null,null,null,null,null,null,null,null,null,null,null,null,null,null,null,null,null,null,null,null,null,null,null,null,null,null,null,null,null,null,null,null,null,null,null,null,6657,{"$f":" IFERROR(INDIRECT(\"'SP500 Data'!B\"&MATCH(BB4744, 'SP500 Data'!A:A,0))/100,\"\")","v":""},""]
[null,null,null,null,null,null,null,null,null,null,null,null,null,null,null,null,null,null,null,null,null,null,null,null,null,null,null,null,null,null,null,null,null,null,null,null,null,null,null,null,null,null,null,null,null,null,null,null,null,null,null,null,null,6669,{"$f":" IFERROR(INDIRECT(\"'SP500 Data'!B\"&MATCH(BB4756, 'SP500 Data'!A:A,0))/100,\"\")","v":""},""]
[null,null,null,null,null,null,null,null,null,null,null,null,null,null,null,null,null,null,null,null,null,null,null,null,null,null,null,null,null,null,null,null,null,null,null,null,null,null,null,null,null,null,null,null,null,null,null,null,null,null,null,null,null,6676,{"$f":" IFERROR(INDIRECT(\"'SP500 Data'!B\"&MATCH(BB4763, 'SP500 Data'!A:A,0))/100,\"\")","v":""},""]
[null,null,null,null,null,null,null,null,null,null,null,null,null,null,null,null,null,null,null,null,null,null,null,null,null,null,null,null,null,null,null,null,null,null,null,null,null,null,null,null,null,null,null,null,null,null,null,null,null,null,null,null,null,6685,{"$f":" IFERROR(INDIRECT(\"'SP500 Data'!B\"&MATCH(BB4772, 'SP500 Data'!A:A,0))/100,\"\")","v":""},""]
[null,null,null,null,null,null,null,null,null,null,null,null,null,null,null,null,null,null,null,null,null,null,null,null,null,null,null,null,null,null,null,null,null,null,null,null,null,null,null,null,null,null,null,null,null,null,null,null,null,null,null,null,null,6699,{"$f":" IFERROR(INDIRECT(\"'SP500 Data'!B\"&MATCH(BB4786, 'SP500 Data'!A:A,0))/100,\"\")","v":""},""]
[null,null,null,null,null,null,null,null,null,null,null,null,null,null,null,null,null,null,null,null,null,null,null,null,null,null,null,null,null,null,null,null,null,null,null,null,null,null,null,null,null,null,null,null,null,null,null,null,null,null,null,null,null,6706,{"$f":" IFERROR(INDIRECT(\"'SP500 Data'!B\"&MATCH(BB4793, 'SP500 Data'!A:A,0))/100,\"\")","v":""},""]
[null,null,null,null,null,null,null,null,null,null,null,null,null,null,null,null,null,null,null,null,null,null,null,null,null,null,null,null,null,null,null,null,null,null,null,null,null,null,null,null,null,null,null,null,null,null,null,null,null,null,null,null,null,6718,{"$f":" IFERROR(INDIRECT(\"'SP500 Data'!B\"&MATCH(BB4805, 'SP500 Data'!A:A,0))/100,\"\")","v":""},""]
[null,null,null,null,null,null,null,null,null,null,null,null,null,null,null,null,null,null,null,null,null,null,null,null,null,null,null,null,null,null,null,null,null,null,null,null,null,null,null,null,null,null,null,null,null,null,null,null,null,null,null,null,null,6724,{"$f":" IFERROR(INDIRECT(\"'SP500 Data'!B\"&MATCH(BB4811, 'SP500 Data'!A:A,0))/100,\"\")","v":""},""]
[null,null,null,null,null,null,null,null,null,null,null,null,null,null,null,null,null,null,null,null,null,null,null,null,null,null,null,null,null,null,null,null,null,null,null,null,null,null,null,null,null,null,null,null,null,null,null,null,null,null,null,null,null,6727,{"$f":" IFERROR(INDIRECT(\"'SP500 Data'!B\"&MATCH(BB4814, 'SP500 Data'!A:A,0))/100,\"\")","v":""},{"$f":" IFERROR(1 +BC4814, \"\")","v":""}]
[null,null,null,null,null,null,null,null,null,null,null,null,null,null,null,null,null,null,null,null,null,null,null,null,null,null,null,null,null,null,null,null,null,null,null,null,null,null,null,null,null,null,null,null,null,null,null,null,null,null,null,null,null,6739,{"$f":" IFERROR(INDIRECT(\"'SP500 Data'!B\"&MATCH(BB4826, 'SP500 Data'!A:A,0))/100,\"\")","v":""},""]
[null,null,null,null,null,null,null,null,null,null,null,null,null,null,null,null,null,null,null,null,null,null,null,null,null,null,null,null,null,null,null,null,null,null,null,null,null,null,null,null,null,null,null,null,null,null,null,null,null,null,null,null,null,6746,{"$f":" IFERROR(INDIRECT(\"'SP500 Data'!B\"&MATCH(BB4833, 'SP500 Data'!A:A,0))/100,\"\")","v":""},""]
[null,null,null,null,null,null,null,null,null,null,null,null,null,null,null,null,null,null,null,null,null,null,null,null,null,null,null,null,null,null,null,null,null,null,null,null,null,null,null,null,null,null,null,null,null,null,null,null,null,null,null,null,null,6755,{"$f":" IFERROR(INDIRECT(\"'SP500 Data'!B\"&MATCH(BB4842, 'SP500 Data'!A:A,0))/100,\"\")","v":""},""]
[null,null,null,null,null,null,null,null,null,null,null,null,null,null,null,null,null,null,null,null,null,null,null,null,null,null,null,null,null,null,null,null,null,null,null,null,null,null,null,null,null,null,null,null,null,null,null,null,null,null,null,null,null,6769,{"$f":" IFERROR(INDIRECT(\"'SP500 Data'!B\"&MATCH(BB4856, 'SP500 Data'!A:A,0))/100,\"\")","v":""},""]
[null,null,null,null,null,null,null,null,null,null,null,null,null,null,null,null,null,null,null,null,null,null,null,null,null,null,null,null,null,null,null,null,null,null,null,null,null,null,null,null,null,null,null,null,null,null,null,null,null,null,null,null,null,6776,{"$f":" IFERROR(INDIRECT(\"'SP500 Data'!B\"&MATCH(BB4863, 'SP500 Data'!A:A,0))/100,\"\")","v":""},""]
[null,null,null,null,null,null,null,null,null,null,null,null,null,null,null,null,null,null,null,null,null,null,null,null,null,null,null,null,null,null,null,null,null,null,null,null,null,null,null,null,null,null,null,null,null,null,null,null,null,null,null,null,null,6788,{"$f":" IFERROR(INDIRECT(\"'SP500 Data'!B\"&MATCH(BB4875, 'SP500 Data'!A:A,0))/100,\"\")","v":""},""]
[null,null,null,null,null,null,null,null,null,null,null,null,null,null,null,null,null,null,null,null,null,null,null,null,null,null,null,null,null,null,null,null,null,null,null,null,null,null,null,null,null,null,null,null,null,null,null,null,null,null,null,null,null,6789,{"$f":" IFERROR(INDIRECT(\"'SP500 Data'!B\"&MATCH(BB4876, 'SP500 Data'!A:A,0))/100,\"\")","v":""},""]
[null,null,null,null,null,null,null,null,null,null,null,null,null,null,null,null,null,null,null,null,null,null,null,null,null,null,null,null,null,null,null,null,null,null,null,null,null,null,null,null,null,null,null,null,null,null,null,null,null,null,null,null,null,6790,{"$f":" IFERROR(INDIRECT(\"'SP500 Data'!B\"&MATCH(BB4877, 'SP500 Data'!A:A,0))/100,\"\")","v":""},""]
[null,null,null,null,null,null,null,null,null,null,null,null,null,null,null,null,null,null,null,null,null,null,null,null,null,null,null,null,null,null,null,null,null,null,null,null,null,null,null,null,null,null,null,null,null,null,null,null,null,null,null,null,null,6791,{"$f":" IFERROR(INDIRECT(\"'SP500 Data'!B\"&MATCH(BB4878, 'SP500 Data'!A:A,0))/100,\"\")","v":""},{"$f":" IFERROR(1 +BC4878, \"\")","v":""}]
[null,null,null,null,null,null,null,null,null,null,null,null,null,null,null,null,null,null,null,null,null,null,null,null,null,null,null,null,null,null,null,null,null,null,null,null,null,null,null,null,null,null,null,null,null,null,null,null,null,null,null,null,null,6792,{"$f":" IFERROR(INDIRECT(\"'SP500 Data'!B\"&MATCH(BB4879, 'SP500 Data'!A:A,0))/100,\"\")","v":""},""]
[null,null,null,null,null,null,null,null,null,null,null,null,null,null,null,null,null,null,null,null,null,null,null,null,null,null,null,null,null,null,null,null,null,null,null,null,null,null,null,null,null,null,null,null,null,null,null,null,null,null,null,null,null,6793,{"$f":" IFERROR(INDIRECT(\"'SP500 Data'!B\"&MATCH(BB4880, 'SP500 Data'!A:A,0))/100,\"\")","v":""},""]
[null,null,null,null,null,null,null,null,null,null,null,null,null,null,null,null,null,null,null,null,null,null,null,null,null,null,null,null,null,null,null,null,null,null,null,null,null,null,null,null,null,null,null,null,null,null,null,null,null,null,null,null,null,6794,{"$f":" IFERROR(INDIRECT(\"'SP500 Data'!B\"&MATCH(BB4881, 'SP500 Data'!A:A,0))/100,\"\")","v":""},""]
[null,null,null,null,null,null,null,null,null,null,null,null,null,null,null,null,null,null,null,null,null,null,null,null,null,null,null,null,null,null,null,null,null,null,null,null,null,null,null,null,null,null,null,null,null,null,null,null,null,null,null,null,null,6795,{"$f":" IFERROR(INDIRECT(\"'SP500 Data'!B\"&MATCH(BB4882, 'SP500 Data'!A:A,0))/100,\"\")","v":""},""]
[null,null,null,null,null,null,null,null,null,null,null,null,null,null,null,null,null,null,null,null,null,null,null,null,null,null,null,null,null,null,null,null,null,null,null,null,null,null,null,null,null,null,null,null,null,null,null,null,null,null,null,null,null,6796,{"$f":" IFERROR(INDIRECT(\"'SP500 Data'!B\"&MATCH(BB4883, 'SP500 Data'!A:A,0))/100,\"\")","v":""},""]
[null,null,null,null,null,null,null,null,null,null,null,null,null,null,null,null,null,null,null,null,null,null,null,null,null,null,null,null,null,null,null,null,null,null,null,null,null,null,null,null,null,null,null,null,null,null,null,null,null,null,null,null,null,6797,{"$f":" IFERROR(INDIRECT(\"'SP500 Data'!B\"&MATCH(BB4884, 'SP500 Data'!A:A,0))/100,\"\")","v":""},""]
[null,null,null,null,null,null,null,null,null,null,null,null,null,null,null,null,null,null,null,null,null,null,null,null,null,null,null,null,null,null,null,null,null,null,null,null,null,null,null,null,null,null,null,null,null,null,null,null,null,null,null,null,null,6798,{"$f":" IFERROR(INDIRECT(\"'SP500 Data'!B\"&MATCH(BB4885, 'SP500 Data'!A:A,0))/100,\"\")","v":""},""]
[null,null,null,null,null,null,null,null,null,null,null,null,null,null,null,null,null,null,null,null,null,null,null,null,null,null,null,null,null,null,null,null,null,null,null,null,null,null,null,null,null,null,null,null,null,null,null,null,null,null,null,null,null,6799,{"$f":" IFERROR(INDIRECT(\"'SP500 Data'!B\"&MATCH(BB4886, 'SP500 Data'!A:A,0))/100,\"\")","v":""},""]
[null,null,null,null,null,null,null,null,null,null,null,null,null,null,null,null,null,null,null,null,null,null,null,null,null,null,null,null,null,null,null,null,null,null,null,null,null,null,null,null,null,null,null,null,null,null,null,null,null,null,null,null,null,6800,{"$f":" IFERROR(INDIRECT(\"'SP500 Data'!B\"&MATCH(BB4887, 'SP500 Data'!A:A,0))/100,\"\")","v":""},""]
[null,null,null,null,null,null,null,null,null,null,null,null,null,null,null,null,null,null,null,null,null,null,null,null,null,null,null,null,null,null,null,null,null,null,null,null,null,null,null,null,null,null,null,null,null,null,null,null,null,null,null,null,null,6801,{"$f":" IFERROR(INDIRECT(\"'SP500 Data'!B\"&MATCH(BB4888, 'SP500 Data'!A:A,0))/100,\"\")","v":""},""]
[null,null,null,null,null,null,null,null,null,null,null,null,null,null,null,null,null,null,null,null,null,null,null,null,null,null,null,null,null,null,null,null,null,null,null,null,null,null,null,null,null,null,null,null,null,null,null,null,null,null,null,null,null,6802,{"$f":" IFERROR(INDIRECT(\"'SP500 Data'!B\"&MATCH(BB4889, 'SP500 Data'!A:A,0))/100,\"\")","v":""},""]
[null,null,null,null,null,null,null,null,null,null,null,null,null,null,null,null,null,null,null,null,null,null,null,null,null,null,null,null,null,null,null,null,null,null,null,null,null,null,null,null,null,null,null,null,null,null,null,null,null,null,null,null,null,6803,{"$f":" IFERROR(INDIRECT(\"'SP500 Data'!B\"&MATCH(BB4890, 'SP500 Data'!A:A,0))/100,\"\")","v":""},""]
[null,null,null,null,null,null,null,null,null,null,null,null,null,null,null,null,null,null,null,null,null,null,null,null,null,null,null,null,null,null,null,null,null,null,null,null,null,null,null,null,null,null,null,null,null,null,null,null,null,null,null,null,null,6804,{"$f":" IFERROR(INDIRECT(\"'SP500 Data'!B\"&MATCH(BB4891, 'SP500 Data'!A:A,0))/100,\"\")","v":""},""]
[null,null,null,null,null,null,null,null,null,null,null,null,null,null,null,null,null,null,null,null,null,null,null,null,null,null,null,null,null,null,null,null,null,null,null,null,null,null,null,null,null,null,null,null,null,null,null,null,null,null,null,null,null,6805,{"$f":" IFERROR(INDIRECT(\"'SP500 Data'!B\"&MATCH(BB4892, 'SP500 Data'!A:A,0))/100,\"\")","v":""},""]
[null,null,null,null,null,null,null,null,null,null,null,null,null,null,null,null,null,null,null,null,null,null,null,null,null,null,null,null,null,null,null,null,null,null,null,null,null,null,null,null,null,null,null,null,null,null,null,null,null,null,null,null,null,6806,{"$f":" IFERROR(INDIRECT(\"'SP500 Data'!B\"&MATCH(BB4893, 'SP500 Data'!A:A,0))/100,\"\")","v":""},""]
[null,null,null,null,null,null,null,null,null,null,null,null,null,null,null,null,null,null,null,null,null,null,null,null,null,null,null,null,null,null,null,null,null,null,null,null,null,null,null,null,null,null,null,null,null,null,null,null,null,null,null,null,null,6807,{"$f":" IFERROR(INDIRECT(\"'SP500 Data'!B\"&MATCH(BB4894, 'SP500 Data'!A:A,0))/100,\"\")","v":""},""]
[null,null,null,null,null,null,null,null,null,null,null,null,null,null,null,null,null,null,null,null,null,null,null,null,null,null,null,null,null,null,null,null,null,null,null,null,null,null,null,null,null,null,null,null,null,null,null,null,null,null,null,null,null,6808,{"$f":" IFERROR(INDIRECT(\"'SP500 Data'!B\"&MATCH(BB4895, 'SP500 Data'!A:A,0))/100,\"\")","v":""},""]
[null,null,null,null,null,null,null,null,null,null,null,null,null,null,null,null,null,null,null,null,null,null,null,null,null,null,null,null,null,null,null,null,null,null,null,null,null,null,null,null,null,null,null,null,null,null,null,null,null,null,null,null,null,6809,{"$f":" IFERROR(INDIRECT(\"'SP500 Data'!B\"&MATCH(BB4896, 'SP500 Data'!A:A,0))/100,\"\")","v":""},""]
[null,null,null,null,null,null,null,null,null,null,null,null,null,null,null,null,null,null,null,null,null,null,null,null,null,null,null,null,null,null,null,null,null,null,null,null,null,null,null,null,null,null,null,null,null,null,null,null,null,null,null,null,null,6810,{"$f":" IFERROR(INDIRECT(\"'SP500 Data'!B\"&MATCH(BB4897, 'SP500 Data'!A:A,0))/100,\"\")","v":""},""]
[null,null,null,null,null,null,null,null,null,null,null,null,null,null,null,null,null,null,null,null,null,null,null,null,null,null,null,null,null,null,null,null,null,null,null,null,null,null,null,null,null,null,null,null,null,null,null,null,null,null,null,null,null,6811,{"$f":" IFERROR(INDIRECT(\"'SP500 Data'!B\"&MATCH(BB4898, 'SP500 Data'!A:A,0))/100,\"\")","v":""},""]
[null,null,null,null,null,null,null,null,null,null,null,null,null,null,null,null,null,null,null,null,null,null,null,null,null,null,null,null,null,null,null,null,null,null,null,null,null,null,null,null,null,null,null,null,null,null,null,null,null,null,null,null,null,6812,{"$f":" IFERROR(INDIRECT(\"'SP500 Data'!B\"&MATCH(BB4899, 'SP500 Data'!A:A,0))/100,\"\")","v":""},""]
[null,null,null,null,null,null,null,null,null,null,null,null,null,null,null,null,null,null,null,null,null,null,null,null,null,null,null,null,null,null,null,null,null,null,null,null,null,null,null,null,null,null,null,null,null,null,null,null,null,null,null,null,null,6813,{"$f":" IFERROR(INDIRECT(\"'SP500 Data'!B\"&MATCH(BB4900, 'SP500 Data'!A:A,0))/100,\"\")","v":""},""]
[null,null,null,null,null,null,null,null,null,null,null,null,null,null,null,null,null,null,null,null,null,null,null,null,null,null,null,null,null,null,null,null,null,null,null,null,null,null,null,null,null,null,null,null,null,null,null,null,null,null,null,null,null,6814,{"$f":" IFERROR(INDIRECT(\"'SP500 Data'!B\"&MATCH(BB4901, 'SP500 Data'!A:A,0))/100,\"\")","v":""},""]
[null,null,null,null,null,null,null,null,null,null,null,null,null,null,null,null,null,null,null,null,null,null,null,null,null,null,null,null,null,null,null,null,null,null,null,null,null,null,null,null,null,null,null,null,null,null,null,null,null,null,null,null,null,6815,{"$f":" IFERROR(INDIRECT(\"'SP500 Data'!B\"&MATCH(BB4902, 'SP500 Data'!A:A,0))/100,\"\")","v":""},""]
[null,null,null,null,null,null,null,null,null,null,null,null,null,null,null,null,null,null,null,null,null,null,null,null,null,null,null,null,null,null,null,null,null,null,null,null,null,null,null,null,null,null,null,null,null,null,null,null,null,null,null,null,null,6816,{"$f":" IFERROR(INDIRECT(\"'SP500 Data'!B\"&MATCH(BB4903, 'SP500 Data'!A:A,0))/100,\"\")","v":""},""]
[null,null,null,null,null,null,null,null,null,null,null,null,null,null,null,null,null,null,null,null,null,null,null,null,null,null,null,null,null,null,null,null,null,null,null,null,null,null,null,null,null,null,null,null,null,null,null,null,null,null,null,null,null,6817,{"$f":" IFERROR(INDIRECT(\"'SP500 Data'!B\"&MATCH(BB4904, 'SP500 Data'!A:A,0))/100,\"\")","v":""},""]
[null,null,null,null,null,null,null,null,null,null,null,null,null,null,null,null,null,null,null,null,null,null,null,null,null,null,null,null,null,null,null,null,null,null,null,null,null,null,null,null,null,null,null,null,null,null,null,null,null,null,null,null,null,6818,{"$f":" IFERROR(INDIRECT(\"'SP500 Data'!B\"&MATCH(BB4905, 'SP500 Data'!A:A,0))/100,\"\")","v":""},""]
[null,null,null,null,null,null,null,null,null,null,null,null,null,null,null,null,null,null,null,null,null,null,null,null,null,null,null,null,null,null,null,null,null,null,null,null,null,null,null,null,null,null,null,null,null,null,null,null,null,null,null,null,null,6819,{"$f":" IFERROR(INDIRECT(\"'SP500 Data'!B\"&MATCH(BB4906, 'SP500 Data'!A:A,0))/100,\"\")","v":""},""]
[null,null,null,null,null,null,null,null,null,null,null,null,null,null,null,null,null,null,null,null,null,null,null,null,null,null,null,null,null,null,null,null,null,null,null,null,null,null,null,null,null,null,null,null,null,null,null,null,null,null,null,null,null,6820,{"$f":" IFERROR(INDIRECT(\"'SP500 Data'!B\"&MATCH(BB4907, 'SP500 Data'!A:A,0))/100,\"\")","v":""},""]
[null,null,null,null,null,null,null,null,null,null,null,null,null,null,null,null,null,null,null,null,null,null,null,null,null,null,null,null,null,null,null,null,null,null,null,null,null,null,null,null,null,null,null,null,null,null,null,null,null,null,null,null,null,6821,{"$f":" IFERROR(INDIRECT(\"'SP500 Data'!B\"&MATCH(BB4908, 'SP500 Data'!A:A,0))/100,\"\")","v":""},""]
[null,null,null,null,null,null,null,null,null,null,null,null,null,null,null,null,null,null,null,null,null,null,null,null,null,null,null,null,null,null,null,null,null,null,null,null,null,null,null,null,null,null,null,null,null,null,null,null,null,null,null,null,null,6822,{"$f":" IFERROR(INDIRECT(\"'SP500 Data'!B\"&MATCH(BB4909, 'SP500 Data'!A:A,0))/100,\"\")","v":""},""]
[null,null,null,null,null,null,null,null,null,null,null,null,null,null,null,null,null,null,null,null,null,null,null,null,null,null,null,null,null,null,null,null,null,null,null,null,null,null,null,null,null,null,null,null,null,null,null,null,null,null,null,null,null,6823,{"$f":" IFERROR(INDIRECT(\"'SP500 Data'!B\"&MATCH(BB4910, 'SP500 Data'!A:A,0))/100,\"\")","v":""},""]
[null,null,null,null,null,null,null,null,null,null,null,null,null,null,null,null,null,null,null,null,null,null,null,null,null,null,null,null,null,null,null,null,null,null,null,null,null,null,null,null,null,null,null,null,null,null,null,null,null,null,null,null,null,6824,{"$f":" IFERROR(INDIRECT(\"'SP500 Data'!B\"&MATCH(BB4911, 'SP500 Data'!A:A,0))/100,\"\")","v":""},""]
[null,null,null,null,null,null,null,null,null,null,null,null,null,null,null,null,null,null,null,null,null,null,null,null,null,null,null,null,null,null,null,null,null,null,null,null,null,null,null,null,null,null,null,null,null,null,null,null,null,null,null,null,null,6825,{"$f":" IFERROR(INDIRECT(\"'SP500 Data'!B\"&MATCH(BB4912, 'SP500 Data'!A:A,0))/100,\"\")","v":""},""]
[null,null,null,null,null,null,null,null,null,null,null,null,null,null,null,null,null,null,null,null,null,null,null,null,null,null,null,null,null,null,null,null,null,null,null,null,null,null,null,null,null,null,null,null,null,null,null,null,null,null,null,null,null,6826,{"$f":" IFERROR(INDIRECT(\"'SP500 Data'!B\"&MATCH(BB4913, 'SP500 Data'!A:A,0))/100,\"\")","v":""},""]
[null,null,null,null,null,null,null,null,null,null,null,null,null,null,null,null,null,null,null,null,null,null,null,null,null,null,null,null,null,null,null,null,null,null,null,null,null,null,null,null,null,null,null,null,null,null,null,null,null,null,null,null,null,6827,{"$f":" IFERROR(INDIRECT(\"'SP500 Data'!B\"&MATCH(BB4914, 'SP500 Data'!A:A,0))/100,\"\")","v":""},""]
[null,null,null,null,null,null,null,null,null,null,null,null,null,null,null,null,null,null,null,null,null,null,null,null,null,null,null,null,null,null,null,null,null,null,null,null,null,null,null,null,null,null,null,null,null,null,null,null,null,null,null,null,null,6828,{"$f":" IFERROR(INDIRECT(\"'SP500 Data'!B\"&MATCH(BB4915, 'SP500 Data'!A:A,0))/100,\"\")","v":""},""]
[null,null,null,null,null,null,null,null,null,null,null,null,null,null,null,null,null,null,null,null,null,null,null,null,null,null,null,null,null,null,null,null,null,null,null,null,null,null,null,null,null,null,null,null,null,null,null,null,null,null,null,null,null,6829,{"$f":" IFERROR(INDIRECT(\"'SP500 Data'!B\"&MATCH(BB4916, 'SP500 Data'!A:A,0))/100,\"\")","v":""},""]
[null,null,null,null,null,null,null,null,null,null,null,null,null,null,null,null,null,null,null,null,null,null,null,null,null,null,null,null,null,null,null,null,null,null,null,null,null,null,null,null,null,null,null,null,null,null,null,null,null,null,null,null,null,6830,{"$f":" IFERROR(INDIRECT(\"'SP500 Data'!B\"&MATCH(BB4917, 'SP500 Data'!A:A,0))/100,\"\")","v":""},""]
[null,null,null,null,null,null,null,null,null,null,null,null,null,null,null,null,null,null,null,null,null,null,null,null,null,null,null,null,null,null,null,null,null,null,null,null,null,null,null,null,null,null,null,null,null,null,null,null,null,null,null,null,null,6831,{"$f":" IFERROR(INDIRECT(\"'SP500 Data'!B\"&MATCH(BB4918, 'SP500 Data'!A:A,0))/100,\"\")","v":""},""]
[null,null,null,null,null,null,null,null,null,null,null,null,null,null,null,null,null,null,null,null,null,null,null,null,null,null,null,null,null,null,null,null,null,null,null,null,null,null,null,null,null,null,null,null,null,null,null,null,null,null,null,null,null,6832,{"$f":" IFERROR(INDIRECT(\"'SP500 Data'!B\"&MATCH(BB4919, 'SP500 Data'!A:A,0))/100,\"\")","v":""},""]
[null,null,null,null,null,null,null,null,null,null,null,null,null,null,null,null,null,null,null,null,null,null,null,null,null,null,null,null,null,null,null,null,null,null,null,null,null,null,null,null,null,null,null,null,null,null,null,null,null,null,null,null,null,6833,{"$f":" IFERROR(INDIRECT(\"'SP500 Data'!B\"&MATCH(BB4920, 'SP500 Data'!A:A,0))/100,\"\")","v":""},""]
[null,null,null,null,null,null,null,null,null,null,null,null,null,null,null,null,null,null,null,null,null,null,null,null,null,null,null,null,null,null,null,null,null,null,null,null,null,null,null,null,null,null,null,null,null,null,null,null,null,null,null,null,null,6834,{"$f":" IFERROR(INDIRECT(\"'SP500 Data'!B\"&MATCH(BB4921, 'SP500 Data'!A:A,0))/100,\"\")","v":""},""]
[null,null,null,null,null,null,null,null,null,null,null,null,null,null,null,null,null,null,null,null,null,null,null,null,null,null,null,null,null,null,null,null,null,null,null,null,null,null,null,null,null,null,null,null,null,null,null,null,null,null,null,null,null,6835,{"$f":" IFERROR(INDIRECT(\"'SP500 Data'!B\"&MATCH(BB4922, 'SP500 Data'!A:A,0))/100,\"\")","v":""},""]
[null,null,null,null,null,null,null,null,null,null,null,null,null,null,null,null,null,null,null,null,null,null,null,null,null,null,null,null,null,null,null,null,null,null,null,null,null,null,null,null,null,null,null,null,null,null,null,null,null,null,null,null,null,6836,{"$f":" IFERROR(INDIRECT(\"'SP500 Data'!B\"&MATCH(BB4923, 'SP500 Data'!A:A,0))/100,\"\")","v":""},""]
[null,null,null,null,null,null,null,null,null,null,null,null,null,null,null,null,null,null,null,null,null,null,null,null,null,null,null,null,null,null,null,null,null,null,null,null,null,null,null,null,null,null,null,null,null,null,null,null,null,null,null,null,null,6837,{"$f":" IFERROR(INDIRECT(\"'SP500 Data'!B\"&MATCH(BB4924, 'SP500 Data'!A:A,0))/100,\"\")","v":""},""]
[null,null,null,null,null,null,null,null,null,null,null,null,null,null,null,null,null,null,null,null,null,null,null,null,null,null,null,null,null,null,null,null,null,null,null,null,null,null,null,null,null,null,null,null,null,null,null,null,null,null,null,null,null,6838,{"$f":" IFERROR(INDIRECT(\"'SP500 Data'!B\"&MATCH(BB4925, 'SP500 Data'!A:A,0))/100,\"\")","v":""},""]
[null,null,null,null,null,null,null,null,null,null,null,null,null,null,null,null,null,null,null,null,null,null,null,null,null,null,null,null,null,null,null,null,null,null,null,null,null,null,null,null,null,null,null,null,null,null,null,null,null,null,null,null,null,6839,{"$f":" IFERROR(INDIRECT(\"'SP500 Data'!B\"&MATCH(BB4926, 'SP500 Data'!A:A,0))/100,\"\")","v":""},""]
[null,null,null,null,null,null,null,null,null,null,null,null,null,null,null,null,null,null,null,null,null,null,null,null,null,null,null,null,null,null,null,null,null,null,null,null,null,null,null,null,null,null,null,null,null,null,null,null,null,null,null,null,null,6840,{"$f":" IFERROR(INDIRECT(\"'SP500 Data'!B\"&MATCH(BB4927, 'SP500 Data'!A:A,0))/100,\"\")","v":""},""]
[null,null,null,null,null,null,null,null,null,null,null,null,null,null,null,null,null,null,null,null,null,null,null,null,null,null,null,null,null,null,null,null,null,null,null,null,null,null,null,null,null,null,null,null,null,null,null,null,null,null,null,null,null,6841,{"$f":" IFERROR(INDIRECT(\"'SP500 Data'!B\"&MATCH(BB4928, 'SP500 Data'!A:A,0))/100,\"\")","v":""},""]
[null,null,null,null,null,null,null,null,null,null,null,null,null,null,null,null,null,null,null,null,null,null,null,null,null,null,null,null,null,null,null,null,null,null,null,null,null,null,null,null,null,null,null,null,null,null,null,null,null,null,null,null,null,6842,{"$f":" IFERROR(INDIRECT(\"'SP500 Data'!B\"&MATCH(BB4929, 'SP500 Data'!A:A,0))/100,\"\")","v":""},""]
[null,null,null,null,null,null,null,null,null,null,null,null,null,null,null,null,null,null,null,null,null,null,null,null,null,null,null,null,null,null,null,null,null,null,null,null,null,null,null,null,null,null,null,null,null,null,null,null,null,null,null,null,null,6843,{"$f":" IFERROR(INDIRECT(\"'SP500 Data'!B\"&MATCH(BB4930, 'SP500 Data'!A:A,0))/100,\"\")","v":""},""]
[null,null,null,null,null,null,null,null,null,null,null,null,null,null,null,null,null,null,null,null,null,null,null,null,null,null,null,null,null,null,null,null,null,null,null,null,null,null,null,null,null,null,null,null,null,null,null,null,null,null,null,null,null,6844,{"$f":" IFERROR(INDIRECT(\"'SP500 Data'!B\"&MATCH(BB4931, 'SP500 Data'!A:A,0))/100,\"\")","v":""},""]
[null,null,null,null,null,null,null,null,null,null,null,null,null,null,null,null,null,null,null,null,null,null,null,null,null,null,null,null,null,null,null,null,null,null,null,null,null,null,null,null,null,null,null,null,null,null,null,null,null,null,null,null,null,6845,{"$f":" IFERROR(INDIRECT(\"'SP500 Data'!B\"&MATCH(BB4932, 'SP500 Data'!A:A,0))/100,\"\")","v":""},""]
[null,null,null,null,null,null,null,null,null,null,null,null,null,null,null,null,null,null,null,null,null,null,null,null,null,null,null,null,null,null,null,null,null,null,null,null,null,null,null,null,null,null,null,null,null,null,null,null,null,null,null,null,null,6846,{"$f":" IFERROR(INDIRECT(\"'SP500 Data'!B\"&MATCH(BB4933, 'SP500 Data'!A:A,0))/100,\"\")","v":""},""]
[null,null,null,null,null,null,null,null,null,null,null,null,null,null,null,null,null,null,null,null,null,null,null,null,null,null,null,null,null,null,null,null,null,null,null,null,null,null,null,null,null,null,null,null,null,null,null,null,null,null,null,null,null,6847,{"$f":" IFERROR(INDIRECT(\"'SP500 Data'!B\"&MATCH(BB4934, 'SP500 Data'!A:A,0))/100,\"\")","v":""},""]
[null,null,null,null,null,null,null,null,null,null,null,null,null,null,null,null,null,null,null,null,null,null,null,null,null,null,null,null,null,null,null,null,null,null,null,null,null,null,null,null,null,null,null,null,null,null,null,null,null,null,null,null,null,6848,{"$f":" IFERROR(INDIRECT(\"'SP500 Data'!B\"&MATCH(BB4935, 'SP500 Data'!A:A,0))/100,\"\")","v":""},""]
[null,null,null,null,null,null,null,null,null,null,null,null,null,null,null,null,null,null,null,null,null,null,null,null,null,null,null,null,null,null,null,null,null,null,null,null,null,null,null,null,null,null,null,null,null,null,null,null,null,null,null,null,null,6849,{"$f":" IFERROR(INDIRECT(\"'SP500 Data'!B\"&MATCH(BB4936, 'SP500 Data'!A:A,0))/100,\"\")","v":""},""]
[null,null,null,null,null,null,null,null,null,null,null,null,null,null,null,null,null,null,null,null,null,null,null,null,null,null,null,null,null,null,null,null,null,null,null,null,null,null,null,null,null,null,null,null,null,null,null,null,null,null,null,null,null,6850,{"$f":" IFERROR(INDIRECT(\"'SP500 Data'!B\"&MATCH(BB4937, 'SP500 Data'!A:A,0))/100,\"\")","v":""},""]
[null,null,null,null,null,null,null,null,null,null,null,null,null,null,null,null,null,null,null,null,null,null,null,null,null,null,null,null,null,null,null,null,null,null,null,null,null,null,null,null,null,null,null,null,null,null,null,null,null,null,null,null,null,6851,{"$f":" IFERROR(INDIRECT(\"'SP500 Data'!B\"&MATCH(BB4938, 'SP500 Data'!A:A,0))/100,\"\")","v":""},""]
[null,null,null,null,null,null,null,null,null,null,null,null,null,null,null,null,null,null,null,null,null,null,null,null,null,null,null,null,null,null,null,null,null,null,null,null,null,null,null,null,null,null,null,null,null,null,null,null,null,null,null,null,null,6852,{"$f":" IFERROR(INDIRECT(\"'SP500 Data'!B\"&MATCH(BB4939, 'SP500 Data'!A:A,0))/100,\"\")","v":""},""]
[null,null,null,null,null,null,null,null,null,null,null,null,null,null,null,null,null,null,null,null,null,null,null,null,null,null,null,null,null,null,null,null,null,null,null,null,null,null,null,null,null,null,null,null,null,null,null,null,null,null,null,null,null,6853,{"$f":" IFERROR(INDIRECT(\"'SP500 Data'!B\"&MATCH(BB4940, 'SP500 Data'!A:A,0))/100,\"\")","v":""},""]
[null,null,null,null,null,null,null,null,null,null,null,null,null,null,null,null,null,null,null,null,null,null,null,null,null,null,null,null,null,null,null,null,null,null,null,null,null,null,null,null,null,null,null,null,null,null,null,null,null,null,null,null,null,6854,{"$f":" IFERROR(INDIRECT(\"'SP500 Data'!B\"&MATCH(BB4941, 'SP500 Data'!A:A,0))/100,\"\")","v":""},""]
[null,null,null,null,null,null,null,null,null,null,null,null,null,null,null,null,null,null,null,null,null,null,null,null,null,null,null,null,null,null,null,null,null,null,null,null,null,null,null,null,null,null,null,null,null,null,null,null,null,null,null,null,null,6855,{"$f":" IFERROR(INDIRECT(\"'SP500 Data'!B\"&MATCH(BB4942, 'SP500 Data'!A:A,0))/100,\"\")","v":""},{"$f":" IFERROR(1 +BC4942, \"\")","v":""}]
[null,null,null,null,null,null,null,null,null,null,null,null,null,null,null,null,null,null,null,null,null,null,null,null,null,null,null,null,null,null,null,null,null,null,null,null,null,null,null,null,null,null,null,null,null,null,null,null,null,null,null,null,null,6856,{"$f":" IFERROR(INDIRECT(\"'SP500 Data'!B\"&MATCH(BB4943, 'SP500 Data'!A:A,0))/100,\"\")","v":""},""]
[null,null,null,null,null,null,null,null,null,null,null,null,null,null,null,null,null,null,null,null,null,null,null,null,null,null,null,null,null,null,null,null,null,null,null,null,null,null,null,null,null,null,null,null,null,null,null,null,null,null,null,null,null,6857,{"$f":" IFERROR(INDIRECT(\"'SP500 Data'!B\"&MATCH(BB4944, 'SP500 Data'!A:A,0))/100,\"\")","v":""},""]
[null,null,null,null,null,null,null,null,null,null,null,null,null,null,null,null,null,null,null,null,null,null,null,null,null,null,null,null,null,null,null,null,null,null,null,null,null,null,null,null,null,null,null,null,null,null,null,null,null,null,null,null,null,6858,{"$f":" IFERROR(INDIRECT(\"'SP500 Data'!B\"&MATCH(BB4945, 'SP500 Data'!A:A,0))/100,\"\")","v":""},""]
[null,null,null,null,null,null,null,null,null,null,null,null,null,null,null,null,null,null,null,null,null,null,null,null,null,null,null,null,null,null,null,null,null,null,null,null,null,null,null,null,null,null,null,null,null,null,null,null,null,null,null,null,null,6859,{"$f":" IFERROR(INDIRECT(\"'SP500 Data'!B\"&MATCH(BB4946, 'SP500 Data'!A:A,0))/100,\"\")","v":""},""]
[null,null,null,null,null,null,null,null,null,null,null,null,null,null,null,null,null,null,null,null,null,null,null,null,null,null,null,null,null,null,null,null,null,null,null,null,null,null,null,null,null,null,null,null,null,null,null,null,null,null,null,null,null,6860,{"$f":" IFERROR(INDIRECT(\"'SP500 Data'!B\"&MATCH(BB4947, 'SP500 Data'!A:A,0))/100,\"\")","v":""},""]
[null,null,null,null,null,null,null,null,null,null,null,null,null,null,null,null,null,null,null,null,null,null,null,null,null,null,null,null,null,null,null,null,null,null,null,null,null,null,null,null,null,null,null,null,null,null,null,null,null,null,null,null,null,6861,{"$f":" IFERROR(INDIRECT(\"'SP500 Data'!B\"&MATCH(BB4948, 'SP500 Data'!A:A,0))/100,\"\")","v":""},""]
[null,null,null,null,null,null,null,null,null,null,null,null,null,null,null,null,null,null,null,null,null,null,null,null,null,null,null,null,null,null,null,null,null,null,null,null,null,null,null,null,null,null,null,null,null,null,null,null,null,null,null,null,null,6862,{"$f":" IFERROR(INDIRECT(\"'SP500 Data'!B\"&MATCH(BB4949, 'SP500 Data'!A:A,0))/100,\"\")","v":""},""]
[null,null,null,null,null,null,null,null,null,null,null,null,null,null,null,null,null,null,null,null,null,null,null,null,null,null,null,null,null,null,null,null,null,null,null,null,null,null,null,null,null,null,null,null,null,null,null,null,null,null,null,null,null,6863,{"$f":" IFERROR(INDIRECT(\"'SP500 Data'!B\"&MATCH(BB4950, 'SP500 Data'!A:A,0))/100,\"\")","v":""},""]
[null,null,null,null,null,null,null,null,null,null,null,null,null,null,null,null,null,null,null,null,null,null,null,null,null,null,null,null,null,null,null,null,null,null,null,null,null,null,null,null,null,null,null,null,null,null,null,null,null,null,null,null,null,6864,{"$f":" IFERROR(INDIRECT(\"'SP500 Data'!B\"&MATCH(BB4951, 'SP500 Data'!A:A,0))/100,\"\")","v":""},""]
[null,null,null,null,null,null,null,null,null,null,null,null,null,null,null,null,null,null,null,null,null,null,null,null,null,null,null,null,null,null,null,null,null,null,null,null,null,null,null,null,null,null,null,null,null,null,null,null,null,null,null,null,null,6865,{"$f":" IFERROR(INDIRECT(\"'SP500 Data'!B\"&MATCH(BB4952, 'SP500 Data'!A:A,0))/100,\"\")","v":""},""]
[null,null,null,null,null,null,null,null,null,null,null,null,null,null,null,null,null,null,null,null,null,null,null,null,null,null,null,null,null,null,null,null,null,null,null,null,null,null,null,null,null,null,null,null,null,null,null,null,null,null,null,null,null,6866,{"$f":" IFERROR(INDIRECT(\"'SP500 Data'!B\"&MATCH(BB4953, 'SP500 Data'!A:A,0))/100,\"\")","v":""},""]
[null,null,null,null,null,null,null,null,null,null,null,null,null,null,null,null,null,null,null,null,null,null,null,null,null,null,null,null,null,null,null,null,null,null,null,null,null,null,null,null,null,null,null,null,null,null,null,null,null,null,null,null,null,6867,{"$f":" IFERROR(INDIRECT(\"'SP500 Data'!B\"&MATCH(BB4954, 'SP500 Data'!A:A,0))/100,\"\")","v":""},""]
[null,null,null,null,null,null,null,null,null,null,null,null,null,null,null,null,null,null,null,null,null,null,null,null,null,null,null,null,null,null,null,null,null,null,null,null,null,null,null,null,null,null,null,null,null,null,null,null,null,null,null,null,null,6868,{"$f":" IFERROR(INDIRECT(\"'SP500 Data'!B\"&MATCH(BB4955, 'SP500 Data'!A:A,0))/100,\"\")","v":""},""]
[null,null,null,null,null,null,null,null,null,null,null,null,null,null,null,null,null,null,null,null,null,null,null,null,null,null,null,null,null,null,null,null,null,null,null,null,null,null,null,null,null,null,null,null,null,null,null,null,null,null,null,null,null,6869,{"$f":" IFERROR(INDIRECT(\"'SP500 Data'!B\"&MATCH(BB4956, 'SP500 Data'!A:A,0))/100,\"\")","v":""},""]
[null,null,null,null,null,null,null,null,null,null,null,null,null,null,null,null,null,null,null,null,null,null,null,null,null,null,null,null,null,null,null,null,null,null,null,null,null,null,null,null,null,null,null,null,null,null,null,null,null,null,null,null,null,6870,{"$f":" IFERROR(INDIRECT(\"'SP500 Data'!B\"&MATCH(BB4957, 'SP500 Data'!A:A,0))/100,\"\")","v":""},""]
[null,null,null,null,null,null,null,null,null,null,null,null,null,null,null,null,null,null,null,null,null,null,null,null,null,null,null,null,null,null,null,null,null,null,null,null,null,null,null,null,null,null,null,null,null,null,null,null,null,null,null,null,null,6871,{"$f":" IFERROR(INDIRECT(\"'SP500 Data'!B\"&MATCH(BB4958, 'SP500 Data'!A:A,0))/100,\"\")","v":""},""]
[null,null,null,null,null,null,null,null,null,null,null,null,null,null,null,null,null,null,null,null,null,null,null,null,null,null,null,null,null,null,null,null,null,null,null,null,null,null,null,null,null,null,null,null,null,null,null,null,null,null,null,null,null,6872,{"$f":" IFERROR(INDIRECT(\"'SP500 Data'!B\"&MATCH(BB4959, 'SP500 Data'!A:A,0))/100,\"\")","v":""},""]
[null,null,null,null,null,null,null,null,null,null,null,null,null,null,null,null,null,null,null,null,null,null,null,null,null,null,null,null,null,null,null,null,null,null,null,null,null,null,null,null,null,null,null,null,null,null,null,null,null,null,null,null,null,6873,{"$f":" IFERROR(INDIRECT(\"'SP500 Data'!B\"&MATCH(BB4960, 'SP500 Data'!A:A,0))/100,\"\")","v":""},""]
[null,null,null,null,null,null,null,null,null,null,null,null,null,null,null,null,null,null,null,null,null,null,null,null,null,null,null,null,null,null,null,null,null,null,null,null,null,null,null,null,null,null,null,null,null,null,null,null,null,null,null,null,null,6874,{"$f":" IFERROR(INDIRECT(\"'SP500 Data'!B\"&MATCH(BB4961, 'SP500 Data'!A:A,0))/100,\"\")","v":""},""]
[null,null,null,null,null,null,null,null,null,null,null,null,null,null,null,null,null,null,null,null,null,null,null,null,null,null,null,null,null,null,null,null,null,null,null,null,null,null,null,null,null,null,null,null,null,null,null,null,null,null,null,null,null,6875,{"$f":" IFERROR(INDIRECT(\"'SP500 Data'!B\"&MATCH(BB4962, 'SP500 Data'!A:A,0))/100,\"\")","v":""},""]
[null,null,null,null,null,null,null,null,null,null,null,null,null,null,null,null,null,null,null,null,null,null,null,null,null,null,null,null,null,null,null,null,null,null,null,null,null,null,null,null,null,null,null,null,null,null,null,null,null,null,null,null,null,6876,{"$f":" IFERROR(INDIRECT(\"'SP500 Data'!B\"&MATCH(BB4963, 'SP500 Data'!A:A,0))/100,\"\")","v":""},""]
[null,null,null,null,null,null,null,null,null,null,null,null,null,null,null,null,null,null,null,null,null,null,null,null,null,null,null,null,null,null,null,null,null,null,null,null,null,null,null,null,null,null,null,null,null,null,null,null,null,null,null,null,null,6877,{"$f":" IFERROR(INDIRECT(\"'SP500 Data'!B\"&MATCH(BB4964, 'SP500 Data'!A:A,0))/100,\"\")","v":""},""]
[null,null,null,null,null,null,null,null,null,null,null,null,null,null,null,null,null,null,null,null,null,null,null,null,null,null,null,null,null,null,null,null,null,null,null,null,null,null,null,null,null,null,null,null,null,null,null,null,null,null,null,null,null,6878,{"$f":" IFERROR(INDIRECT(\"'SP500 Data'!B\"&MATCH(BB4965, 'SP500 Data'!A:A,0))/100,\"\")","v":""},""]
[null,null,null,null,null,null,null,null,null,null,null,null,null,null,null,null,null,null,null,null,null,null,null,null,null,null,null,null,null,null,null,null,null,null,null,null,null,null,null,null,null,null,null,null,null,null,null,null,null,null,null,null,null,6879,{"$f":" IFERROR(INDIRECT(\"'SP500 Data'!B\"&MATCH(BB4966, 'SP500 Data'!A:A,0))/100,\"\")","v":""},""]
[null,null,null,null,null,null,null,null,null,null,null,null,null,null,null,null,null,null,null,null,null,null,null,null,null,null,null,null,null,null,null,null,null,null,null,null,null,null,null,null,null,null,null,null,null,null,null,null,null,null,null,null,null,6880,{"$f":" IFERROR(INDIRECT(\"'SP500 Data'!B\"&MATCH(BB4967, 'SP500 Data'!A:A,0))/100,\"\")","v":""},""]
[null,null,null,null,null,null,null,null,null,null,null,null,null,null,null,null,null,null,null,null,null,null,null,null,null,null,null,null,null,null,null,null,null,null,null,null,null,null,null,null,null,null,null,null,null,null,null,null,null,null,null,null,null,6881,{"$f":" IFERROR(INDIRECT(\"'SP500 Data'!B\"&MATCH(BB4968, 'SP500 Data'!A:A,0))/100,\"\")","v":""},""]
[null,null,null,null,null,null,null,null,null,null,null,null,null,null,null,null,null,null,null,null,null,null,null,null,null,null,null,null,null,null,null,null,null,null,null,null,null,null,null,null,null,null,null,null,null,null,null,null,null,null,null,null,null,6882,{"$f":" IFERROR(INDIRECT(\"'SP500 Data'!B\"&MATCH(BB4969, 'SP500 Data'!A:A,0))/100,\"\")","v":""},""]
[null,null,null,null,null,null,null,null,null,null,null,null,null,null,null,null,null,null,null,null,null,null,null,null,null,null,null,null,null,null,null,null,null,null,null,null,null,null,null,null,null,null,null,null,null,null,null,null,null,null,null,null,null,6883,{"$f":" IFERROR(INDIRECT(\"'SP500 Data'!B\"&MATCH(BB4970, 'SP500 Data'!A:A,0))/100,\"\")","v":""},""]
[null,null,null,null,null,null,null,null,null,null,null,null,null,null,null,null,null,null,null,null,null,null,null,null,null,null,null,null,null,null,null,null,null,null,null,null,null,null,null,null,null,null,null,null,null,null,null,null,null,null,null,null,null,6884,{"$f":" IFERROR(INDIRECT(\"'SP500 Data'!B\"&MATCH(BB4971, 'SP500 Data'!A:A,0))/100,\"\")","v":""},""]
[null,null,null,null,null,null,null,null,null,null,null,null,null,null,null,null,null,null,null,null,null,null,null,null,null,null,null,null,null,null,null,null,null,null,null,null,null,null,null,null,null,null,null,null,null,null,null,null,null,null,null,null,null,6885,{"$f":" IFERROR(INDIRECT(\"'SP500 Data'!B\"&MATCH(BB4972, 'SP500 Data'!A:A,0))/100,\"\")","v":""},""]
[null,null,null,null,null,null,null,null,null,null,null,null,null,null,null,null,null,null,null,null,null,null,null,null,null,null,null,null,null,null,null,null,null,null,null,null,null,null,null,null,null,null,null,null,null,null,null,null,null,null,null,null,null,6886,{"$f":" IFERROR(INDIRECT(\"'SP500 Data'!B\"&MATCH(BB4973, 'SP500 Data'!A:A,0))/100,\"\")","v":""},""]
[null,null,null,null,null,null,null,null,null,null,null,null,null,null,null,null,null,null,null,null,null,null,null,null,null,null,null,null,null,null,null,null,null,null,null,null,null,null,null,null,null,null,null,null,null,null,null,null,null,null,null,null,null,6887,{"$f":" IFERROR(INDIRECT(\"'SP500 Data'!B\"&MATCH(BB4974, 'SP500 Data'!A:A,0))/100,\"\")","v":""},""]
[null,null,null,null,null,null,null,null,null,null,null,null,null,null,null,null,null,null,null,null,null,null,null,null,null,null,null,null,null,null,null,null,null,null,null,null,null,null,null,null,null,null,null,null,null,null,null,null,null,null,null,null,null,6888,{"$f":" IFERROR(INDIRECT(\"'SP500 Data'!B\"&MATCH(BB4975, 'SP500 Data'!A:A,0))/100,\"\")","v":""},""]
[null,null,null,null,null,null,null,null,null,null,null,null,null,null,null,null,null,null,null,null,null,null,null,null,null,null,null,null,null,null,null,null,null,null,null,null,null,null,null,null,null,null,null,null,null,null,null,null,null,null,null,null,null,6889,{"$f":" IFERROR(INDIRECT(\"'SP500 Data'!B\"&MATCH(BB4976, 'SP500 Data'!A:A,0))/100,\"\")","v":""},""]
[null,null,null,null,null,null,null,null,null,null,null,null,null,null,null,null,null,null,null,null,null,null,null,null,null,null,null,null,null,null,null,null,null,null,null,null,null,null,null,null,null,null,null,null,null,null,null,null,null,null,null,null,null,6890,{"$f":" IFERROR(INDIRECT(\"'SP500 Data'!B\"&MATCH(BB4977, 'SP500 Data'!A:A,0))/100,\"\")","v":""},""]
[null,null,null,null,null,null,null,null,null,null,null,null,null,null,null,null,null,null,null,null,null,null,null,null,null,null,null,null,null,null,null,null,null,null,null,null,null,null,null,null,null,null,null,null,null,null,null,null,null,null,null,null,null,6891,{"$f":" IFERROR(INDIRECT(\"'SP500 Data'!B\"&MATCH(BB4978, 'SP500 Data'!A:A,0))/100,\"\")","v":""},""]
[null,null,null,null,null,null,null,null,null,null,null,null,null,null,null,null,null,null,null,null,null,null,null,null,null,null,null,null,null,null,null,null,null,null,null,null,null,null,null,null,null,null,null,null,null,null,null,null,null,null,null,null,null,6892,{"$f":" IFERROR(INDIRECT(\"'SP500 Data'!B\"&MATCH(BB4979, 'SP500 Data'!A:A,0))/100,\"\")","v":""},""]
[null,null,null,null,null,null,null,null,null,null,null,null,null,null,null,null,null,null,null,null,null,null,null,null,null,null,null,null,null,null,null,null,null,null,null,null,null,null,null,null,null,null,null,null,null,null,null,null,null,null,null,null,null,6893,{"$f":" IFERROR(INDIRECT(\"'SP500 Data'!B\"&MATCH(BB4980, 'SP500 Data'!A:A,0))/100,\"\")","v":""},""]
[null,null,null,null,null,null,null,null,null,null,null,null,null,null,null,null,null,null,null,null,null,null,null,null,null,null,null,null,null,null,null,null,null,null,null,null,null,null,null,null,null,null,null,null,null,null,null,null,null,null,null,null,null,6894,{"$f":" IFERROR(INDIRECT(\"'SP500 Data'!B\"&MATCH(BB4981, 'SP500 Data'!A:A,0))/100,\"\")","v":""},""]
[null,null,null,null,null,null,null,null,null,null,null,null,null,null,null,null,null,null,null,null,null,null,null,null,null,null,null,null,null,null,null,null,null,null,null,null,null,null,null,null,null,null,null,null,null,null,null,null,null,null,null,null,null,6895,{"$f":" IFERROR(INDIRECT(\"'SP500 Data'!B\"&MATCH(BB4982, 'SP500 Data'!A:A,0))/100,\"\")","v":""},""]
[null,null,null,null,null,null,null,null,null,null,null,null,null,null,null,null,null,null,null,null,null,null,null,null,null,null,null,null,null,null,null,null,null,null,null,null,null,null,null,null,null,null,null,null,null,null,null,null,null,null,null,null,null,6896,{"$f":" IFERROR(INDIRECT(\"'SP500 Data'!B\"&MATCH(BB4983, 'SP500 Data'!A:A,0))/100,\"\")","v":""},""]
[null,null,null,null,null,null,null,null,null,null,null,null,null,null,null,null,null,null,null,null,null,null,null,null,null,null,null,null,null,null,null,null,null,null,null,null,null,null,null,null,null,null,null,null,null,null,null,null,null,null,null,null,null,6897,{"$f":" IFERROR(INDIRECT(\"'SP500 Data'!B\"&MATCH(BB4984, 'SP500 Data'!A:A,0))/100,\"\")","v":""},""]
[null,null,null,null,null,null,null,null,null,null,null,null,null,null,null,null,null,null,null,null,null,null,null,null,null,null,null,null,null,null,null,null,null,null,null,null,null,null,null,null,null,null,null,null,null,null,null,null,null,null,null,null,null,6898,{"$f":" IFERROR(INDIRECT(\"'SP500 Data'!B\"&MATCH(BB4985, 'SP500 Data'!A:A,0))/100,\"\")","v":""},""]
[null,null,null,null,null,null,null,null,null,null,null,null,null,null,null,null,null,null,null,null,null,null,null,null,null,null,null,null,null,null,null,null,null,null,null,null,null,null,null,null,null,null,null,null,null,null,null,null,null,null,null,null,null,6899,{"$f":" IFERROR(INDIRECT(\"'SP500 Data'!B\"&MATCH(BB4986, 'SP500 Data'!A:A,0))/100,\"\")","v":""},""]
[null,null,null,null,null,null,null,null,null,null,null,null,null,null,null,null,null,null,null,null,null,null,null,null,null,null,null,null,null,null,null,null,null,null,null,null,null,null,null,null,null,null,null,null,null,null,null,null,null,null,null,null,null,6900,{"$f":" IFERROR(INDIRECT(\"'SP500 Data'!B\"&MATCH(BB4987, 'SP500 Data'!A:A,0))/100,\"\")","v":""},""]
[null,null,null,null,null,null,null,null,null,null,null,null,null,null,null,null,null,null,null,null,null,null,null,null,null,null,null,null,null,null,null,null,null,null,null,null,null,null,null,null,null,null,null,null,null,null,null,null,null,null,null,null,null,6901,{"$f":" IFERROR(INDIRECT(\"'SP500 Data'!B\"&MATCH(BB4988, 'SP500 Data'!A:A,0))/100,\"\")","v":""},""]
[null,null,null,null,null,null,null,null,null,null,null,null,null,null,null,null,null,null,null,null,null,null,null,null,null,null,null,null,null,null,null,null,null,null,null,null,null,null,null,null,null,null,null,null,null,null,null,null,null,null,null,null,null,6902,{"$f":" IFERROR(INDIRECT(\"'SP500 Data'!B\"&MATCH(BB4989, 'SP500 Data'!A:A,0))/100,\"\")","v":""},""]
[null,null,null,null,null,null,null,null,null,null,null,null,null,null,null,null,null,null,null,null,null,null,null,null,null,null,null,null,null,null,null,null,null,null,null,null,null,null,null,null,null,null,null,null,null,null,null,null,null,null,null,null,null,6903,{"$f":" IFERROR(INDIRECT(\"'SP500 Data'!B\"&MATCH(BB4990, 'SP500 Data'!A:A,0))/100,\"\")","v":""},""]
[null,null,null,null,null,null,null,null,null,null,null,null,null,null,null,null,null,null,null,null,null,null,null,null,null,null,null,null,null,null,null,null,null,null,null,null,null,null,null,null,null,null,null,null,null,null,null,null,null,null,null,null,null,6904,{"$f":" IFERROR(INDIRECT(\"'SP500 Data'!B\"&MATCH(BB4991, 'SP500 Data'!A:A,0))/100,\"\")","v":""},""]
[null,null,null,null,null,null,null,null,null,null,null,null,null,null,null,null,null,null,null,null,null,null,null,null,null,null,null,null,null,null,null,null,null,null,null,null,null,null,null,null,null,null,null,null,null,null,null,null,null,null,null,null,null,6905,{"$f":" IFERROR(INDIRECT(\"'SP500 Data'!B\"&MATCH(BB4992, 'SP500 Data'!A:A,0))/100,\"\")","v":""},""]
[null,null,null,null,null,null,null,null,null,null,null,null,null,null,null,null,null,null,null,null,null,null,null,null,null,null,null,null,null,null,null,null,null,null,null,null,null,null,null,null,null,null,null,null,null,null,null,null,null,null,null,null,null,6906,{"$f":" IFERROR(INDIRECT(\"'SP500 Data'!B\"&MATCH(BB4993, 'SP500 Data'!A:A,0))/100,\"\")","v":""},""]
[null,null,null,null,null,null,null,null,null,null,null,null,null,null,null,null,null,null,null,null,null,null,null,null,null,null,null,null,null,null,null,null,null,null,null,null,null,null,null,null,null,null,null,null,null,null,null,null,null,null,null,null,null,6907,{"$f":" IFERROR(INDIRECT(\"'SP500 Data'!B\"&MATCH(BB4994, 'SP500 Data'!A:A,0))/100,\"\")","v":""},""]
[null,null,null,null,null,null,null,null,null,null,null,null,null,null,null,null,null,null,null,null,null,null,null,null,null,null,null,null,null,null,null,null,null,null,null,null,null,null,null,null,null,null,null,null,null,null,null,null,null,null,null,null,null,6908,{"$f":" IFERROR(INDIRECT(\"'SP500 Data'!B\"&MATCH(BB4995, 'SP500 Data'!A:A,0))/100,\"\")","v":""},""]
[null,null,null,null,null,null,null,null,null,null,null,null,null,null,null,null,null,null,null,null,null,null,null,null,null,null,null,null,null,null,null,null,null,null,null,null,null,null,null,null,null,null,null,null,null,null,null,null,null,null,null,null,null,6909,{"$f":" IFERROR(INDIRECT(\"'SP500 Data'!B\"&MATCH(BB4996, 'SP500 Data'!A:A,0))/100,\"\")","v":""},""]
[null,null,null,null,null,null,null,null,null,null,null,null,null,null,null,null,null,null,null,null,null,null,null,null,null,null,null,null,null,null,null,null,null,null,null,null,null,null,null,null,null,null,null,null,null,null,null,null,null,null,null,null,null,6910,{"$f":" IFERROR(INDIRECT(\"'SP500 Data'!B\"&MATCH(BB4997, 'SP500 Data'!A:A,0))/100,\"\")","v":""},""]
[null,null,null,null,null,null,null,null,null,null,null,null,null,null,null,null,null,null,null,null,null,null,null,null,null,null,null,null,null,null,null,null,null,null,null,null,null,null,null,null,null,null,null,null,null,null,null,null,null,null,null,null,null,6911,{"$f":" IFERROR(INDIRECT(\"'SP500 Data'!B\"&MATCH(BB4998, 'SP500 Data'!A:A,0))/100,\"\")","v":""},""]
[null,null,null,null,null,null,null,null,null,null,null,null,null,null,null,null,null,null,null,null,null,null,null,null,null,null,null,null,null,null,null,null,null,null,null,null,null,null,null,null,null,null,null,null,null,null,null,null,null,null,null,null,null,6912,{"$f":" IFERROR(INDIRECT(\"'SP500 Data'!B\"&MATCH(BB4999, 'SP500 Data'!A:A,0))/100,\"\")","v":""},""]
[null,null,null,null,null,null,null,null,null,null,null,null,null,null,null,null,null,null,null,null,null,null,null,null,null,null,null,null,null,null,null,null,null,null,null,null,null,null,null,null,null,null,null,null,null,null,null,null,null,null,null,null,null,6913,{"$f":" IFERROR(INDIRECT(\"'SP500 Data'!B\"&MATCH(BB5000, 'SP500 Data'!A:A,0))/100,\"\")","v":""},""]

{"sheet":"Settings","index":9,"n_rows":170,"n_cols":33,"rows_kept":170,"cut":false,"hidden":true,"merged":[]}
["Symbols","Strategy","Confidence","Emotions","Today",1,1,0,0,"January",1,1980,null,"Market State","Chart Time-Frame",null,null,1,null,null,null,"ISO Code","Currency Symbol","BBD",{"$f":" INDEX(W:W, MATCH(X1, V:V))","v":"$"},"$",null,"Buy",null,null,null,0,{"$error":"#VALUE!"}]
["AUDCAD","Fundamental","Very High","Anxious","Last Week",null,"RESET ^",1,1,"February",2,{"$f":" L1 + 1","v":1981},null,"Trending Smooth","1-Minute",null,null,1,null,null,null,"AED","د.إ","BBD",null,null,null,"Sell",null,null,null,null,{"$error":"#VALUE!"}]
["AUDCHF","News Play","High","Confused","Last Month",null,null,2,2,"March",3,{"$f":" L2 + 1","v":1982},null,"Trending Volatile","5-Minute",null,null,null,null,null,null,"AFN","؋",null,null,null,null,null,null,null,null,null,{"$error":"#VALUE!"}]
["AUDJPY","Support/Resistance","Medium","Disappointed","Last 3 Months",null,null,3,3,"April",4,1983,null,"Sideways Volatile","15-Minute",null,null,null,null,null,null,"ALL","L",null,null,null,null,null,null,"C:\\Users\\erich\\OneDrive\\Desktop\\TradeFuse",null,null,{"$error":"#VALUE!"}]
["AUDNZD","Breakout","Low","Distracted","Custom Period",null,null,4,4,"May",5,1984,null,"Sideways Dead","30-Minute",null,null,null,null,null,null,"AMD","֏",null,null,null,null,null,null,null,null,null,{"$error":"#VALUE!"}]
["AUDUSD","Retracement","Very Low","Excited",null,null,null,5,5,"June",6,1985,null,null,"1-Hour",null,null,null,null,null,null,"ANG","ƒ",null,null,null,null,null,null,1,null,null,{"$error":"#VALUE!"}]
["CADCHF","Fib Retracement",null,"Frustrated",null,null,null,6,6,"July",7,1986,null,null,"4-Hour",null,null,null,null,null,null,"AOA","Kz",null,null,null,null,null,0,null,null,null,{"$error":"#VALUE!"}]
["CADJPY","MOMO High",null,"Fuming",null,null,null,7,7,"August",8,1987,null,null,"Daily",null,null,null,null,null,null,"ARS","$",null,null,null,null,null,null,null,null,null,{"$error":"#VALUE!"}]
["CHFJPY","MOMO Low",null,"Gloomy",null,null,null,8,8,"September",9,1988,null,null,"Weekly",null,null,null,null,null,null,"Artsakh dram","դր.",null,null,null,null,null,null,null,null,null,{"$error":"#VALUE!"}]
["EURAUD","Scalp",null,"Greedy",null,null,null,9,9,"October",10,1989,null,null,"Monthly",null,null,null,null,null,null,"AUD","$",null,null,null,null,null,"Multiple",null,null,null,{"$error":"#VALUE!"}]
["EURCAD","EMA Cross",null,"Hesitant",null,null,null,10,10,"November",11,1990,null,null,null,null,null,null,null,null,null,"AWG","ƒ",null,null,null,null,null,"Multiple",null,null,null,{"$error":"#VALUE!"}]
["EURCHF","MACD Divergence",null,"Impatient",null,null,null,11,11,"December",12,1991,null,null,null,null,null,null,null,null,null,"AZN","₼",null,null,null,null,null,null,null,null,null,{"$error":"#VALUE!"}]
["EURGBP","VWAP",null,"Neutral",null,null,null,12,12,null,13,1992,null,null,null,null,null,null,null,null,null,"BAM","KM",null,null,null,null,null,null,null,null,null,{"$error":"#VALUE!"}]
["EURJPY","Elliot Wave",null,"Relaxed",null,null,null,13,13,null,14,1993,null,null,null,null,null,null,null,null,null,"BBD","$",null,null,null,null,null,null,8,null,null,{"$error":"#VALUE!"}]
["EURNZD",null,null,"Revengeful",null,null,null,14,14,null,15,1994,null,null,null,null,null,null,null,null,null,"BDT","৳",null,null,null,null,null,null,null,null,null,{"$error":"#VALUE!"}]
["EURUSD",null,null,null,null,null,null,15,15,null,16,1995,null,null,null,null,null,null,null,null,null,"BGN","лв.",null,null,null,null,null,null,null,null,null,{"$error":"#VALUE!"}]
["GBPAUD",null,null,null,null,null,null,16,16,null,17,1996,null,null,null,null,null,null,null,null,null,"BHD",".د.ب",null,null,null,null,null,null,null,null,null,{"$error":"#VALUE!"}]
["GBPCAD",null,null,null,null,null,null,17,17,null,18,1997,null,null,null,null,null,null,null,null,null,"BIF","Fr",null,null,null,null,null,null,0,null,null,{"$error":"#VALUE!"}]
["GBPCHF",null,null,null,null,null,null,18,18,null,19,1998,null,null,null,null,null,null,null,null,null,"BMD","$",null,null,null,null,null,null,1,null,null,{"$error":"#VALUE!"}]
["GBPJPY",null,null,null,null,null,null,19,19,null,20,1999,null,null,null,null,null,null,null,null,null,"BND","$",null,null,null,null,null,null,0,null,null,{"$error":"#VALUE!"}]
["GBPNZD",null,null,null,null,null,null,20,20,null,21,2000,null,null,null,null,null,null,null,null,null,"BOB","Bs.",null,null,null,null,null,null,1,null,null,{"$error":"#VALUE!"}]
["GBPUSD",null,null,null,null,null,null,21,21,null,22,2001,null,null,null,null,null,null,null,null,null,"BRL","R$",null,null,null,null,null,null,1,null,null,{"$error":"#VALUE!"}]
["NZDCAD",null,null,null,null,null,null,22,22,null,23,2002,null,null,null,null,null,null,null,null,null,"BSD","$",null,null,null,null,null,null,1,null,null,{"$error":"#VALUE!"}]
["NZDCHF",null,null,null,null,null,null,23,23,null,24,2003,null,null,null,null,null,null,null,null,null,"BTN","Nu.",null,null,null,null,null,null,1,null,null,{"$error":"#VALUE!"}]
["NZDJPY",null,null,null,null,null,null,24,null,null,25,2004,null,null,null,null,null,null,null,null,null,"BWP","P",null,null,null,null,null,null,1,null,null,{"$error":"#VALUE!"}]
["NZDUSD",null,null,null,null,null,null,25,null,null,26,2005,null,null,null,null,null,null,null,null,null,"BYN","Br",null,null,null,null,null,null,1,null,null,{"$error":"#VALUE!"}]
["USDCAD",null,null,null,null,null,null,26,null,null,27,2006,null,null,null,null,null,null,null,null,null,"BZD","$",null,null,null,null,null,null,1,null,null,{"$error":"#VALUE!"}]
["USDCHF",null,null,null,null,null,null,27,null,null,28,2007,null,null,null,null,null,null,null,null,null,"CAD","$",null,null,null,null,null,null,0,null,null,{"$error":"#VALUE!"}]
["USDJPY",null,null,null,null,null,null,28,null,null,29,2008,null,null,null,null,null,null,null,null,null,"CDF","Fr",null,null,null,null,null,null,0]
["XAUUSD",null,null,null,null,null,null,29,null,null,30,2009,null,null,null,null,null,null,null,null,null,"CHF","Fr.",null,null,null,null,null,null,0]
["XAGUSD",null,null,null,null,null,null,30,null,null,31,2010,null,null,null,null,null,null,null,null,null,"CLP","$",null,null,null,null,null,null,0]
[".WTICrude",null,null,null,null,null,null,31,null,null,null,2011,null,null,null,null,null,null,null,null,null,"CNY","¥",null,null,null,null,null,null,0]
[".BrentCrude",null,null,null,null,null,null,32,null,null,null,2012,null,null,null,null,null,null,null,null,null,"Cook Islands dollar","$",null,null,null,null,null,null,0]
[null,null,null,null,null,null,null,33,null,null,null,2013,null,null,null,null,null,null,null,null,null,"COP","$",null,null,null,null,null,null,0]
[null,null,null,null,null,null,null,34,null,null,null,2014,null,null,null,null,null,null,null,null,null,"CRC","₡",null,null,null,null,null,null,0]
[null,null,null,null,null,null,null,35,null,null,null,2015,null,null,null,null,null,null,null,null,null,"CUC","$",null,null,null,null,null,null,0]
[null,null,null,null,null,null,null,36,null,null,null,2016,null,null,null,null,null,null,null,null,null,"CUP","$"]
[null,null,null,null,null,null,null,37,null,null,null,2017,null,null,null,null,null,null,null,null,null,"CVE","Esc"]
[null,null,null,null,null,null,null,38,null,null,null,2018,null,null,null,null,null,null,null,null,null,"CZK","Kč"]
[null,null,null,null,null,null,null,39,null,null,null,2019,null,null,null,null,null,null,null,null,null,"DJF","Fr"]
[null,null,null,null,null,null,null,40,null,null,null,2020,null,null,null,null,null,null,null,null,null,"DKK","kr"]
[null,null,null,null,null,null,null,41,null,null,null,2021,null,null,null,null,null,null,null,null,null,"DOP","$"]
[null,null,null,null,null,null,null,42,null,null,null,2022,null,null,null,null,null,null,null,null,null,"DZD","د.ج"]
[null,null,null,null,null,null,null,43,null,null,null,2023,null,null,null,null,null,null,null,null,null,"EGP","ج.م"]
[null,null,null,null,null,null,null,44,null,null,null,2024,null,null,null,null,null,null,null,null,null,"ERN","Nfk"]
[null,null,null,null,null,null,null,45,null,null,null,2025,null,null,null,null,null,null,null,null,null,"ETB","Br"]
[null,null,null,null,null,null,null,46,null,null,null,2026,null,null,null,null,null,null,null,null,null,"EUR","€"]
[null,null,null,null,null,null,null,47,null,null,null,2027,null,null,null,null,null,null,null,null,null,"Faroese krόna","kr"]
[null,null,null,null,null,null,null,48,null,null,null,2028,null,null,null,null,null,null,null,null,null,"FJD","$"]
[null,null,null,null,null,null,null,49,null,null,null,2029,null,null,null,null,null,null,null,null,null,"FKP","£"]
[null,null,null,null,null,null,null,50,null,null,null,2030,null,null,null,null,null,null,null,null,null,"GBP","£"]
[null,null,null,null,null,null,null,51,null,null,null,2031,null,null,null,null,null,null,null,null,null,"GEL","₾"]
[null,null,null,null,null,null,null,52,null,null,null,2032,null,null,null,null,null,null,null,null,null,"GGP[G]","£"]
[null,null,null,null,null,null,null,53,null,null,null,2033,null,null,null,null,null,null,null,null,null,"GHS","₵"]
[null,null,null,null,null,null,null,54,null,null,null,2034,null,null,null,null,null,null,null,null,null,"GIP","£"]
[null,null,null,null,null,null,null,55,null,null,null,2035,null,null,null,null,null,null,null,null,null,"GMD","D"]
[null,null,null,null,null,null,null,56,null,null,null,2036,null,null,null,null,null,null,null,null,null,"GNF","Fr"]
[null,null,null,null,null,null,null,57,null,null,null,2037,null,null,null,null,null,null,null,null,null,"GTQ","Q"]
[null,null,null,null,null,null,null,58,null,null,null,2038,null,null,null,null,null,null,null,null,null,"GYD","$"]
[null,null,null,null,null,null,null,59,null,null,null,2039,null,null,null,null,null,null,null,null,null,"HKD","$"]
[null,null,null,null,null,null,null,null,null,null,null,2040,null,null,null,null,null,null,null,null,null,"HNL","L"]
[null,null,null,null,null,null,null,null,null,null,null,2041,null,null,null,null,null,null,null,null,null,"HRK","kn"]
[null,null,null,null,null,null,null,null,null,null,null,2042,null,null,null,null,null,null,null,null,null,"HTG","G"]
[null,null,null,null,null,null,null,null,null,null,null,2043,null,null,null,null,null,null,null,null,null,"HUF","Ft"]
[null,null,null,null,null,null,null,null,null,null,null,2044,null,null,null,null,null,null,null,null,null,"IDR","Rp"]
[null,null,null,null,null,null,null,null,null,null,null,2045,null,null,null,null,null,null,null,null,null,"ILS","₪"]
[null,null,null,null,null,null,null,null,null,null,null,{"$f":" L66 + 1","v":2046},null,null,null,null,null,null,null,null,null,"IMP[G]","£"]
[null,null,null,null,null,null,null,null,null,null,null,2047,null,null,null,null,null,null,null,null,null,"INR","₹"]
[null,null,null,null,null,null,null,null,null,null,null,2048,null,null,null,null,null,null,null,null,null,"IQD","ع.د"]
[null,null,null,null,null,null,null,null,null,null,null,2049,null,null,null,null,null,null,null,null,null,"IRR","﷼"]
[null,null,null,null,null,null,null,null,null,null,null,2050,null,null,null,null,null,null,null,null,null,"ISK","kr"]
[null,null,null,null,null,null,null,null,null,null,null,2051,null,null,null,null,null,null,null,null,null,"JEP[G]","£"]
[null,null,null,null,null,null,null,null,null,null,null,2052,null,null,null,null,null,null,null,null,null,"JMD","$"]
[null,null,null,null,null,null,null,null,null,null,null,2053,null,null,null,null,null,null,null,null,null,"JOD","د.ا"]
[null,null,null,null,null,null,null,null,null,null,null,2054,null,null,null,null,null,null,null,null,null,"JPY","¥"]
[null,null,null,null,null,null,null,null,null,null,null,2055,null,null,null,null,null,null,null,null,null,"KES","Sh"]
[null,null,null,null,null,null,null,null,null,null,null,2056,null,null,null,null,null,null,null,null,null,"KGS","с"]
[null,null,null,null,null,null,null,null,null,null,null,2057,null,null,null,null,null,null,null,null,null,"KHR","៛"]
[null,null,null,null,null,null,null,null,null,null,null,2058,null,null,null,null,null,null,null,null,null,"KID[G]","$"]
[null,null,null,null,null,null,null,null,null,null,null,2059,null,null,null,null,null,null,null,null,null,"KMF","Fr"]
[null,null,null,null,null,null,null,null,null,null,null,2060,null,null,null,null,null,null,null,null,null,"KPW","₩"]
[null,null,null,null,null,null,null,null,null,null,null,2061,null,null,null,null,null,null,null,null,null,"KRW","₩"]
[null,null,null,null,null,null,null,null,null,null,null,2062,null,null,null,null,null,null,null,null,null,"KWD","د.ك"]
[null,null,null,null,null,null,null,null,null,null,null,2063,null,null,null,null,null,null,null,null,null,"KYD","$"]
[null,null,null,null,null,null,null,null,null,null,null,2064,null,null,null,null,null,null,null,null,null,"KZT","₸"]
[null,null,null,null,null,null,null,null,null,null,null,2065,null,null,null,null,null,null,null,null,null,"LAK","₭"]
[null,null,null,null,null,null,null,null,null,null,null,2066,null,null,null,null,null,null,null,null,null,"LBP","ل.ل"]
[null,null,null,null,null,null,null,null,null,null,null,2067,null,null,null,null,null,null,null,null,null,"LKR","ரூ"]
[null,null,null,null,null,null,null,null,null,null,null,2068,null,null,null,null,null,null,null,null,null,"LRD","$"]
[null,null,null,null,null,null,null,null,null,null,null,2069,null,null,null,null,null,null,null,null,null,"LSL","L"]
[null,null,null,null,null,null,null,null,null,null,null,2070,null,null,null,null,null,null,null,null,null,"LYD","ل.د"]
[null,null,null,null,null,null,null,null,null,null,null,2071,null,null,null,null,null,null,null,null,null,"MAD","د.م."]
[null,null,null,null,null,null,null,null,null,null,null,2072,null,null,null,null,null,null,null,null,null,"MDL","L"]
[null,null,null,null,null,null,null,null,null,null,null,2073,null,null,null,null,null,null,null,null,null,"MGA","Ar"]
[null,null,null,null,null,null,null,null,null,null,null,2074,null,null,null,null,null,null,null,null,null,"MKD","ден"]
[null,null,null,null,null,null,null,null,null,null,null,2075,null,null,null,null,null,null,null,null,null,"MMK","Ks"]
[null,null,null,null,null,null,null,null,null,null,null,2076,null,null,null,null,null,null,null,null,null,"MNT","₮"]
[null,null,null,null,null,null,null,null,null,null,null,2077,null,null,null,null,null,null,null,null,null,"MOP","P"]
[null,null,null,null,null,null,null,null,null,null,null,2078,null,null,null,null,null,null,null,null,null,"MRU","UM"]
[null,null,null,null,null,null,null,null,null,null,null,2079,null,null,null,null,null,null,null,null,null,"MUR","₨"]
[null,null,null,null,null,null,null,null,null,null,null,2080,null,null,null,null,null,null,null,null,null,"MVR",".ރ"]
[null,null,null,null,null,null,null,null,null,null,null,null,null,null,null,null,null,null,null,null,null,"MWK","MK"]
[null,null,null,null,null,null,null,null,null,null,null,null,null,null,null,null,null,null,null,null,null,"MXN","$"]
[null,null,null,null,null,null,null,null,null,null,null,null,null,null,null,null,null,null,null,null,null,"MYR","RM"]
[null,null,null,null,null,null,null,null,null,null,null,null,null,null,null,null,null,null,null,null,null,"MZN","MT"]
[null,null,null,null,null,null,null,null,null,null,null,null,null,null,null,null,null,null,null,null,null,"NAD","$"]
[null,null,null,null,null,null,null,null,null,null,null,null,null,null,null,null,null,null,null,null,null,"NGN","₦"]
[null,null,null,null,null,null,null,null,null,null,null,null,null,null,null,null,null,null,null,null,null,"NIO","C$"]
[null,null,null,null,null,null,null,null,null,null,null,null,null,null,null,null,null,null,null,null,null,"Niue Dollar","$"]
[null,null,null,null,null,null,null,null,null,null,null,null,null,null,null,null,null,null,null,null,null,"NOK","kr"]
[null,null,null,null,null,null,null,null,null,null,null,null,null,null,null,null,null,null,null,null,null,"NPR","रू"]
[null,null,null,null,null,null,null,null,null,null,null,null,null,null,null,null,null,null,null,null,null,"NZD","$"]
[null,null,null,null,null,null,null,null,null,null,null,null,null,null,null,null,null,null,null,null,null,"OMR","ر.ع."]
[null,null,null,null,null,null,null,null,null,null,null,null,null,null,null,null,null,null,null,null,null,"PAB","B/."]
[null,null,null,null,null,null,null,null,null,null,null,null,null,null,null,null,null,null,null,null,null,"PEN","S/."]
[null,null,null,null,null,null,null,null,null,null,null,null,null,null,null,null,null,null,null,null,null,"PGK","K"]
[null,null,null,null,null,null,null,null,null,null,null,null,null,null,null,null,null,null,null,null,null,"PHP","₱"]
[null,null,null,null,null,null,null,null,null,null,null,null,null,null,null,null,null,null,null,null,null,"Pitcairn Isands dollar","$"]
[null,null,null,null,null,null,null,null,null,null,null,null,null,null,null,null,null,null,null,null,null,"PKR","₨"]
[null,null,null,null,null,null,null,null,null,null,null,null,null,null,null,null,null,null,null,null,null,"PLN","zł"]
[null,null,null,null,null,null,null,null,null,null,null,null,null,null,null,null,null,null,null,null,null,"PRB[G]","р."]
[null,null,null,null,null,null,null,null,null,null,null,null,null,null,null,null,null,null,null,null,null,"PYG","₲"]
[null,null,null,null,null,null,null,null,null,null,null,null,null,null,null,null,null,null,null,null,null,"QAR","ر.ق"]
[null,null,null,null,null,null,null,null,null,null,null,null,null,null,null,null,null,null,null,null,null,"RON","lei"]
[null,null,null,null,null,null,null,null,null,null,null,null,null,null,null,null,null,null,null,null,null,"RSD","дин."]
[null,null,null,null,null,null,null,null,null,null,null,null,null,null,null,null,null,null,null,null,null,"RUB","₽"]
[null,null,null,null,null,null,null,null,null,null,null,null,null,null,null,null,null,null,null,null,null,"RWF","Fr"]
[null,null,null,null,null,null,null,null,null,null,null,null,null,null,null,null,null,null,null,null,null,"Sahrawi peseta","₧"]
[null,null,null,null,null,null,null,null,null,null,null,null,null,null,null,null,null,null,null,null,null,"SAR","ر.س"]
[null,null,null,null,null,null,null,null,null,null,null,null,null,null,null,null,null,null,null,null,null,"SBD","$"]
[null,null,null,null,null,null,null,null,null,null,null,null,null,null,null,null,null,null,null,null,null,"SCR","₨"]
[null,null,null,null,null,null,null,null,null,null,null,null,null,null,null,null,null,null,null,null,null,"SDG","ج.س."]
[null,null,null,null,null,null,null,null,null,null,null,null,null,null,null,null,null,null,null,null,null,"SEK","kr"]
[null,null,null,null,null,null,null,null,null,null,null,null,null,null,null,null,null,null,null,null,null,"SGD","$"]
[null,null,null,null,null,null,null,null,null,null,null,null,null,null,null,null,null,null,null,null,null,"SHP","£"]
[null,null,null,null,null,null,null,null,null,null,null,null,null,null,null,null,null,null,null,null,null,"SLL","Le"]
[null,null,null,null,null,null,null,null,null,null,null,null,null,null,null,null,null,null,null,null,null,"SLS[G]","Sl"]
[null,null,null,null,null,null,null,null,null,null,null,null,null,null,null,null,null,null,null,null,null,"SOS","Sh"]
[null,null,null,null,null,null,null,null,null,null,null,null,null,null,null,null,null,null,null,null,null,"SRD","$"]
[null,null,null,null,null,null,null,null,null,null,null,null,null,null,null,null,null,null,null,null,null,"SSP","£"]
[null,null,null,null,null,null,null,null,null,null,null,null,null,null,null,null,null,null,null,null,null,"STN","Db"]
[null,null,null,null,null,null,null,null,null,null,null,null,null,null,null,null,null,null,null,null,null,"SYP","ل.س"]
[null,null,null,null,null,null,null,null,null,null,null,null,null,null,null,null,null,null,null,null,null,"SZL","L"]
[null,null,null,null,null,null,null,null,null,null,null,null,null,null,null,null,null,null,null,null,null,"THB","฿"]
[null,null,null,null,null,null,null,null,null,null,null,null,null,null,null,null,null,null,null,null,null,"TJS","ЅМ"]
[null,null,null,null,null,null,null,null,null,null,null,null,null,null,null,null,null,null,null,null,null,"TMT","m"]
[null,null,null,null,null,null,null,null,null,null,null,null,null,null,null,null,null,null,null,null,null,"TND","د.ت"]
[null,null,null,null,null,null,null,null,null,null,null,null,null,null,null,null,null,null,null,null,null,"TOP","T$"]
[null,null,null,null,null,null,null,null,null,null,null,null,null,null,null,null,null,null,null,null,null,"TRY","₺"]
[null,null,null,null,null,null,null,null,null,null,null,null,null,null,null,null,null,null,null,null,null,"TTD","$"]
[null,null,null,null,null,null,null,null,null,null,null,null,null,null,null,null,null,null,null,null,null,"TVD[G]","$"]
[null,null,null,null,null,null,null,null,null,null,null,null,null,null,null,null,null,null,null,null,null,"TWD","$"]
[null,null,null,null,null,null,null,null,null,null,null,null,null,null,null,null,null,null,null,null,null,"TZS","Sh"]
[null,null,null,null,null,null,null,null,null,null,null,null,null,null,null,null,null,null,null,null,null,"UAH","₴"]
[null,null,null,null,null,null,null,null,null,null,null,null,null,null,null,null,null,null,null,null,null,"UGX","Sh"]
[null,null,null,null,null,null,null,null,null,null,null,null,null,null,null,null,null,null,null,null,null,"USD","$"]
[null,null,null,null,null,null,null,null,null,null,null,null,null,null,null,null,null,null,null,null,null,"UYU","$"]
[null,null,null,null,null,null,null,null,null,null,null,null,null,null,null,null,null,null,null,null,null,"UZS","so'm"]
[null,null,null,null,null,null,null,null,null,null,null,null,null,null,null,null,null,null,null,null,null,"VES","Bs.S."]
[null,null,null,null,null,null,null,null,null,null,null,null,null,null,null,null,null,null,null,null,null,"VND","₫"]
[null,null,null,null,null,null,null,null,null,null,null,null,null,null,null,null,null,null,null,null,null,"VUV","Vt"]
[null,null,null,null,null,null,null,null,null,null,null,null,null,null,null,null,null,null,null,null,null,"WST","T"]
[null,null,null,null,null,null,null,null,null,null,null,null,null,null,null,null,null,null,null,null,null,"XAF","Fr"]
[null,null,null,null,null,null,null,null,null,null,null,null,null,null,null,null,null,null,null,null,null,"XCD","$"]
[null,null,null,null,null,null,null,null,null,null,null,null,null,null,null,null,null,null,null,null,null,"XOF","Fr"]
[null,null,null,null,null,null,null,null,null,null,null,null,null,null,null,null,null,null,null,null,null,"XPF","₣"]
[null,null,null,null,null,null,null,null,null,null,null,null,null,null,null,null,null,null,null,null,null,"YER","﷼"]
[null,null,null,null,null,null,null,null,null,null,null,null,null,null,null,null,null,null,null,null,null,"ZAR","R"]
[null,null,null,null,null,null,null,null,null,null,null,null,null,null,null,null,null,null,null,null,null,"ZMW","ZK"]
[null,null,null,null,null,null,null,null,null,null,null,null,null,null,null,null,null,null,null,null,null,"ZWB[G]","$"]

{"sheet":"Buffer","index":10,"n_rows":0,"n_cols":0,"rows_kept":0,"cut":false,"hidden":true,"merged":[]}

{"sheet":"Treasury Bill Data","index":11,"n_rows":214,"n_cols":137,"rows_kept":214,"cut":false,"hidden":true,"merged":[]}
["Date","20 YR","30 YR","Extrapolation Factor","4 WEEKS BANK DISCOUNT","COUPON EQUIVALENT","8 WEEKS BANK DISCOUNT","COUPON EQUIVALENT2","13 WEEKS BANK DISCOUNT","COUPON EQUIVALENT3","17 WEEKS BANK DISCOUNT","COUPON EQUIVALENT4","26 WEEKS BANK DISCOUNT","COUPON EQUIVALENT5","52 WEEKS BANK DISCOUNT","COUPON EQUIVALENT6","1 Mo","2 Mo","3 Mo","4 Mo","20 Yr2","30 Yr3"]
["01/02/2024","N/A","N/A","N/A","5.28","5.39","5.28","5.41","5.22","5.38","5.21","5.39","5.04","5.26","4.57","4.81","N/A","N/A","N/A","N/A","N/A","N/A",null,null,null,null,null,null,null,null,null,null,null,null,null,null,{"$f":" IFERROR(SUBSTITUTE(TEXT(SUBTOTAL(101, ('Trade Log'!CM:CM)),\"#,###0.000 - 1 \"),\"-\",\":\"),\"\")","v":""}]
["01/03/2024","N/A","N/A","N/A","5.27","5.38","5.28","5.41","5.24","5.40","5.21","5.39","5.06","5.28","4.58","4.82","N/A","N/A","N/A","N/A","N/A","N/A"]
["01/04/2024","N/A","N/A","N/A","5.29","5.40","5.28","5.41","5.24","5.40","5.21","5.39","5.06","5.28","4.61","4.85","N/A","N/A","N/A","N/A","N/A","N/A"]
["01/05/2024","N/A","N/A","N/A","5.28","5.39","5.27","5.40","5.24","5.40","5.20","5.38","5.05","5.27","4.61","4.85","N/A","N/A","N/A","N/A","N/A","N/A"]
["01/08/2024","N/A","N/A","N/A","5.28","5.39","5.28","5.41","5.25","5.41","5.19","5.37","5.04","5.26","4.59","4.83","N/A","N/A","N/A","N/A","N/A","N/A",null,null,null,null,null,null,null,null,null,null,null,null,null,null,null,null,null,null,null,null,null,null,null,null,null,null,null,null,null,null,null,null,null,null,null,null,null,null,null,null,null,null,null,null,null,null,null,null,null,null,null,null,null,null,null,null,null,null,null,null,null,null,null,null,null,null,null,null,null,null,null,null,null,null,null,null,null,null,null,null,null,null,null,null,null,null,null,null,null,null,null,null,null,null,null,null,null,null,null,null,null,null,null,null,null,null,null,null,null,null,null,null,null,null,{"$f":" IF(EU6 = \"\", \"\", (DK6)/CF5)","v":""}]
["01/09/2024","N/A","N/A","N/A","5.28","5.39","5.26","5.39","5.24","5.40","5.19","5.37","5.04","5.26","4.60","4.84","N/A","N/A","N/A","N/A","N/A","N/A"]
["01/10/2024","N/A","N/A","N/A","5.27","5.38","5.26","5.39","5.23","5.39","5.19","5.37","5.04","5.26","4.60","4.84","N/A","N/A","N/A","N/A","N/A","N/A"]
["01/11/2024","N/A","N/A","N/A","5.28","5.39","5.27","5.40","5.23","5.39","5.18","5.36","5.03","5.25","4.54","4.77","N/A","N/A","N/A","N/A","N/A","N/A"]
["01/12/2024","N/A","N/A","N/A","5.28","5.39","5.27","5.40","5.22","5.37","5.17","5.35","4.98","5.19","4.45","4.67","N/A","N/A","N/A","N/A","N/A","N/A"]
["01/16/2024","N/A","N/A","N/A","5.29","5.40","5.28","5.41","5.22","5.38","5.18","5.36","4.99","5.20","4.51","4.74","N/A","N/A","N/A","N/A","N/A","N/A"]
["01/17/2024","N/A","N/A","N/A","5.29","5.40","5.27","5.40","5.24","5.40","5.19","5.37","5.01","5.23","4.59","4.83","N/A","N/A","N/A","N/A","N/A","N/A"]
["01/18/2024","N/A","N/A","N/A","5.26","5.37","5.28","5.41","5.22","5.38","5.18","5.36","5.01","5.23","4.60","4.84","N/A","N/A","N/A","N/A","N/A","N/A"]
["01/19/2024","N/A","N/A","N/A","5.28","5.39","5.27","5.40","5.22","5.37","5.19","5.37","5.03","5.24","4.64","4.88","N/A","N/A","N/A","N/A","N/A","N/A"]
["01/22/2024","N/A","N/A","N/A","5.27","5.38","5.27","5.40","5.22","5.38","5.19","5.37","5.02","5.24","4.63","4.87","N/A","N/A","N/A","N/A","N/A","N/A"]
["01/23/2024","N/A","N/A","N/A","5.28","5.39","5.26","5.39","5.21","5.37","5.19","5.37","5.02","5.24","4.57","4.81","N/A","N/A","N/A","N/A","N/A","N/A"]
["01/24/2024","N/A","N/A","N/A","5.27","5.38","5.25","5.38","5.21","5.37","5.19","5.37","5.03","5.25","4.58","4.82","N/A","N/A","N/A","N/A","N/A","N/A"]
["01/25/2024","N/A","N/A","N/A","5.28","5.39","5.28","5.41","5.21","5.37","5.18","5.36","5.00","5.21","4.52","4.76","N/A","N/A","N/A","N/A","N/A","N/A"]
["01/26/2024","N/A","N/A","N/A","5.27","5.38","5.25","5.38","5.21","5.36","5.18","5.36","5.01","5.22","4.54","4.78","N/A","N/A","N/A","N/A","N/A","N/A"]
["01/29/2024","N/A","N/A","N/A","5.27","5.38","5.27","5.40","5.22","5.38","5.18","5.36","4.99","5.20","4.53","4.77","N/A","N/A","N/A","N/A","N/A","N/A"]
["01/30/2024","N/A","N/A","N/A","5.27","5.38","5.27","5.40","5.21","5.37","5.19","5.37","5.00","5.22","4.56","4.80","N/A","N/A","N/A","N/A","N/A","N/A"]
["01/31/2024","N/A","N/A","N/A","5.27","5.38","5.27","5.40","5.22","5.38","5.17","5.35","5.00","5.22","4.50","4.73","N/A","N/A","N/A","N/A","N/A","N/A"]
["02/01/2024","N/A","N/A","N/A","5.28","5.39","5.28","5.41","5.22","5.38","5.15","5.33","4.97","5.18","4.46","4.69","N/A","N/A","N/A","N/A","N/A","N/A"]
["02/02/2024","N/A","N/A","N/A","5.28","5.39","5.27","5.40","5.23","5.39","5.19","5.37","5.03","5.24","4.58","4.82","N/A","N/A","N/A","N/A","N/A","N/A"]
["02/05/2024","N/A","N/A","N/A","5.28","5.39","5.27","5.40","5.22","5.38","5.19","5.37","5.05","5.27","4.64","4.88","N/A","N/A","N/A","N/A","N/A","N/A"]
["02/06/2024","N/A","N/A","N/A","5.27","5.38","5.28","5.41","5.23","5.39","5.19","5.37","5.04","5.26","4.60","4.84","N/A","N/A","N/A","N/A","N/A","N/A"]
["02/07/2024","N/A","N/A","N/A","5.26","5.37","5.27","5.40","5.23","5.39","5.17","5.35","5.04","5.26","4.61","4.85","N/A","N/A","N/A","N/A","N/A","N/A"]
["02/08/2024","N/A","N/A","N/A","5.28","5.39","5.27","5.40","5.23","5.39","5.19","5.37","5.05","5.27","4.61","4.85","N/A","N/A","N/A","N/A","N/A","N/A"]
["02/09/2024","N/A","N/A","N/A","5.28","5.39","5.27","5.40","5.24","5.40","5.20","5.38","5.07","5.29","4.63","4.87","N/A","N/A","N/A","N/A","N/A","N/A"]
["02/12/2024","N/A","N/A","N/A","5.28","5.39","5.28","5.41","5.23","5.39","5.20","5.38","5.07","5.29","4.65","4.89","N/A","N/A","N/A","N/A","N/A","N/A"]
["02/13/2024","N/A","N/A","N/A","5.27","5.38","5.29","5.42","5.25","5.41","5.23","5.41","5.12","5.34","4.76","5.01","N/A","N/A","N/A","N/A","N/A","N/A"]
["02/14/2024","N/A","N/A","N/A","5.28","5.39","5.28","5.41","5.23","5.39","5.22","5.40","5.11","5.33","4.72","4.97","N/A","N/A","N/A","N/A","N/A","N/A"]
["02/15/2024","N/A","N/A","N/A","5.28","5.39","5.27","5.40","5.23","5.39","5.21","5.39","5.11","5.33","4.71","4.96","N/A","N/A","N/A","N/A","N/A","N/A"]
["02/16/2024","N/A","N/A","N/A","5.28","5.39","5.27","5.40","5.24","5.39","5.22","5.40","5.12","5.34","4.75","5.00","N/A","N/A","N/A","N/A","N/A","N/A"]
["02/20/2024","N/A","N/A","N/A","5.29","5.40","5.26","5.39","5.24","5.40","5.22","5.40","5.12","5.34","4.71","4.97","N/A","N/A","N/A","N/A","N/A","N/A"]
["02/21/2024","N/A","N/A","N/A","5.29","5.40","5.27","5.40","5.24","5.40","5.22","5.40","5.12","5.34","4.72","4.98","N/A","N/A","N/A","N/A","N/A","N/A"]
["02/22/2024","N/A","N/A","N/A","5.28","5.39","5.28","5.41","5.25","5.41","5.21","5.39","5.13","5.35","4.75","5.01","N/A","N/A","N/A","N/A","N/A","N/A"]
["02/23/2024","N/A","N/A","N/A","5.29","5.40","5.28","5.41","5.26","5.42","5.23","5.41","5.13","5.35","4.74","5.00","N/A","N/A","N/A","N/A","N/A","N/A"]
["02/26/2024","N/A","N/A","N/A","5.29","5.40","5.29","5.42","5.26","5.40","5.24","5.42","5.14","5.35","4.77","5.03","N/A","N/A","N/A","N/A","N/A","N/A"]
["02/27/2024","N/A","N/A","N/A","5.30","5.41","5.29","5.42","5.25","5.39","5.24","5.42","5.13","5.34","4.78","5.04","N/A","N/A","N/A","N/A","N/A","N/A"]
["02/28/2024","N/A","N/A","N/A","5.29","5.40","5.29","5.42","5.24","5.38","5.22","5.39","5.11","5.32","4.75","5.01","N/A","N/A","N/A","N/A","N/A","N/A"]
["02/29/2024","N/A","N/A","N/A","5.30","5.40","5.29","5.41","5.25","5.39","5.23","5.40","5.11","5.32","4.76","5.02","N/A","N/A","N/A","N/A","N/A","N/A"]
["03/01/2024","N/A","N/A","N/A","5.30","5.40","5.29","5.41","5.23","5.37","5.21","5.37","5.09","5.29","4.70","4.95","N/A","N/A","N/A","N/A","N/A","N/A"]
["03/04/2024","N/A","N/A","N/A","5.28","5.38","5.28","5.40","5.24","5.38","5.22","5.39","5.11","5.32","4.74","4.99","N/A","N/A","N/A","N/A","N/A","N/A"]
["03/05/2024","N/A","N/A","N/A","5.27","5.36","5.27","5.39","5.23","5.37","5.21","5.37","5.10","5.31","4.71","4.96","N/A","N/A","N/A","N/A","N/A","N/A"]
["03/06/2024","N/A","N/A","N/A","5.27","5.36","5.27","5.39","5.24","5.38","5.20","5.36","5.10","5.31","4.72","4.97","N/A","N/A","N/A","N/A","N/A","N/A"]
["03/07/2024","N/A","N/A","N/A","5.28","5.38","5.28","5.40","5.24","5.38","5.20","5.36","5.09","5.30","4.70","4.95","N/A","N/A","N/A","N/A","N/A","N/A"]
["03/08/2024","N/A","N/A","N/A","5.28","5.38","5.28","5.40","5.24","5.38","5.20","5.36","5.10","5.30","4.69","4.94","N/A","N/A","N/A","N/A","N/A","N/A"]
["03/11/2024","N/A","N/A","N/A","5.27","5.37","5.27","5.39","5.24","5.38","5.21","5.37","5.10","5.31","4.72","4.97","N/A","N/A","N/A","N/A","N/A","N/A"]
["03/12/2024","N/A","N/A","N/A","5.29","5.38","5.28","5.40","5.25","5.39","5.21","5.37","5.12","5.33","4.77","5.02","N/A","N/A","N/A","N/A","N/A","N/A"]
["03/13/2024","N/A","N/A","N/A","5.29","5.38","5.27","5.39","5.25","5.39","5.21","5.37","5.12","5.33","4.78","5.03","N/A","N/A","N/A","N/A","N/A","N/A"]
["03/14/2024","N/A","N/A","N/A","5.29","5.39","5.28","5.40","5.25","5.39","5.21","5.37","5.13","5.34","4.81","5.06","N/A","N/A","N/A","N/A","N/A","N/A"]
["03/15/2024","N/A","N/A","N/A","5.29","5.39","5.27","5.39","5.25","5.39","5.21","5.37","5.13","5.34","4.82","5.07","N/A","N/A","N/A","N/A","N/A","N/A"]
["03/18/2024","N/A","N/A","N/A","5.29","5.39","5.28","5.40","5.25","5.39","5.22","5.39","5.13","5.34","4.83","5.08","N/A","N/A","N/A","N/A","N/A","N/A"]
["03/19/2024","N/A","N/A","N/A","5.29","5.38","5.28","5.40","5.24","5.38","5.21","5.37","5.14","5.35","4.81","5.06","N/A","N/A","N/A","N/A","N/A","N/A"]
["03/20/2024","N/A","N/A","N/A","5.27","5.36","5.27","5.39","5.24","5.38","5.21","5.37","5.11","5.32","4.76","5.01","N/A","N/A","N/A","N/A","N/A","N/A"]
["03/21/2024","N/A","N/A","N/A","5.27","5.37","5.28","5.40","5.25","5.39","5.20","5.36","5.11","5.32","4.76","5.01","N/A","N/A","N/A","N/A","N/A","N/A"]
["03/22/2024","N/A","N/A","N/A","5.27","5.37","5.27","5.39","5.24","5.38","5.20","5.36","5.10","5.30","4.73","4.97","N/A","N/A","N/A","N/A","N/A","N/A"]
["03/25/2024","N/A","N/A","N/A","5.28","5.38","5.28","5.40","5.23","5.37","5.22","5.39","5.11","5.32","4.76","5.01","N/A","N/A","N/A","N/A","N/A","N/A"]
["03/26/2024","N/A","N/A","N/A","5.27","5.36","5.27","5.39","5.22","5.36","5.21","5.37","5.11","5.32","4.76","5.00","N/A","N/A","N/A","N/A","N/A","N/A"]
["03/27/2024","N/A","N/A","N/A","5.27","5.36","5.27","5.39","5.22","5.36","5.21","5.37","5.11","5.32","4.75","4.99","N/A","N/A","N/A","N/A","N/A","N/A"]
["03/28/2024","N/A","N/A","N/A","5.29","5.39","5.28","5.40","5.23","5.37","5.22","5.39","5.13","5.34","4.79","5.03","N/A","N/A","N/A","N/A","N/A","N/A"]
["04/01/2024","N/A","N/A","N/A","5.29","5.39","5.27","5.39","5.23","5.37","5.21","5.37","5.13","5.34","4.83","5.08","N/A","N/A","N/A","N/A","N/A","N/A"]
["04/02/2024","N/A","N/A","N/A","5.29","5.38","5.25","5.37","5.22","5.36","5.20","5.36","5.11","5.32","4.82","5.07","N/A","N/A","N/A","N/A","N/A","N/A"]
["04/03/2024","N/A","N/A","N/A","5.27","5.36","5.24","5.35","5.22","5.36","5.20","5.36","5.11","5.32","4.80","5.04","N/A","N/A","N/A","N/A","N/A","N/A"]
["04/04/2024","N/A","N/A","N/A","5.26","5.35","5.26","5.38","5.21","5.35","5.20","5.36","5.10","5.31","4.78","5.02","N/A","N/A","N/A","N/A","N/A","N/A"]
["04/05/2024","N/A","N/A","N/A","5.27","5.37","5.27","5.39","5.23","5.37","5.21","5.37","5.12","5.33","4.82","5.06","N/A","N/A","N/A","N/A","N/A","N/A"]
["04/08/2024","N/A","N/A","N/A","5.27","5.37","5.27","5.39","5.23","5.37","5.22","5.39","5.12","5.33","4.84","5.09","N/A","N/A","N/A","N/A","N/A","N/A"]
["04/09/2024","N/A","N/A","N/A","5.27","5.36","5.27","5.39","5.23","5.37","5.21","5.37","5.11","5.32","4.81","5.05","N/A","N/A","N/A","N/A","N/A","N/A"]
["04/10/2024","N/A","N/A","N/A","5.28","5.37","5.28","5.40","5.25","5.39","5.24","5.41","5.17","5.38","4.95","5.20","N/A","N/A","N/A","N/A","N/A","N/A"]
["04/11/2024","N/A","N/A","N/A","5.28","5.38","5.27","5.39","5.25","5.39","5.23","5.40","5.16","5.37","4.93","5.18","N/A","N/A","N/A","N/A","N/A","N/A"]
["04/12/2024","N/A","N/A","N/A","5.28","5.38","5.27","5.39","5.25","5.39","5.22","5.39","5.14","5.35","4.90","5.15","N/A","N/A","N/A","N/A","N/A","N/A"]
["04/15/2024","N/A","N/A","N/A","5.29","5.39","5.28","5.40","5.25","5.39","5.24","5.41","5.16","5.37","4.93","5.18","N/A","N/A","N/A","N/A","N/A","N/A"]
["04/16/2024","N/A","N/A","N/A","5.29","5.38","5.28","5.40","5.25","5.39","5.24","5.41","5.16","5.37","4.92","5.18","N/A","N/A","N/A","N/A","N/A","N/A"]
["04/17/2024","N/A","N/A","N/A","5.29","5.38","5.27","5.39","5.25","5.39","5.24","5.41","5.15","5.36","4.90","5.16","N/A","N/A","N/A","N/A","N/A","N/A"]
["04/18/2024","N/A","N/A","N/A","5.28","5.38","5.28","5.40","5.25","5.39","5.24","5.41","5.16","5.37","4.92","5.18","N/A","N/A","N/A","N/A","N/A","N/A"]
["04/19/2024","N/A","N/A","N/A","5.28","5.38","5.28","5.40","5.25","5.39","5.24","5.41","5.17","5.38","4.91","5.17","N/A","N/A","N/A","N/A","N/A","N/A"]
["04/22/2024","N/A","N/A","N/A","5.28","5.38","5.28","5.40","5.22","5.36","5.24","5.41","5.16","5.37","4.91","5.17","N/A","N/A","N/A","N/A","N/A","N/A"]
["04/23/2024","N/A","N/A","N/A","5.29","5.38","5.28","5.40","5.25","5.39","5.24","5.41","5.16","5.37","4.89","5.15","N/A","N/A","N/A","N/A","N/A","N/A"]
["04/24/2024","N/A","N/A","N/A","5.28","5.37","5.27","5.39","5.26","5.40","5.24","5.41","5.17","5.38","4.91","5.17","N/A","N/A","N/A","N/A","N/A","N/A"]
["04/25/2024","N/A","N/A","N/A","5.28","5.38","5.28","5.40","5.26","5.40","5.26","5.43","5.18","5.39","4.95","5.21","N/A","N/A","N/A","N/A","N/A","N/A"]
["04/26/2024","N/A","N/A","N/A","5.28","5.38","5.27","5.39","5.25","5.39","5.25","5.42","5.18","5.39","4.95","5.21","N/A","N/A","N/A","N/A","N/A","N/A"]
["04/29/2024","N/A","N/A","N/A","5.28","5.38","5.28","5.40","5.25","5.39","5.25","5.42","5.17","5.38","4.95","5.21","N/A","N/A","N/A","N/A","N/A","N/A"]
["04/30/2024","N/A","N/A","N/A","5.28","5.37","5.28","5.40","5.25","5.39","5.25","5.42","5.18","5.39","4.99","5.25","N/A","N/A","N/A","N/A","N/A","N/A"]
["05/01/2024","N/A","N/A","N/A","5.26","5.35","5.28","5.40","5.26","5.40","5.24","5.41","5.17","5.38","4.96","5.22","N/A","N/A","N/A","N/A","N/A","N/A"]
["05/02/2024","N/A","N/A","N/A","5.27","5.37","5.27","5.39","5.25","5.39","5.24","5.41","5.16","5.37","4.92","5.17","N/A","N/A","N/A","N/A","N/A","N/A"]
["05/03/2024","N/A","N/A","N/A","5.28","5.38","5.28","5.40","5.25","5.39","5.24","5.41","5.16","5.37","4.88","5.13","N/A","N/A","N/A","N/A","N/A","N/A"]
["05/06/2024","N/A","N/A","N/A","5.28","5.38","5.28","5.40","5.25","5.39","5.24","5.41","5.16","5.37","4.89","5.14","N/A","N/A","N/A","N/A","N/A","N/A"]
["05/07/2024","N/A","N/A","N/A","5.28","5.37","5.28","5.40","5.25","5.39","5.24","5.41","5.16","5.37","4.90","5.15","N/A","N/A","N/A","N/A","N/A","N/A"]
["05/08/2024","N/A","N/A","N/A","5.28","5.37","5.28","5.40","5.25","5.39","5.24","5.41","5.16","5.37","4.90","5.15","N/A","N/A","N/A","N/A","N/A","N/A"]
["05/09/2024","N/A","N/A","N/A","5.27","5.37","5.28","5.40","5.25","5.39","5.24","5.41","5.15","5.36","4.90","5.15","N/A","N/A","N/A","N/A","N/A","N/A"]
["05/10/2024","N/A","N/A","N/A","5.27","5.37","5.27","5.39","5.26","5.40","5.24","5.41","5.17","5.38","4.93","5.18","N/A","N/A","N/A","N/A","N/A","N/A"]
["05/13/2024","N/A","N/A","N/A","5.27","5.37","5.27","5.39","5.25","5.39","5.24","5.41","5.17","5.38","4.93","5.18","N/A","N/A","N/A","N/A","N/A","N/A"]
["05/14/2024","N/A","N/A","N/A","5.27","5.36","5.28","5.40","5.24","5.38","5.24","5.41","5.17","5.38","4.89","5.15","N/A","N/A","N/A","N/A","N/A","N/A"]
["05/15/2024","N/A","N/A","N/A","5.26","5.35","5.26","5.38","5.25","5.39","5.24","5.41","5.15","5.36","4.84","5.10","N/A","N/A","N/A","N/A","N/A","N/A"]
["05/16/2024","N/A","N/A","N/A","5.27","5.37","5.27","5.39","5.25","5.39","5.27","5.44","5.16","5.37","4.87","5.13","N/A","N/A","N/A","N/A","N/A","N/A"]
["05/17/2024","N/A","N/A","N/A","5.27","5.37","5.27","5.39","5.25","5.39","5.24","5.41","5.16","5.37","4.88","5.14","N/A","N/A","N/A","N/A","N/A","N/A"]
["05/20/2024","N/A","N/A","N/A","5.27","5.37","5.27","5.39","5.25","5.39","5.24","5.41","5.17","5.38","4.89","5.15","N/A","N/A","N/A","N/A","N/A","N/A"]
["05/21/2024","N/A","N/A","N/A","5.27","5.36","5.27","5.39","5.25","5.39","5.24","5.41","5.16","5.37","4.88","5.14","N/A","N/A","N/A","N/A","N/A","N/A"]
["05/22/2024","N/A","N/A","N/A","5.26","5.35","5.28","5.40","5.25","5.39","5.24","5.41","5.17","5.38","4.91","5.17","N/A","N/A","N/A","N/A","N/A","N/A"]
["05/23/2024","N/A","N/A","N/A","5.27","5.37","5.28","5.40","5.26","5.40","5.25","5.42","5.18","5.39","4.94","5.20","N/A","N/A","N/A","N/A","N/A","N/A"]
["05/24/2024","N/A","N/A","N/A","5.32","5.42","5.32","5.44","5.26","5.40","5.25","5.42","5.18","5.39","4.95","5.21","N/A","N/A","N/A","N/A","N/A","N/A"]
["05/28/2024","N/A","N/A","N/A","5.27","5.36","5.28","5.40","5.26","5.40","5.25","5.42","5.18","5.39","4.96","5.22","N/A","N/A","N/A","N/A","N/A","N/A"]
["05/29/2024","N/A","N/A","N/A","5.27","5.36","5.28","5.40","5.26","5.40","5.24","5.41","5.17","5.38","4.97","5.23","N/A","N/A","N/A","N/A","N/A","N/A"]
["05/30/2024","N/A","N/A","N/A","5.28","5.38","5.28","5.40","5.26","5.40","5.24","5.41","5.17","5.38","4.95","5.21","N/A","N/A","N/A","N/A","N/A","N/A"]
["05/31/2024","N/A","N/A","N/A","5.27","5.37","5.27","5.39","5.25","5.39","5.23","5.40","5.17","5.38","4.94","5.19","N/A","N/A","N/A","N/A","N/A","N/A"]
["06/03/2024","N/A","N/A","N/A","5.28","5.38","5.28","5.40","5.26","5.40","5.23","5.40","5.16","5.37","4.90","5.15","N/A","N/A","N/A","N/A","N/A","N/A"]
["06/04/2024","N/A","N/A","N/A","5.28","5.37","5.27","5.39","5.25","5.39","5.22","5.38","5.15","5.36","4.88","5.13","N/A","N/A","N/A","N/A","N/A","N/A"]
["06/05/2024","N/A","N/A","N/A","5.28","5.37","5.28","5.40","5.25","5.39","5.22","5.39","5.14","5.35","4.86","5.11","N/A","N/A","N/A","N/A","N/A","N/A"]
["06/06/2024","N/A","N/A","N/A","5.27","5.37","5.27","5.39","5.25","5.39","5.22","5.39","5.14","5.35","4.85","5.09","N/A","N/A","N/A","N/A","N/A","N/A"]
["06/07/2024","N/A","N/A","N/A","5.27","5.37","5.27","5.39","5.26","5.40","5.24","5.41","5.17","5.38","4.94","5.19","N/A","N/A","N/A","N/A","N/A","N/A"]
["06/10/2024","N/A","N/A","N/A","5.27","5.37","5.27","5.39","5.25","5.39","5.24","5.41","5.17","5.38","4.93","5.18","N/A","N/A","N/A","N/A","N/A","N/A"]
["06/11/2024","N/A","N/A","N/A","5.26","5.35","5.26","5.38","5.25","5.39","5.23","5.40","5.16","5.37","4.90","5.16","N/A","N/A","N/A","N/A","N/A","N/A"]
["06/12/2024","N/A","N/A","N/A","5.26","5.35","5.26","5.38","5.25","5.39","5.24","5.41","5.15","5.36","4.87","5.13","N/A","N/A","N/A","N/A","N/A","N/A"]
["06/13/2024","N/A","N/A","N/A","5.27","5.37","5.27","5.39","5.25","5.39","5.22","5.39","5.14","5.35","4.82","5.07","N/A","N/A","N/A","N/A","N/A","N/A"]
["06/14/2024","N/A","N/A","N/A","5.26","5.35","5.26","5.38","5.25","5.39","5.22","5.39","5.14","5.35","4.81","5.06","N/A","N/A","N/A","N/A","N/A","N/A"]
["06/17/2024","N/A","N/A","N/A","5.25","5.34","5.27","5.39","5.25","5.39","5.23","5.40","5.16","5.37","4.86","5.11","N/A","N/A","N/A","N/A","N/A","N/A"]
["06/18/2024","N/A","N/A","N/A","5.20","5.29","5.25","5.37","5.24","5.38","5.22","5.38","5.15","5.36","4.84","5.09","N/A","N/A","N/A","N/A","N/A","N/A"]
["06/20/2024","N/A","N/A","N/A","5.22","5.31","5.26","5.38","5.24","5.38","5.22","5.39","5.15","5.36","4.86","5.11","N/A","N/A","N/A","N/A","N/A","N/A"]
["06/21/2024","N/A","N/A","N/A","5.22","5.31","5.26","5.38","5.23","5.37","5.22","5.39","5.14","5.35","4.86","5.11","N/A","N/A","N/A","N/A","N/A","N/A"]
["06/24/2024","N/A","N/A","N/A","5.22","5.31","5.25","5.37","5.24","5.38","5.22","5.39","5.14","5.35","4.86","5.11","N/A","N/A","N/A","N/A","N/A","N/A"]
["06/25/2024","N/A","N/A","N/A","5.23","5.32","5.25","5.37","5.23","5.37","5.22","5.38","5.14","5.35","4.86","5.11","N/A","N/A","N/A","N/A","N/A","N/A"]
["06/26/2024","N/A","N/A","N/A","5.24","5.33","5.25","5.37","5.24","5.38","5.22","5.39","5.14","5.35","4.89","5.14","N/A","N/A","N/A","N/A","N/A","N/A"]
["06/27/2024","N/A","N/A","N/A","5.27","5.37","5.26","5.38","5.23","5.37","5.22","5.39","5.12","5.33","4.87","5.12","N/A","N/A","N/A","N/A","N/A","N/A"]
["06/28/2024","N/A","N/A","N/A","5.27","5.37","5.27","5.39","5.22","5.36","5.22","5.39","5.11","5.32","4.86","5.11","N/A","N/A","N/A","N/A","N/A","N/A"]
["07/01/2024","N/A","N/A","N/A","5.28","5.38","5.27","5.39","5.24","5.38","5.22","5.39","5.12","5.33","4.87","5.12","N/A","N/A","N/A","N/A","N/A","N/A"]
["07/02/2024","N/A","N/A","N/A","5.28","5.37","5.27","5.39","5.24","5.38","5.21","5.37","5.11","5.32","4.85","5.10","N/A","N/A","N/A","N/A","N/A","N/A"]
["07/03/2024","N/A","N/A","N/A","5.28","5.38","5.27","5.39","5.24","5.38","5.20","5.36","5.11","5.32","4.82","5.06","N/A","N/A","N/A","N/A","N/A","N/A"]
["07/05/2024","N/A","N/A","N/A","5.28","5.38","5.27","5.39","5.23","5.37","5.20","5.36","5.09","5.29","4.77","5.01","N/A","N/A","N/A","N/A","N/A","N/A"]
["07/08/2024","N/A","N/A","N/A","5.27","5.37","5.27","5.39","5.23","5.37","5.20","5.36","5.08","5.29","4.78","5.02","N/A","N/A","N/A","N/A","N/A","N/A"]
["07/09/2024","N/A","N/A","N/A","5.24","5.33","5.25","5.37","5.23","5.37","5.20","5.36","5.09","5.30","4.77","5.02","N/A","N/A","N/A","N/A","N/A","N/A"]
["07/10/2024","N/A","N/A","N/A","5.24","5.33","5.24","5.35","5.23","5.37","5.20","5.36","5.09","5.30","4.76","5.01","N/A","N/A","N/A","N/A","N/A","N/A"]
["07/11/2024","N/A","N/A","N/A","5.28","5.38","5.27","5.39","5.21","5.35","5.16","5.32","5.01","5.21","4.67","4.91","N/A","N/A","N/A","N/A","N/A","N/A"]
["07/12/2024","N/A","N/A","N/A","5.27","5.37","5.26","5.38","5.21","5.35","5.15","5.31","5.00","5.20","4.64","4.87","N/A","N/A","N/A","N/A","N/A","N/A"]
["07/15/2024","N/A","N/A","N/A","5.28","5.38","5.26","5.38","5.20","5.34","5.15","5.31","4.99","5.19","4.62","4.85","N/A","N/A","N/A","N/A","N/A","N/A"]
["07/16/2024","N/A","N/A","N/A","5.27","5.36","5.26","5.38","5.20","5.34","5.15","5.31","4.99","5.19","4.62","4.85","N/A","N/A","N/A","N/A","N/A","N/A"]
["07/17/2024","N/A","N/A","N/A","5.25","5.34","5.26","5.38","5.20","5.34","5.14","5.30","4.99","5.19","4.62","4.85","N/A","N/A","N/A","N/A","N/A","N/A"]
["07/18/2024","N/A","N/A","N/A","5.27","5.37","5.26","5.38","5.21","5.35","5.14","5.30","5.00","5.20","4.64","4.87","N/A","N/A","N/A","N/A","N/A","N/A"]
["07/19/2024","N/A","N/A","N/A","5.28","5.38","5.26","5.38","5.20","5.34","5.14","5.30","5.00","5.20","4.65","4.88","N/A","N/A","N/A","N/A","N/A","N/A"]
["07/22/2024","N/A","N/A","N/A","5.28","5.38","5.27","5.39","5.19","5.33","5.14","5.30","5.00","5.20","4.66","4.89","N/A","N/A","N/A","N/A","N/A","N/A"]
["07/23/2024","N/A","N/A","N/A","5.28","5.37","5.27","5.39","5.18","5.32","5.13","5.29","4.98","5.18","4.65","4.88","N/A","N/A","N/A","N/A","N/A","N/A"]
["07/24/2024","N/A","N/A","N/A","5.29","5.38","5.27","5.39","5.18","5.32","5.12","5.28","4.96","5.16","4.62","4.85","N/A","N/A","N/A","N/A","N/A","N/A"]
["07/25/2024","N/A","N/A","N/A","5.29","5.39","5.26","5.38","5.17","5.31","5.11","5.27","4.95","5.15","4.62","4.85","N/A","N/A","N/A","N/A","N/A","N/A"]
["07/26/2024","N/A","N/A","N/A","5.28","5.38","5.26","5.38","5.16","5.30","5.11","5.27","4.95","5.14","4.59","4.81","N/A","N/A","N/A","N/A","N/A","N/A"]
["07/29/2024","N/A","N/A","N/A","5.29","5.39","5.27","5.39","5.15","5.29","5.11","5.27","4.94","5.14","4.59","4.81","N/A","N/A","N/A","N/A","N/A","N/A"]
["07/30/2024","N/A","N/A","N/A","5.29","5.38","5.26","5.38","5.14","5.28","5.11","5.27","4.92","5.12","4.58","4.80","N/A","N/A","N/A","N/A","N/A","N/A"]
["07/31/2024","N/A","N/A","N/A","5.28","5.37","5.26","5.38","5.15","5.29","5.09","5.25","4.91","5.10","4.55","4.77","N/A","N/A","N/A","N/A","N/A","N/A"]
["08/01/2024","N/A","N/A","N/A","5.28","5.38","5.23","5.35","5.12","5.26","5.05","5.21","4.85","5.04","4.44","4.65","N/A","N/A","N/A","N/A","N/A","N/A"]
["08/02/2024","N/A","N/A","N/A","5.27","5.37","5.20","5.32","5.05","5.18","4.92","5.07","4.68","4.86","4.18","4.37","N/A","N/A","N/A","N/A","N/A","N/A"]
["08/05/2024","N/A","N/A","N/A","5.26","5.35","5.21","5.33","5.09","5.23","4.94","5.09","4.69","4.87","4.20","4.39","N/A","N/A","N/A","N/A","N/A","N/A"]
["08/06/2024","N/A","N/A","N/A","5.24","5.33","5.21","5.32","5.09","5.23","4.98","5.13","4.77","4.96","4.25","4.45","N/A","N/A","N/A","N/A","N/A","N/A"]
["08/07/2024","N/A","N/A","N/A","5.25","5.34","5.21","5.32","5.09","5.23","4.98","5.13","4.77","4.96","4.24","4.44","N/A","N/A","N/A","N/A","N/A","N/A"]
["08/08/2024","N/A","N/A","N/A","5.29","5.39","5.19","5.30","5.09","5.23","4.99","5.14","4.79","4.98","4.28","4.49","N/A","N/A","N/A","N/A","N/A","N/A"]
["08/09/2024","N/A","N/A","N/A","5.28","5.38","5.18","5.29","5.09","5.22","5.00","5.15","4.80","4.98","4.29","4.49","N/A","N/A","N/A","N/A","N/A","N/A"]
["08/12/2024","N/A","N/A","N/A","5.27","5.37","5.18","5.29","5.07","5.21","4.99","5.14","4.79","4.98","4.27","4.47","N/A","N/A","N/A","N/A","N/A","N/A"]
["08/13/2024","N/A","N/A","N/A","5.23","5.32","5.17","5.28","5.06","5.20","4.98","5.13","4.75","4.93","4.21","4.41","N/A","N/A","N/A","N/A","N/A","N/A"]
["08/14/2024","N/A","N/A","N/A","5.24","5.33","5.17","5.28","5.07","5.21","4.98","5.13","4.77","4.96","4.23","4.43","N/A","N/A","N/A","N/A","N/A","N/A"]
["08/15/2024","N/A","N/A","N/A","5.26","5.35","5.18","5.29","5.09","5.23","5.00","5.15","4.82","5.01","4.33","4.54","N/A","N/A","N/A","N/A","N/A","N/A"]
["08/16/2024","N/A","N/A","N/A","5.27","5.37","5.17","5.28","5.08","5.21","4.99","5.14","4.80","4.98","4.30","4.50","N/A","N/A","N/A","N/A","N/A","N/A"]
["08/19/2024","N/A","N/A","N/A","5.26","5.35","5.17","5.28","5.06","5.20","4.99","5.14","4.77","4.96","4.30","4.50","N/A","N/A","N/A","N/A","N/A","N/A"]
["08/20/2024","N/A","N/A","N/A","5.23","5.32","5.15","5.26","5.04","5.18","4.97","5.12","4.74","4.92","4.25","4.45","N/A","N/A","N/A","N/A","N/A","N/A"]
["08/21/2024","N/A","N/A","N/A","5.21","5.30","5.12","5.23","5.02","5.16","4.91","5.06","4.70","4.88","4.19","4.38","N/A","N/A","N/A","N/A","N/A","N/A"]
["08/22/2024","N/A","N/A","N/A","5.24","5.33","5.13","5.24","5.04","5.18","4.93","5.08","4.74","4.92","4.26","4.46","N/A","N/A","N/A","N/A","N/A","N/A"]
["08/23/2024","N/A","N/A","N/A","5.25","5.34","5.13","5.24","5.01","5.14","4.92","5.07","4.71","4.89","4.19","4.38","N/A","N/A","N/A","N/A","N/A","N/A"]
["08/26/2024","N/A","N/A","N/A","5.24","5.33","5.14","5.25","4.98","5.11","4.93","5.08","4.69","4.87","4.22","4.41","N/A","N/A","N/A","N/A","N/A","N/A"]
["08/27/2024","N/A","N/A","N/A","5.24","5.33","5.13","5.24","4.98","5.11","4.92","5.07","4.67","4.85","4.19","4.38","N/A","N/A","N/A","N/A","N/A","N/A"]
["08/28/2024","N/A","N/A","N/A","5.23","5.32","5.13","5.24","4.96","5.09","4.88","5.03","4.66","4.84","4.21","4.40","N/A","N/A","N/A","N/A","N/A","N/A"]
["08/29/2024","N/A","N/A","N/A","5.18","5.27","5.10","5.21","4.98","5.11","4.88","5.03","4.68","4.86","4.23","4.42","N/A","N/A","N/A","N/A","N/A","N/A"]
["08/30/2024","N/A","N/A","N/A","5.18","5.27","5.11","5.22","4.98","5.11","4.88","5.03","4.69","4.87","4.23","4.42","N/A","N/A","N/A","N/A","N/A","N/A"]
["09/03/2024","N/A","N/A","N/A","5.16","5.25","5.10","5.21","4.97","5.10","4.88","5.03","4.65","4.83","4.15","4.34","N/A","N/A","N/A","N/A","N/A","N/A"]
["09/04/2024","N/A","N/A","N/A","5.11","5.20","5.08","5.19","4.96","5.09","4.81","4.96","4.60","4.77","4.04","4.23","N/A","N/A","N/A","N/A","N/A","N/A"]
["09/05/2024","N/A","N/A","N/A","5.08","5.17","5.04","5.15","4.94","5.07","4.80","4.95","4.59","4.76","4.02","4.20","N/A","N/A","N/A","N/A","N/A","N/A"]
["09/06/2024","N/A","N/A","N/A","5.06","5.15","5.04","5.15","4.93","5.06","4.79","4.93","4.56","4.73","3.93","4.11","N/A","N/A","N/A","N/A","N/A","N/A"]
["09/09/2024","N/A","N/A","N/A","5.03","5.12","5.02","5.13","4.89","5.02","4.78","4.92","4.53","4.70","3.95","4.13","N/A","N/A","N/A","N/A","N/A","N/A"]
["09/10/2024","N/A","N/A","N/A","4.97","5.06","4.95","5.06","4.85","4.98","4.71","4.85","4.51","4.68","3.90","4.07","N/A","N/A","N/A","N/A","N/A","N/A"]
["09/11/2024","N/A","N/A","N/A","5.00","5.09","4.96","5.07","4.89","5.02","4.76","4.90","4.58","4.75","3.95","4.13","N/A","N/A","N/A","N/A","N/A","N/A"]
["09/12/2024","N/A","N/A","N/A","4.97","5.06","4.98","5.09","4.85","4.98","4.74","4.88","4.54","4.71","3.93","4.10","N/A","N/A","N/A","N/A","N/A","N/A"]
["09/13/2024","N/A","N/A","N/A","4.94","5.03","4.94","5.05","4.78","4.90","4.69","4.83","4.48","4.65","3.85","4.02","N/A","N/A","N/A","N/A","N/A","N/A"]
["09/16/2024","N/A","N/A","N/A","4.90","4.99","4.88","4.99","4.75","4.87","4.67","4.81","4.41","4.57","3.81","3.97","N/A","N/A","N/A","N/A","N/A","N/A"]
["09/17/2024","N/A","N/A","N/A","4.84","4.93","4.83","4.93","4.75","4.87","4.66","4.80","4.41","4.57","3.84","4.01","N/A","N/A","N/A","N/A","N/A","N/A"]
["09/18/2024","N/A","N/A","N/A","4.71","4.79","4.70","4.80","4.65","4.77","4.54","4.67","4.37","4.53","3.81","3.97","N/A","N/A","N/A","N/A","N/A","N/A"]
["09/19/2024","N/A","N/A","N/A","4.69","4.77","4.69","4.79","4.61","4.73","4.52","4.65","4.34","4.50","3.79","3.95","N/A","N/A","N/A","N/A","N/A","N/A"]
["09/20/2024","N/A","N/A","N/A","4.68","4.76","4.67","4.77","4.56","4.67","4.49","4.62","4.31","4.47","3.78","3.94","N/A","N/A","N/A","N/A","N/A","N/A"]
["09/23/2024","N/A","N/A","N/A","4.66","4.74","4.65","4.75","4.53","4.65","4.46","4.59","4.26","4.41","3.78","3.94","N/A","N/A","N/A","N/A","N/A","N/A"]
["09/24/2024","N/A","N/A","N/A","4.59","4.67","4.59","4.69","4.50","4.61","4.44","4.57","4.23","4.38","3.75","3.91","N/A","N/A","N/A","N/A","N/A","N/A"]
["09/25/2024","N/A","N/A","N/A","4.60","4.68","4.59","4.69","4.51","4.63","4.43","4.56","4.24","4.39","3.76","3.92","N/A","N/A","N/A","N/A","N/A","N/A"]
["09/26/2024","N/A","N/A","N/A","4.70","4.78","4.66","4.76","4.50","4.61","4.44","4.57","4.26","4.41","3.82","3.98","N/A","N/A","N/A","N/A","N/A","N/A"]
["09/27/2024","N/A","N/A","N/A","4.71","4.79","4.65","4.75","4.50","4.61","4.43","4.56","4.24","4.39","3.78","3.94","N/A","N/A","N/A","N/A","N/A","N/A"]
["09/30/2024","N/A","N/A","N/A","4.74","4.82","4.68","4.78","4.52","4.64","4.46","4.59","4.23","4.38","3.85","4.01","N/A","N/A","N/A","N/A","N/A","N/A"]
["10/01/2024","N/A","N/A","N/A","4.76","4.84","4.69","4.79","4.50","4.61","4.44","4.57","4.22","4.37","3.79","3.96","N/A","N/A","N/A","N/A","N/A","N/A"]
["10/02/2024","N/A","N/A","N/A","4.73","4.81","4.66","4.76","4.48","4.59","4.41","4.54","4.22","4.37","3.80","3.97","N/A","N/A","N/A","N/A","N/A","N/A"]
["10/03/2024","N/A","N/A","N/A","4.76","4.84","4.66","4.76","4.48","4.59","4.41","4.54","4.23","4.38","3.84","4.01","N/A","N/A","N/A","N/A","N/A","N/A"]
["10/04/2024","N/A","N/A","N/A","4.78","4.86","4.69","4.79","4.53","4.64","4.48","4.61","4.31","4.47","4.01","4.19","N/A","N/A","N/A","N/A","N/A","N/A"]
["10/07/2024","N/A","N/A","N/A","4.78","4.86","4.69","4.79","4.55","4.67","4.48","4.61","4.30","4.46","4.06","4.25","N/A","N/A","N/A","N/A","N/A","N/A"]
["10/08/2024","N/A","N/A","N/A","4.75","4.83","4.67","4.77","4.53","4.65","4.46","4.59","4.29","4.45","4.03","4.21","N/A","N/A","N/A","N/A","N/A","N/A"]
["10/09/2024","N/A","N/A","N/A","4.72","4.80","4.67","4.77","4.54","4.66","4.44","4.57","4.31","4.47","4.06","4.25","N/A","N/A","N/A","N/A","N/A","N/A"]
["10/10/2024","N/A","N/A","N/A","4.76","4.84","4.65","4.75","4.54","4.66","4.44","4.57","4.31","4.47","4.04","4.22","N/A","N/A","N/A","N/A","N/A","N/A"]
["10/11/2024","N/A","N/A","N/A","4.75","4.83","4.64","4.74","4.53","4.64","4.45","4.58","4.30","4.45","4.01","4.19","N/A","N/A","N/A","N/A","N/A","N/A"]
["10/15/2024","N/A","N/A","N/A","4.72","4.80","4.64","4.74","4.52","4.64","4.46","4.59","4.28","4.44","4.01","4.19","N/A","N/A","N/A","N/A","N/A","N/A"]
["10/16/2024","N/A","N/A","N/A","4.71","4.79","4.63","4.73","4.51","4.63","4.43","4.56","4.28","4.44","4.01","4.19","N/A","N/A","N/A","N/A","N/A","N/A"]
["10/17/2024","N/A","N/A","N/A","4.71","4.79","4.64","4.74","4.54","4.66","4.44","4.57","4.30","4.46","4.04","4.22","N/A","N/A","N/A","N/A","N/A","N/A"]
["10/18/2024","N/A","N/A","N/A","4.70","4.78","4.63","4.73","4.53","4.64","4.44","4.57","4.31","4.47","4.02","4.20","N/A","N/A","N/A","N/A","N/A","N/A"]
["10/21/2024","N/A","N/A","N/A","4.70","4.78","4.64","4.74","4.51","4.63","4.47","4.60","4.32","4.48","4.07","4.25","N/A","N/A","N/A","N/A","N/A","N/A"]
["10/22/2024","N/A","N/A","N/A","4.68","4.76","4.63","4.73","4.51","4.63","4.47","4.60","4.32","4.48","4.07","4.25","N/A","N/A","N/A","N/A","N/A","N/A"]
["10/23/2024","N/A","N/A","N/A","4.67","4.75","4.63","4.73","4.52","4.64","4.45","4.58","4.34","4.50","4.10","4.28","N/A","N/A","N/A","N/A","N/A","N/A"]
["10/24/2024","N/A","N/A","N/A","4.66","4.74","4.60","4.70","4.50","4.61","4.45","4.58","4.34","4.50","4.09","4.27","N/A","N/A","N/A","N/A","N/A","N/A"]
["10/25/2024","N/A","N/A","N/A","4.67","4.75","4.60","4.70","4.52","4.63","4.47","4.60","4.37","4.53","4.12","4.30","N/A","N/A","N/A","N/A","N/A","N/A"]
["10/28/2024","N/A","N/A","N/A","4.66","4.74","4.60","4.70","4.49","4.60","4.47","4.60","4.33","4.49","4.12","4.30","N/A","N/A","N/A","N/A","N/A","N/A"]
["10/29/2024","N/A","N/A","N/A","4.67","4.75","4.60","4.70","4.49","4.60","4.46","4.59","4.33","4.49","4.10","4.29","N/A","N/A","N/A","N/A","N/A","N/A"]
["10/30/2024","N/A","N/A","N/A","4.67","4.75","4.60","4.70","4.47","4.58","4.43","4.56","4.32","4.48","4.09","4.28","N/A","N/A","N/A","N/A","N/A","N/A"]
["10/31/2024","N/A","N/A","N/A","4.58","4.66","4.55","4.65","4.44","4.55","4.42","4.55","4.31","4.47","4.08","4.27","N/A","N/A","N/A","N/A","N/A","N/A"]
["11/01/2024","N/A","N/A","N/A","4.57","4.65","4.54","4.64","4.41","4.52","4.40","4.53","4.30","4.45","4.09","4.28","N/A","N/A","N/A","N/A","N/A","N/A"]
["11/04/2024","N/A","N/A","N/A","4.56","4.64","4.54","4.64","4.44","4.55","4.39","4.52","4.27","4.42","4.06","4.25","N/A","N/A","N/A","N/A","N/A","N/A"]
["11/05/2024","N/A","N/A","N/A","4.54","4.62","4.52","4.61","4.43","4.54","4.38","4.51","4.27","4.42","4.08","4.27","N/A","N/A","N/A","N/A","N/A","N/A"]

{"sheet":"SP500 Data","index":12,"n_rows":100,"n_cols":151,"rows_kept":100,"cut":false,"hidden":true,"merged":[]}
["Year","Total Return"]
[2024,22.62]
[2023,26.29]
[2022,-18.11]
[2021,28.71]
[2020,18.399999999999999,null,null,null,null,null,null,null,null,null,null,null,null,null,null,null,null,null,null,null,null,null,null,null,null,null,null,null,null,null,null,null,null,null,null,null,null,null,null,null,null,null,null,null,null,null,null,null,null,null,null,null,null,null,null,null,null,null,null,null,null,null,null,null,null,null,null,null,null,null,null,null,null,null,null,null,null,null,null,null,null,null,null,null,null,null,null,null,null,null,null,null,null,null,null,null,null,null,null,null,null,null,null,null,null,null,null,null,null,null,null,null,null,null,null,null,null,null,null,null,null,null,null,null,null,null,null,null,null,null,null,null,null,null,null,null,null,null,null,null,null,null,null,null,null,null,null,null,null,{"$f":"IF(EJ6=\"\",\"\",ABS(DV6/ABS(CN6)))","v":""}]
[2019,31.49]
[2018,-4.38]
[2017,21.83]
[2016,11.96]
[2015,1.38]
[2014,13.69]
[2013,32.39]
[2012,16]
[2011,2.11]
[2010,15.06]
[2009,26.46]
[2008,-37]
[2007,5.49]
[2006,15.79]
[2005,4.91]
[2004,10.88]
[2003,28.68]
[2002,-22.1]
[2001,-11.89]
[2000,-9.1]
[1999,21.04]
[1998,28.58]
[1997,33.36]
[1996,22.96]
[1995,37.58]
[1994,1.32]
[1993,10.08]
[1992,7.62]
[1991,30.47]
[1990,-3.1]
[1989,31.69]
[1988,16.61]
[1987,5.25]
[1986,18.670000000000002]
[1985,31.73]
[1984,6.27]
[1983,22.56]
[1982,21.55]
[1981,-4.91]
[1980,32.42]
[1979,18.440000000000001]
[1978,6.56]
[1977,-7.18]
[1976,23.84]
[1975,37.200000000000003]
[1974,-26.47]
[1973,-14.66]
[1972,18.98]
[1971,14.31]
[1970,4.01]
[1969,-8.5]
[1968,11.06]
[1967,23.98]
[1966,-10.06]
[1965,12.45]
[1964,16.48]
[1963,22.8]
[1962,-8.73]
[1961,26.89]
[1960,0.47]
[1959,11.96]
[1958,43.36]
[1957,-10.78]
[1956,6.56]
[1955,31.56]
[1954,52.62]
[1953,-0.99]
[1952,18.37]
[1951,24.02]
[1950,31.71]
[1949,18.79]
[1948,5.5]
[1947,5.71]
[1946,-8.07]
[1945,36.44]
[1944,19.75]
[1943,25.9]
[1942,20.34]
[1941,-11.59]
[1940,-9.7799999999999994]
[1939,-0.41]
[1938,31.12]
[1937,-35.03]
[1936,33.92]
[1935,47.67]
[1934,-1.44]
[1933,53.99]
[1932,-8.19]
[1931,-43.34]
[1930,-24.9]
[1929,-8.42]
[1928,43.61]
[1927,37.49]
[1926,11.62]

{"sheet":"Gold Data","index":13,"n_rows":53,"n_cols":8,"rows_kept":53,"cut":false,"hidden":true,"merged":[]}
["Column1","Column2","Column3","Column4","Column5","Column6","Column7","Column8"]
["Gold Prices - Historical Annual Data",2020,1583.81,1520.55,1687,1472.35,1474.3,-3.2000000000000001E-2]
["Gold Prices - Historical Annual Data",2019,1393.34,1287.2,1542.6,1270.05,1523,0.1883]
["Gold Prices - Historical Annual Data",2018,1268.93,1312.8,1360.25,1176.7,1281.6500000000001,-1.15E-2]
["Gold Prices - Historical Annual Data",2017,1260.3900000000001,1162,1351.2,1162,1296.5,0.12570000000000001]
["Gold Prices - Historical Annual Data",2016,1251.92,1075.2,1372.6,1073.5999999999999,1151.7,8.6300000000000002E-2]
["Gold Prices - Historical Annual Data",2015,1158.8599999999999,1184.25,1298,1049.5999999999999,1060.2,-0.1159]
["Gold Prices - Historical Annual Data",2014,1266.06,1219.75,1379,1144.5,1199.25,-1.9E-3]
["Gold Prices - Historical Annual Data",2013,1409.51,1681.5,1692.5,1192.75,1201.5,-0.27789999999999998]
["Gold Prices - Historical Annual Data",2012,1668.86,1590,1790,1537.5,1664,5.6800000000000003E-2]
["Gold Prices - Historical Annual Data",2011,1573.16,1405.5,1896.5,1316,1574.5,0.11650000000000001]
["Gold Prices - Historical Annual Data",2010,1226.6600000000001,1113,1426,1052.25,1410.25,0.27739999999999998]
["Gold Prices - Historical Annual Data",2009,973.66,869.75,1218.25,813,1104,0.27629999999999999]
["Gold Prices - Historical Annual Data",2008,872.37,840.75,1023.5,692.5,865,3.4099999999999998E-2]
["Gold Prices - Historical Annual Data",2007,696.43,640.75,841.75,608.29999999999995,836.5,0.31590000000000001]
["Gold Prices - Historical Annual Data",2006,604.34,520.75,725.75,520.75,635.70000000000005,0.2392]
["Gold Prices - Historical Annual Data",2005,444.99,426.8,537.5,411.5,513,0.17119999999999999]
["Gold Prices - Historical Annual Data",2004,409.53,415.2,455.75,373.5,438,4.9700000000000001E-2]
["Gold Prices - Historical Annual Data",2003,363.83,342.2,417.25,319.75,417.25,0.21740000000000001]
["Gold Prices - Historical Annual Data",2002,310.08,278.10000000000002,348.5,277.8,342.75,0.23960000000000001]
["Gold Prices - Historical Annual Data",2001,271.19,272.8,292.85000000000002,256.7,276.5,1.41E-2]
["Gold Prices - Historical Annual Data",2000,279.29000000000002,282.05,316.60000000000002,263.8,272.64999999999998,-6.2600000000000003E-2]
["Gold Prices - Historical Annual Data",1999,278.86,288.25,326.25,252.9,290.85000000000002,1.18E-2]
["Gold Prices - Historical Annual Data",1998,294.12,287.7,314.60000000000002,273.39999999999998,287.45,-6.1000000000000004E-3]
["Gold Prices - Historical Annual Data",1997,331,367.8,367.8,283.05,289.2,-0.21740000000000001]
["Gold Prices - Historical Annual Data",1996,387.73,387.1,416.25,368.3,369.55,-4.4299999999999999E-2]
["Gold Prices - Historical Annual Data",1995,384.07,381.4,396.95,372.45,386.7,1.0999999999999999E-2]
["Gold Prices - Historical Annual Data",1994,384.16,395,397.5,370.25,382.5,-2.0899999999999998E-2]
["Gold Prices - Historical Annual Data",1993,360.05,329.4,406.7,326.5,390.65,0.17349999999999999]
["Gold Prices - Historical Annual Data",1992,343.87,351.2,359.3,330.2,332.9,-5.8000000000000003E-2]
["Gold Prices - Historical Annual Data",1991,362.34,392.5,403.7,343.5,353.4,-9.6199999999999994E-2]
["Gold Prices - Historical Annual Data",1990,383.73,401.65,421.4,346.75,391,-2.4899999999999999E-2]
["Gold Prices - Historical Annual Data",1989,381.27,413.6,417.15,358.1,401,-2.23E-2]
["Gold Prices - Historical Annual Data",1988,436.78,484.1,485.3,389.05,410.15,-0.15690000000000001]
["Gold Prices - Historical Annual Data",1987,446.84,402.4,502.75,392.6,486.5,0.24460000000000001]
["Gold Prices - Historical Annual Data",1986,368.2,327.10000000000002,442.75,326,390.9,0.19539999999999999]
["Gold Prices - Historical Annual Data",1985,317.42,306.25,339.3,285,327,5.8299999999999998E-2]
["Gold Prices - Historical Annual Data",1984,360.65,384,406.85,303.25,309,-0.19]
["Gold Prices - Historical Annual Data",1983,423.71,452.75,511.5,374.75,381.5,-0.1484]
["Gold Prices - Historical Annual Data",1982,376.11,399,488.5,297,448,0.12]
["Gold Prices - Historical Annual Data",1981,459.16,592,599.25,391.75,400,-0.32150000000000001]
["Gold Prices - Historical Annual Data",1980,614.75,559,843,474,589.5,0.125]
["Gold Prices - Historical Annual Data",1979,307.01,227.15,524,216.55,524,1.3341000000000001]
["Gold Prices - Historical Annual Data",1978,193.57,168.6,243.65,166.3,224.5,0.35570000000000002]
["Gold Prices - Historical Annual Data",1977,147.84,136.1,168.15,129.4,165.6,0.23080000000000001]
["Gold Prices - Historical Annual Data",1976,124.8,140.35,140.35,103.05,134.55000000000001,-4.0599999999999997E-2]
["Gold Prices - Historical Annual Data",1975,160.87,185,186.25,128.75,140.25,-0.252]
["Gold Prices - Historical Annual Data",1974,158.76,114.75,197.5,114.75,187.5,0.6704]
["Gold Prices - Historical Annual Data",1973,97.12,64.989999999999995,127,64.099999999999994,112.25,0.7349]
["Gold Prices - Historical Annual Data",1972,58.17,43.73,70,43.73,64.7,0.4874]
["Gold Prices - Historical Annual Data",1971,40.799999999999997,37.33,43.9,37.33,43.5,0.16370000000000001]
["Gold Prices - Historical Annual Data",1970,35.96,35.130000000000003,39.19,34.78,37.380000000000003,6.1600000000000002E-2]
["Gold Prices - Historical Annual Data",1969,41.1,41.8,43.75,35,35.21,-0.16070000000000001]

{"sheet":"GBPUSD Data","index":14,"n_rows":50,"n_cols":8,"rows_kept":50,"cut":false,"hidden":true,"merged":[]}
["Column1","Column2","Column3","Column4","Column5","Column6","Column7","Column8"]
["GBP USD  - Historical Annual Data",2020,1.29,1.33,1.33,1.1499999999999999,1.1599999999999999,-0.1235]
["GBP USD  - Historical Annual Data",2019,1.28,1.27,1.34,1.2,1.33,4.0399999999999998E-2]
["GBP USD  - Historical Annual Data",2018,1.33,1.35,1.43,1.25,1.27,-5.67E-2]
["GBP USD  - Historical Annual Data",2017,1.29,1.23,1.36,1.2,1.35,9.5100000000000004E-2]
["GBP USD  - Historical Annual Data",2016,1.35,1.47,1.49,1.21,1.23,-0.1605]
["GBP USD  - Historical Annual Data",2015,1.53,1.54,1.59,1.46,1.47,-5.7700000000000001E-2]
["GBP USD  - Historical Annual Data",2014,1.65,1.64,1.72,1.55,1.56,-6.0199999999999997E-2]
["GBP USD  - Historical Annual Data",2013,1.56,1.63,1.66,1.48,1.66,1.84E-2]
["GBP USD  - Historical Annual Data",2012,1.59,1.57,1.63,1.53,1.63,5.16E-2]
["GBP USD  - Historical Annual Data",2011,1.6,1.55,1.67,1.54,1.55,6.4999999999999997E-3]
["GBP USD  - Historical Annual Data",2010,1.55,1.61,1.64,1.43,1.54,-4.9399999999999999E-2]
["GBP USD  - Historical Annual Data",2009,1.57,1.45,1.7,1.37,1.62,0.1096]
["GBP USD  - Historical Annual Data",2008,1.85,1.98,2.0299999999999998,1.44,1.46,-0.2626]
["GBP USD  - Historical Annual Data",2007,2,1.97,2.11,1.92,1.98,1.0200000000000001E-2]
["GBP USD  - Historical Annual Data",2006,1.84,1.74,1.98,1.73,1.96,0.13950000000000001]
["GBP USD  - Historical Annual Data",2005,1.82,1.91,1.93,1.71,1.72,-0.1042]
["GBP USD  - Historical Annual Data",2004,1.83,1.79,1.95,1.75,1.92,7.8700000000000006E-2]
["GBP USD  - Historical Annual Data",2003,1.63,1.6,1.78,1.55,1.78,0.1056]
["GBP USD  - Historical Annual Data",2002,1.5,1.45,1.61,1.41,1.61,0.1103]
["GBP USD  - Historical Annual Data",2001,1.44,1.5,1.5,1.37,1.45,-3.3300000000000003E-2]
["GBP USD  - Historical Annual Data",2000,1.52,1.63,1.65,1.4,1.5,-7.4099999999999999E-2]
["GBP USD  - Historical Annual Data",1999,1.62,1.66,1.68,1.55,1.62,-2.41E-2]
["GBP USD  - Historical Annual Data",1998,1.66,1.64,1.72,1.61,1.66,1.2200000000000001E-2]
["GBP USD  - Historical Annual Data",1997,1.64,1.69,1.7,1.58,1.64,-4.0899999999999999E-2]
["GBP USD  - Historical Annual Data",1996,1.56,1.56,1.71,1.49,1.71,0.1032]
["GBP USD  - Historical Annual Data",1995,1.58,1.56,1.64,1.53,1.55,-1.2699999999999999E-2]
["GBP USD  - Historical Annual Data",1994,1.53,1.48,1.64,1.46,1.57,6.08E-2]
["GBP USD  - Historical Annual Data",1993,1.5,1.5,1.59,1.42,1.48,-1.9900000000000001E-2]
["GBP USD  - Historical Annual Data",1992,1.77,1.87,2,1.51,1.51,-0.1925]
["GBP USD  - Historical Annual Data",1991,1.77,1.94,2,1.6,1.87,-3.1099999999999999E-2]
["GBP USD  - Historical Annual Data",1990,1.78,1.61,1.98,1.59,1.93,0.1988]
["GBP USD  - Historical Annual Data",1989,1.64,1.82,1.82,1.51,1.61,-0.1105]
["GBP USD  - Historical Annual Data",1988,1.78,1.88,1.91,1.66,1.81,-4.2299999999999997E-2]
["GBP USD  - Historical Annual Data",1987,1.64,1.49,1.89,1.47,1.89,0.27700000000000002]
["GBP USD  - Historical Annual Data",1986,1.47,1.45,1.56,1.38,1.48,2.07E-2]
["GBP USD  - Historical Annual Data",1985,1.3,1.1499999999999999,1.49,1.05,1.45,0.25]
["GBP USD  - Historical Annual Data",1984,1.34,1.43,1.49,1.1599999999999999,1.1599999999999999,-0.2]
["GBP USD  - Historical Annual Data",1983,1.52,1.62,1.62,1.42,1.45,-0.10489999999999999]
["GBP USD  - Historical Annual Data",1982,1.75,1.93,1.93,1.59,1.62,-0.15629999999999999]
["GBP USD  - Historical Annual Data",1981,2.02,2.38,2.4300000000000002,1.77,1.92,-0.19670000000000001]
["GBP USD  - Historical Annual Data",1980,2.33,2.2400000000000002,2.4500000000000002,2.14,2.39,7.6600000000000001E-2]
["GBP USD  - Historical Annual Data",1979,2.12,2.0299999999999998,2.33,1.98,2.2200000000000002,8.8200000000000001E-2]
["GBP USD  - Historical Annual Data",1978,1.92,1.96,2.1,1.81,2.04,6.25E-2]
["GBP USD  - Historical Annual Data",1977,1.75,1.7,1.92,1.7,1.92,0.12939999999999999]
["GBP USD  - Historical Annual Data",1976,1.8,2.02,2.0299999999999998,1.57,1.7,-0.15840000000000001]
["GBP USD  - Historical Annual Data",1975,2.2200000000000002,2.33,2.4300000000000002,2.02,2.02,-0.1404]
["GBP USD  - Historical Annual Data",1974,2.34,2.2999999999999998,2.44,2.17,2.35,1.29E-2]
["GBP USD  - Historical Annual Data",1973,2.4500000000000002,2.35,2.58,2.31,2.3199999999999998,-1.2800000000000001E-2]
["GBP USD  - Historical Annual Data",1972,2.5,2.5499999999999998,2.64,2.33,2.35,-7.8399999999999997E-2]

{"sheet":"VIX Data","index":15,"n_rows":31,"n_cols":8,"rows_kept":31,"cut":false,"hidden":true,"merged":[]}
["Column1","Column2","Column3","Column4","Column5","Column6","Column7","Column8"]
["CBOE Volatility Index: VIX - Historical Annual Data",2020,26.76,12.47,82.69,12.1,71.42,4.1829000000000001]
["CBOE Volatility Index: VIX - Historical Annual Data",2019,15.39,23.22,25.45,11.54,13.78,-0.45789999999999997]
["CBOE Volatility Index: VIX - Historical Annual Data",2018,16.64,9.77,37.32,9.15,25.42,1.3025]
["CBOE Volatility Index: VIX - Historical Annual Data",2017,11.09,12.85,16.04,9.14,11.04,-0.2137]
["CBOE Volatility Index: VIX - Historical Annual Data",2016,15.83,20.7,28.14,11.27,14.04,-0.22900000000000001]
["CBOE Volatility Index: VIX - Historical Annual Data",2015,16.670000000000002,17.79,40.74,11.95,18.21,-5.16E-2]
["CBOE Volatility Index: VIX - Historical Annual Data",2014,14.18,14.23,26.25,10.32,19.2,0.39939999999999998]
["CBOE Volatility Index: VIX - Historical Annual Data",2013,14.23,14.68,20.49,11.3,13.72,-0.23860000000000001]
["CBOE Volatility Index: VIX - Historical Annual Data",2012,17.8,22.97,26.66,13.45,18.02,-0.22989999999999999]
["CBOE Volatility Index: VIX - Historical Annual Data",2011,24.2,17.61,48,14.62,23.4,0.31830000000000003]
["CBOE Volatility Index: VIX - Historical Annual Data",2010,22.55,20.04,45.79,15.45,17.75,-0.18129999999999999]
["CBOE Volatility Index: VIX - Historical Annual Data",2009,31.48,39.19,56.65,19.47,21.68,-0.45800000000000002]
["CBOE Volatility Index: VIX - Historical Annual Data",2008,32.69,23.17,80.86,16.3,40,0.77780000000000005]
["CBOE Volatility Index: VIX - Historical Annual Data",2007,17.54,12.04,31.09,9.89,22.5,0.94640000000000002]
["CBOE Volatility Index: VIX - Historical Annual Data",2006,12.81,11.14,23.81,9.9,11.56,-4.2299999999999997E-2]
["CBOE Volatility Index: VIX - Historical Annual Data",2005,12.81,14.08,17.739999999999998,10.23,12.07,-9.1800000000000007E-2]
["CBOE Volatility Index: VIX - Historical Annual Data",2004,15.48,18.22,21.58,11.23,13.29,-0.2742]
["CBOE Volatility Index: VIX - Historical Annual Data",2003,21.98,25.39,34.69,15.58,18.309999999999999,-0.36020000000000002]
["CBOE Volatility Index: VIX - Historical Annual Data",2002,27.29,22.71,45.08,17.399999999999999,28.62,0.20250000000000001]
["CBOE Volatility Index: VIX - Historical Annual Data",2001,25.75,29.99,43.74,18.760000000000002,23.8,-0.11360000000000001]
["CBOE Volatility Index: VIX - Historical Annual Data",2000,23.32,24.21,33.49,16.53,26.85,8.9700000000000002E-2]
["CBOE Volatility Index: VIX - Historical Annual Data",1999,24.37,26.17,32.979999999999997,17.420000000000002,24.64,8.9999999999999993E-3]
["CBOE Volatility Index: VIX - Historical Annual Data",1998,25.6,23.42,45.74,16.23,24.42,1.7100000000000001E-2]
["CBOE Volatility Index: VIX - Historical Annual Data",1997,22.36,21.14,38.200000000000003,17.09,24.01,0.1477]
["CBOE Volatility Index: VIX - Historical Annual Data",1996,16.440000000000001,12.19,21.99,12,20.92,0.67090000000000005]
["CBOE Volatility Index: VIX - Historical Annual Data",1995,12.39,14.25,15.74,10.36,12.52,-5.1499999999999997E-2]
["CBOE Volatility Index: VIX - Historical Annual Data",1994,13.93,12.57,23.87,9.94,13.2,0.1321]
["CBOE Volatility Index: VIX - Historical Annual Data",1993,12.69,13.36,17.3,9.31,11.66,-7.2400000000000006E-2]
["CBOE Volatility Index: VIX - Historical Annual Data",1992,15.45,18.95,21.02,11.51,12.57,-0.34899999999999998]
["CBOE Volatility Index: VIX - Historical Annual Data",1991,18.37,26.62,36.200000000000003,13.95,19.309999999999999,-0.26800000000000002]